{"text_format":"1","workbook":"xlsx","n_sheets":16,"sheets":["ages","instruksjoner","dataregistrering","resultatsammenstilling","export","percentiles","A","B","C","D","E","F","G","H","I","J"],"not_rendered":{"charts":0,"images":0,"macros":1,"external_links":0,"defined_names":1,"comments":1,"pivot_tables":0},"unopened":[],"bounds":{"document_bytes":16777216,"sheet_cells":100000,"rows_first":2000,"rows_last":500,"rows_between":2000,"halvings":0,"cell_chars":16384,"cell_head_chars":4096},"cells_cut":0,"cells_raw":0,"read":"whole","date_system":"1900"}

{"sheet":"ages","index":0,"n_rows":23,"n_cols":4,"rows_kept":23,"cut":false,"hidden":true,"merged":[]}
["4;0 - 4;2",48,2,"4:0 - 4:2"]
["4;3 - 4;5",51,3,"4:3 - 4:5"]
["4;6 - 4;8",54,4,"4:6 - 4:8"]
["4;9 - 4;11",57,5,"4:9 - 4:11"]
["5;0 - 5;2",60,6,"5:0 - 5:2"]
["5;3 - 5;5",63,7,"5:3 - 5:5"]
["5;6 - 5;8",66,8,"5:6 - 5:8"]
["5;9 - 5;11",69,9,"5:9 - 5:11"]
["6;0 - 6;2",72,10,"6:0 - 6:2"]
["6;3 - 6;5",75,11,"6:3 - 6:5"]
["6;6 - 6;8",78,12,"6:6 - 6:8"]
["6;9 - 6;11",81,13,"6:9 - 6:11"]
["7;0 - 7;5",84,14,"7:0 - 7:5"]
["7;6 - 7;11",90,15,"7:6 - 7:11"]
["8;0 - 8;11",96,16,"8:0 - 8:11"]
["9;0 - 9;11",108,17,"9:0 - 9:11"]
["10;0 - 10;11",120,18,"10:0 - 10:11"]
["11;0 - 11;11",132,19,"11:0 - 11:11"]
["12;0 - 12;11",144,20,"12:0 - 12:11"]
["13;0 - 13;11",156,21,"13:0 - 13:11"]
["14;0 - 14;11",168,22,"14:0 - 14:11"]
["15;0 - 15;11",180,23,"15:0 - 15:11"]
["16;0 - 16;11",192,24,"16:0 - 16:11"]

{"sheet":"instruksjoner","index":1,"n_rows":21,"n_cols":1,"rows_kept":21,"cut":false,"hidden":false,"merged":[]}
["   PEARSON ALWAYS LEARNING   "]
["Instruksjoner til CCC-2 Skåringsprogram: Norsk versjon (V:1.02)"]
["I denne arbeidsboken kan man registrere opp til 1500 CCC-2-besvarelser. Data fra en besvarelse/ett barn registreres per rad."]
[]
["1. Legg merke til!"]
["Merk at sikkerhetsnivået på datamaskinen kan være innstillt slik at Macro (bakgrunnskriptet) ikke aksepteres automatisk. Dersom en dialogboks vises, der man kan velge å akseptere (enable) eller ikke akseptere (disable) Macro - velg å akseptere (enable) Macro. Dersom dette ikke gjøres, er det ikke mulig å skape en resultatsammenstilling, eksportere hele datamengden eller opprette en ny tom arbeidsbok for registrering av nye CCC-2-data. "]
["2. Dataregistrering"]
["Dataene fra hver enkelt CCC-2-besvarelse skrives inn i arket \"dataregistrering\". Start på rad 8, som allerede inneholder demonstrasjonsdata. Skriv over disse demonstrasjonsdataene ved registrering av den første CCC-2-besvarelsen. Fortsett til rad 9 for å skrive inn data fra neste CCC-2-besvarelse osv.\nDen enkleste måten å bevege seg mellom cellene i arket for dataregistrering, er å bruke ”Tab”-tasten eller høyre piltast."]
["2.1. Bakgrunnsinformasjon"]
["Skriv først inn bakgrunnsinformasjon i kolonnene A - E. Obligatorisk informasjon må alltid skrives inn. \nKolonne A er obligatorisk, og brukes til å registrere en tildelt ID-kode eller annen personlig identifisering av det aktuelle barnet (i henhold til aktuelle retningslinjer for personvern/datalagring). Informasjonen i kolonne A må markeres for hvert enkelte barn man vil opprette en resultatsammenstilling for.\nKolonnene B og C er valgfrie å fylle ut, og brukes til å registrere kjønn og diagnose eller en kode som angir en spesifikk gruppe barnet tilhører. \nKolonnene D og E er obligatoriske og brukes til å beregne et barns eksakte alder. Den automatisk beregnede alderen vises i måneder i kolonne F. Denne kolonnen kan ikke endres manuelt.\nI kolonne G oppgis det hvilken respondent som har besvart CCC-2, og de fire ”Ja/Nei”-svarene fra forsiden av sjekklisten overføres til kolonnene H - K. Kolonne L er for ekstra informasjon. Det er valgfritt å fylle ut kolonnene G - L."]
["2.2. CCC-2 testledd"]
["Registrering av verdiene (svarene) på de enkelte testleddene starter i kolonne AW. Dersom kolonnene M - AV er synlige når disse dataene skal registreres, så trykk tastekombinasjonen Ctrl + Shift + H for å skjule de kolonnene der det ikke er mulig å gjøre en manuell registrering.\nRespondents svar på testleddene registreres ved å skrive inn verdiene 0, 1, 2 eller 3, for hvert testledd. Dersom et testledd er ubesvart, så hopp over denne cellen. Om respondentens markering er mellom to svarkategorier (f.eks mellom 1 og 2), så velges den laveste verdien.\nKonvertering av (”de positive”) testleddene 51 - 70 skjer automatisk ved summering av hver skalas råskårer. "]
["3. Vis/skjul sum av råskårer, skalerte skårer, GKI og IASI "]
["Når alle dataene er lagt inn, kan man se summen av råskårene, de skalerte skårene, GKI, IASI osv.\nGjør som følger: Gå til arket \"dataregistrering\" og trykk tastekombinasjonen Ctrl + shift + H for å vise skjulte kolonner.\nSum av råskårer finnes i kolonnene M - V.\nSkalerte skårer finnes i kolonnene W - AF.\nGKI og IASI finnes i kolonnene AG - AH.\nSamsvarssjekken, som undersøker samsvaret mellom summen av negative og positive testledd, finnes i kolonnene AI - AK.\nKolonnene AL - AV viser andelen besvarte testledd på hver enkelt skala.\nTrykk Ctrl + shift + H for å skjule disse kolonnene til neste dataregistrering skal gjøres."]
["4. Resultatsammenstilling "]
["For å skape en resultatsammenstilling for hvert enkelte barn. Gjør som følger:\nGå til arket \"dataregistrering\" og klikk på barnets ID-kode i kolonne A. Denne cellen kan ikke være tom.\nTrykk Ctrl + shift + S. Følg eventuelle instruksjoner som oppgis.\nSkårene til det aktuelle barnet overføres til arket ”resultatsammenstilling”. Denne siden kan skrives ut eller lagres i et nytt exceldokument."]
["5. Eksportering av hele datamengden"]
["For å eksportere hele datamengden (alle CCC-2-besvarelser du har registrert) til en ny arbeidsbok – gjør som følger: \nGå til arket \"dataregistrering\".\nTrykk Ctrl + shift + X og følg eventuelle instruksjoner som gis.\nDatamengden er nå lagret i en egen arbeidsbok.\nKolonnene A - L inneholder bakgrunnsinformasjon.\nKolonnene M - V inneholder råskåresummer (\"skala\"_Rå; f.eks. A_Rå, B_Rå osv.).\nKolonnene W - AF inneholder skalerte skårer (\"skala\"_Ssc; f.eks. A_Ssc, B_Ssc osv.).\nKolonnene AG - AK inneholder GKI, IASI samt samsvarssjekk mellom de negative og positive summene.\nKolonnene AL - DC inneholder data på testleddnivå (\"testleddnummer” + ”skala”; f.eks. 01B, 02A osv.)."]
["6. Opprett en ny tom arbeidsbok for CCC-2-data"]
["Dersom det er behov for å opprette en ny tom arbeidsbok, f.eks. dersom man har registrert data for opp mot 1500 barn, gjør som følger:\nGå til arket \"dataregistrering\".\nTrykk Ctrl+ shift + N. \nAksepterer valget ”Vil du opprette en ny arbeidsbok?”, for å opprette en ny tom arbeidsbok. Den nye arbeidsboken får samme navn som den gamle hadde.  Bruk alltid samme navn på arbeidsboken som data skal skrives inn i. \nDen gamle arbeidsboken får et tidsstempel [år-måned-dag time-minutt-sekund] tillagt i filnavnet, noe som gir et unikt filnavn.\n"]
["   ALWAYS LEARNING PEARSON   "]

{"sheet":"dataregistrering","index":2,"n_rows":1507,"n_cols":145,"rows_kept":562,"cut":true,"hidden":false,"merged":[[0,48,0,58],[1,37,1,47],[0,12,0,21],[0,22,0,31],[0,37,0,47]],"bounds":{"rows_first":250,"rows_last":62,"rows_between":250,"halvings":3}}
["*",null,null,null,null,null,null,null,null,null,null,null,"Total råskåre, skalaer",null,null,null,null,null,null,null,null,null,"Skalerte skårer",null,null,null,null,null,null,null,null,null,null,null,null,null,null,"Andel testledd som er fullført",null,null,null,null,null,null,null,null,null,null,"Legg inn data fra og med rad 8\n0 = Sjeldnere enn en gang i uken (eller aldri); 1 = minst en gang i uken, men ikke hver dag;\n2 = En eller to ganger om dagen; 3 = Flere (mer enn to) ganger om dagen (eller alltid) \n\nDersom et testledd mangler data, så la denne cellen stå tom.\nOm respondentens markering er mellom to svarkategorier (f.eks mellom 1 og 2), så velges den laveste verdien.\n",null,null,null,null,null,null,null,null,null,null,null,null,null,null,null,null,null,null,null,null,null,null,null,null,null,null,null,null,null,null,null,null,null,null,null,null,null,null,null,null,null,null,null,null,null,null,null,null,null,null,null,null,null,null,null,null,null,null,null,null,null,null,null,null,null,null,null,null,null,"omkoding"]
["*",null,null,null,null,null,null,null,null,null,null,null,null,null,null,null,null,null,null,null,null,null,null,null,null,null,null,null,null,null,null,null,null,null,null,null,null,"(rødmarkering betyr at mindre enn 80 % er fullført )",null,null,null,null,null,null,null,null,null,null,1,2,3,4,5,6,7,8,9,10,11,12,13,14,15,16,17,18,19,20,21,22,23,24,25,26,27,28,29,30,31,32,33,34,35,36,37,38,39,40,41,42,43,44,45,46,47,48,49,50,51,52,53,54,55,56,57,58,59,60,61,62,63,64,65,66,67,68,69,70]
["Obligatorisk","Valgfri","Valgfri","Obligatorisk\ndd/mm/åå","Obligatorisk\ndd/mm/åå",null,"Valgfri","Valgfri\n0=nei 1=ja          0 eller 1","Valgfri\n0=nei 1=ja          0 eller 1","Valgfri\n0=nei 1=ja          0 eller 1","Valgfri\n0=nei 1=ja          0 eller 1","Valgfri","A. Tale","B. Syntaks","C. Semantikk","D. Sammenheng","E. Samtaleinitiativ","F. Stereotypiskt    språk","G. Bruk av    kontekst","H. Ikke-verbal    kommunikasjon","I. Sosiale    relasjoner","J. Intresser","A. Tale","B. Syntaks","C. Semantikk","D. Sammenheng","E. Samtaleinitiativ","F. Stereotypiskt    språk","G. Bruk av    kontekst","H. Ikke-verbal    kommunikasjon","I. Sosiale    relasjoner","J. Intresser","GKI","IASI","Sansvarssjekken OK? (1 ja, 0 nei)","neg gj.snitt","pos gj.snitt","A","B","C","D","E","F","G","H","I","J","all","Blander ”han” og ”hun”","Forenkler ord ved å utelate","Virker engstelig sammen","Barnet kommer litt skjevt","Snakker om igjen og","Glemmer ord han/hun kan","Virker uoppmerksom","Mangler ansiktsuttrykk","Velger stadig vekk","Bruker ord som \"han\"","Bruker ord han/hun tilsynelatende","Blander ord med lignende innhold.","Blir ertet eller plaget av ","Ser ikke på personen","Forstår ikke poenget","Blir holdt utenfor","Blander sammen ordene \"jeg\"","Bruker favorittuttrykk","Blir forvirret når et ord blir","Står for nær andre","Tar ukritisk kontakt","Ramser opp ting han","Uttaler ord på en overdrevent","Snakker på en barnslig måte","Det kan være vanskelig","Dreier ofte samtalen inn","Kommer med ytringer som","Evnen til å kommunisere varierer","Utelater begynnelsen eller","Gjentar det andre nettopp","Overser andres invitasjon","Blander ord som høres like ut","Sårer eller fornærmer andre","Oppfatter bare ett eller to ord","Det er vanskelig å få ham/henne","Utelater fortidsendelsen i ord","Forteller andre ting de","Uttaler lange ord feil","Har vansker med å oppfatte at","Stokker rekkefølgen når han/hun","Oppfatter ting bokstavelig/konkret","Kommer med unødvendig detaljert","Utelater ordet \"er\" og kan si","Uttaler ”s” feil (lesper), eller uttaler","Stiller spørsmål, selv om","Er upresis i valg av ord, slik","Viser interesse for ting eller","Forklarer ikke hvem han/hun","Overrasker folk med kunnskap","Det er vanskelig å forstå meningen","Snakker tydelig, slik at ordene","Reagerer positivt når en ny og","Gir tydelig uttrykk for hva han/hun","Forstår ironi. Blir ikke forvirret","Kan lage lange og kompliserte","Er flink til å gestikulere for å få","Viser omsorg for andre som er","Snakker flytende og klart, uttaler","Er stille i situasjoner der andre","Er høflig og gir f.eks. uttrykk","Når han/hun skal svare på et","Man kan ha en hyggelig og","Viser fleksibilitet ved å tilpasse","Bruker abstrakte ord som henviser","Smiler passe mye/lite når han/hun","Bruker ord som henviser til grupper","Forteller om vennene sine og","Forklarer på en klar og forståelig","Bruker setninger som inneholder ","Snakker med andre om deres",51,52,53,54,55,56,57,58,59,60,61,62,63,64,65,66,67,68,69,70,null,"normgruppe"]
["ID-kode","kjønn","gruppe/diagnose","fødselsdato","utfyllingsdato","alder måned","respondent","hørselsvek","fys/kron","Norskhjem","setninger","annet",null,null,null,null,null,null,null,null,null,null,null,null,null,null,null,null,null,null,null,null,null,null,null,null,null,null,null,null,null,null,null,null,null,null,null,"skala->","B","A","I","C","E","C","I","H","J","D","F","C","I","H","G","I","B","F","G","H","E","J","F","A","D","J","B","G","A","F","H","C","I","G","E","B","E","A","H","D","G","F","B","A","E","C","J","D","J","D","A","J","D","G","B","H","I","A","E","G","F","F","J","C","H","C","I","D","B","E","A","J","D","G","B","H","I","A","E","G","F","F","J","C","H","C","I","D","B","E",null,null,"yy","mm","dd","fixyy","fixmm"]
["*"]
["*"]
["id_kod","gender","diagnos","born_dato","CCC_dato","ald_mon","respondent","h_svekk","phys","nor_hjem","setninger","annet","A_Rå","B_Rå","C_Rå","D_Rå","E_Rå","F_Rå","G_Rå","H_Rå","I_Rå","J_Rå","A_Ssc","B_Ssc","C_Ssc","D_Ssc","E_Ssc","F_Ssc","G_Ssc","H_Ssc","I_Ssc","J_Ssc","GKI","IASI","samsvar","neg","pos","A","B","C","D","E","F","G","H","I","J","total","01B","02A","03I","04C","05E","06C","07I","08H","09J","10D","11F","12C","13I","14H","15G","16I","17B","18F","19G","20H","21E","22J","23F","24A","25D","26J","27B","28G","29A","30F","31H","32C","33I","34G","35E","36B","37E","38A","39H","40D","41G","42F","43B","44A","45E","46C","47J","48D","49J","50D","51A","52J","53D","54G","55B","56H","57I","58A","59E","60G","61F","62F","63J","64C","65H","66C","67I","68D","69B","70E"]
["navn/kode","gutt","ADHD","1997-06-26","2010-10-30",{"$f":"IF(OR(D8=\"\",E8=\"\"),\"\",IF((EK8*12+EL8)<48,\"ald<4:0\",IF((EK8*12+EL8)>203,\"ald>16:11\",EK8*12+EL8)))","v":160},"mor",0,0,1,1,"tekst",{"$f":"IF(AL8>0.79,ROUND(($DO8+$DV8+$AX8+$BT8+$BY8+$CH8+$CN8)/AL8,0),\"\")","v":2},{"$f":"IF(AM8>0.79,ROUND(($DS8+$EG8+$AW8+$BM8+$BW8+$CF8+$CM8)/AM8,0),\"\")","v":1},{"$f":"IF(AN8>0.79,ROUND(($EB8+$ED8+$AZ8+$BB8+$BH8+$CB8+$CP8)/AN8,0),\"\")","v":4},{"$f":"IF(AO8>0.79,ROUND(($DQ8+$EF8+$BF8+$BU8+$CJ8+$CR8+$CT8)/AO8,0),\"\")","v":2},{"$f":"IF(AP8>0.79,ROUND(($DW8+$EH8+$BA8+$BQ8+$CE8+$CG8+$CO8)/AP8,0),\"\")","v":1},{"$f":"IF(AQ8>0.79,ROUND(($DY8+$DZ8+$BG8+$BN8+$BS8+$BZ8+$CL8)/AQ8,0),\"\")","v":2},{"$f":"IF(AR8>0.79,ROUND(($DR8+$DX8+$BK8+$BO8+$BX8+$CD8+$CK8)/AR8,0),\"\")","v":4},{"$f":"IF(AS8>0.79,ROUND(($DT8+$EC8+$BD8+$BJ8+$BP8+$CA8+$CI8)/AS8,0),\"\")","v":4},{"$f":"IF(AT8>0.79,ROUND(($DU8+$EE8+$AY8+$BC8+$BI8+$BL8+$CC8)/AT8,0),\"\")","v":1},{"$f":"IF(AU8>0.79,ROUND(($DP8+$EA8+$BE8+$BR8+$BV8+$CQ8+$CS8)/AU8,0),\"\")","v":5},{"$f":"IF(ISNUMBER(F8),IF(AL8<0.85,\"\",VLOOKUP(M8,A!A$2:X$23,VLOOKUP(F8,ages!B$1:C$23,2,1),1)),\"\")","v":6},{"$f":"IF(ISNUMBER(F8),IF(AM8<0.85,\"\",VLOOKUP(N8,B!A$2:X$23,VLOOKUP(F8,ages!B$1:C$23,2,1),1)),\"\")","v":7},{"$f":"IF(ISNUMBER(F8),IF(AN8<0.85,\"\",VLOOKUP(O8,'C'!A$2:X$23,VLOOKUP(F8,ages!B$1:C$23,2,1),1)),\"\")","v":5},{"$f":"IF(ISNUMBER(F8),IF(AO8<0.85,\"\",VLOOKUP(P8,D!A$2:X$23,VLOOKUP(F8,ages!B$1:C$23,2,1),1)),\"\")","v":7},{"$f":"IF(ISNUMBER(F8),IF(AP8<0.85,\"\",VLOOKUP(Q8,E!A$2:X$23,VLOOKUP(F8,ages!B$1:C$23,2,1),1)),\"\")","v":11},{"$f":"IF(ISNUMBER(F8),IF(AQ8<0.85,\"\",VLOOKUP(R8,F!A$2:X$23,VLOOKUP(F8,ages!B$1:C$23,2,1),1)),\"\")","v":6},{"$f":"IF(ISNUMBER(F8),IF(AR8<0.85,\"\",VLOOKUP(S8,G!A$2:X$23,VLOOKUP(F8,ages!B$1:C$23,2,1),1)),\"\")","v":4},{"$f":"IF(ISNUMBER(F8),IF(AS8<0.85,\"\",VLOOKUP(T8,H!A$2:X$23,VLOOKUP(F8,ages!B$1:C$23,2,1),1)),\"\")","v":6},{"$f":"IF(ISNUMBER(F8),IF(AT8<0.85,\"\",VLOOKUP(U8,I!A$2:X$23,VLOOKUP(F8,ages!B$1:C$23,2,1),1)),\"\")","v":9},{"$f":"IF(ISNUMBER(F8),IF(AU8<0.85,\"\",VLOOKUP(V8,J!A$2:X$23,VLOOKUP(F8,ages!B$1:C$23,2,1),1)),\"\")","v":5},{"$f":"IF(ISNUMBER(F8),IF((COUNT(W8:AD8)=8),SUM(W8:AD8),\"\"),\"\")","v":52},{"$f":"IF(ISNUMBER(F8),IF((COUNT(W8:AF8)=10),SUM(AA8,AD8:AF8)-SUM(W8:Z8),\"\"),\"\")","v":6},{"$f":"IF(AG8=\"\",\"\",IF(ISNUMBER(AJ8),IF(AND(AK8>1.5,(AK8-AJ8)>1.3),0,1),\"\"))","v":1},{"$f":"IF(COUNT(AW8:CT8)>45,SUM(AW8:CT8)/COUNT(AW8:CT8),\"\")","v":0.26},{"$f":"IF(COUNT(DO8:EH8)>15,SUM(DO8:EH8)/COUNT(DO8:EH8),\"\")","v":0.65},{"$f":"COUNT($AX8,$BT8,$BY8,$CH8,$CN8,$CU8,$DB8)/7","v":1},{"$f":"COUNT($AW8,$BM8,$BW8,$CF8,$CM8,$CY8,$DM8)/7","v":1},{"$f":"COUNT($AZ8,$BB8,$BH8,$CB8,$CP8,$DH8,$DJ8)/7","v":1},{"$f":"COUNT($BF8,$BU8,$CJ8,$CR8,$CT8,$CW8,$DL8)/7","v":1},{"$f":"COUNT($BA8,$BQ8,$CE8,$CG8,$CO8,$DC8,$DN8)/7","v":1},{"$f":"COUNT($BG8,$BN8,$BS8,$BZ8,$CL8,$DE8,$DF8)/7","v":1},{"$f":"COUNT($BK8,$BO8,$BX8,$CD8,$CK8,$CX8,$DD8)/7","v":1},{"$f":"COUNT($BD8,$BJ8,$BP8,$CA8,$CI8,$CZ8,$DI8)/7","v":1},{"$f":"COUNT($AY8,$BC8,$BI8,$BL8,$CC8,$DA8,$DK8)/7","v":1},{"$f":"COUNT($BE8,$BR8,$BV8,$CQ8,$CS8,$CV8,$DG8)/7","v":1},{"$f":"COUNT(AW8:DN8)/70","v":1},0,0,0,0,0,1,1,0,2,1,0,1,0,3,0,0,0,0,1,0,0,0,0,0,0,0,0,0,0,0,1,0,0,0,0,0,0,1,0,0,0,0,0,0,0,1,0,0,0,0,2,2,3,2,2,3,3,3,3,1,2,2,1,2,3,3,3,2,3,2,{"$f":"IF(ISNUMBER(CU8),3-CU8,-0.000001)","v":1},{"$f":"IF(ISNUMBER(CV8),3-CV8,-0.000001)","v":1},{"$f":"IF(ISNUMBER(CW8),3-CW8,-0.000001)","v":0},{"$f":"IF(ISNUMBER(CX8),3-CX8,-0.000001)","v":1},{"$f":"IF(ISNUMBER(CY8),3-CY8,-0.000001)","v":1},{"$f":"IF(ISNUMBER(CZ8),3-CZ8,-0.000001)","v":0},{"$f":"IF(ISNUMBER(DA8),3-DA8,-0.000001)","v":0},{"$f":"IF(ISNUMBER(DB8),3-DB8,-0.000001)","v":0},{"$f":"IF(ISNUMBER(DC8),3-DC8,-0.000001)","v":0},{"$f":"IF(ISNUMBER(DD8),3-DD8,-0.000001)","v":2},{"$f":"IF(ISNUMBER(DE8),3-DE8,-0.000001)","v":1},{"$f":"IF(ISNUMBER(DF8),3-DF8,-0.000001)","v":1},{"$f":"IF(ISNUMBER(DG8),3-DG8,-0.000001)","v":2},{"$f":"IF(ISNUMBER(DH8),3-DH8,-0.000001)","v":1},{"$f":"IF(ISNUMBER(DI8),3-DI8,-0.000001)","v":0},{"$f":"IF(ISNUMBER(DJ8),3-DJ8,-0.000001)","v":0},{"$f":"IF(ISNUMBER(DK8),3-DK8,-0.000001)","v":0},{"$f":"IF(ISNUMBER(DL8),3-DL8,-0.000001)","v":1},{"$f":"IF(ISNUMBER(DM8),3-DM8,-0.000001)","v":0},{"$f":"IF(ISNUMBER(DN8),3-DN8,-0.000001)","v":1},{"$f":"IF(ISERROR(VLOOKUP(F8,ages!B$1:B$23,1,1)),\"\",VLOOKUP(F8,ages!B$1:B$23,1,1))","v":156},{"$f":"IF(ISERROR(VLOOKUP(F8,ages!B$1:D$23,3,1)),\"\",VLOOKUP(F8,ages!B$1:D$23,3,1))","v":"13:0 - 13:11"},{"$f":"YEAR(E8)-YEAR(D8)-EN8","v":13},{"$f":"IF(MONTH(E8)-MONTH(D8)-EO8<0,12+MONTH(E8)-MONTH(D8)-EO8,MONTH(E8)-MONTH(D8)-EO8)","v":4},{"$f":"IF(DAY(E8)-DAY(D8)<0,30+DAY(E8)-DAY(D8),DAY(E8)-DAY(D8))","v":4},{"$f":"IF(MONTH(E8)-MONTH(D8)-EO8<0,1,0)","v":0},{"$f":"IF(DAY(E8)-DAY(D8)<0,1,0)","v":0}]
[null,null,null,null,null,{"$f":"IF(OR(D9=\"\",E9=\"\"),\"\",IF((EK9*12+EL9)<48,\"ald<4:0\",IF((EK9*12+EL9)>203,\"ald>16:11\",EK9*12+EL9)))","v":""},null,null,null,null,null,null,{"$f":"IF(AL9>0.79,ROUND(($DO9+$DV9+$AX9+$BT9+$BY9+$CH9+$CN9)/AL9,0),\"\")","v":""},{"$f":"IF(AM9>0.79,ROUND(($DS9+$EG9+$AW9+$BM9+$BW9+$CF9+$CM9)/AM9,0),\"\")","v":""},{"$f":"IF(AN9>0.79,ROUND(($EB9+$ED9+$AZ9+$BB9+$BH9+$CB9+$CP9)/AN9,0),\"\")","v":""},{"$f":"IF(AO9>0.79,ROUND(($DQ9+$EF9+$BF9+$BU9+$CJ9+$CR9+$CT9)/AO9,0),\"\")","v":""},{"$f":"IF(AP9>0.79,ROUND(($DW9+$EH9+$BA9+$BQ9+$CE9+$CG9+$CO9)/AP9,0),\"\")","v":""},{"$f":"IF(AQ9>0.79,ROUND(($DY9+$DZ9+$BG9+$BN9+$BS9+$BZ9+$CL9)/AQ9,0),\"\")","v":""},{"$f":"IF(AR9>0.79,ROUND(($DR9+$DX9+$BK9+$BO9+$BX9+$CD9+$CK9)/AR9,0),\"\")","v":""},{"$f":"IF(AS9>0.79,ROUND(($DT9+$EC9+$BD9+$BJ9+$BP9+$CA9+$CI9)/AS9,0),\"\")","v":""},{"$f":"IF(AT9>0.79,ROUND(($DU9+$EE9+$AY9+$BC9+$BI9+$BL9+$CC9)/AT9,0),\"\")","v":""},{"$f":"IF(AU9>0.79,ROUND(($DP9+$EA9+$BE9+$BR9+$BV9+$CQ9+$CS9)/AU9,0),\"\")","v":""},{"$f":"IF(ISNUMBER(F9),IF(AL9<0.85,\"\",VLOOKUP(M9,A!A$2:X$23,VLOOKUP(F9,ages!B$1:C$23,2,1),1)),\"\")","v":""},{"$f":"IF(ISNUMBER(F9),IF(AM9<0.85,\"\",VLOOKUP(N9,B!A$2:X$23,VLOOKUP(F9,ages!B$1:C$23,2,1),1)),\"\")","v":""},{"$f":"IF(ISNUMBER(F9),IF(AN9<0.85,\"\",VLOOKUP(O9,'C'!A$2:X$23,VLOOKUP(F9,ages!B$1:C$23,2,1),1)),\"\")","v":""},{"$f":"IF(ISNUMBER(F9),IF(AO9<0.85,\"\",VLOOKUP(P9,D!A$2:X$23,VLOOKUP(F9,ages!B$1:C$23,2,1),1)),\"\")","v":""},{"$f":"IF(ISNUMBER(F9),IF(AP9<0.85,\"\",VLOOKUP(Q9,E!A$2:X$23,VLOOKUP(F9,ages!B$1:C$23,2,1),1)),\"\")","v":""},{"$f":"IF(ISNUMBER(F9),IF(AQ9<0.85,\"\",VLOOKUP(R9,F!A$2:X$23,VLOOKUP(F9,ages!B$1:C$23,2,1),1)),\"\")","v":""},{"$f":"IF(ISNUMBER(F9),IF(AR9<0.85,\"\",VLOOKUP(S9,G!A$2:X$23,VLOOKUP(F9,ages!B$1:C$23,2,1),1)),\"\")","v":""},{"$f":"IF(ISNUMBER(F9),IF(AS9<0.85,\"\",VLOOKUP(T9,H!A$2:X$23,VLOOKUP(F9,ages!B$1:C$23,2,1),1)),\"\")","v":""},{"$f":"IF(ISNUMBER(F9),IF(AT9<0.85,\"\",VLOOKUP(U9,I!A$2:X$23,VLOOKUP(F9,ages!B$1:C$23,2,1),1)),\"\")","v":""},{"$f":"IF(ISNUMBER(F9),IF(AU9<0.85,\"\",VLOOKUP(V9,J!A$2:X$23,VLOOKUP(F9,ages!B$1:C$23,2,1),1)),\"\")","v":""},{"$f":"IF(ISNUMBER(F9),IF((COUNT(W9:AD9)=8),SUM(W9:AD9),\"\"),\"\")","v":""},{"$f":"IF(ISNUMBER(F9),IF((COUNT(W9:AF9)=10),SUM(AA9,AD9:AF9)-SUM(W9:Z9),\"\"),\"\")","v":""},{"$f":"IF(AG9=\"\",\"\",IF(ISNUMBER(AJ9),IF(AND(AK9>1.5,(AK9-AJ9)>1.3),0,1),\"\"))","v":""},{"$f":"IF(COUNT(AW9:CT9)>45,SUM(AW9:CT9)/COUNT(AW9:CT9),\"\")","v":""},-1.0000000000000002E-6,{"$f":"COUNT($AX9,$BT9,$BY9,$CH9,$CN9,$CU9,$DB9)/7","v":0},{"$f":"COUNT($AW9,$BM9,$BW9,$CF9,$CM9,$CY9,$DM9)/7","v":0},{"$f":"COUNT($AZ9,$BB9,$BH9,$CB9,$CP9,$DH9,$DJ9)/7","v":0},{"$f":"COUNT($BF9,$BU9,$CJ9,$CR9,$CT9,$CW9,$DL9)/7","v":0},{"$f":"COUNT($BA9,$BQ9,$CE9,$CG9,$CO9,$DC9,$DN9)/7","v":0},{"$f":"COUNT($BG9,$BN9,$BS9,$BZ9,$CL9,$DE9,$DF9)/7","v":0},{"$f":"COUNT($BK9,$BO9,$BX9,$CD9,$CK9,$CX9,$DD9)/7","v":0},{"$f":"COUNT($BD9,$BJ9,$BP9,$CA9,$CI9,$CZ9,$DI9)/7","v":0},{"$f":"COUNT($AY9,$BC9,$BI9,$BL9,$CC9,$DA9,$DK9)/7","v":0},{"$f":"COUNT($BE9,$BR9,$BV9,$CQ9,$CS9,$CV9,$DG9)/7","v":0},{"$f":"COUNT(AW9:DN9)/70","v":0},null,null,null,null,null,null,null,null,null,null,null,null,null,null,null,null,null,null,null,null,null,null,null,null,null,null,null,null,null,null,null,null,null,null,null,null,null,null,null,null,null,null,null,null,null,null,null,null,null,null,null,null,null,null,null,null,null,null,null,null,null,null,null,null,null,null,null,null,null,null,{"$f":"IF(ISNUMBER(CU9),3-CU9,-0.000001)","v":-9.9999999999999995E-7},-9.9999999999999995E-7,-9.9999999999999995E-7,-9.9999999999999995E-7,-9.9999999999999995E-7,-9.9999999999999995E-7,-9.9999999999999995E-7,-9.9999999999999995E-7,-9.9999999999999995E-7,-9.9999999999999995E-7,-9.9999999999999995E-7,-9.9999999999999995E-7,-9.9999999999999995E-7,-9.9999999999999995E-7,-9.9999999999999995E-7,-9.9999999999999995E-7,-9.9999999999999995E-7,-9.9999999999999995E-7,-9.9999999999999995E-7,-9.9999999999999995E-7,{"$f":"IF(ISERROR(VLOOKUP(F9,ages!B$1:B$23,1,1)),\"\",VLOOKUP(F9,ages!B$1:B$23,1,1))","v":""},{"$f":"IF(ISERROR(VLOOKUP(F9,ages!B$1:D$23,3,1)),\"\",VLOOKUP(F9,ages!B$1:D$23,3,1))","v":""},{"$f":"YEAR(E9)-YEAR(D9)-EN9","v":0},{"$f":"IF(MONTH(E9)-MONTH(D9)-EO9<0,12+MONTH(E9)-MONTH(D9)-EO9,MONTH(E9)-MONTH(D9)-EO9)","v":0},{"$f":"IF(DAY(E9)-DAY(D9)<0,30+DAY(E9)-DAY(D9),DAY(E9)-DAY(D9))","v":0},{"$f":"IF(MONTH(E9)-MONTH(D9)-EO9<0,1,0)","v":0},{"$f":"IF(DAY(E9)-DAY(D9)<0,1,0)","v":0}]
[null,null,null,null,null,"",null,null,null,null,null,null,"","","","","","","","","","",{"$f":"IF(ISNUMBER(F10),IF(AL10<0.85,\"\",VLOOKUP(M10,A!A$2:X$23,VLOOKUP(F10,ages!B$1:C$23,2,1),1)),\"\")","v":""},{"$f":"IF(ISNUMBER(F10),IF(AM10<0.85,\"\",VLOOKUP(N10,B!A$2:X$23,VLOOKUP(F10,ages!B$1:C$23,2,1),1)),\"\")","v":""},{"$f":"IF(ISNUMBER(F10),IF(AN10<0.85,\"\",VLOOKUP(O10,'C'!A$2:X$23,VLOOKUP(F10,ages!B$1:C$23,2,1),1)),\"\")","v":""},{"$f":"IF(ISNUMBER(F10),IF(AO10<0.85,\"\",VLOOKUP(P10,D!A$2:X$23,VLOOKUP(F10,ages!B$1:C$23,2,1),1)),\"\")","v":""},{"$f":"IF(ISNUMBER(F10),IF(AP10<0.85,\"\",VLOOKUP(Q10,E!A$2:X$23,VLOOKUP(F10,ages!B$1:C$23,2,1),1)),\"\")","v":""},{"$f":"IF(ISNUMBER(F10),IF(AQ10<0.85,\"\",VLOOKUP(R10,F!A$2:X$23,VLOOKUP(F10,ages!B$1:C$23,2,1),1)),\"\")","v":""},{"$f":"IF(ISNUMBER(F10),IF(AR10<0.85,\"\",VLOOKUP(S10,G!A$2:X$23,VLOOKUP(F10,ages!B$1:C$23,2,1),1)),\"\")","v":""},{"$f":"IF(ISNUMBER(F10),IF(AS10<0.85,\"\",VLOOKUP(T10,H!A$2:X$23,VLOOKUP(F10,ages!B$1:C$23,2,1),1)),\"\")","v":""},{"$f":"IF(ISNUMBER(F10),IF(AT10<0.85,\"\",VLOOKUP(U10,I!A$2:X$23,VLOOKUP(F10,ages!B$1:C$23,2,1),1)),\"\")","v":""},{"$f":"IF(ISNUMBER(F10),IF(AU10<0.85,\"\",VLOOKUP(V10,J!A$2:X$23,VLOOKUP(F10,ages!B$1:C$23,2,1),1)),\"\")","v":""},{"$f":"IF(ISNUMBER(F10),IF((COUNT(W10:AD10)=8),SUM(W10:AD10),\"\"),\"\")","v":""},{"$f":"IF(ISNUMBER(F10),IF((COUNT(W10:AF10)=10),SUM(AA10,AD10:AF10)-SUM(W10:Z10),\"\"),\"\")","v":""},"","",-1.0000000000000002E-6,0,0,0,0,0,0,0,0,0,0,0,null,null,null,null,null,null,null,null,null,null,null,null,null,null,null,null,null,null,null,null,null,null,null,null,null,null,null,null,null,null,null,null,null,null,null,null,null,null,null,null,null,null,null,null,null,null,null,null,null,null,null,null,null,null,null,null,null,null,null,null,null,null,null,null,null,null,null,null,null,null,-9.9999999999999995E-7,-9.9999999999999995E-7,-9.9999999999999995E-7,-9.9999999999999995E-7,-9.9999999999999995E-7,-9.9999999999999995E-7,-9.9999999999999995E-7,-9.9999999999999995E-7,-9.9999999999999995E-7,-9.9999999999999995E-7,-9.9999999999999995E-7,-9.9999999999999995E-7,-9.9999999999999995E-7,-9.9999999999999995E-7,-9.9999999999999995E-7,-9.9999999999999995E-7,-9.9999999999999995E-7,-9.9999999999999995E-7,-9.9999999999999995E-7,-9.9999999999999995E-7,{"$f":"IF(ISERROR(VLOOKUP(F10,ages!B$1:B$23,1,1)),\"\",VLOOKUP(F10,ages!B$1:B$23,1,1))","v":""},{"$f":"IF(ISERROR(VLOOKUP(F10,ages!B$1:D$23,3,1)),\"\",VLOOKUP(F10,ages!B$1:D$23,3,1))","v":""},0,0,0,0,0]
[null,null,null,null,null,"",null,null,null,null,null,null,"","","","","","","","","","",{"$f":"IF(ISNUMBER(F11),IF(AL11<0.85,\"\",VLOOKUP(M11,A!A$2:X$23,VLOOKUP(F11,ages!B$1:C$23,2,1),1)),\"\")","v":""},{"$f":"IF(ISNUMBER(F11),IF(AM11<0.85,\"\",VLOOKUP(N11,B!A$2:X$23,VLOOKUP(F11,ages!B$1:C$23,2,1),1)),\"\")","v":""},{"$f":"IF(ISNUMBER(F11),IF(AN11<0.85,\"\",VLOOKUP(O11,'C'!A$2:X$23,VLOOKUP(F11,ages!B$1:C$23,2,1),1)),\"\")","v":""},{"$f":"IF(ISNUMBER(F11),IF(AO11<0.85,\"\",VLOOKUP(P11,D!A$2:X$23,VLOOKUP(F11,ages!B$1:C$23,2,1),1)),\"\")","v":""},{"$f":"IF(ISNUMBER(F11),IF(AP11<0.85,\"\",VLOOKUP(Q11,E!A$2:X$23,VLOOKUP(F11,ages!B$1:C$23,2,1),1)),\"\")","v":""},{"$f":"IF(ISNUMBER(F11),IF(AQ11<0.85,\"\",VLOOKUP(R11,F!A$2:X$23,VLOOKUP(F11,ages!B$1:C$23,2,1),1)),\"\")","v":""},{"$f":"IF(ISNUMBER(F11),IF(AR11<0.85,\"\",VLOOKUP(S11,G!A$2:X$23,VLOOKUP(F11,ages!B$1:C$23,2,1),1)),\"\")","v":""},{"$f":"IF(ISNUMBER(F11),IF(AS11<0.85,\"\",VLOOKUP(T11,H!A$2:X$23,VLOOKUP(F11,ages!B$1:C$23,2,1),1)),\"\")","v":""},{"$f":"IF(ISNUMBER(F11),IF(AT11<0.85,\"\",VLOOKUP(U11,I!A$2:X$23,VLOOKUP(F11,ages!B$1:C$23,2,1),1)),\"\")","v":""},{"$f":"IF(ISNUMBER(F11),IF(AU11<0.85,\"\",VLOOKUP(V11,J!A$2:X$23,VLOOKUP(F11,ages!B$1:C$23,2,1),1)),\"\")","v":""},"","","","",-1.0000000000000002E-6,0,0,0,0,0,0,0,0,0,0,0,null,null,null,null,null,null,null,null,null,null,null,null,null,null,null,null,null,null,null,null,null,null,null,null,null,null,null,null,null,null,null,null,null,null,null,null,null,null,null,null,null,null,null,null,null,null,null,null,null,null,null,null,null,null,null,null,null,null,null,null,null,null,null,null,null,null,null,null,null,null,-9.9999999999999995E-7,-9.9999999999999995E-7,-9.9999999999999995E-7,-9.9999999999999995E-7,-9.9999999999999995E-7,-9.9999999999999995E-7,-9.9999999999999995E-7,-9.9999999999999995E-7,-9.9999999999999995E-7,-9.9999999999999995E-7,-9.9999999999999995E-7,-9.9999999999999995E-7,-9.9999999999999995E-7,-9.9999999999999995E-7,-9.9999999999999995E-7,-9.9999999999999995E-7,-9.9999999999999995E-7,-9.9999999999999995E-7,-9.9999999999999995E-7,-9.9999999999999995E-7,{"$f":"IF(ISERROR(VLOOKUP(F11,ages!B$1:B$23,1,1)),\"\",VLOOKUP(F11,ages!B$1:B$23,1,1))","v":""},{"$f":"IF(ISERROR(VLOOKUP(F11,ages!B$1:D$23,3,1)),\"\",VLOOKUP(F11,ages!B$1:D$23,3,1))","v":""},0,0,0,0,0]
[null,null,null,null,null,"",null,null,null,null,null,null,"","","","","","","","","","",{"$f":"IF(ISNUMBER(F12),IF(AL12<0.85,\"\",VLOOKUP(M12,A!A$2:X$23,VLOOKUP(F12,ages!B$1:C$23,2,1),1)),\"\")","v":""},{"$f":"IF(ISNUMBER(F12),IF(AM12<0.85,\"\",VLOOKUP(N12,B!A$2:X$23,VLOOKUP(F12,ages!B$1:C$23,2,1),1)),\"\")","v":""},{"$f":"IF(ISNUMBER(F12),IF(AN12<0.85,\"\",VLOOKUP(O12,'C'!A$2:X$23,VLOOKUP(F12,ages!B$1:C$23,2,1),1)),\"\")","v":""},{"$f":"IF(ISNUMBER(F12),IF(AO12<0.85,\"\",VLOOKUP(P12,D!A$2:X$23,VLOOKUP(F12,ages!B$1:C$23,2,1),1)),\"\")","v":""},{"$f":"IF(ISNUMBER(F12),IF(AP12<0.85,\"\",VLOOKUP(Q12,E!A$2:X$23,VLOOKUP(F12,ages!B$1:C$23,2,1),1)),\"\")","v":""},{"$f":"IF(ISNUMBER(F12),IF(AQ12<0.85,\"\",VLOOKUP(R12,F!A$2:X$23,VLOOKUP(F12,ages!B$1:C$23,2,1),1)),\"\")","v":""},{"$f":"IF(ISNUMBER(F12),IF(AR12<0.85,\"\",VLOOKUP(S12,G!A$2:X$23,VLOOKUP(F12,ages!B$1:C$23,2,1),1)),\"\")","v":""},{"$f":"IF(ISNUMBER(F12),IF(AS12<0.85,\"\",VLOOKUP(T12,H!A$2:X$23,VLOOKUP(F12,ages!B$1:C$23,2,1),1)),\"\")","v":""},{"$f":"IF(ISNUMBER(F12),IF(AT12<0.85,\"\",VLOOKUP(U12,I!A$2:X$23,VLOOKUP(F12,ages!B$1:C$23,2,1),1)),\"\")","v":""},{"$f":"IF(ISNUMBER(F12),IF(AU12<0.85,\"\",VLOOKUP(V12,J!A$2:X$23,VLOOKUP(F12,ages!B$1:C$23,2,1),1)),\"\")","v":""},"","","","",-1.0000000000000002E-6,0,0,0,0,0,0,0,0,0,0,0,null,null,null,null,null,null,null,null,null,null,null,null,null,null,null,null,null,null,null,null,null,null,null,null,null,null,null,null,null,null,null,null,null,null,null,null,null,null,null,null,null,null,null,null,null,null,null,null,null,null,null,null,null,null,null,null,null,null,null,null,null,null,null,null,null,null,null,null,null,null,-9.9999999999999995E-7,-9.9999999999999995E-7,-9.9999999999999995E-7,-9.9999999999999995E-7,-9.9999999999999995E-7,-9.9999999999999995E-7,-9.9999999999999995E-7,-9.9999999999999995E-7,-9.9999999999999995E-7,-9.9999999999999995E-7,-9.9999999999999995E-7,-9.9999999999999995E-7,-9.9999999999999995E-7,-9.9999999999999995E-7,-9.9999999999999995E-7,-9.9999999999999995E-7,-9.9999999999999995E-7,-9.9999999999999995E-7,-9.9999999999999995E-7,-9.9999999999999995E-7,{"$f":"IF(ISERROR(VLOOKUP(F12,ages!B$1:B$23,1,1)),\"\",VLOOKUP(F12,ages!B$1:B$23,1,1))","v":""},{"$f":"IF(ISERROR(VLOOKUP(F12,ages!B$1:D$23,3,1)),\"\",VLOOKUP(F12,ages!B$1:D$23,3,1))","v":""},0,0,0,0,0]
[null,null,null,null,null,"",null,null,null,null,null,null,"","","","","","","","","","",{"$f":"IF(ISNUMBER(F13),IF(AL13<0.85,\"\",VLOOKUP(M13,A!A$2:X$23,VLOOKUP(F13,ages!B$1:C$23,2,1),1)),\"\")","v":""},{"$f":"IF(ISNUMBER(F13),IF(AM13<0.85,\"\",VLOOKUP(N13,B!A$2:X$23,VLOOKUP(F13,ages!B$1:C$23,2,1),1)),\"\")","v":""},{"$f":"IF(ISNUMBER(F13),IF(AN13<0.85,\"\",VLOOKUP(O13,'C'!A$2:X$23,VLOOKUP(F13,ages!B$1:C$23,2,1),1)),\"\")","v":""},{"$f":"IF(ISNUMBER(F13),IF(AO13<0.85,\"\",VLOOKUP(P13,D!A$2:X$23,VLOOKUP(F13,ages!B$1:C$23,2,1),1)),\"\")","v":""},{"$f":"IF(ISNUMBER(F13),IF(AP13<0.85,\"\",VLOOKUP(Q13,E!A$2:X$23,VLOOKUP(F13,ages!B$1:C$23,2,1),1)),\"\")","v":""},{"$f":"IF(ISNUMBER(F13),IF(AQ13<0.85,\"\",VLOOKUP(R13,F!A$2:X$23,VLOOKUP(F13,ages!B$1:C$23,2,1),1)),\"\")","v":""},{"$f":"IF(ISNUMBER(F13),IF(AR13<0.85,\"\",VLOOKUP(S13,G!A$2:X$23,VLOOKUP(F13,ages!B$1:C$23,2,1),1)),\"\")","v":""},{"$f":"IF(ISNUMBER(F13),IF(AS13<0.85,\"\",VLOOKUP(T13,H!A$2:X$23,VLOOKUP(F13,ages!B$1:C$23,2,1),1)),\"\")","v":""},{"$f":"IF(ISNUMBER(F13),IF(AT13<0.85,\"\",VLOOKUP(U13,I!A$2:X$23,VLOOKUP(F13,ages!B$1:C$23,2,1),1)),\"\")","v":""},{"$f":"IF(ISNUMBER(F13),IF(AU13<0.85,\"\",VLOOKUP(V13,J!A$2:X$23,VLOOKUP(F13,ages!B$1:C$23,2,1),1)),\"\")","v":""},"","","","",-1.0000000000000002E-6,0,0,0,0,0,0,0,0,0,0,0,null,null,null,null,null,null,null,null,null,null,null,null,null,null,null,null,null,null,null,null,null,null,null,null,null,null,null,null,null,null,null,null,null,null,null,null,null,null,null,null,null,null,null,null,null,null,null,null,null,null,null,null,null,null,null,null,null,null,null,null,null,null,null,null,null,null,null,null,null,null,-9.9999999999999995E-7,-9.9999999999999995E-7,-9.9999999999999995E-7,-9.9999999999999995E-7,-9.9999999999999995E-7,-9.9999999999999995E-7,-9.9999999999999995E-7,-9.9999999999999995E-7,-9.9999999999999995E-7,-9.9999999999999995E-7,-9.9999999999999995E-7,-9.9999999999999995E-7,-9.9999999999999995E-7,-9.9999999999999995E-7,-9.9999999999999995E-7,-9.9999999999999995E-7,-9.9999999999999995E-7,-9.9999999999999995E-7,-9.9999999999999995E-7,-9.9999999999999995E-7,{"$f":"IF(ISERROR(VLOOKUP(F13,ages!B$1:B$23,1,1)),\"\",VLOOKUP(F13,ages!B$1:B$23,1,1))","v":""},{"$f":"IF(ISERROR(VLOOKUP(F13,ages!B$1:D$23,3,1)),\"\",VLOOKUP(F13,ages!B$1:D$23,3,1))","v":""},0,0,0,0,0]
[null,null,null,null,null,"",null,null,null,null,null,null,"","","","","","","","","","",{"$f":"IF(ISNUMBER(F14),IF(AL14<0.85,\"\",VLOOKUP(M14,A!A$2:X$23,VLOOKUP(F14,ages!B$1:C$23,2,1),1)),\"\")","v":""},{"$f":"IF(ISNUMBER(F14),IF(AM14<0.85,\"\",VLOOKUP(N14,B!A$2:X$23,VLOOKUP(F14,ages!B$1:C$23,2,1),1)),\"\")","v":""},{"$f":"IF(ISNUMBER(F14),IF(AN14<0.85,\"\",VLOOKUP(O14,'C'!A$2:X$23,VLOOKUP(F14,ages!B$1:C$23,2,1),1)),\"\")","v":""},{"$f":"IF(ISNUMBER(F14),IF(AO14<0.85,\"\",VLOOKUP(P14,D!A$2:X$23,VLOOKUP(F14,ages!B$1:C$23,2,1),1)),\"\")","v":""},{"$f":"IF(ISNUMBER(F14),IF(AP14<0.85,\"\",VLOOKUP(Q14,E!A$2:X$23,VLOOKUP(F14,ages!B$1:C$23,2,1),1)),\"\")","v":""},{"$f":"IF(ISNUMBER(F14),IF(AQ14<0.85,\"\",VLOOKUP(R14,F!A$2:X$23,VLOOKUP(F14,ages!B$1:C$23,2,1),1)),\"\")","v":""},{"$f":"IF(ISNUMBER(F14),IF(AR14<0.85,\"\",VLOOKUP(S14,G!A$2:X$23,VLOOKUP(F14,ages!B$1:C$23,2,1),1)),\"\")","v":""},{"$f":"IF(ISNUMBER(F14),IF(AS14<0.85,\"\",VLOOKUP(T14,H!A$2:X$23,VLOOKUP(F14,ages!B$1:C$23,2,1),1)),\"\")","v":""},{"$f":"IF(ISNUMBER(F14),IF(AT14<0.85,\"\",VLOOKUP(U14,I!A$2:X$23,VLOOKUP(F14,ages!B$1:C$23,2,1),1)),\"\")","v":""},{"$f":"IF(ISNUMBER(F14),IF(AU14<0.85,\"\",VLOOKUP(V14,J!A$2:X$23,VLOOKUP(F14,ages!B$1:C$23,2,1),1)),\"\")","v":""},"","","","",-1.0000000000000002E-6,0,0,0,0,0,0,0,0,0,0,0,null,null,null,null,null,null,null,null,null,null,null,null,null,null,null,null,null,null,null,null,null,null,null,null,null,null,null,null,null,null,null,null,null,null,null,null,null,null,null,null,null,null,null,null,null,null,null,null,null,null,null,null,null,null,null,null,null,null,null,null,null,null,null,null,null,null,null,null,null,null,-9.9999999999999995E-7,-9.9999999999999995E-7,-9.9999999999999995E-7,-9.9999999999999995E-7,-9.9999999999999995E-7,-9.9999999999999995E-7,-9.9999999999999995E-7,-9.9999999999999995E-7,-9.9999999999999995E-7,-9.9999999999999995E-7,-9.9999999999999995E-7,-9.9999999999999995E-7,-9.9999999999999995E-7,-9.9999999999999995E-7,-9.9999999999999995E-7,-9.9999999999999995E-7,-9.9999999999999995E-7,-9.9999999999999995E-7,-9.9999999999999995E-7,-9.9999999999999995E-7,{"$f":"IF(ISERROR(VLOOKUP(F14,ages!B$1:B$23,1,1)),\"\",VLOOKUP(F14,ages!B$1:B$23,1,1))","v":""},{"$f":"IF(ISERROR(VLOOKUP(F14,ages!B$1:D$23,3,1)),\"\",VLOOKUP(F14,ages!B$1:D$23,3,1))","v":""},0,0,0,0,0]
[null,null,null,null,null,"",null,null,null,null,null,null,"","","","","","","","","","",{"$f":"IF(ISNUMBER(F15),IF(AL15<0.85,\"\",VLOOKUP(M15,A!A$2:X$23,VLOOKUP(F15,ages!B$1:C$23,2,1),1)),\"\")","v":""},{"$f":"IF(ISNUMBER(F15),IF(AM15<0.85,\"\",VLOOKUP(N15,B!A$2:X$23,VLOOKUP(F15,ages!B$1:C$23,2,1),1)),\"\")","v":""},{"$f":"IF(ISNUMBER(F15),IF(AN15<0.85,\"\",VLOOKUP(O15,'C'!A$2:X$23,VLOOKUP(F15,ages!B$1:C$23,2,1),1)),\"\")","v":""},{"$f":"IF(ISNUMBER(F15),IF(AO15<0.85,\"\",VLOOKUP(P15,D!A$2:X$23,VLOOKUP(F15,ages!B$1:C$23,2,1),1)),\"\")","v":""},{"$f":"IF(ISNUMBER(F15),IF(AP15<0.85,\"\",VLOOKUP(Q15,E!A$2:X$23,VLOOKUP(F15,ages!B$1:C$23,2,1),1)),\"\")","v":""},{"$f":"IF(ISNUMBER(F15),IF(AQ15<0.85,\"\",VLOOKUP(R15,F!A$2:X$23,VLOOKUP(F15,ages!B$1:C$23,2,1),1)),\"\")","v":""},{"$f":"IF(ISNUMBER(F15),IF(AR15<0.85,\"\",VLOOKUP(S15,G!A$2:X$23,VLOOKUP(F15,ages!B$1:C$23,2,1),1)),\"\")","v":""},{"$f":"IF(ISNUMBER(F15),IF(AS15<0.85,\"\",VLOOKUP(T15,H!A$2:X$23,VLOOKUP(F15,ages!B$1:C$23,2,1),1)),\"\")","v":""},{"$f":"IF(ISNUMBER(F15),IF(AT15<0.85,\"\",VLOOKUP(U15,I!A$2:X$23,VLOOKUP(F15,ages!B$1:C$23,2,1),1)),\"\")","v":""},{"$f":"IF(ISNUMBER(F15),IF(AU15<0.85,\"\",VLOOKUP(V15,J!A$2:X$23,VLOOKUP(F15,ages!B$1:C$23,2,1),1)),\"\")","v":""},"","","","",-1.0000000000000002E-6,0,0,0,0,0,0,0,0,0,0,0,null,null,null,null,null,null,null,null,null,null,null,null,null,null,null,null,null,null,null,null,null,null,null,null,null,null,null,null,null,null,null,null,null,null,null,null,null,null,null,null,null,null,null,null,null,null,null,null,null,null,null,null,null,null,null,null,null,null,null,null,null,null,null,null,null,null,null,null,null,null,-9.9999999999999995E-7,-9.9999999999999995E-7,-9.9999999999999995E-7,-9.9999999999999995E-7,-9.9999999999999995E-7,-9.9999999999999995E-7,-9.9999999999999995E-7,-9.9999999999999995E-7,-9.9999999999999995E-7,-9.9999999999999995E-7,-9.9999999999999995E-7,-9.9999999999999995E-7,-9.9999999999999995E-7,-9.9999999999999995E-7,-9.9999999999999995E-7,-9.9999999999999995E-7,-9.9999999999999995E-7,-9.9999999999999995E-7,-9.9999999999999995E-7,-9.9999999999999995E-7,{"$f":"IF(ISERROR(VLOOKUP(F15,ages!B$1:B$23,1,1)),\"\",VLOOKUP(F15,ages!B$1:B$23,1,1))","v":""},{"$f":"IF(ISERROR(VLOOKUP(F15,ages!B$1:D$23,3,1)),\"\",VLOOKUP(F15,ages!B$1:D$23,3,1))","v":""},0,0,0,0,0]
[null,null,null,null,null,"",null,null,null,null,null,null,"","","","","","","","","","",{"$f":"IF(ISNUMBER(F16),IF(AL16<0.85,\"\",VLOOKUP(M16,A!A$2:X$23,VLOOKUP(F16,ages!B$1:C$23,2,1),1)),\"\")","v":""},{"$f":"IF(ISNUMBER(F16),IF(AM16<0.85,\"\",VLOOKUP(N16,B!A$2:X$23,VLOOKUP(F16,ages!B$1:C$23,2,1),1)),\"\")","v":""},{"$f":"IF(ISNUMBER(F16),IF(AN16<0.85,\"\",VLOOKUP(O16,'C'!A$2:X$23,VLOOKUP(F16,ages!B$1:C$23,2,1),1)),\"\")","v":""},{"$f":"IF(ISNUMBER(F16),IF(AO16<0.85,\"\",VLOOKUP(P16,D!A$2:X$23,VLOOKUP(F16,ages!B$1:C$23,2,1),1)),\"\")","v":""},{"$f":"IF(ISNUMBER(F16),IF(AP16<0.85,\"\",VLOOKUP(Q16,E!A$2:X$23,VLOOKUP(F16,ages!B$1:C$23,2,1),1)),\"\")","v":""},{"$f":"IF(ISNUMBER(F16),IF(AQ16<0.85,\"\",VLOOKUP(R16,F!A$2:X$23,VLOOKUP(F16,ages!B$1:C$23,2,1),1)),\"\")","v":""},{"$f":"IF(ISNUMBER(F16),IF(AR16<0.85,\"\",VLOOKUP(S16,G!A$2:X$23,VLOOKUP(F16,ages!B$1:C$23,2,1),1)),\"\")","v":""},{"$f":"IF(ISNUMBER(F16),IF(AS16<0.85,\"\",VLOOKUP(T16,H!A$2:X$23,VLOOKUP(F16,ages!B$1:C$23,2,1),1)),\"\")","v":""},{"$f":"IF(ISNUMBER(F16),IF(AT16<0.85,\"\",VLOOKUP(U16,I!A$2:X$23,VLOOKUP(F16,ages!B$1:C$23,2,1),1)),\"\")","v":""},{"$f":"IF(ISNUMBER(F16),IF(AU16<0.85,\"\",VLOOKUP(V16,J!A$2:X$23,VLOOKUP(F16,ages!B$1:C$23,2,1),1)),\"\")","v":""},"","","","",-1.0000000000000002E-6,0,0,0,0,0,0,0,0,0,0,0,null,null,null,null,null,null,null,null,null,null,null,null,null,null,null,null,null,null,null,null,null,null,null,null,null,null,null,null,null,null,null,null,null,null,null,null,null,null,null,null,null,null,null,null,null,null,null,null,null,null,null,null,null,null,null,null,null,null,null,null,null,null,null,null,null,null,null,null,null,null,-9.9999999999999995E-7,-9.9999999999999995E-7,-9.9999999999999995E-7,-9.9999999999999995E-7,-9.9999999999999995E-7,-9.9999999999999995E-7,-9.9999999999999995E-7,-9.9999999999999995E-7,-9.9999999999999995E-7,-9.9999999999999995E-7,-9.9999999999999995E-7,-9.9999999999999995E-7,-9.9999999999999995E-7,-9.9999999999999995E-7,-9.9999999999999995E-7,-9.9999999999999995E-7,-9.9999999999999995E-7,-9.9999999999999995E-7,-9.9999999999999995E-7,-9.9999999999999995E-7,{"$f":"IF(ISERROR(VLOOKUP(F16,ages!B$1:B$23,1,1)),\"\",VLOOKUP(F16,ages!B$1:B$23,1,1))","v":""},{"$f":"IF(ISERROR(VLOOKUP(F16,ages!B$1:D$23,3,1)),\"\",VLOOKUP(F16,ages!B$1:D$23,3,1))","v":""},0,0,0,0,0]
[null,null,null,null,null,"",null,null,null,null,null,null,"","","","","","","","","","",{"$f":"IF(ISNUMBER(F17),IF(AL17<0.85,\"\",VLOOKUP(M17,A!A$2:X$23,VLOOKUP(F17,ages!B$1:C$23,2,1),1)),\"\")","v":""},{"$f":"IF(ISNUMBER(F17),IF(AM17<0.85,\"\",VLOOKUP(N17,B!A$2:X$23,VLOOKUP(F17,ages!B$1:C$23,2,1),1)),\"\")","v":""},{"$f":"IF(ISNUMBER(F17),IF(AN17<0.85,\"\",VLOOKUP(O17,'C'!A$2:X$23,VLOOKUP(F17,ages!B$1:C$23,2,1),1)),\"\")","v":""},{"$f":"IF(ISNUMBER(F17),IF(AO17<0.85,\"\",VLOOKUP(P17,D!A$2:X$23,VLOOKUP(F17,ages!B$1:C$23,2,1),1)),\"\")","v":""},{"$f":"IF(ISNUMBER(F17),IF(AP17<0.85,\"\",VLOOKUP(Q17,E!A$2:X$23,VLOOKUP(F17,ages!B$1:C$23,2,1),1)),\"\")","v":""},{"$f":"IF(ISNUMBER(F17),IF(AQ17<0.85,\"\",VLOOKUP(R17,F!A$2:X$23,VLOOKUP(F17,ages!B$1:C$23,2,1),1)),\"\")","v":""},{"$f":"IF(ISNUMBER(F17),IF(AR17<0.85,\"\",VLOOKUP(S17,G!A$2:X$23,VLOOKUP(F17,ages!B$1:C$23,2,1),1)),\"\")","v":""},{"$f":"IF(ISNUMBER(F17),IF(AS17<0.85,\"\",VLOOKUP(T17,H!A$2:X$23,VLOOKUP(F17,ages!B$1:C$23,2,1),1)),\"\")","v":""},{"$f":"IF(ISNUMBER(F17),IF(AT17<0.85,\"\",VLOOKUP(U17,I!A$2:X$23,VLOOKUP(F17,ages!B$1:C$23,2,1),1)),\"\")","v":""},{"$f":"IF(ISNUMBER(F17),IF(AU17<0.85,\"\",VLOOKUP(V17,J!A$2:X$23,VLOOKUP(F17,ages!B$1:C$23,2,1),1)),\"\")","v":""},"","","","",-1.0000000000000002E-6,0,0,0,0,0,0,0,0,0,0,0,null,null,null,null,null,null,null,null,null,null,null,null,null,null,null,null,null,null,null,null,null,null,null,null,null,null,null,null,null,null,null,null,null,null,null,null,null,null,null,null,null,null,null,null,null,null,null,null,null,null,null,null,null,null,null,null,null,null,null,null,null,null,null,null,null,null,null,null,null,null,-9.9999999999999995E-7,-9.9999999999999995E-7,-9.9999999999999995E-7,-9.9999999999999995E-7,-9.9999999999999995E-7,-9.9999999999999995E-7,-9.9999999999999995E-7,-9.9999999999999995E-7,-9.9999999999999995E-7,-9.9999999999999995E-7,-9.9999999999999995E-7,-9.9999999999999995E-7,-9.9999999999999995E-7,-9.9999999999999995E-7,-9.9999999999999995E-7,-9.9999999999999995E-7,-9.9999999999999995E-7,-9.9999999999999995E-7,-9.9999999999999995E-7,-9.9999999999999995E-7,{"$f":"IF(ISERROR(VLOOKUP(F17,ages!B$1:B$23,1,1)),\"\",VLOOKUP(F17,ages!B$1:B$23,1,1))","v":""},{"$f":"IF(ISERROR(VLOOKUP(F17,ages!B$1:D$23,3,1)),\"\",VLOOKUP(F17,ages!B$1:D$23,3,1))","v":""},0,0,0,0,0]
[null,null,null,null,null,"",null,null,null,null,null,null,"","","","","","","","","","",{"$f":"IF(ISNUMBER(F18),IF(AL18<0.85,\"\",VLOOKUP(M18,A!A$2:X$23,VLOOKUP(F18,ages!B$1:C$23,2,1),1)),\"\")","v":""},{"$f":"IF(ISNUMBER(F18),IF(AM18<0.85,\"\",VLOOKUP(N18,B!A$2:X$23,VLOOKUP(F18,ages!B$1:C$23,2,1),1)),\"\")","v":""},{"$f":"IF(ISNUMBER(F18),IF(AN18<0.85,\"\",VLOOKUP(O18,'C'!A$2:X$23,VLOOKUP(F18,ages!B$1:C$23,2,1),1)),\"\")","v":""},{"$f":"IF(ISNUMBER(F18),IF(AO18<0.85,\"\",VLOOKUP(P18,D!A$2:X$23,VLOOKUP(F18,ages!B$1:C$23,2,1),1)),\"\")","v":""},{"$f":"IF(ISNUMBER(F18),IF(AP18<0.85,\"\",VLOOKUP(Q18,E!A$2:X$23,VLOOKUP(F18,ages!B$1:C$23,2,1),1)),\"\")","v":""},{"$f":"IF(ISNUMBER(F18),IF(AQ18<0.85,\"\",VLOOKUP(R18,F!A$2:X$23,VLOOKUP(F18,ages!B$1:C$23,2,1),1)),\"\")","v":""},{"$f":"IF(ISNUMBER(F18),IF(AR18<0.85,\"\",VLOOKUP(S18,G!A$2:X$23,VLOOKUP(F18,ages!B$1:C$23,2,1),1)),\"\")","v":""},{"$f":"IF(ISNUMBER(F18),IF(AS18<0.85,\"\",VLOOKUP(T18,H!A$2:X$23,VLOOKUP(F18,ages!B$1:C$23,2,1),1)),\"\")","v":""},{"$f":"IF(ISNUMBER(F18),IF(AT18<0.85,\"\",VLOOKUP(U18,I!A$2:X$23,VLOOKUP(F18,ages!B$1:C$23,2,1),1)),\"\")","v":""},{"$f":"IF(ISNUMBER(F18),IF(AU18<0.85,\"\",VLOOKUP(V18,J!A$2:X$23,VLOOKUP(F18,ages!B$1:C$23,2,1),1)),\"\")","v":""},"","","","",-1.0000000000000002E-6,0,0,0,0,0,0,0,0,0,0,0,null,null,null,null,null,null,null,null,null,null,null,null,null,null,null,null,null,null,null,null,null,null,null,null,null,null,null,null,null,null,null,null,null,null,null,null,null,null,null,null,null,null,null,null,null,null,null,null,null,null,null,null,null,null,null,null,null,null,null,null,null,null,null,null,null,null,null,null,null,null,-9.9999999999999995E-7,-9.9999999999999995E-7,-9.9999999999999995E-7,-9.9999999999999995E-7,-9.9999999999999995E-7,-9.9999999999999995E-7,-9.9999999999999995E-7,-9.9999999999999995E-7,-9.9999999999999995E-7,-9.9999999999999995E-7,-9.9999999999999995E-7,-9.9999999999999995E-7,-9.9999999999999995E-7,-9.9999999999999995E-7,-9.9999999999999995E-7,-9.9999999999999995E-7,-9.9999999999999995E-7,-9.9999999999999995E-7,-9.9999999999999995E-7,-9.9999999999999995E-7,{"$f":"IF(ISERROR(VLOOKUP(F18,ages!B$1:B$23,1,1)),\"\",VLOOKUP(F18,ages!B$1:B$23,1,1))","v":""},{"$f":"IF(ISERROR(VLOOKUP(F18,ages!B$1:D$23,3,1)),\"\",VLOOKUP(F18,ages!B$1:D$23,3,1))","v":""},0,0,0,0,0]
[null,null,null,null,null,"",null,null,null,null,null,null,"","","","","","","","","","",{"$f":"IF(ISNUMBER(F19),IF(AL19<0.85,\"\",VLOOKUP(M19,A!A$2:X$23,VLOOKUP(F19,ages!B$1:C$23,2,1),1)),\"\")","v":""},{"$f":"IF(ISNUMBER(F19),IF(AM19<0.85,\"\",VLOOKUP(N19,B!A$2:X$23,VLOOKUP(F19,ages!B$1:C$23,2,1),1)),\"\")","v":""},{"$f":"IF(ISNUMBER(F19),IF(AN19<0.85,\"\",VLOOKUP(O19,'C'!A$2:X$23,VLOOKUP(F19,ages!B$1:C$23,2,1),1)),\"\")","v":""},{"$f":"IF(ISNUMBER(F19),IF(AO19<0.85,\"\",VLOOKUP(P19,D!A$2:X$23,VLOOKUP(F19,ages!B$1:C$23,2,1),1)),\"\")","v":""},{"$f":"IF(ISNUMBER(F19),IF(AP19<0.85,\"\",VLOOKUP(Q19,E!A$2:X$23,VLOOKUP(F19,ages!B$1:C$23,2,1),1)),\"\")","v":""},{"$f":"IF(ISNUMBER(F19),IF(AQ19<0.85,\"\",VLOOKUP(R19,F!A$2:X$23,VLOOKUP(F19,ages!B$1:C$23,2,1),1)),\"\")","v":""},{"$f":"IF(ISNUMBER(F19),IF(AR19<0.85,\"\",VLOOKUP(S19,G!A$2:X$23,VLOOKUP(F19,ages!B$1:C$23,2,1),1)),\"\")","v":""},{"$f":"IF(ISNUMBER(F19),IF(AS19<0.85,\"\",VLOOKUP(T19,H!A$2:X$23,VLOOKUP(F19,ages!B$1:C$23,2,1),1)),\"\")","v":""},{"$f":"IF(ISNUMBER(F19),IF(AT19<0.85,\"\",VLOOKUP(U19,I!A$2:X$23,VLOOKUP(F19,ages!B$1:C$23,2,1),1)),\"\")","v":""},{"$f":"IF(ISNUMBER(F19),IF(AU19<0.85,\"\",VLOOKUP(V19,J!A$2:X$23,VLOOKUP(F19,ages!B$1:C$23,2,1),1)),\"\")","v":""},"","","","",-1.0000000000000002E-6,0,0,0,0,0,0,0,0,0,0,0,null,null,null,null,null,null,null,null,null,null,null,null,null,null,null,null,null,null,null,null,null,null,null,null,null,null,null,null,null,null,null,null,null,null,null,null,null,null,null,null,null,null,null,null,null,null,null,null,null,null,null,null,null,null,null,null,null,null,null,null,null,null,null,null,null,null,null,null,null,null,-9.9999999999999995E-7,-9.9999999999999995E-7,-9.9999999999999995E-7,-9.9999999999999995E-7,-9.9999999999999995E-7,-9.9999999999999995E-7,-9.9999999999999995E-7,-9.9999999999999995E-7,-9.9999999999999995E-7,-9.9999999999999995E-7,-9.9999999999999995E-7,-9.9999999999999995E-7,-9.9999999999999995E-7,-9.9999999999999995E-7,-9.9999999999999995E-7,-9.9999999999999995E-7,-9.9999999999999995E-7,-9.9999999999999995E-7,-9.9999999999999995E-7,-9.9999999999999995E-7,{"$f":"IF(ISERROR(VLOOKUP(F19,ages!B$1:B$23,1,1)),\"\",VLOOKUP(F19,ages!B$1:B$23,1,1))","v":""},{"$f":"IF(ISERROR(VLOOKUP(F19,ages!B$1:D$23,3,1)),\"\",VLOOKUP(F19,ages!B$1:D$23,3,1))","v":""},0,0,0,0,0]
[null,null,null,null,null,"",null,null,null,null,null,null,"","","","","","","","","","",{"$f":"IF(ISNUMBER(F20),IF(AL20<0.85,\"\",VLOOKUP(M20,A!A$2:X$23,VLOOKUP(F20,ages!B$1:C$23,2,1),1)),\"\")","v":""},{"$f":"IF(ISNUMBER(F20),IF(AM20<0.85,\"\",VLOOKUP(N20,B!A$2:X$23,VLOOKUP(F20,ages!B$1:C$23,2,1),1)),\"\")","v":""},{"$f":"IF(ISNUMBER(F20),IF(AN20<0.85,\"\",VLOOKUP(O20,'C'!A$2:X$23,VLOOKUP(F20,ages!B$1:C$23,2,1),1)),\"\")","v":""},{"$f":"IF(ISNUMBER(F20),IF(AO20<0.85,\"\",VLOOKUP(P20,D!A$2:X$23,VLOOKUP(F20,ages!B$1:C$23,2,1),1)),\"\")","v":""},{"$f":"IF(ISNUMBER(F20),IF(AP20<0.85,\"\",VLOOKUP(Q20,E!A$2:X$23,VLOOKUP(F20,ages!B$1:C$23,2,1),1)),\"\")","v":""},{"$f":"IF(ISNUMBER(F20),IF(AQ20<0.85,\"\",VLOOKUP(R20,F!A$2:X$23,VLOOKUP(F20,ages!B$1:C$23,2,1),1)),\"\")","v":""},{"$f":"IF(ISNUMBER(F20),IF(AR20<0.85,\"\",VLOOKUP(S20,G!A$2:X$23,VLOOKUP(F20,ages!B$1:C$23,2,1),1)),\"\")","v":""},{"$f":"IF(ISNUMBER(F20),IF(AS20<0.85,\"\",VLOOKUP(T20,H!A$2:X$23,VLOOKUP(F20,ages!B$1:C$23,2,1),1)),\"\")","v":""},{"$f":"IF(ISNUMBER(F20),IF(AT20<0.85,\"\",VLOOKUP(U20,I!A$2:X$23,VLOOKUP(F20,ages!B$1:C$23,2,1),1)),\"\")","v":""},{"$f":"IF(ISNUMBER(F20),IF(AU20<0.85,\"\",VLOOKUP(V20,J!A$2:X$23,VLOOKUP(F20,ages!B$1:C$23,2,1),1)),\"\")","v":""},"","","","",-1.0000000000000002E-6,0,0,0,0,0,0,0,0,0,0,0,null,null,null,null,null,null,null,null,null,null,null,null,null,null,null,null,null,null,null,null,null,null,null,null,null,null,null,null,null,null,null,null,null,null,null,null,null,null,null,null,null,null,null,null,null,null,null,null,null,null,null,null,null,null,null,null,null,null,null,null,null,null,null,null,null,null,null,null,null,null,-9.9999999999999995E-7,-9.9999999999999995E-7,-9.9999999999999995E-7,-9.9999999999999995E-7,-9.9999999999999995E-7,-9.9999999999999995E-7,-9.9999999999999995E-7,-9.9999999999999995E-7,-9.9999999999999995E-7,-9.9999999999999995E-7,-9.9999999999999995E-7,-9.9999999999999995E-7,-9.9999999999999995E-7,-9.9999999999999995E-7,-9.9999999999999995E-7,-9.9999999999999995E-7,-9.9999999999999995E-7,-9.9999999999999995E-7,-9.9999999999999995E-7,-9.9999999999999995E-7,{"$f":"IF(ISERROR(VLOOKUP(F20,ages!B$1:B$23,1,1)),\"\",VLOOKUP(F20,ages!B$1:B$23,1,1))","v":""},{"$f":"IF(ISERROR(VLOOKUP(F20,ages!B$1:D$23,3,1)),\"\",VLOOKUP(F20,ages!B$1:D$23,3,1))","v":""},0,0,0,0,0]
[null,null,null,null,null,"",null,null,null,null,null,null,"","","","","","","","","","",{"$f":"IF(ISNUMBER(F21),IF(AL21<0.85,\"\",VLOOKUP(M21,A!A$2:X$23,VLOOKUP(F21,ages!B$1:C$23,2,1),1)),\"\")","v":""},{"$f":"IF(ISNUMBER(F21),IF(AM21<0.85,\"\",VLOOKUP(N21,B!A$2:X$23,VLOOKUP(F21,ages!B$1:C$23,2,1),1)),\"\")","v":""},{"$f":"IF(ISNUMBER(F21),IF(AN21<0.85,\"\",VLOOKUP(O21,'C'!A$2:X$23,VLOOKUP(F21,ages!B$1:C$23,2,1),1)),\"\")","v":""},{"$f":"IF(ISNUMBER(F21),IF(AO21<0.85,\"\",VLOOKUP(P21,D!A$2:X$23,VLOOKUP(F21,ages!B$1:C$23,2,1),1)),\"\")","v":""},{"$f":"IF(ISNUMBER(F21),IF(AP21<0.85,\"\",VLOOKUP(Q21,E!A$2:X$23,VLOOKUP(F21,ages!B$1:C$23,2,1),1)),\"\")","v":""},{"$f":"IF(ISNUMBER(F21),IF(AQ21<0.85,\"\",VLOOKUP(R21,F!A$2:X$23,VLOOKUP(F21,ages!B$1:C$23,2,1),1)),\"\")","v":""},{"$f":"IF(ISNUMBER(F21),IF(AR21<0.85,\"\",VLOOKUP(S21,G!A$2:X$23,VLOOKUP(F21,ages!B$1:C$23,2,1),1)),\"\")","v":""},{"$f":"IF(ISNUMBER(F21),IF(AS21<0.85,\"\",VLOOKUP(T21,H!A$2:X$23,VLOOKUP(F21,ages!B$1:C$23,2,1),1)),\"\")","v":""},{"$f":"IF(ISNUMBER(F21),IF(AT21<0.85,\"\",VLOOKUP(U21,I!A$2:X$23,VLOOKUP(F21,ages!B$1:C$23,2,1),1)),\"\")","v":""},{"$f":"IF(ISNUMBER(F21),IF(AU21<0.85,\"\",VLOOKUP(V21,J!A$2:X$23,VLOOKUP(F21,ages!B$1:C$23,2,1),1)),\"\")","v":""},"","","","",-1.0000000000000002E-6,0,0,0,0,0,0,0,0,0,0,0,null,null,null,null,null,null,null,null,null,null,null,null,null,null,null,null,null,null,null,null,null,null,null,null,null,null,null,null,null,null,null,null,null,null,null,null,null,null,null,null,null,null,null,null,null,null,null,null,null,null,null,null,null,null,null,null,null,null,null,null,null,null,null,null,null,null,null,null,null,null,-9.9999999999999995E-7,-9.9999999999999995E-7,-9.9999999999999995E-7,-9.9999999999999995E-7,-9.9999999999999995E-7,-9.9999999999999995E-7,-9.9999999999999995E-7,-9.9999999999999995E-7,-9.9999999999999995E-7,-9.9999999999999995E-7,-9.9999999999999995E-7,-9.9999999999999995E-7,-9.9999999999999995E-7,-9.9999999999999995E-7,-9.9999999999999995E-7,-9.9999999999999995E-7,-9.9999999999999995E-7,-9.9999999999999995E-7,-9.9999999999999995E-7,-9.9999999999999995E-7,{"$f":"IF(ISERROR(VLOOKUP(F21,ages!B$1:B$23,1,1)),\"\",VLOOKUP(F21,ages!B$1:B$23,1,1))","v":""},{"$f":"IF(ISERROR(VLOOKUP(F21,ages!B$1:D$23,3,1)),\"\",VLOOKUP(F21,ages!B$1:D$23,3,1))","v":""},0,0,0,0,0]
[null,null,null,null,null,"",null,null,null,null,null,null,"","","","","","","","","","",{"$f":"IF(ISNUMBER(F22),IF(AL22<0.85,\"\",VLOOKUP(M22,A!A$2:X$23,VLOOKUP(F22,ages!B$1:C$23,2,1),1)),\"\")","v":""},{"$f":"IF(ISNUMBER(F22),IF(AM22<0.85,\"\",VLOOKUP(N22,B!A$2:X$23,VLOOKUP(F22,ages!B$1:C$23,2,1),1)),\"\")","v":""},{"$f":"IF(ISNUMBER(F22),IF(AN22<0.85,\"\",VLOOKUP(O22,'C'!A$2:X$23,VLOOKUP(F22,ages!B$1:C$23,2,1),1)),\"\")","v":""},{"$f":"IF(ISNUMBER(F22),IF(AO22<0.85,\"\",VLOOKUP(P22,D!A$2:X$23,VLOOKUP(F22,ages!B$1:C$23,2,1),1)),\"\")","v":""},{"$f":"IF(ISNUMBER(F22),IF(AP22<0.85,\"\",VLOOKUP(Q22,E!A$2:X$23,VLOOKUP(F22,ages!B$1:C$23,2,1),1)),\"\")","v":""},{"$f":"IF(ISNUMBER(F22),IF(AQ22<0.85,\"\",VLOOKUP(R22,F!A$2:X$23,VLOOKUP(F22,ages!B$1:C$23,2,1),1)),\"\")","v":""},{"$f":"IF(ISNUMBER(F22),IF(AR22<0.85,\"\",VLOOKUP(S22,G!A$2:X$23,VLOOKUP(F22,ages!B$1:C$23,2,1),1)),\"\")","v":""},{"$f":"IF(ISNUMBER(F22),IF(AS22<0.85,\"\",VLOOKUP(T22,H!A$2:X$23,VLOOKUP(F22,ages!B$1:C$23,2,1),1)),\"\")","v":""},{"$f":"IF(ISNUMBER(F22),IF(AT22<0.85,\"\",VLOOKUP(U22,I!A$2:X$23,VLOOKUP(F22,ages!B$1:C$23,2,1),1)),\"\")","v":""},{"$f":"IF(ISNUMBER(F22),IF(AU22<0.85,\"\",VLOOKUP(V22,J!A$2:X$23,VLOOKUP(F22,ages!B$1:C$23,2,1),1)),\"\")","v":""},"","","","",-1.0000000000000002E-6,0,0,0,0,0,0,0,0,0,0,0,null,null,null,null,null,null,null,null,null,null,null,null,null,null,null,null,null,null,null,null,null,null,null,null,null,null,null,null,null,null,null,null,null,null,null,null,null,null,null,null,null,null,null,null,null,null,null,null,null,null,null,null,null,null,null,null,null,null,null,null,null,null,null,null,null,null,null,null,null,null,-9.9999999999999995E-7,-9.9999999999999995E-7,-9.9999999999999995E-7,-9.9999999999999995E-7,-9.9999999999999995E-7,-9.9999999999999995E-7,-9.9999999999999995E-7,-9.9999999999999995E-7,-9.9999999999999995E-7,-9.9999999999999995E-7,-9.9999999999999995E-7,-9.9999999999999995E-7,-9.9999999999999995E-7,-9.9999999999999995E-7,-9.9999999999999995E-7,-9.9999999999999995E-7,-9.9999999999999995E-7,-9.9999999999999995E-7,-9.9999999999999995E-7,-9.9999999999999995E-7,{"$f":"IF(ISERROR(VLOOKUP(F22,ages!B$1:B$23,1,1)),\"\",VLOOKUP(F22,ages!B$1:B$23,1,1))","v":""},{"$f":"IF(ISERROR(VLOOKUP(F22,ages!B$1:D$23,3,1)),\"\",VLOOKUP(F22,ages!B$1:D$23,3,1))","v":""},0,0,0,0,0]
[null,null,null,null,null,"",null,null,null,null,null,null,"","","","","","","","","","",{"$f":"IF(ISNUMBER(F23),IF(AL23<0.85,\"\",VLOOKUP(M23,A!A$2:X$23,VLOOKUP(F23,ages!B$1:C$23,2,1),1)),\"\")","v":""},{"$f":"IF(ISNUMBER(F23),IF(AM23<0.85,\"\",VLOOKUP(N23,B!A$2:X$23,VLOOKUP(F23,ages!B$1:C$23,2,1),1)),\"\")","v":""},{"$f":"IF(ISNUMBER(F23),IF(AN23<0.85,\"\",VLOOKUP(O23,'C'!A$2:X$23,VLOOKUP(F23,ages!B$1:C$23,2,1),1)),\"\")","v":""},{"$f":"IF(ISNUMBER(F23),IF(AO23<0.85,\"\",VLOOKUP(P23,D!A$2:X$23,VLOOKUP(F23,ages!B$1:C$23,2,1),1)),\"\")","v":""},{"$f":"IF(ISNUMBER(F23),IF(AP23<0.85,\"\",VLOOKUP(Q23,E!A$2:X$23,VLOOKUP(F23,ages!B$1:C$23,2,1),1)),\"\")","v":""},{"$f":"IF(ISNUMBER(F23),IF(AQ23<0.85,\"\",VLOOKUP(R23,F!A$2:X$23,VLOOKUP(F23,ages!B$1:C$23,2,1),1)),\"\")","v":""},{"$f":"IF(ISNUMBER(F23),IF(AR23<0.85,\"\",VLOOKUP(S23,G!A$2:X$23,VLOOKUP(F23,ages!B$1:C$23,2,1),1)),\"\")","v":""},{"$f":"IF(ISNUMBER(F23),IF(AS23<0.85,\"\",VLOOKUP(T23,H!A$2:X$23,VLOOKUP(F23,ages!B$1:C$23,2,1),1)),\"\")","v":""},{"$f":"IF(ISNUMBER(F23),IF(AT23<0.85,\"\",VLOOKUP(U23,I!A$2:X$23,VLOOKUP(F23,ages!B$1:C$23,2,1),1)),\"\")","v":""},{"$f":"IF(ISNUMBER(F23),IF(AU23<0.85,\"\",VLOOKUP(V23,J!A$2:X$23,VLOOKUP(F23,ages!B$1:C$23,2,1),1)),\"\")","v":""},"","","","",-1.0000000000000002E-6,0,0,0,0,0,0,0,0,0,0,0,null,null,null,null,null,null,null,null,null,null,null,null,null,null,null,null,null,null,null,null,null,null,null,null,null,null,null,null,null,null,null,null,null,null,null,null,null,null,null,null,null,null,null,null,null,null,null,null,null,null,null,null,null,null,null,null,null,null,null,null,null,null,null,null,null,null,null,null,null,null,-9.9999999999999995E-7,-9.9999999999999995E-7,-9.9999999999999995E-7,-9.9999999999999995E-7,-9.9999999999999995E-7,-9.9999999999999995E-7,-9.9999999999999995E-7,-9.9999999999999995E-7,-9.9999999999999995E-7,-9.9999999999999995E-7,-9.9999999999999995E-7,-9.9999999999999995E-7,-9.9999999999999995E-7,-9.9999999999999995E-7,-9.9999999999999995E-7,-9.9999999999999995E-7,-9.9999999999999995E-7,-9.9999999999999995E-7,-9.9999999999999995E-7,-9.9999999999999995E-7,{"$f":"IF(ISERROR(VLOOKUP(F23,ages!B$1:B$23,1,1)),\"\",VLOOKUP(F23,ages!B$1:B$23,1,1))","v":""},{"$f":"IF(ISERROR(VLOOKUP(F23,ages!B$1:D$23,3,1)),\"\",VLOOKUP(F23,ages!B$1:D$23,3,1))","v":""},0,0,0,0,0]
[null,null,null,null,null,"",null,null,null,null,null,null,"","","","","","","","","","",{"$f":"IF(ISNUMBER(F24),IF(AL24<0.85,\"\",VLOOKUP(M24,A!A$2:X$23,VLOOKUP(F24,ages!B$1:C$23,2,1),1)),\"\")","v":""},{"$f":"IF(ISNUMBER(F24),IF(AM24<0.85,\"\",VLOOKUP(N24,B!A$2:X$23,VLOOKUP(F24,ages!B$1:C$23,2,1),1)),\"\")","v":""},{"$f":"IF(ISNUMBER(F24),IF(AN24<0.85,\"\",VLOOKUP(O24,'C'!A$2:X$23,VLOOKUP(F24,ages!B$1:C$23,2,1),1)),\"\")","v":""},{"$f":"IF(ISNUMBER(F24),IF(AO24<0.85,\"\",VLOOKUP(P24,D!A$2:X$23,VLOOKUP(F24,ages!B$1:C$23,2,1),1)),\"\")","v":""},{"$f":"IF(ISNUMBER(F24),IF(AP24<0.85,\"\",VLOOKUP(Q24,E!A$2:X$23,VLOOKUP(F24,ages!B$1:C$23,2,1),1)),\"\")","v":""},{"$f":"IF(ISNUMBER(F24),IF(AQ24<0.85,\"\",VLOOKUP(R24,F!A$2:X$23,VLOOKUP(F24,ages!B$1:C$23,2,1),1)),\"\")","v":""},{"$f":"IF(ISNUMBER(F24),IF(AR24<0.85,\"\",VLOOKUP(S24,G!A$2:X$23,VLOOKUP(F24,ages!B$1:C$23,2,1),1)),\"\")","v":""},{"$f":"IF(ISNUMBER(F24),IF(AS24<0.85,\"\",VLOOKUP(T24,H!A$2:X$23,VLOOKUP(F24,ages!B$1:C$23,2,1),1)),\"\")","v":""},{"$f":"IF(ISNUMBER(F24),IF(AT24<0.85,\"\",VLOOKUP(U24,I!A$2:X$23,VLOOKUP(F24,ages!B$1:C$23,2,1),1)),\"\")","v":""},{"$f":"IF(ISNUMBER(F24),IF(AU24<0.85,\"\",VLOOKUP(V24,J!A$2:X$23,VLOOKUP(F24,ages!B$1:C$23,2,1),1)),\"\")","v":""},"","","","",-1.0000000000000002E-6,0,0,0,0,0,0,0,0,0,0,0,null,null,null,null,null,null,null,null,null,null,null,null,null,null,null,null,null,null,null,null,null,null,null,null,null,null,null,null,null,null,null,null,null,null,null,null,null,null,null,null,null,null,null,null,null,null,null,null,null,null,null,null,null,null,null,null,null,null,null,null,null,null,null,null,null,null,null,null,null,null,-9.9999999999999995E-7,-9.9999999999999995E-7,-9.9999999999999995E-7,-9.9999999999999995E-7,-9.9999999999999995E-7,-9.9999999999999995E-7,-9.9999999999999995E-7,-9.9999999999999995E-7,-9.9999999999999995E-7,-9.9999999999999995E-7,-9.9999999999999995E-7,-9.9999999999999995E-7,-9.9999999999999995E-7,-9.9999999999999995E-7,-9.9999999999999995E-7,-9.9999999999999995E-7,-9.9999999999999995E-7,-9.9999999999999995E-7,-9.9999999999999995E-7,-9.9999999999999995E-7,{"$f":"IF(ISERROR(VLOOKUP(F24,ages!B$1:B$23,1,1)),\"\",VLOOKUP(F24,ages!B$1:B$23,1,1))","v":""},{"$f":"IF(ISERROR(VLOOKUP(F24,ages!B$1:D$23,3,1)),\"\",VLOOKUP(F24,ages!B$1:D$23,3,1))","v":""},0,0,0,0,0]
[null,null,null,null,null,"",null,null,null,null,null,null,"","","","","","","","","","",{"$f":"IF(ISNUMBER(F25),IF(AL25<0.85,\"\",VLOOKUP(M25,A!A$2:X$23,VLOOKUP(F25,ages!B$1:C$23,2,1),1)),\"\")","v":""},{"$f":"IF(ISNUMBER(F25),IF(AM25<0.85,\"\",VLOOKUP(N25,B!A$2:X$23,VLOOKUP(F25,ages!B$1:C$23,2,1),1)),\"\")","v":""},{"$f":"IF(ISNUMBER(F25),IF(AN25<0.85,\"\",VLOOKUP(O25,'C'!A$2:X$23,VLOOKUP(F25,ages!B$1:C$23,2,1),1)),\"\")","v":""},{"$f":"IF(ISNUMBER(F25),IF(AO25<0.85,\"\",VLOOKUP(P25,D!A$2:X$23,VLOOKUP(F25,ages!B$1:C$23,2,1),1)),\"\")","v":""},{"$f":"IF(ISNUMBER(F25),IF(AP25<0.85,\"\",VLOOKUP(Q25,E!A$2:X$23,VLOOKUP(F25,ages!B$1:C$23,2,1),1)),\"\")","v":""},{"$f":"IF(ISNUMBER(F25),IF(AQ25<0.85,\"\",VLOOKUP(R25,F!A$2:X$23,VLOOKUP(F25,ages!B$1:C$23,2,1),1)),\"\")","v":""},{"$f":"IF(ISNUMBER(F25),IF(AR25<0.85,\"\",VLOOKUP(S25,G!A$2:X$23,VLOOKUP(F25,ages!B$1:C$23,2,1),1)),\"\")","v":""},{"$f":"IF(ISNUMBER(F25),IF(AS25<0.85,\"\",VLOOKUP(T25,H!A$2:X$23,VLOOKUP(F25,ages!B$1:C$23,2,1),1)),\"\")","v":""},{"$f":"IF(ISNUMBER(F25),IF(AT25<0.85,\"\",VLOOKUP(U25,I!A$2:X$23,VLOOKUP(F25,ages!B$1:C$23,2,1),1)),\"\")","v":""},{"$f":"IF(ISNUMBER(F25),IF(AU25<0.85,\"\",VLOOKUP(V25,J!A$2:X$23,VLOOKUP(F25,ages!B$1:C$23,2,1),1)),\"\")","v":""},"","","","",-1.0000000000000002E-6,0,0,0,0,0,0,0,0,0,0,0,null,null,null,null,null,null,null,null,null,null,null,null,null,null,null,null,null,null,null,null,null,null,null,null,null,null,null,null,null,null,null,null,null,null,null,null,null,null,null,null,null,null,null,null,null,null,null,null,null,null,null,null,null,null,null,null,null,null,null,null,null,null,null,null,null,null,null,null,null,null,-9.9999999999999995E-7,-9.9999999999999995E-7,-9.9999999999999995E-7,-9.9999999999999995E-7,-9.9999999999999995E-7,-9.9999999999999995E-7,-9.9999999999999995E-7,-9.9999999999999995E-7,-9.9999999999999995E-7,-9.9999999999999995E-7,-9.9999999999999995E-7,-9.9999999999999995E-7,-9.9999999999999995E-7,-9.9999999999999995E-7,-9.9999999999999995E-7,-9.9999999999999995E-7,-9.9999999999999995E-7,-9.9999999999999995E-7,-9.9999999999999995E-7,-9.9999999999999995E-7,{"$f":"IF(ISERROR(VLOOKUP(F25,ages!B$1:B$23,1,1)),\"\",VLOOKUP(F25,ages!B$1:B$23,1,1))","v":""},{"$f":"IF(ISERROR(VLOOKUP(F25,ages!B$1:D$23,3,1)),\"\",VLOOKUP(F25,ages!B$1:D$23,3,1))","v":""},0,0,0,0,0]
[null,null,null,null,null,"",null,null,null,null,null,null,"","","","","","","","","","",{"$f":"IF(ISNUMBER(F26),IF(AL26<0.85,\"\",VLOOKUP(M26,A!A$2:X$23,VLOOKUP(F26,ages!B$1:C$23,2,1),1)),\"\")","v":""},{"$f":"IF(ISNUMBER(F26),IF(AM26<0.85,\"\",VLOOKUP(N26,B!A$2:X$23,VLOOKUP(F26,ages!B$1:C$23,2,1),1)),\"\")","v":""},{"$f":"IF(ISNUMBER(F26),IF(AN26<0.85,\"\",VLOOKUP(O26,'C'!A$2:X$23,VLOOKUP(F26,ages!B$1:C$23,2,1),1)),\"\")","v":""},{"$f":"IF(ISNUMBER(F26),IF(AO26<0.85,\"\",VLOOKUP(P26,D!A$2:X$23,VLOOKUP(F26,ages!B$1:C$23,2,1),1)),\"\")","v":""},{"$f":"IF(ISNUMBER(F26),IF(AP26<0.85,\"\",VLOOKUP(Q26,E!A$2:X$23,VLOOKUP(F26,ages!B$1:C$23,2,1),1)),\"\")","v":""},{"$f":"IF(ISNUMBER(F26),IF(AQ26<0.85,\"\",VLOOKUP(R26,F!A$2:X$23,VLOOKUP(F26,ages!B$1:C$23,2,1),1)),\"\")","v":""},{"$f":"IF(ISNUMBER(F26),IF(AR26<0.85,\"\",VLOOKUP(S26,G!A$2:X$23,VLOOKUP(F26,ages!B$1:C$23,2,1),1)),\"\")","v":""},{"$f":"IF(ISNUMBER(F26),IF(AS26<0.85,\"\",VLOOKUP(T26,H!A$2:X$23,VLOOKUP(F26,ages!B$1:C$23,2,1),1)),\"\")","v":""},{"$f":"IF(ISNUMBER(F26),IF(AT26<0.85,\"\",VLOOKUP(U26,I!A$2:X$23,VLOOKUP(F26,ages!B$1:C$23,2,1),1)),\"\")","v":""},{"$f":"IF(ISNUMBER(F26),IF(AU26<0.85,\"\",VLOOKUP(V26,J!A$2:X$23,VLOOKUP(F26,ages!B$1:C$23,2,1),1)),\"\")","v":""},"","","","",-1.0000000000000002E-6,0,0,0,0,0,0,0,0,0,0,0,null,null,null,null,null,null,null,null,null,null,null,null,null,null,null,null,null,null,null,null,null,null,null,null,null,null,null,null,null,null,null,null,null,null,null,null,null,null,null,null,null,null,null,null,null,null,null,null,null,null,null,null,null,null,null,null,null,null,null,null,null,null,null,null,null,null,null,null,null,null,-9.9999999999999995E-7,-9.9999999999999995E-7,-9.9999999999999995E-7,-9.9999999999999995E-7,-9.9999999999999995E-7,-9.9999999999999995E-7,-9.9999999999999995E-7,-9.9999999999999995E-7,-9.9999999999999995E-7,-9.9999999999999995E-7,-9.9999999999999995E-7,-9.9999999999999995E-7,-9.9999999999999995E-7,-9.9999999999999995E-7,-9.9999999999999995E-7,-9.9999999999999995E-7,-9.9999999999999995E-7,-9.9999999999999995E-7,-9.9999999999999995E-7,-9.9999999999999995E-7,{"$f":"IF(ISERROR(VLOOKUP(F26,ages!B$1:B$23,1,1)),\"\",VLOOKUP(F26,ages!B$1:B$23,1,1))","v":""},{"$f":"IF(ISERROR(VLOOKUP(F26,ages!B$1:D$23,3,1)),\"\",VLOOKUP(F26,ages!B$1:D$23,3,1))","v":""},0,0,0,0,0]
[null,null,null,null,null,"",null,null,null,null,null,null,"","","","","","","","","","",{"$f":"IF(ISNUMBER(F27),IF(AL27<0.85,\"\",VLOOKUP(M27,A!A$2:X$23,VLOOKUP(F27,ages!B$1:C$23,2,1),1)),\"\")","v":""},{"$f":"IF(ISNUMBER(F27),IF(AM27<0.85,\"\",VLOOKUP(N27,B!A$2:X$23,VLOOKUP(F27,ages!B$1:C$23,2,1),1)),\"\")","v":""},{"$f":"IF(ISNUMBER(F27),IF(AN27<0.85,\"\",VLOOKUP(O27,'C'!A$2:X$23,VLOOKUP(F27,ages!B$1:C$23,2,1),1)),\"\")","v":""},{"$f":"IF(ISNUMBER(F27),IF(AO27<0.85,\"\",VLOOKUP(P27,D!A$2:X$23,VLOOKUP(F27,ages!B$1:C$23,2,1),1)),\"\")","v":""},{"$f":"IF(ISNUMBER(F27),IF(AP27<0.85,\"\",VLOOKUP(Q27,E!A$2:X$23,VLOOKUP(F27,ages!B$1:C$23,2,1),1)),\"\")","v":""},{"$f":"IF(ISNUMBER(F27),IF(AQ27<0.85,\"\",VLOOKUP(R27,F!A$2:X$23,VLOOKUP(F27,ages!B$1:C$23,2,1),1)),\"\")","v":""},{"$f":"IF(ISNUMBER(F27),IF(AR27<0.85,\"\",VLOOKUP(S27,G!A$2:X$23,VLOOKUP(F27,ages!B$1:C$23,2,1),1)),\"\")","v":""},{"$f":"IF(ISNUMBER(F27),IF(AS27<0.85,\"\",VLOOKUP(T27,H!A$2:X$23,VLOOKUP(F27,ages!B$1:C$23,2,1),1)),\"\")","v":""},{"$f":"IF(ISNUMBER(F27),IF(AT27<0.85,\"\",VLOOKUP(U27,I!A$2:X$23,VLOOKUP(F27,ages!B$1:C$23,2,1),1)),\"\")","v":""},{"$f":"IF(ISNUMBER(F27),IF(AU27<0.85,\"\",VLOOKUP(V27,J!A$2:X$23,VLOOKUP(F27,ages!B$1:C$23,2,1),1)),\"\")","v":""},"","","","",-1.0000000000000002E-6,0,0,0,0,0,0,0,0,0,0,0,null,null,null,null,null,null,null,null,null,null,null,null,null,null,null,null,null,null,null,null,null,null,null,null,null,null,null,null,null,null,null,null,null,null,null,null,null,null,null,null,null,null,null,null,null,null,null,null,null,null,null,null,null,null,null,null,null,null,null,null,null,null,null,null,null,null,null,null,null,null,-9.9999999999999995E-7,-9.9999999999999995E-7,-9.9999999999999995E-7,-9.9999999999999995E-7,-9.9999999999999995E-7,-9.9999999999999995E-7,-9.9999999999999995E-7,-9.9999999999999995E-7,-9.9999999999999995E-7,-9.9999999999999995E-7,-9.9999999999999995E-7,-9.9999999999999995E-7,-9.9999999999999995E-7,-9.9999999999999995E-7,-9.9999999999999995E-7,-9.9999999999999995E-7,-9.9999999999999995E-7,-9.9999999999999995E-7,-9.9999999999999995E-7,-9.9999999999999995E-7,{"$f":"IF(ISERROR(VLOOKUP(F27,ages!B$1:B$23,1,1)),\"\",VLOOKUP(F27,ages!B$1:B$23,1,1))","v":""},{"$f":"IF(ISERROR(VLOOKUP(F27,ages!B$1:D$23,3,1)),\"\",VLOOKUP(F27,ages!B$1:D$23,3,1))","v":""},0,0,0,0,0]
[null,null,null,null,null,"",null,null,null,null,null,null,"","","","","","","","","","",{"$f":"IF(ISNUMBER(F28),IF(AL28<0.85,\"\",VLOOKUP(M28,A!A$2:X$23,VLOOKUP(F28,ages!B$1:C$23,2,1),1)),\"\")","v":""},{"$f":"IF(ISNUMBER(F28),IF(AM28<0.85,\"\",VLOOKUP(N28,B!A$2:X$23,VLOOKUP(F28,ages!B$1:C$23,2,1),1)),\"\")","v":""},{"$f":"IF(ISNUMBER(F28),IF(AN28<0.85,\"\",VLOOKUP(O28,'C'!A$2:X$23,VLOOKUP(F28,ages!B$1:C$23,2,1),1)),\"\")","v":""},{"$f":"IF(ISNUMBER(F28),IF(AO28<0.85,\"\",VLOOKUP(P28,D!A$2:X$23,VLOOKUP(F28,ages!B$1:C$23,2,1),1)),\"\")","v":""},{"$f":"IF(ISNUMBER(F28),IF(AP28<0.85,\"\",VLOOKUP(Q28,E!A$2:X$23,VLOOKUP(F28,ages!B$1:C$23,2,1),1)),\"\")","v":""},{"$f":"IF(ISNUMBER(F28),IF(AQ28<0.85,\"\",VLOOKUP(R28,F!A$2:X$23,VLOOKUP(F28,ages!B$1:C$23,2,1),1)),\"\")","v":""},{"$f":"IF(ISNUMBER(F28),IF(AR28<0.85,\"\",VLOOKUP(S28,G!A$2:X$23,VLOOKUP(F28,ages!B$1:C$23,2,1),1)),\"\")","v":""},{"$f":"IF(ISNUMBER(F28),IF(AS28<0.85,\"\",VLOOKUP(T28,H!A$2:X$23,VLOOKUP(F28,ages!B$1:C$23,2,1),1)),\"\")","v":""},{"$f":"IF(ISNUMBER(F28),IF(AT28<0.85,\"\",VLOOKUP(U28,I!A$2:X$23,VLOOKUP(F28,ages!B$1:C$23,2,1),1)),\"\")","v":""},{"$f":"IF(ISNUMBER(F28),IF(AU28<0.85,\"\",VLOOKUP(V28,J!A$2:X$23,VLOOKUP(F28,ages!B$1:C$23,2,1),1)),\"\")","v":""},"","","","",-1.0000000000000002E-6,0,0,0,0,0,0,0,0,0,0,0,null,null,null,null,null,null,null,null,null,null,null,null,null,null,null,null,null,null,null,null,null,null,null,null,null,null,null,null,null,null,null,null,null,null,null,null,null,null,null,null,null,null,null,null,null,null,null,null,null,null,null,null,null,null,null,null,null,null,null,null,null,null,null,null,null,null,null,null,null,null,-9.9999999999999995E-7,-9.9999999999999995E-7,-9.9999999999999995E-7,-9.9999999999999995E-7,-9.9999999999999995E-7,-9.9999999999999995E-7,-9.9999999999999995E-7,-9.9999999999999995E-7,-9.9999999999999995E-7,-9.9999999999999995E-7,-9.9999999999999995E-7,-9.9999999999999995E-7,-9.9999999999999995E-7,-9.9999999999999995E-7,-9.9999999999999995E-7,-9.9999999999999995E-7,-9.9999999999999995E-7,-9.9999999999999995E-7,-9.9999999999999995E-7,-9.9999999999999995E-7,{"$f":"IF(ISERROR(VLOOKUP(F28,ages!B$1:B$23,1,1)),\"\",VLOOKUP(F28,ages!B$1:B$23,1,1))","v":""},{"$f":"IF(ISERROR(VLOOKUP(F28,ages!B$1:D$23,3,1)),\"\",VLOOKUP(F28,ages!B$1:D$23,3,1))","v":""},0,0,0,0,0]
[null,null,null,null,null,"",null,null,null,null,null,null,"","","","","","","","","","",{"$f":"IF(ISNUMBER(F29),IF(AL29<0.85,\"\",VLOOKUP(M29,A!A$2:X$23,VLOOKUP(F29,ages!B$1:C$23,2,1),1)),\"\")","v":""},{"$f":"IF(ISNUMBER(F29),IF(AM29<0.85,\"\",VLOOKUP(N29,B!A$2:X$23,VLOOKUP(F29,ages!B$1:C$23,2,1),1)),\"\")","v":""},{"$f":"IF(ISNUMBER(F29),IF(AN29<0.85,\"\",VLOOKUP(O29,'C'!A$2:X$23,VLOOKUP(F29,ages!B$1:C$23,2,1),1)),\"\")","v":""},{"$f":"IF(ISNUMBER(F29),IF(AO29<0.85,\"\",VLOOKUP(P29,D!A$2:X$23,VLOOKUP(F29,ages!B$1:C$23,2,1),1)),\"\")","v":""},{"$f":"IF(ISNUMBER(F29),IF(AP29<0.85,\"\",VLOOKUP(Q29,E!A$2:X$23,VLOOKUP(F29,ages!B$1:C$23,2,1),1)),\"\")","v":""},{"$f":"IF(ISNUMBER(F29),IF(AQ29<0.85,\"\",VLOOKUP(R29,F!A$2:X$23,VLOOKUP(F29,ages!B$1:C$23,2,1),1)),\"\")","v":""},{"$f":"IF(ISNUMBER(F29),IF(AR29<0.85,\"\",VLOOKUP(S29,G!A$2:X$23,VLOOKUP(F29,ages!B$1:C$23,2,1),1)),\"\")","v":""},{"$f":"IF(ISNUMBER(F29),IF(AS29<0.85,\"\",VLOOKUP(T29,H!A$2:X$23,VLOOKUP(F29,ages!B$1:C$23,2,1),1)),\"\")","v":""},{"$f":"IF(ISNUMBER(F29),IF(AT29<0.85,\"\",VLOOKUP(U29,I!A$2:X$23,VLOOKUP(F29,ages!B$1:C$23,2,1),1)),\"\")","v":""},{"$f":"IF(ISNUMBER(F29),IF(AU29<0.85,\"\",VLOOKUP(V29,J!A$2:X$23,VLOOKUP(F29,ages!B$1:C$23,2,1),1)),\"\")","v":""},"","","","",-1.0000000000000002E-6,0,0,0,0,0,0,0,0,0,0,0,null,null,null,null,null,null,null,null,null,null,null,null,null,null,null,null,null,null,null,null,null,null,null,null,null,null,null,null,null,null,null,null,null,null,null,null,null,null,null,null,null,null,null,null,null,null,null,null,null,null,null,null,null,null,null,null,null,null,null,null,null,null,null,null,null,null,null,null,null,null,-9.9999999999999995E-7,-9.9999999999999995E-7,-9.9999999999999995E-7,-9.9999999999999995E-7,-9.9999999999999995E-7,-9.9999999999999995E-7,-9.9999999999999995E-7,-9.9999999999999995E-7,-9.9999999999999995E-7,-9.9999999999999995E-7,-9.9999999999999995E-7,-9.9999999999999995E-7,-9.9999999999999995E-7,-9.9999999999999995E-7,-9.9999999999999995E-7,-9.9999999999999995E-7,-9.9999999999999995E-7,-9.9999999999999995E-7,-9.9999999999999995E-7,-9.9999999999999995E-7,{"$f":"IF(ISERROR(VLOOKUP(F29,ages!B$1:B$23,1,1)),\"\",VLOOKUP(F29,ages!B$1:B$23,1,1))","v":""},{"$f":"IF(ISERROR(VLOOKUP(F29,ages!B$1:D$23,3,1)),\"\",VLOOKUP(F29,ages!B$1:D$23,3,1))","v":""},0,0,0,0,0]
[null,null,null,null,null,"",null,null,null,null,null,null,"","","","","","","","","","",{"$f":"IF(ISNUMBER(F30),IF(AL30<0.85,\"\",VLOOKUP(M30,A!A$2:X$23,VLOOKUP(F30,ages!B$1:C$23,2,1),1)),\"\")","v":""},{"$f":"IF(ISNUMBER(F30),IF(AM30<0.85,\"\",VLOOKUP(N30,B!A$2:X$23,VLOOKUP(F30,ages!B$1:C$23,2,1),1)),\"\")","v":""},{"$f":"IF(ISNUMBER(F30),IF(AN30<0.85,\"\",VLOOKUP(O30,'C'!A$2:X$23,VLOOKUP(F30,ages!B$1:C$23,2,1),1)),\"\")","v":""},{"$f":"IF(ISNUMBER(F30),IF(AO30<0.85,\"\",VLOOKUP(P30,D!A$2:X$23,VLOOKUP(F30,ages!B$1:C$23,2,1),1)),\"\")","v":""},{"$f":"IF(ISNUMBER(F30),IF(AP30<0.85,\"\",VLOOKUP(Q30,E!A$2:X$23,VLOOKUP(F30,ages!B$1:C$23,2,1),1)),\"\")","v":""},{"$f":"IF(ISNUMBER(F30),IF(AQ30<0.85,\"\",VLOOKUP(R30,F!A$2:X$23,VLOOKUP(F30,ages!B$1:C$23,2,1),1)),\"\")","v":""},{"$f":"IF(ISNUMBER(F30),IF(AR30<0.85,\"\",VLOOKUP(S30,G!A$2:X$23,VLOOKUP(F30,ages!B$1:C$23,2,1),1)),\"\")","v":""},{"$f":"IF(ISNUMBER(F30),IF(AS30<0.85,\"\",VLOOKUP(T30,H!A$2:X$23,VLOOKUP(F30,ages!B$1:C$23,2,1),1)),\"\")","v":""},{"$f":"IF(ISNUMBER(F30),IF(AT30<0.85,\"\",VLOOKUP(U30,I!A$2:X$23,VLOOKUP(F30,ages!B$1:C$23,2,1),1)),\"\")","v":""},{"$f":"IF(ISNUMBER(F30),IF(AU30<0.85,\"\",VLOOKUP(V30,J!A$2:X$23,VLOOKUP(F30,ages!B$1:C$23,2,1),1)),\"\")","v":""},"","","","",-1.0000000000000002E-6,0,0,0,0,0,0,0,0,0,0,0,null,null,null,null,null,null,null,null,null,null,null,null,null,null,null,null,null,null,null,null,null,null,null,null,null,null,null,null,null,null,null,null,null,null,null,null,null,null,null,null,null,null,null,null,null,null,null,null,null,null,null,null,null,null,null,null,null,null,null,null,null,null,null,null,null,null,null,null,null,null,-9.9999999999999995E-7,-9.9999999999999995E-7,-9.9999999999999995E-7,-9.9999999999999995E-7,-9.9999999999999995E-7,-9.9999999999999995E-7,-9.9999999999999995E-7,-9.9999999999999995E-7,-9.9999999999999995E-7,-9.9999999999999995E-7,-9.9999999999999995E-7,-9.9999999999999995E-7,-9.9999999999999995E-7,-9.9999999999999995E-7,-9.9999999999999995E-7,-9.9999999999999995E-7,-9.9999999999999995E-7,-9.9999999999999995E-7,-9.9999999999999995E-7,-9.9999999999999995E-7,{"$f":"IF(ISERROR(VLOOKUP(F30,ages!B$1:B$23,1,1)),\"\",VLOOKUP(F30,ages!B$1:B$23,1,1))","v":""},{"$f":"IF(ISERROR(VLOOKUP(F30,ages!B$1:D$23,3,1)),\"\",VLOOKUP(F30,ages!B$1:D$23,3,1))","v":""},0,0,0,0,0]
[null,null,null,null,null,"",null,null,null,null,null,null,"","","","","","","","","","",{"$f":"IF(ISNUMBER(F31),IF(AL31<0.85,\"\",VLOOKUP(M31,A!A$2:X$23,VLOOKUP(F31,ages!B$1:C$23,2,1),1)),\"\")","v":""},{"$f":"IF(ISNUMBER(F31),IF(AM31<0.85,\"\",VLOOKUP(N31,B!A$2:X$23,VLOOKUP(F31,ages!B$1:C$23,2,1),1)),\"\")","v":""},{"$f":"IF(ISNUMBER(F31),IF(AN31<0.85,\"\",VLOOKUP(O31,'C'!A$2:X$23,VLOOKUP(F31,ages!B$1:C$23,2,1),1)),\"\")","v":""},{"$f":"IF(ISNUMBER(F31),IF(AO31<0.85,\"\",VLOOKUP(P31,D!A$2:X$23,VLOOKUP(F31,ages!B$1:C$23,2,1),1)),\"\")","v":""},{"$f":"IF(ISNUMBER(F31),IF(AP31<0.85,\"\",VLOOKUP(Q31,E!A$2:X$23,VLOOKUP(F31,ages!B$1:C$23,2,1),1)),\"\")","v":""},{"$f":"IF(ISNUMBER(F31),IF(AQ31<0.85,\"\",VLOOKUP(R31,F!A$2:X$23,VLOOKUP(F31,ages!B$1:C$23,2,1),1)),\"\")","v":""},{"$f":"IF(ISNUMBER(F31),IF(AR31<0.85,\"\",VLOOKUP(S31,G!A$2:X$23,VLOOKUP(F31,ages!B$1:C$23,2,1),1)),\"\")","v":""},{"$f":"IF(ISNUMBER(F31),IF(AS31<0.85,\"\",VLOOKUP(T31,H!A$2:X$23,VLOOKUP(F31,ages!B$1:C$23,2,1),1)),\"\")","v":""},{"$f":"IF(ISNUMBER(F31),IF(AT31<0.85,\"\",VLOOKUP(U31,I!A$2:X$23,VLOOKUP(F31,ages!B$1:C$23,2,1),1)),\"\")","v":""},{"$f":"IF(ISNUMBER(F31),IF(AU31<0.85,\"\",VLOOKUP(V31,J!A$2:X$23,VLOOKUP(F31,ages!B$1:C$23,2,1),1)),\"\")","v":""},"","","","",-1.0000000000000002E-6,0,0,0,0,0,0,0,0,0,0,0,null,null,null,null,null,null,null,null,null,null,null,null,null,null,null,null,null,null,null,null,null,null,null,null,null,null,null,null,null,null,null,null,null,null,null,null,null,null,null,null,null,null,null,null,null,null,null,null,null,null,null,null,null,null,null,null,null,null,null,null,null,null,null,null,null,null,null,null,null,null,-9.9999999999999995E-7,-9.9999999999999995E-7,-9.9999999999999995E-7,-9.9999999999999995E-7,-9.9999999999999995E-7,-9.9999999999999995E-7,-9.9999999999999995E-7,-9.9999999999999995E-7,-9.9999999999999995E-7,-9.9999999999999995E-7,-9.9999999999999995E-7,-9.9999999999999995E-7,-9.9999999999999995E-7,-9.9999999999999995E-7,-9.9999999999999995E-7,-9.9999999999999995E-7,-9.9999999999999995E-7,-9.9999999999999995E-7,-9.9999999999999995E-7,-9.9999999999999995E-7,{"$f":"IF(ISERROR(VLOOKUP(F31,ages!B$1:B$23,1,1)),\"\",VLOOKUP(F31,ages!B$1:B$23,1,1))","v":""},{"$f":"IF(ISERROR(VLOOKUP(F31,ages!B$1:D$23,3,1)),\"\",VLOOKUP(F31,ages!B$1:D$23,3,1))","v":""},0,0,0,0,0]
[null,null,null,null,null,"",null,null,null,null,null,null,"","","","","","","","","","",{"$f":"IF(ISNUMBER(F32),IF(AL32<0.85,\"\",VLOOKUP(M32,A!A$2:X$23,VLOOKUP(F32,ages!B$1:C$23,2,1),1)),\"\")","v":""},{"$f":"IF(ISNUMBER(F32),IF(AM32<0.85,\"\",VLOOKUP(N32,B!A$2:X$23,VLOOKUP(F32,ages!B$1:C$23,2,1),1)),\"\")","v":""},{"$f":"IF(ISNUMBER(F32),IF(AN32<0.85,\"\",VLOOKUP(O32,'C'!A$2:X$23,VLOOKUP(F32,ages!B$1:C$23,2,1),1)),\"\")","v":""},{"$f":"IF(ISNUMBER(F32),IF(AO32<0.85,\"\",VLOOKUP(P32,D!A$2:X$23,VLOOKUP(F32,ages!B$1:C$23,2,1),1)),\"\")","v":""},{"$f":"IF(ISNUMBER(F32),IF(AP32<0.85,\"\",VLOOKUP(Q32,E!A$2:X$23,VLOOKUP(F32,ages!B$1:C$23,2,1),1)),\"\")","v":""},{"$f":"IF(ISNUMBER(F32),IF(AQ32<0.85,\"\",VLOOKUP(R32,F!A$2:X$23,VLOOKUP(F32,ages!B$1:C$23,2,1),1)),\"\")","v":""},{"$f":"IF(ISNUMBER(F32),IF(AR32<0.85,\"\",VLOOKUP(S32,G!A$2:X$23,VLOOKUP(F32,ages!B$1:C$23,2,1),1)),\"\")","v":""},{"$f":"IF(ISNUMBER(F32),IF(AS32<0.85,\"\",VLOOKUP(T32,H!A$2:X$23,VLOOKUP(F32,ages!B$1:C$23,2,1),1)),\"\")","v":""},{"$f":"IF(ISNUMBER(F32),IF(AT32<0.85,\"\",VLOOKUP(U32,I!A$2:X$23,VLOOKUP(F32,ages!B$1:C$23,2,1),1)),\"\")","v":""},{"$f":"IF(ISNUMBER(F32),IF(AU32<0.85,\"\",VLOOKUP(V32,J!A$2:X$23,VLOOKUP(F32,ages!B$1:C$23,2,1),1)),\"\")","v":""},"","","","",-1.0000000000000002E-6,0,0,0,0,0,0,0,0,0,0,0,null,null,null,null,null,null,null,null,null,null,null,null,null,null,null,null,null,null,null,null,null,null,null,null,null,null,null,null,null,null,null,null,null,null,null,null,null,null,null,null,null,null,null,null,null,null,null,null,null,null,null,null,null,null,null,null,null,null,null,null,null,null,null,null,null,null,null,null,null,null,-9.9999999999999995E-7,-9.9999999999999995E-7,-9.9999999999999995E-7,-9.9999999999999995E-7,-9.9999999999999995E-7,-9.9999999999999995E-7,-9.9999999999999995E-7,-9.9999999999999995E-7,-9.9999999999999995E-7,-9.9999999999999995E-7,-9.9999999999999995E-7,-9.9999999999999995E-7,-9.9999999999999995E-7,-9.9999999999999995E-7,-9.9999999999999995E-7,-9.9999999999999995E-7,-9.9999999999999995E-7,-9.9999999999999995E-7,-9.9999999999999995E-7,-9.9999999999999995E-7,{"$f":"IF(ISERROR(VLOOKUP(F32,ages!B$1:B$23,1,1)),\"\",VLOOKUP(F32,ages!B$1:B$23,1,1))","v":""},{"$f":"IF(ISERROR(VLOOKUP(F32,ages!B$1:D$23,3,1)),\"\",VLOOKUP(F32,ages!B$1:D$23,3,1))","v":""},0,0,0,0,0]
[null,null,null,null,null,"",null,null,null,null,null,null,"","","","","","","","","","",{"$f":"IF(ISNUMBER(F33),IF(AL33<0.85,\"\",VLOOKUP(M33,A!A$2:X$23,VLOOKUP(F33,ages!B$1:C$23,2,1),1)),\"\")","v":""},{"$f":"IF(ISNUMBER(F33),IF(AM33<0.85,\"\",VLOOKUP(N33,B!A$2:X$23,VLOOKUP(F33,ages!B$1:C$23,2,1),1)),\"\")","v":""},{"$f":"IF(ISNUMBER(F33),IF(AN33<0.85,\"\",VLOOKUP(O33,'C'!A$2:X$23,VLOOKUP(F33,ages!B$1:C$23,2,1),1)),\"\")","v":""},{"$f":"IF(ISNUMBER(F33),IF(AO33<0.85,\"\",VLOOKUP(P33,D!A$2:X$23,VLOOKUP(F33,ages!B$1:C$23,2,1),1)),\"\")","v":""},{"$f":"IF(ISNUMBER(F33),IF(AP33<0.85,\"\",VLOOKUP(Q33,E!A$2:X$23,VLOOKUP(F33,ages!B$1:C$23,2,1),1)),\"\")","v":""},{"$f":"IF(ISNUMBER(F33),IF(AQ33<0.85,\"\",VLOOKUP(R33,F!A$2:X$23,VLOOKUP(F33,ages!B$1:C$23,2,1),1)),\"\")","v":""},{"$f":"IF(ISNUMBER(F33),IF(AR33<0.85,\"\",VLOOKUP(S33,G!A$2:X$23,VLOOKUP(F33,ages!B$1:C$23,2,1),1)),\"\")","v":""},{"$f":"IF(ISNUMBER(F33),IF(AS33<0.85,\"\",VLOOKUP(T33,H!A$2:X$23,VLOOKUP(F33,ages!B$1:C$23,2,1),1)),\"\")","v":""},{"$f":"IF(ISNUMBER(F33),IF(AT33<0.85,\"\",VLOOKUP(U33,I!A$2:X$23,VLOOKUP(F33,ages!B$1:C$23,2,1),1)),\"\")","v":""},{"$f":"IF(ISNUMBER(F33),IF(AU33<0.85,\"\",VLOOKUP(V33,J!A$2:X$23,VLOOKUP(F33,ages!B$1:C$23,2,1),1)),\"\")","v":""},"","","","",-1.0000000000000002E-6,0,0,0,0,0,0,0,0,0,0,0,null,null,null,null,null,null,null,null,null,null,null,null,null,null,null,null,null,null,null,null,null,null,null,null,null,null,null,null,null,null,null,null,null,null,null,null,null,null,null,null,null,null,null,null,null,null,null,null,null,null,null,null,null,null,null,null,null,null,null,null,null,null,null,null,null,null,null,null,null,null,-9.9999999999999995E-7,-9.9999999999999995E-7,-9.9999999999999995E-7,-9.9999999999999995E-7,-9.9999999999999995E-7,-9.9999999999999995E-7,-9.9999999999999995E-7,-9.9999999999999995E-7,-9.9999999999999995E-7,-9.9999999999999995E-7,-9.9999999999999995E-7,-9.9999999999999995E-7,-9.9999999999999995E-7,-9.9999999999999995E-7,-9.9999999999999995E-7,-9.9999999999999995E-7,-9.9999999999999995E-7,-9.9999999999999995E-7,-9.9999999999999995E-7,-9.9999999999999995E-7,{"$f":"IF(ISERROR(VLOOKUP(F33,ages!B$1:B$23,1,1)),\"\",VLOOKUP(F33,ages!B$1:B$23,1,1))","v":""},{"$f":"IF(ISERROR(VLOOKUP(F33,ages!B$1:D$23,3,1)),\"\",VLOOKUP(F33,ages!B$1:D$23,3,1))","v":""},0,0,0,0,0]
[null,null,null,null,null,"",null,null,null,null,null,null,"","","","","","","","","","",{"$f":"IF(ISNUMBER(F34),IF(AL34<0.85,\"\",VLOOKUP(M34,A!A$2:X$23,VLOOKUP(F34,ages!B$1:C$23,2,1),1)),\"\")","v":""},{"$f":"IF(ISNUMBER(F34),IF(AM34<0.85,\"\",VLOOKUP(N34,B!A$2:X$23,VLOOKUP(F34,ages!B$1:C$23,2,1),1)),\"\")","v":""},{"$f":"IF(ISNUMBER(F34),IF(AN34<0.85,\"\",VLOOKUP(O34,'C'!A$2:X$23,VLOOKUP(F34,ages!B$1:C$23,2,1),1)),\"\")","v":""},{"$f":"IF(ISNUMBER(F34),IF(AO34<0.85,\"\",VLOOKUP(P34,D!A$2:X$23,VLOOKUP(F34,ages!B$1:C$23,2,1),1)),\"\")","v":""},{"$f":"IF(ISNUMBER(F34),IF(AP34<0.85,\"\",VLOOKUP(Q34,E!A$2:X$23,VLOOKUP(F34,ages!B$1:C$23,2,1),1)),\"\")","v":""},{"$f":"IF(ISNUMBER(F34),IF(AQ34<0.85,\"\",VLOOKUP(R34,F!A$2:X$23,VLOOKUP(F34,ages!B$1:C$23,2,1),1)),\"\")","v":""},{"$f":"IF(ISNUMBER(F34),IF(AR34<0.85,\"\",VLOOKUP(S34,G!A$2:X$23,VLOOKUP(F34,ages!B$1:C$23,2,1),1)),\"\")","v":""},{"$f":"IF(ISNUMBER(F34),IF(AS34<0.85,\"\",VLOOKUP(T34,H!A$2:X$23,VLOOKUP(F34,ages!B$1:C$23,2,1),1)),\"\")","v":""},{"$f":"IF(ISNUMBER(F34),IF(AT34<0.85,\"\",VLOOKUP(U34,I!A$2:X$23,VLOOKUP(F34,ages!B$1:C$23,2,1),1)),\"\")","v":""},{"$f":"IF(ISNUMBER(F34),IF(AU34<0.85,\"\",VLOOKUP(V34,J!A$2:X$23,VLOOKUP(F34,ages!B$1:C$23,2,1),1)),\"\")","v":""},"","","","",-1.0000000000000002E-6,0,0,0,0,0,0,0,0,0,0,0,null,null,null,null,null,null,null,null,null,null,null,null,null,null,null,null,null,null,null,null,null,null,null,null,null,null,null,null,null,null,null,null,null,null,null,null,null,null,null,null,null,null,null,null,null,null,null,null,null,null,null,null,null,null,null,null,null,null,null,null,null,null,null,null,null,null,null,null,null,null,-9.9999999999999995E-7,-9.9999999999999995E-7,-9.9999999999999995E-7,-9.9999999999999995E-7,-9.9999999999999995E-7,-9.9999999999999995E-7,-9.9999999999999995E-7,-9.9999999999999995E-7,-9.9999999999999995E-7,-9.9999999999999995E-7,-9.9999999999999995E-7,-9.9999999999999995E-7,-9.9999999999999995E-7,-9.9999999999999995E-7,-9.9999999999999995E-7,-9.9999999999999995E-7,-9.9999999999999995E-7,-9.9999999999999995E-7,-9.9999999999999995E-7,-9.9999999999999995E-7,{"$f":"IF(ISERROR(VLOOKUP(F34,ages!B$1:B$23,1,1)),\"\",VLOOKUP(F34,ages!B$1:B$23,1,1))","v":""},{"$f":"IF(ISERROR(VLOOKUP(F34,ages!B$1:D$23,3,1)),\"\",VLOOKUP(F34,ages!B$1:D$23,3,1))","v":""},0,0,0,0,0]
[null,null,null,null,null,"",null,null,null,null,null,null,"","","","","","","","","","",{"$f":"IF(ISNUMBER(F35),IF(AL35<0.85,\"\",VLOOKUP(M35,A!A$2:X$23,VLOOKUP(F35,ages!B$1:C$23,2,1),1)),\"\")","v":""},{"$f":"IF(ISNUMBER(F35),IF(AM35<0.85,\"\",VLOOKUP(N35,B!A$2:X$23,VLOOKUP(F35,ages!B$1:C$23,2,1),1)),\"\")","v":""},{"$f":"IF(ISNUMBER(F35),IF(AN35<0.85,\"\",VLOOKUP(O35,'C'!A$2:X$23,VLOOKUP(F35,ages!B$1:C$23,2,1),1)),\"\")","v":""},{"$f":"IF(ISNUMBER(F35),IF(AO35<0.85,\"\",VLOOKUP(P35,D!A$2:X$23,VLOOKUP(F35,ages!B$1:C$23,2,1),1)),\"\")","v":""},{"$f":"IF(ISNUMBER(F35),IF(AP35<0.85,\"\",VLOOKUP(Q35,E!A$2:X$23,VLOOKUP(F35,ages!B$1:C$23,2,1),1)),\"\")","v":""},{"$f":"IF(ISNUMBER(F35),IF(AQ35<0.85,\"\",VLOOKUP(R35,F!A$2:X$23,VLOOKUP(F35,ages!B$1:C$23,2,1),1)),\"\")","v":""},{"$f":"IF(ISNUMBER(F35),IF(AR35<0.85,\"\",VLOOKUP(S35,G!A$2:X$23,VLOOKUP(F35,ages!B$1:C$23,2,1),1)),\"\")","v":""},{"$f":"IF(ISNUMBER(F35),IF(AS35<0.85,\"\",VLOOKUP(T35,H!A$2:X$23,VLOOKUP(F35,ages!B$1:C$23,2,1),1)),\"\")","v":""},{"$f":"IF(ISNUMBER(F35),IF(AT35<0.85,\"\",VLOOKUP(U35,I!A$2:X$23,VLOOKUP(F35,ages!B$1:C$23,2,1),1)),\"\")","v":""},{"$f":"IF(ISNUMBER(F35),IF(AU35<0.85,\"\",VLOOKUP(V35,J!A$2:X$23,VLOOKUP(F35,ages!B$1:C$23,2,1),1)),\"\")","v":""},"","","","",-1.0000000000000002E-6,0,0,0,0,0,0,0,0,0,0,0,null,null,null,null,null,null,null,null,null,null,null,null,null,null,null,null,null,null,null,null,null,null,null,null,null,null,null,null,null,null,null,null,null,null,null,null,null,null,null,null,null,null,null,null,null,null,null,null,null,null,null,null,null,null,null,null,null,null,null,null,null,null,null,null,null,null,null,null,null,null,-9.9999999999999995E-7,-9.9999999999999995E-7,-9.9999999999999995E-7,-9.9999999999999995E-7,-9.9999999999999995E-7,-9.9999999999999995E-7,-9.9999999999999995E-7,-9.9999999999999995E-7,-9.9999999999999995E-7,-9.9999999999999995E-7,-9.9999999999999995E-7,-9.9999999999999995E-7,-9.9999999999999995E-7,-9.9999999999999995E-7,-9.9999999999999995E-7,-9.9999999999999995E-7,-9.9999999999999995E-7,-9.9999999999999995E-7,-9.9999999999999995E-7,-9.9999999999999995E-7,{"$f":"IF(ISERROR(VLOOKUP(F35,ages!B$1:B$23,1,1)),\"\",VLOOKUP(F35,ages!B$1:B$23,1,1))","v":""},{"$f":"IF(ISERROR(VLOOKUP(F35,ages!B$1:D$23,3,1)),\"\",VLOOKUP(F35,ages!B$1:D$23,3,1))","v":""},0,0,0,0,0]
[null,null,null,null,null,"",null,null,null,null,null,null,"","","","","","","","","","",{"$f":"IF(ISNUMBER(F36),IF(AL36<0.85,\"\",VLOOKUP(M36,A!A$2:X$23,VLOOKUP(F36,ages!B$1:C$23,2,1),1)),\"\")","v":""},{"$f":"IF(ISNUMBER(F36),IF(AM36<0.85,\"\",VLOOKUP(N36,B!A$2:X$23,VLOOKUP(F36,ages!B$1:C$23,2,1),1)),\"\")","v":""},{"$f":"IF(ISNUMBER(F36),IF(AN36<0.85,\"\",VLOOKUP(O36,'C'!A$2:X$23,VLOOKUP(F36,ages!B$1:C$23,2,1),1)),\"\")","v":""},{"$f":"IF(ISNUMBER(F36),IF(AO36<0.85,\"\",VLOOKUP(P36,D!A$2:X$23,VLOOKUP(F36,ages!B$1:C$23,2,1),1)),\"\")","v":""},{"$f":"IF(ISNUMBER(F36),IF(AP36<0.85,\"\",VLOOKUP(Q36,E!A$2:X$23,VLOOKUP(F36,ages!B$1:C$23,2,1),1)),\"\")","v":""},{"$f":"IF(ISNUMBER(F36),IF(AQ36<0.85,\"\",VLOOKUP(R36,F!A$2:X$23,VLOOKUP(F36,ages!B$1:C$23,2,1),1)),\"\")","v":""},{"$f":"IF(ISNUMBER(F36),IF(AR36<0.85,\"\",VLOOKUP(S36,G!A$2:X$23,VLOOKUP(F36,ages!B$1:C$23,2,1),1)),\"\")","v":""},{"$f":"IF(ISNUMBER(F36),IF(AS36<0.85,\"\",VLOOKUP(T36,H!A$2:X$23,VLOOKUP(F36,ages!B$1:C$23,2,1),1)),\"\")","v":""},{"$f":"IF(ISNUMBER(F36),IF(AT36<0.85,\"\",VLOOKUP(U36,I!A$2:X$23,VLOOKUP(F36,ages!B$1:C$23,2,1),1)),\"\")","v":""},{"$f":"IF(ISNUMBER(F36),IF(AU36<0.85,\"\",VLOOKUP(V36,J!A$2:X$23,VLOOKUP(F36,ages!B$1:C$23,2,1),1)),\"\")","v":""},"","","","",-1.0000000000000002E-6,0,0,0,0,0,0,0,0,0,0,0,null,null,null,null,null,null,null,null,null,null,null,null,null,null,null,null,null,null,null,null,null,null,null,null,null,null,null,null,null,null,null,null,null,null,null,null,null,null,null,null,null,null,null,null,null,null,null,null,null,null,null,null,null,null,null,null,null,null,null,null,null,null,null,null,null,null,null,null,null,null,-9.9999999999999995E-7,-9.9999999999999995E-7,-9.9999999999999995E-7,-9.9999999999999995E-7,-9.9999999999999995E-7,-9.9999999999999995E-7,-9.9999999999999995E-7,-9.9999999999999995E-7,-9.9999999999999995E-7,-9.9999999999999995E-7,-9.9999999999999995E-7,-9.9999999999999995E-7,-9.9999999999999995E-7,-9.9999999999999995E-7,-9.9999999999999995E-7,-9.9999999999999995E-7,-9.9999999999999995E-7,-9.9999999999999995E-7,-9.9999999999999995E-7,-9.9999999999999995E-7,{"$f":"IF(ISERROR(VLOOKUP(F36,ages!B$1:B$23,1,1)),\"\",VLOOKUP(F36,ages!B$1:B$23,1,1))","v":""},{"$f":"IF(ISERROR(VLOOKUP(F36,ages!B$1:D$23,3,1)),\"\",VLOOKUP(F36,ages!B$1:D$23,3,1))","v":""},0,0,0,0,0]
[null,null,null,null,null,"",null,null,null,null,null,null,"","","","","","","","","","",{"$f":"IF(ISNUMBER(F37),IF(AL37<0.85,\"\",VLOOKUP(M37,A!A$2:X$23,VLOOKUP(F37,ages!B$1:C$23,2,1),1)),\"\")","v":""},{"$f":"IF(ISNUMBER(F37),IF(AM37<0.85,\"\",VLOOKUP(N37,B!A$2:X$23,VLOOKUP(F37,ages!B$1:C$23,2,1),1)),\"\")","v":""},{"$f":"IF(ISNUMBER(F37),IF(AN37<0.85,\"\",VLOOKUP(O37,'C'!A$2:X$23,VLOOKUP(F37,ages!B$1:C$23,2,1),1)),\"\")","v":""},{"$f":"IF(ISNUMBER(F37),IF(AO37<0.85,\"\",VLOOKUP(P37,D!A$2:X$23,VLOOKUP(F37,ages!B$1:C$23,2,1),1)),\"\")","v":""},{"$f":"IF(ISNUMBER(F37),IF(AP37<0.85,\"\",VLOOKUP(Q37,E!A$2:X$23,VLOOKUP(F37,ages!B$1:C$23,2,1),1)),\"\")","v":""},{"$f":"IF(ISNUMBER(F37),IF(AQ37<0.85,\"\",VLOOKUP(R37,F!A$2:X$23,VLOOKUP(F37,ages!B$1:C$23,2,1),1)),\"\")","v":""},{"$f":"IF(ISNUMBER(F37),IF(AR37<0.85,\"\",VLOOKUP(S37,G!A$2:X$23,VLOOKUP(F37,ages!B$1:C$23,2,1),1)),\"\")","v":""},{"$f":"IF(ISNUMBER(F37),IF(AS37<0.85,\"\",VLOOKUP(T37,H!A$2:X$23,VLOOKUP(F37,ages!B$1:C$23,2,1),1)),\"\")","v":""},{"$f":"IF(ISNUMBER(F37),IF(AT37<0.85,\"\",VLOOKUP(U37,I!A$2:X$23,VLOOKUP(F37,ages!B$1:C$23,2,1),1)),\"\")","v":""},{"$f":"IF(ISNUMBER(F37),IF(AU37<0.85,\"\",VLOOKUP(V37,J!A$2:X$23,VLOOKUP(F37,ages!B$1:C$23,2,1),1)),\"\")","v":""},"","","","",-1.0000000000000002E-6,0,0,0,0,0,0,0,0,0,0,0,null,null,null,null,null,null,null,null,null,null,null,null,null,null,null,null,null,null,null,null,null,null,null,null,null,null,null,null,null,null,null,null,null,null,null,null,null,null,null,null,null,null,null,null,null,null,null,null,null,null,null,null,null,null,null,null,null,null,null,null,null,null,null,null,null,null,null,null,null,null,-9.9999999999999995E-7,-9.9999999999999995E-7,-9.9999999999999995E-7,-9.9999999999999995E-7,-9.9999999999999995E-7,-9.9999999999999995E-7,-9.9999999999999995E-7,-9.9999999999999995E-7,-9.9999999999999995E-7,-9.9999999999999995E-7,-9.9999999999999995E-7,-9.9999999999999995E-7,-9.9999999999999995E-7,-9.9999999999999995E-7,-9.9999999999999995E-7,-9.9999999999999995E-7,-9.9999999999999995E-7,-9.9999999999999995E-7,-9.9999999999999995E-7,-9.9999999999999995E-7,{"$f":"IF(ISERROR(VLOOKUP(F37,ages!B$1:B$23,1,1)),\"\",VLOOKUP(F37,ages!B$1:B$23,1,1))","v":""},{"$f":"IF(ISERROR(VLOOKUP(F37,ages!B$1:D$23,3,1)),\"\",VLOOKUP(F37,ages!B$1:D$23,3,1))","v":""},0,0,0,0,0]
[null,null,null,null,null,"",null,null,null,null,null,null,"","","","","","","","","","",{"$f":"IF(ISNUMBER(F38),IF(AL38<0.85,\"\",VLOOKUP(M38,A!A$2:X$23,VLOOKUP(F38,ages!B$1:C$23,2,1),1)),\"\")","v":""},{"$f":"IF(ISNUMBER(F38),IF(AM38<0.85,\"\",VLOOKUP(N38,B!A$2:X$23,VLOOKUP(F38,ages!B$1:C$23,2,1),1)),\"\")","v":""},{"$f":"IF(ISNUMBER(F38),IF(AN38<0.85,\"\",VLOOKUP(O38,'C'!A$2:X$23,VLOOKUP(F38,ages!B$1:C$23,2,1),1)),\"\")","v":""},{"$f":"IF(ISNUMBER(F38),IF(AO38<0.85,\"\",VLOOKUP(P38,D!A$2:X$23,VLOOKUP(F38,ages!B$1:C$23,2,1),1)),\"\")","v":""},{"$f":"IF(ISNUMBER(F38),IF(AP38<0.85,\"\",VLOOKUP(Q38,E!A$2:X$23,VLOOKUP(F38,ages!B$1:C$23,2,1),1)),\"\")","v":""},{"$f":"IF(ISNUMBER(F38),IF(AQ38<0.85,\"\",VLOOKUP(R38,F!A$2:X$23,VLOOKUP(F38,ages!B$1:C$23,2,1),1)),\"\")","v":""},{"$f":"IF(ISNUMBER(F38),IF(AR38<0.85,\"\",VLOOKUP(S38,G!A$2:X$23,VLOOKUP(F38,ages!B$1:C$23,2,1),1)),\"\")","v":""},{"$f":"IF(ISNUMBER(F38),IF(AS38<0.85,\"\",VLOOKUP(T38,H!A$2:X$23,VLOOKUP(F38,ages!B$1:C$23,2,1),1)),\"\")","v":""},{"$f":"IF(ISNUMBER(F38),IF(AT38<0.85,\"\",VLOOKUP(U38,I!A$2:X$23,VLOOKUP(F38,ages!B$1:C$23,2,1),1)),\"\")","v":""},{"$f":"IF(ISNUMBER(F38),IF(AU38<0.85,\"\",VLOOKUP(V38,J!A$2:X$23,VLOOKUP(F38,ages!B$1:C$23,2,1),1)),\"\")","v":""},"","","","",-1.0000000000000002E-6,0,0,0,0,0,0,0,0,0,0,0,null,null,null,null,null,null,null,null,null,null,null,null,null,null,null,null,null,null,null,null,null,null,null,null,null,null,null,null,null,null,null,null,null,null,null,null,null,null,null,null,null,null,null,null,null,null,null,null,null,null,null,null,null,null,null,null,null,null,null,null,null,null,null,null,null,null,null,null,null,null,-9.9999999999999995E-7,-9.9999999999999995E-7,-9.9999999999999995E-7,-9.9999999999999995E-7,-9.9999999999999995E-7,-9.9999999999999995E-7,-9.9999999999999995E-7,-9.9999999999999995E-7,-9.9999999999999995E-7,-9.9999999999999995E-7,-9.9999999999999995E-7,-9.9999999999999995E-7,-9.9999999999999995E-7,-9.9999999999999995E-7,-9.9999999999999995E-7,-9.9999999999999995E-7,-9.9999999999999995E-7,-9.9999999999999995E-7,-9.9999999999999995E-7,-9.9999999999999995E-7,{"$f":"IF(ISERROR(VLOOKUP(F38,ages!B$1:B$23,1,1)),\"\",VLOOKUP(F38,ages!B$1:B$23,1,1))","v":""},{"$f":"IF(ISERROR(VLOOKUP(F38,ages!B$1:D$23,3,1)),\"\",VLOOKUP(F38,ages!B$1:D$23,3,1))","v":""},0,0,0,0,0]
[null,null,null,null,null,"",null,null,null,null,null,null,"","","","","","","","","","",{"$f":"IF(ISNUMBER(F39),IF(AL39<0.85,\"\",VLOOKUP(M39,A!A$2:X$23,VLOOKUP(F39,ages!B$1:C$23,2,1),1)),\"\")","v":""},{"$f":"IF(ISNUMBER(F39),IF(AM39<0.85,\"\",VLOOKUP(N39,B!A$2:X$23,VLOOKUP(F39,ages!B$1:C$23,2,1),1)),\"\")","v":""},{"$f":"IF(ISNUMBER(F39),IF(AN39<0.85,\"\",VLOOKUP(O39,'C'!A$2:X$23,VLOOKUP(F39,ages!B$1:C$23,2,1),1)),\"\")","v":""},{"$f":"IF(ISNUMBER(F39),IF(AO39<0.85,\"\",VLOOKUP(P39,D!A$2:X$23,VLOOKUP(F39,ages!B$1:C$23,2,1),1)),\"\")","v":""},{"$f":"IF(ISNUMBER(F39),IF(AP39<0.85,\"\",VLOOKUP(Q39,E!A$2:X$23,VLOOKUP(F39,ages!B$1:C$23,2,1),1)),\"\")","v":""},{"$f":"IF(ISNUMBER(F39),IF(AQ39<0.85,\"\",VLOOKUP(R39,F!A$2:X$23,VLOOKUP(F39,ages!B$1:C$23,2,1),1)),\"\")","v":""},{"$f":"IF(ISNUMBER(F39),IF(AR39<0.85,\"\",VLOOKUP(S39,G!A$2:X$23,VLOOKUP(F39,ages!B$1:C$23,2,1),1)),\"\")","v":""},{"$f":"IF(ISNUMBER(F39),IF(AS39<0.85,\"\",VLOOKUP(T39,H!A$2:X$23,VLOOKUP(F39,ages!B$1:C$23,2,1),1)),\"\")","v":""},{"$f":"IF(ISNUMBER(F39),IF(AT39<0.85,\"\",VLOOKUP(U39,I!A$2:X$23,VLOOKUP(F39,ages!B$1:C$23,2,1),1)),\"\")","v":""},{"$f":"IF(ISNUMBER(F39),IF(AU39<0.85,\"\",VLOOKUP(V39,J!A$2:X$23,VLOOKUP(F39,ages!B$1:C$23,2,1),1)),\"\")","v":""},"","","","",-1.0000000000000002E-6,0,0,0,0,0,0,0,0,0,0,0,null,null,null,null,null,null,null,null,null,null,null,null,null,null,null,null,null,null,null,null,null,null,null,null,null,null,null,null,null,null,null,null,null,null,null,null,null,null,null,null,null,null,null,null,null,null,null,null,null,null,null,null,null,null,null,null,null,null,null,null,null,null,null,null,null,null,null,null,null,null,-9.9999999999999995E-7,-9.9999999999999995E-7,-9.9999999999999995E-7,-9.9999999999999995E-7,-9.9999999999999995E-7,-9.9999999999999995E-7,-9.9999999999999995E-7,-9.9999999999999995E-7,-9.9999999999999995E-7,-9.9999999999999995E-7,-9.9999999999999995E-7,-9.9999999999999995E-7,-9.9999999999999995E-7,-9.9999999999999995E-7,-9.9999999999999995E-7,-9.9999999999999995E-7,-9.9999999999999995E-7,-9.9999999999999995E-7,-9.9999999999999995E-7,-9.9999999999999995E-7,{"$f":"IF(ISERROR(VLOOKUP(F39,ages!B$1:B$23,1,1)),\"\",VLOOKUP(F39,ages!B$1:B$23,1,1))","v":""},{"$f":"IF(ISERROR(VLOOKUP(F39,ages!B$1:D$23,3,1)),\"\",VLOOKUP(F39,ages!B$1:D$23,3,1))","v":""},0,0,0,0,0]
[null,null,null,null,null,"",null,null,null,null,null,null,"","","","","","","","","","",{"$f":"IF(ISNUMBER(F40),IF(AL40<0.85,\"\",VLOOKUP(M40,A!A$2:X$23,VLOOKUP(F40,ages!B$1:C$23,2,1),1)),\"\")","v":""},{"$f":"IF(ISNUMBER(F40),IF(AM40<0.85,\"\",VLOOKUP(N40,B!A$2:X$23,VLOOKUP(F40,ages!B$1:C$23,2,1),1)),\"\")","v":""},{"$f":"IF(ISNUMBER(F40),IF(AN40<0.85,\"\",VLOOKUP(O40,'C'!A$2:X$23,VLOOKUP(F40,ages!B$1:C$23,2,1),1)),\"\")","v":""},{"$f":"IF(ISNUMBER(F40),IF(AO40<0.85,\"\",VLOOKUP(P40,D!A$2:X$23,VLOOKUP(F40,ages!B$1:C$23,2,1),1)),\"\")","v":""},{"$f":"IF(ISNUMBER(F40),IF(AP40<0.85,\"\",VLOOKUP(Q40,E!A$2:X$23,VLOOKUP(F40,ages!B$1:C$23,2,1),1)),\"\")","v":""},{"$f":"IF(ISNUMBER(F40),IF(AQ40<0.85,\"\",VLOOKUP(R40,F!A$2:X$23,VLOOKUP(F40,ages!B$1:C$23,2,1),1)),\"\")","v":""},{"$f":"IF(ISNUMBER(F40),IF(AR40<0.85,\"\",VLOOKUP(S40,G!A$2:X$23,VLOOKUP(F40,ages!B$1:C$23,2,1),1)),\"\")","v":""},{"$f":"IF(ISNUMBER(F40),IF(AS40<0.85,\"\",VLOOKUP(T40,H!A$2:X$23,VLOOKUP(F40,ages!B$1:C$23,2,1),1)),\"\")","v":""},{"$f":"IF(ISNUMBER(F40),IF(AT40<0.85,\"\",VLOOKUP(U40,I!A$2:X$23,VLOOKUP(F40,ages!B$1:C$23,2,1),1)),\"\")","v":""},{"$f":"IF(ISNUMBER(F40),IF(AU40<0.85,\"\",VLOOKUP(V40,J!A$2:X$23,VLOOKUP(F40,ages!B$1:C$23,2,1),1)),\"\")","v":""},"","","","",-1.0000000000000002E-6,0,0,0,0,0,0,0,0,0,0,0,null,null,null,null,null,null,null,null,null,null,null,null,null,null,null,null,null,null,null,null,null,null,null,null,null,null,null,null,null,null,null,null,null,null,null,null,null,null,null,null,null,null,null,null,null,null,null,null,null,null,null,null,null,null,null,null,null,null,null,null,null,null,null,null,null,null,null,null,null,null,-9.9999999999999995E-7,-9.9999999999999995E-7,-9.9999999999999995E-7,-9.9999999999999995E-7,-9.9999999999999995E-7,-9.9999999999999995E-7,-9.9999999999999995E-7,-9.9999999999999995E-7,-9.9999999999999995E-7,-9.9999999999999995E-7,-9.9999999999999995E-7,-9.9999999999999995E-7,-9.9999999999999995E-7,-9.9999999999999995E-7,-9.9999999999999995E-7,-9.9999999999999995E-7,-9.9999999999999995E-7,-9.9999999999999995E-7,-9.9999999999999995E-7,-9.9999999999999995E-7,{"$f":"IF(ISERROR(VLOOKUP(F40,ages!B$1:B$23,1,1)),\"\",VLOOKUP(F40,ages!B$1:B$23,1,1))","v":""},{"$f":"IF(ISERROR(VLOOKUP(F40,ages!B$1:D$23,3,1)),\"\",VLOOKUP(F40,ages!B$1:D$23,3,1))","v":""},0,0,0,0,0]
[null,null,null,null,null,"",null,null,null,null,null,null,"","","","","","","","","","",{"$f":"IF(ISNUMBER(F41),IF(AL41<0.85,\"\",VLOOKUP(M41,A!A$2:X$23,VLOOKUP(F41,ages!B$1:C$23,2,1),1)),\"\")","v":""},{"$f":"IF(ISNUMBER(F41),IF(AM41<0.85,\"\",VLOOKUP(N41,B!A$2:X$23,VLOOKUP(F41,ages!B$1:C$23,2,1),1)),\"\")","v":""},{"$f":"IF(ISNUMBER(F41),IF(AN41<0.85,\"\",VLOOKUP(O41,'C'!A$2:X$23,VLOOKUP(F41,ages!B$1:C$23,2,1),1)),\"\")","v":""},{"$f":"IF(ISNUMBER(F41),IF(AO41<0.85,\"\",VLOOKUP(P41,D!A$2:X$23,VLOOKUP(F41,ages!B$1:C$23,2,1),1)),\"\")","v":""},{"$f":"IF(ISNUMBER(F41),IF(AP41<0.85,\"\",VLOOKUP(Q41,E!A$2:X$23,VLOOKUP(F41,ages!B$1:C$23,2,1),1)),\"\")","v":""},{"$f":"IF(ISNUMBER(F41),IF(AQ41<0.85,\"\",VLOOKUP(R41,F!A$2:X$23,VLOOKUP(F41,ages!B$1:C$23,2,1),1)),\"\")","v":""},{"$f":"IF(ISNUMBER(F41),IF(AR41<0.85,\"\",VLOOKUP(S41,G!A$2:X$23,VLOOKUP(F41,ages!B$1:C$23,2,1),1)),\"\")","v":""},{"$f":"IF(ISNUMBER(F41),IF(AS41<0.85,\"\",VLOOKUP(T41,H!A$2:X$23,VLOOKUP(F41,ages!B$1:C$23,2,1),1)),\"\")","v":""},{"$f":"IF(ISNUMBER(F41),IF(AT41<0.85,\"\",VLOOKUP(U41,I!A$2:X$23,VLOOKUP(F41,ages!B$1:C$23,2,1),1)),\"\")","v":""},{"$f":"IF(ISNUMBER(F41),IF(AU41<0.85,\"\",VLOOKUP(V41,J!A$2:X$23,VLOOKUP(F41,ages!B$1:C$23,2,1),1)),\"\")","v":""},"","","","",-1.0000000000000002E-6,0,0,0,0,0,0,0,0,0,0,0,null,null,null,null,null,null,null,null,null,null,null,null,null,null,null,null,null,null,null,null,null,null,null,null,null,null,null,null,null,null,null,null,null,null,null,null,null,null,null,null,null,null,null,null,null,null,null,null,null,null,null,null,null,null,null,null,null,null,null,null,null,null,null,null,null,null,null,null,null,null,-9.9999999999999995E-7,-9.9999999999999995E-7,-9.9999999999999995E-7,-9.9999999999999995E-7,-9.9999999999999995E-7,-9.9999999999999995E-7,-9.9999999999999995E-7,-9.9999999999999995E-7,-9.9999999999999995E-7,-9.9999999999999995E-7,-9.9999999999999995E-7,-9.9999999999999995E-7,-9.9999999999999995E-7,-9.9999999999999995E-7,-9.9999999999999995E-7,-9.9999999999999995E-7,-9.9999999999999995E-7,-9.9999999999999995E-7,-9.9999999999999995E-7,-9.9999999999999995E-7,{"$f":"IF(ISERROR(VLOOKUP(F41,ages!B$1:B$23,1,1)),\"\",VLOOKUP(F41,ages!B$1:B$23,1,1))","v":""},{"$f":"IF(ISERROR(VLOOKUP(F41,ages!B$1:D$23,3,1)),\"\",VLOOKUP(F41,ages!B$1:D$23,3,1))","v":""},0,0,0,0,0]
[null,null,null,null,null,"",null,null,null,null,null,null,"","","","","","","","","","",{"$f":"IF(ISNUMBER(F42),IF(AL42<0.85,\"\",VLOOKUP(M42,A!A$2:X$23,VLOOKUP(F42,ages!B$1:C$23,2,1),1)),\"\")","v":""},{"$f":"IF(ISNUMBER(F42),IF(AM42<0.85,\"\",VLOOKUP(N42,B!A$2:X$23,VLOOKUP(F42,ages!B$1:C$23,2,1),1)),\"\")","v":""},{"$f":"IF(ISNUMBER(F42),IF(AN42<0.85,\"\",VLOOKUP(O42,'C'!A$2:X$23,VLOOKUP(F42,ages!B$1:C$23,2,1),1)),\"\")","v":""},{"$f":"IF(ISNUMBER(F42),IF(AO42<0.85,\"\",VLOOKUP(P42,D!A$2:X$23,VLOOKUP(F42,ages!B$1:C$23,2,1),1)),\"\")","v":""},{"$f":"IF(ISNUMBER(F42),IF(AP42<0.85,\"\",VLOOKUP(Q42,E!A$2:X$23,VLOOKUP(F42,ages!B$1:C$23,2,1),1)),\"\")","v":""},{"$f":"IF(ISNUMBER(F42),IF(AQ42<0.85,\"\",VLOOKUP(R42,F!A$2:X$23,VLOOKUP(F42,ages!B$1:C$23,2,1),1)),\"\")","v":""},{"$f":"IF(ISNUMBER(F42),IF(AR42<0.85,\"\",VLOOKUP(S42,G!A$2:X$23,VLOOKUP(F42,ages!B$1:C$23,2,1),1)),\"\")","v":""},{"$f":"IF(ISNUMBER(F42),IF(AS42<0.85,\"\",VLOOKUP(T42,H!A$2:X$23,VLOOKUP(F42,ages!B$1:C$23,2,1),1)),\"\")","v":""},{"$f":"IF(ISNUMBER(F42),IF(AT42<0.85,\"\",VLOOKUP(U42,I!A$2:X$23,VLOOKUP(F42,ages!B$1:C$23,2,1),1)),\"\")","v":""},{"$f":"IF(ISNUMBER(F42),IF(AU42<0.85,\"\",VLOOKUP(V42,J!A$2:X$23,VLOOKUP(F42,ages!B$1:C$23,2,1),1)),\"\")","v":""},"","","","",-1.0000000000000002E-6,0,0,0,0,0,0,0,0,0,0,0,null,null,null,null,null,null,null,null,null,null,null,null,null,null,null,null,null,null,null,null,null,null,null,null,null,null,null,null,null,null,null,null,null,null,null,null,null,null,null,null,null,null,null,null,null,null,null,null,null,null,null,null,null,null,null,null,null,null,null,null,null,null,null,null,null,null,null,null,null,null,-9.9999999999999995E-7,-9.9999999999999995E-7,-9.9999999999999995E-7,-9.9999999999999995E-7,-9.9999999999999995E-7,-9.9999999999999995E-7,-9.9999999999999995E-7,-9.9999999999999995E-7,-9.9999999999999995E-7,-9.9999999999999995E-7,-9.9999999999999995E-7,-9.9999999999999995E-7,-9.9999999999999995E-7,-9.9999999999999995E-7,-9.9999999999999995E-7,-9.9999999999999995E-7,-9.9999999999999995E-7,-9.9999999999999995E-7,-9.9999999999999995E-7,-9.9999999999999995E-7,{"$f":"IF(ISERROR(VLOOKUP(F42,ages!B$1:B$23,1,1)),\"\",VLOOKUP(F42,ages!B$1:B$23,1,1))","v":""},{"$f":"IF(ISERROR(VLOOKUP(F42,ages!B$1:D$23,3,1)),\"\",VLOOKUP(F42,ages!B$1:D$23,3,1))","v":""},0,0,0,0,0]
[null,null,null,null,null,"",null,null,null,null,null,null,"","","","","","","","","","",{"$f":"IF(ISNUMBER(F43),IF(AL43<0.85,\"\",VLOOKUP(M43,A!A$2:X$23,VLOOKUP(F43,ages!B$1:C$23,2,1),1)),\"\")","v":""},{"$f":"IF(ISNUMBER(F43),IF(AM43<0.85,\"\",VLOOKUP(N43,B!A$2:X$23,VLOOKUP(F43,ages!B$1:C$23,2,1),1)),\"\")","v":""},{"$f":"IF(ISNUMBER(F43),IF(AN43<0.85,\"\",VLOOKUP(O43,'C'!A$2:X$23,VLOOKUP(F43,ages!B$1:C$23,2,1),1)),\"\")","v":""},{"$f":"IF(ISNUMBER(F43),IF(AO43<0.85,\"\",VLOOKUP(P43,D!A$2:X$23,VLOOKUP(F43,ages!B$1:C$23,2,1),1)),\"\")","v":""},{"$f":"IF(ISNUMBER(F43),IF(AP43<0.85,\"\",VLOOKUP(Q43,E!A$2:X$23,VLOOKUP(F43,ages!B$1:C$23,2,1),1)),\"\")","v":""},{"$f":"IF(ISNUMBER(F43),IF(AQ43<0.85,\"\",VLOOKUP(R43,F!A$2:X$23,VLOOKUP(F43,ages!B$1:C$23,2,1),1)),\"\")","v":""},{"$f":"IF(ISNUMBER(F43),IF(AR43<0.85,\"\",VLOOKUP(S43,G!A$2:X$23,VLOOKUP(F43,ages!B$1:C$23,2,1),1)),\"\")","v":""},{"$f":"IF(ISNUMBER(F43),IF(AS43<0.85,\"\",VLOOKUP(T43,H!A$2:X$23,VLOOKUP(F43,ages!B$1:C$23,2,1),1)),\"\")","v":""},{"$f":"IF(ISNUMBER(F43),IF(AT43<0.85,\"\",VLOOKUP(U43,I!A$2:X$23,VLOOKUP(F43,ages!B$1:C$23,2,1),1)),\"\")","v":""},{"$f":"IF(ISNUMBER(F43),IF(AU43<0.85,\"\",VLOOKUP(V43,J!A$2:X$23,VLOOKUP(F43,ages!B$1:C$23,2,1),1)),\"\")","v":""},"","","","",-1.0000000000000002E-6,0,0,0,0,0,0,0,0,0,0,0,null,null,null,null,null,null,null,null,null,null,null,null,null,null,null,null,null,null,null,null,null,null,null,null,null,null,null,null,null,null,null,null,null,null,null,null,null,null,null,null,null,null,null,null,null,null,null,null,null,null,null,null,null,null,null,null,null,null,null,null,null,null,null,null,null,null,null,null,null,null,-9.9999999999999995E-7,-9.9999999999999995E-7,-9.9999999999999995E-7,-9.9999999999999995E-7,-9.9999999999999995E-7,-9.9999999999999995E-7,-9.9999999999999995E-7,-9.9999999999999995E-7,-9.9999999999999995E-7,-9.9999999999999995E-7,-9.9999999999999995E-7,-9.9999999999999995E-7,-9.9999999999999995E-7,-9.9999999999999995E-7,-9.9999999999999995E-7,-9.9999999999999995E-7,-9.9999999999999995E-7,-9.9999999999999995E-7,-9.9999999999999995E-7,-9.9999999999999995E-7,{"$f":"IF(ISERROR(VLOOKUP(F43,ages!B$1:B$23,1,1)),\"\",VLOOKUP(F43,ages!B$1:B$23,1,1))","v":""},{"$f":"IF(ISERROR(VLOOKUP(F43,ages!B$1:D$23,3,1)),\"\",VLOOKUP(F43,ages!B$1:D$23,3,1))","v":""},0,0,0,0,0]
[null,null,null,null,null,"",null,null,null,null,null,null,"","","","","","","","","","",{"$f":"IF(ISNUMBER(F44),IF(AL44<0.85,\"\",VLOOKUP(M44,A!A$2:X$23,VLOOKUP(F44,ages!B$1:C$23,2,1),1)),\"\")","v":""},{"$f":"IF(ISNUMBER(F44),IF(AM44<0.85,\"\",VLOOKUP(N44,B!A$2:X$23,VLOOKUP(F44,ages!B$1:C$23,2,1),1)),\"\")","v":""},{"$f":"IF(ISNUMBER(F44),IF(AN44<0.85,\"\",VLOOKUP(O44,'C'!A$2:X$23,VLOOKUP(F44,ages!B$1:C$23,2,1),1)),\"\")","v":""},{"$f":"IF(ISNUMBER(F44),IF(AO44<0.85,\"\",VLOOKUP(P44,D!A$2:X$23,VLOOKUP(F44,ages!B$1:C$23,2,1),1)),\"\")","v":""},{"$f":"IF(ISNUMBER(F44),IF(AP44<0.85,\"\",VLOOKUP(Q44,E!A$2:X$23,VLOOKUP(F44,ages!B$1:C$23,2,1),1)),\"\")","v":""},{"$f":"IF(ISNUMBER(F44),IF(AQ44<0.85,\"\",VLOOKUP(R44,F!A$2:X$23,VLOOKUP(F44,ages!B$1:C$23,2,1),1)),\"\")","v":""},{"$f":"IF(ISNUMBER(F44),IF(AR44<0.85,\"\",VLOOKUP(S44,G!A$2:X$23,VLOOKUP(F44,ages!B$1:C$23,2,1),1)),\"\")","v":""},{"$f":"IF(ISNUMBER(F44),IF(AS44<0.85,\"\",VLOOKUP(T44,H!A$2:X$23,VLOOKUP(F44,ages!B$1:C$23,2,1),1)),\"\")","v":""},{"$f":"IF(ISNUMBER(F44),IF(AT44<0.85,\"\",VLOOKUP(U44,I!A$2:X$23,VLOOKUP(F44,ages!B$1:C$23,2,1),1)),\"\")","v":""},{"$f":"IF(ISNUMBER(F44),IF(AU44<0.85,\"\",VLOOKUP(V44,J!A$2:X$23,VLOOKUP(F44,ages!B$1:C$23,2,1),1)),\"\")","v":""},"","","","",-1.0000000000000002E-6,0,0,0,0,0,0,0,0,0,0,0,null,null,null,null,null,null,null,null,null,null,null,null,null,null,null,null,null,null,null,null,null,null,null,null,null,null,null,null,null,null,null,null,null,null,null,null,null,null,null,null,null,null,null,null,null,null,null,null,null,null,null,null,null,null,null,null,null,null,null,null,null,null,null,null,null,null,null,null,null,null,-9.9999999999999995E-7,-9.9999999999999995E-7,-9.9999999999999995E-7,-9.9999999999999995E-7,-9.9999999999999995E-7,-9.9999999999999995E-7,-9.9999999999999995E-7,-9.9999999999999995E-7,-9.9999999999999995E-7,-9.9999999999999995E-7,-9.9999999999999995E-7,-9.9999999999999995E-7,-9.9999999999999995E-7,-9.9999999999999995E-7,-9.9999999999999995E-7,-9.9999999999999995E-7,-9.9999999999999995E-7,-9.9999999999999995E-7,-9.9999999999999995E-7,-9.9999999999999995E-7,{"$f":"IF(ISERROR(VLOOKUP(F44,ages!B$1:B$23,1,1)),\"\",VLOOKUP(F44,ages!B$1:B$23,1,1))","v":""},{"$f":"IF(ISERROR(VLOOKUP(F44,ages!B$1:D$23,3,1)),\"\",VLOOKUP(F44,ages!B$1:D$23,3,1))","v":""},0,0,0,0,0]
[null,null,null,null,null,"",null,null,null,null,null,null,"","","","","","","","","","",{"$f":"IF(ISNUMBER(F45),IF(AL45<0.85,\"\",VLOOKUP(M45,A!A$2:X$23,VLOOKUP(F45,ages!B$1:C$23,2,1),1)),\"\")","v":""},{"$f":"IF(ISNUMBER(F45),IF(AM45<0.85,\"\",VLOOKUP(N45,B!A$2:X$23,VLOOKUP(F45,ages!B$1:C$23,2,1),1)),\"\")","v":""},{"$f":"IF(ISNUMBER(F45),IF(AN45<0.85,\"\",VLOOKUP(O45,'C'!A$2:X$23,VLOOKUP(F45,ages!B$1:C$23,2,1),1)),\"\")","v":""},{"$f":"IF(ISNUMBER(F45),IF(AO45<0.85,\"\",VLOOKUP(P45,D!A$2:X$23,VLOOKUP(F45,ages!B$1:C$23,2,1),1)),\"\")","v":""},{"$f":"IF(ISNUMBER(F45),IF(AP45<0.85,\"\",VLOOKUP(Q45,E!A$2:X$23,VLOOKUP(F45,ages!B$1:C$23,2,1),1)),\"\")","v":""},{"$f":"IF(ISNUMBER(F45),IF(AQ45<0.85,\"\",VLOOKUP(R45,F!A$2:X$23,VLOOKUP(F45,ages!B$1:C$23,2,1),1)),\"\")","v":""},{"$f":"IF(ISNUMBER(F45),IF(AR45<0.85,\"\",VLOOKUP(S45,G!A$2:X$23,VLOOKUP(F45,ages!B$1:C$23,2,1),1)),\"\")","v":""},{"$f":"IF(ISNUMBER(F45),IF(AS45<0.85,\"\",VLOOKUP(T45,H!A$2:X$23,VLOOKUP(F45,ages!B$1:C$23,2,1),1)),\"\")","v":""},{"$f":"IF(ISNUMBER(F45),IF(AT45<0.85,\"\",VLOOKUP(U45,I!A$2:X$23,VLOOKUP(F45,ages!B$1:C$23,2,1),1)),\"\")","v":""},{"$f":"IF(ISNUMBER(F45),IF(AU45<0.85,\"\",VLOOKUP(V45,J!A$2:X$23,VLOOKUP(F45,ages!B$1:C$23,2,1),1)),\"\")","v":""},"","","","",-1.0000000000000002E-6,0,0,0,0,0,0,0,0,0,0,0,null,null,null,null,null,null,null,null,null,null,null,null,null,null,null,null,null,null,null,null,null,null,null,null,null,null,null,null,null,null,null,null,null,null,null,null,null,null,null,null,null,null,null,null,null,null,null,null,null,null,null,null,null,null,null,null,null,null,null,null,null,null,null,null,null,null,null,null,null,null,-9.9999999999999995E-7,-9.9999999999999995E-7,-9.9999999999999995E-7,-9.9999999999999995E-7,-9.9999999999999995E-7,-9.9999999999999995E-7,-9.9999999999999995E-7,-9.9999999999999995E-7,-9.9999999999999995E-7,-9.9999999999999995E-7,-9.9999999999999995E-7,-9.9999999999999995E-7,-9.9999999999999995E-7,-9.9999999999999995E-7,-9.9999999999999995E-7,-9.9999999999999995E-7,-9.9999999999999995E-7,-9.9999999999999995E-7,-9.9999999999999995E-7,-9.9999999999999995E-7,{"$f":"IF(ISERROR(VLOOKUP(F45,ages!B$1:B$23,1,1)),\"\",VLOOKUP(F45,ages!B$1:B$23,1,1))","v":""},{"$f":"IF(ISERROR(VLOOKUP(F45,ages!B$1:D$23,3,1)),\"\",VLOOKUP(F45,ages!B$1:D$23,3,1))","v":""},0,0,0,0,0]
[null,null,null,null,null,"",null,null,null,null,null,null,"","","","","","","","","","",{"$f":"IF(ISNUMBER(F46),IF(AL46<0.85,\"\",VLOOKUP(M46,A!A$2:X$23,VLOOKUP(F46,ages!B$1:C$23,2,1),1)),\"\")","v":""},{"$f":"IF(ISNUMBER(F46),IF(AM46<0.85,\"\",VLOOKUP(N46,B!A$2:X$23,VLOOKUP(F46,ages!B$1:C$23,2,1),1)),\"\")","v":""},{"$f":"IF(ISNUMBER(F46),IF(AN46<0.85,\"\",VLOOKUP(O46,'C'!A$2:X$23,VLOOKUP(F46,ages!B$1:C$23,2,1),1)),\"\")","v":""},{"$f":"IF(ISNUMBER(F46),IF(AO46<0.85,\"\",VLOOKUP(P46,D!A$2:X$23,VLOOKUP(F46,ages!B$1:C$23,2,1),1)),\"\")","v":""},{"$f":"IF(ISNUMBER(F46),IF(AP46<0.85,\"\",VLOOKUP(Q46,E!A$2:X$23,VLOOKUP(F46,ages!B$1:C$23,2,1),1)),\"\")","v":""},{"$f":"IF(ISNUMBER(F46),IF(AQ46<0.85,\"\",VLOOKUP(R46,F!A$2:X$23,VLOOKUP(F46,ages!B$1:C$23,2,1),1)),\"\")","v":""},{"$f":"IF(ISNUMBER(F46),IF(AR46<0.85,\"\",VLOOKUP(S46,G!A$2:X$23,VLOOKUP(F46,ages!B$1:C$23,2,1),1)),\"\")","v":""},{"$f":"IF(ISNUMBER(F46),IF(AS46<0.85,\"\",VLOOKUP(T46,H!A$2:X$23,VLOOKUP(F46,ages!B$1:C$23,2,1),1)),\"\")","v":""},{"$f":"IF(ISNUMBER(F46),IF(AT46<0.85,\"\",VLOOKUP(U46,I!A$2:X$23,VLOOKUP(F46,ages!B$1:C$23,2,1),1)),\"\")","v":""},{"$f":"IF(ISNUMBER(F46),IF(AU46<0.85,\"\",VLOOKUP(V46,J!A$2:X$23,VLOOKUP(F46,ages!B$1:C$23,2,1),1)),\"\")","v":""},"","","","",-1.0000000000000002E-6,0,0,0,0,0,0,0,0,0,0,0,null,null,null,null,null,null,null,null,null,null,null,null,null,null,null,null,null,null,null,null,null,null,null,null,null,null,null,null,null,null,null,null,null,null,null,null,null,null,null,null,null,null,null,null,null,null,null,null,null,null,null,null,null,null,null,null,null,null,null,null,null,null,null,null,null,null,null,null,null,null,-9.9999999999999995E-7,-9.9999999999999995E-7,-9.9999999999999995E-7,-9.9999999999999995E-7,-9.9999999999999995E-7,-9.9999999999999995E-7,-9.9999999999999995E-7,-9.9999999999999995E-7,-9.9999999999999995E-7,-9.9999999999999995E-7,-9.9999999999999995E-7,-9.9999999999999995E-7,-9.9999999999999995E-7,-9.9999999999999995E-7,-9.9999999999999995E-7,-9.9999999999999995E-7,-9.9999999999999995E-7,-9.9999999999999995E-7,-9.9999999999999995E-7,-9.9999999999999995E-7,{"$f":"IF(ISERROR(VLOOKUP(F46,ages!B$1:B$23,1,1)),\"\",VLOOKUP(F46,ages!B$1:B$23,1,1))","v":""},{"$f":"IF(ISERROR(VLOOKUP(F46,ages!B$1:D$23,3,1)),\"\",VLOOKUP(F46,ages!B$1:D$23,3,1))","v":""},0,0,0,0,0]
[null,null,null,null,null,"",null,null,null,null,null,null,"","","","","","","","","","",{"$f":"IF(ISNUMBER(F47),IF(AL47<0.85,\"\",VLOOKUP(M47,A!A$2:X$23,VLOOKUP(F47,ages!B$1:C$23,2,1),1)),\"\")","v":""},{"$f":"IF(ISNUMBER(F47),IF(AM47<0.85,\"\",VLOOKUP(N47,B!A$2:X$23,VLOOKUP(F47,ages!B$1:C$23,2,1),1)),\"\")","v":""},{"$f":"IF(ISNUMBER(F47),IF(AN47<0.85,\"\",VLOOKUP(O47,'C'!A$2:X$23,VLOOKUP(F47,ages!B$1:C$23,2,1),1)),\"\")","v":""},{"$f":"IF(ISNUMBER(F47),IF(AO47<0.85,\"\",VLOOKUP(P47,D!A$2:X$23,VLOOKUP(F47,ages!B$1:C$23,2,1),1)),\"\")","v":""},{"$f":"IF(ISNUMBER(F47),IF(AP47<0.85,\"\",VLOOKUP(Q47,E!A$2:X$23,VLOOKUP(F47,ages!B$1:C$23,2,1),1)),\"\")","v":""},{"$f":"IF(ISNUMBER(F47),IF(AQ47<0.85,\"\",VLOOKUP(R47,F!A$2:X$23,VLOOKUP(F47,ages!B$1:C$23,2,1),1)),\"\")","v":""},{"$f":"IF(ISNUMBER(F47),IF(AR47<0.85,\"\",VLOOKUP(S47,G!A$2:X$23,VLOOKUP(F47,ages!B$1:C$23,2,1),1)),\"\")","v":""},{"$f":"IF(ISNUMBER(F47),IF(AS47<0.85,\"\",VLOOKUP(T47,H!A$2:X$23,VLOOKUP(F47,ages!B$1:C$23,2,1),1)),\"\")","v":""},{"$f":"IF(ISNUMBER(F47),IF(AT47<0.85,\"\",VLOOKUP(U47,I!A$2:X$23,VLOOKUP(F47,ages!B$1:C$23,2,1),1)),\"\")","v":""},{"$f":"IF(ISNUMBER(F47),IF(AU47<0.85,\"\",VLOOKUP(V47,J!A$2:X$23,VLOOKUP(F47,ages!B$1:C$23,2,1),1)),\"\")","v":""},"","","","",-1.0000000000000002E-6,0,0,0,0,0,0,0,0,0,0,0,null,null,null,null,null,null,null,null,null,null,null,null,null,null,null,null,null,null,null,null,null,null,null,null,null,null,null,null,null,null,null,null,null,null,null,null,null,null,null,null,null,null,null,null,null,null,null,null,null,null,null,null,null,null,null,null,null,null,null,null,null,null,null,null,null,null,null,null,null,null,-9.9999999999999995E-7,-9.9999999999999995E-7,-9.9999999999999995E-7,-9.9999999999999995E-7,-9.9999999999999995E-7,-9.9999999999999995E-7,-9.9999999999999995E-7,-9.9999999999999995E-7,-9.9999999999999995E-7,-9.9999999999999995E-7,-9.9999999999999995E-7,-9.9999999999999995E-7,-9.9999999999999995E-7,-9.9999999999999995E-7,-9.9999999999999995E-7,-9.9999999999999995E-7,-9.9999999999999995E-7,-9.9999999999999995E-7,-9.9999999999999995E-7,-9.9999999999999995E-7,{"$f":"IF(ISERROR(VLOOKUP(F47,ages!B$1:B$23,1,1)),\"\",VLOOKUP(F47,ages!B$1:B$23,1,1))","v":""},{"$f":"IF(ISERROR(VLOOKUP(F47,ages!B$1:D$23,3,1)),\"\",VLOOKUP(F47,ages!B$1:D$23,3,1))","v":""},0,0,0,0,0]
[null,null,null,null,null,"",null,null,null,null,null,null,"","","","","","","","","","",{"$f":"IF(ISNUMBER(F48),IF(AL48<0.85,\"\",VLOOKUP(M48,A!A$2:X$23,VLOOKUP(F48,ages!B$1:C$23,2,1),1)),\"\")","v":""},{"$f":"IF(ISNUMBER(F48),IF(AM48<0.85,\"\",VLOOKUP(N48,B!A$2:X$23,VLOOKUP(F48,ages!B$1:C$23,2,1),1)),\"\")","v":""},{"$f":"IF(ISNUMBER(F48),IF(AN48<0.85,\"\",VLOOKUP(O48,'C'!A$2:X$23,VLOOKUP(F48,ages!B$1:C$23,2,1),1)),\"\")","v":""},{"$f":"IF(ISNUMBER(F48),IF(AO48<0.85,\"\",VLOOKUP(P48,D!A$2:X$23,VLOOKUP(F48,ages!B$1:C$23,2,1),1)),\"\")","v":""},{"$f":"IF(ISNUMBER(F48),IF(AP48<0.85,\"\",VLOOKUP(Q48,E!A$2:X$23,VLOOKUP(F48,ages!B$1:C$23,2,1),1)),\"\")","v":""},{"$f":"IF(ISNUMBER(F48),IF(AQ48<0.85,\"\",VLOOKUP(R48,F!A$2:X$23,VLOOKUP(F48,ages!B$1:C$23,2,1),1)),\"\")","v":""},{"$f":"IF(ISNUMBER(F48),IF(AR48<0.85,\"\",VLOOKUP(S48,G!A$2:X$23,VLOOKUP(F48,ages!B$1:C$23,2,1),1)),\"\")","v":""},{"$f":"IF(ISNUMBER(F48),IF(AS48<0.85,\"\",VLOOKUP(T48,H!A$2:X$23,VLOOKUP(F48,ages!B$1:C$23,2,1),1)),\"\")","v":""},{"$f":"IF(ISNUMBER(F48),IF(AT48<0.85,\"\",VLOOKUP(U48,I!A$2:X$23,VLOOKUP(F48,ages!B$1:C$23,2,1),1)),\"\")","v":""},{"$f":"IF(ISNUMBER(F48),IF(AU48<0.85,\"\",VLOOKUP(V48,J!A$2:X$23,VLOOKUP(F48,ages!B$1:C$23,2,1),1)),\"\")","v":""},"","","","",-1.0000000000000002E-6,0,0,0,0,0,0,0,0,0,0,0,null,null,null,null,null,null,null,null,null,null,null,null,null,null,null,null,null,null,null,null,null,null,null,null,null,null,null,null,null,null,null,null,null,null,null,null,null,null,null,null,null,null,null,null,null,null,null,null,null,null,null,null,null,null,null,null,null,null,null,null,null,null,null,null,null,null,null,null,null,null,-9.9999999999999995E-7,-9.9999999999999995E-7,-9.9999999999999995E-7,-9.9999999999999995E-7,-9.9999999999999995E-7,-9.9999999999999995E-7,-9.9999999999999995E-7,-9.9999999999999995E-7,-9.9999999999999995E-7,-9.9999999999999995E-7,-9.9999999999999995E-7,-9.9999999999999995E-7,-9.9999999999999995E-7,-9.9999999999999995E-7,-9.9999999999999995E-7,-9.9999999999999995E-7,-9.9999999999999995E-7,-9.9999999999999995E-7,-9.9999999999999995E-7,-9.9999999999999995E-7,{"$f":"IF(ISERROR(VLOOKUP(F48,ages!B$1:B$23,1,1)),\"\",VLOOKUP(F48,ages!B$1:B$23,1,1))","v":""},{"$f":"IF(ISERROR(VLOOKUP(F48,ages!B$1:D$23,3,1)),\"\",VLOOKUP(F48,ages!B$1:D$23,3,1))","v":""},0,0,0,0,0]
[null,null,null,null,null,"",null,null,null,null,null,null,"","","","","","","","","","",{"$f":"IF(ISNUMBER(F49),IF(AL49<0.85,\"\",VLOOKUP(M49,A!A$2:X$23,VLOOKUP(F49,ages!B$1:C$23,2,1),1)),\"\")","v":""},{"$f":"IF(ISNUMBER(F49),IF(AM49<0.85,\"\",VLOOKUP(N49,B!A$2:X$23,VLOOKUP(F49,ages!B$1:C$23,2,1),1)),\"\")","v":""},{"$f":"IF(ISNUMBER(F49),IF(AN49<0.85,\"\",VLOOKUP(O49,'C'!A$2:X$23,VLOOKUP(F49,ages!B$1:C$23,2,1),1)),\"\")","v":""},{"$f":"IF(ISNUMBER(F49),IF(AO49<0.85,\"\",VLOOKUP(P49,D!A$2:X$23,VLOOKUP(F49,ages!B$1:C$23,2,1),1)),\"\")","v":""},{"$f":"IF(ISNUMBER(F49),IF(AP49<0.85,\"\",VLOOKUP(Q49,E!A$2:X$23,VLOOKUP(F49,ages!B$1:C$23,2,1),1)),\"\")","v":""},{"$f":"IF(ISNUMBER(F49),IF(AQ49<0.85,\"\",VLOOKUP(R49,F!A$2:X$23,VLOOKUP(F49,ages!B$1:C$23,2,1),1)),\"\")","v":""},{"$f":"IF(ISNUMBER(F49),IF(AR49<0.85,\"\",VLOOKUP(S49,G!A$2:X$23,VLOOKUP(F49,ages!B$1:C$23,2,1),1)),\"\")","v":""},{"$f":"IF(ISNUMBER(F49),IF(AS49<0.85,\"\",VLOOKUP(T49,H!A$2:X$23,VLOOKUP(F49,ages!B$1:C$23,2,1),1)),\"\")","v":""},{"$f":"IF(ISNUMBER(F49),IF(AT49<0.85,\"\",VLOOKUP(U49,I!A$2:X$23,VLOOKUP(F49,ages!B$1:C$23,2,1),1)),\"\")","v":""},{"$f":"IF(ISNUMBER(F49),IF(AU49<0.85,\"\",VLOOKUP(V49,J!A$2:X$23,VLOOKUP(F49,ages!B$1:C$23,2,1),1)),\"\")","v":""},"","","","",-1.0000000000000002E-6,0,0,0,0,0,0,0,0,0,0,0,null,null,null,null,null,null,null,null,null,null,null,null,null,null,null,null,null,null,null,null,null,null,null,null,null,null,null,null,null,null,null,null,null,null,null,null,null,null,null,null,null,null,null,null,null,null,null,null,null,null,null,null,null,null,null,null,null,null,null,null,null,null,null,null,null,null,null,null,null,null,-9.9999999999999995E-7,-9.9999999999999995E-7,-9.9999999999999995E-7,-9.9999999999999995E-7,-9.9999999999999995E-7,-9.9999999999999995E-7,-9.9999999999999995E-7,-9.9999999999999995E-7,-9.9999999999999995E-7,-9.9999999999999995E-7,-9.9999999999999995E-7,-9.9999999999999995E-7,-9.9999999999999995E-7,-9.9999999999999995E-7,-9.9999999999999995E-7,-9.9999999999999995E-7,-9.9999999999999995E-7,-9.9999999999999995E-7,-9.9999999999999995E-7,-9.9999999999999995E-7,{"$f":"IF(ISERROR(VLOOKUP(F49,ages!B$1:B$23,1,1)),\"\",VLOOKUP(F49,ages!B$1:B$23,1,1))","v":""},{"$f":"IF(ISERROR(VLOOKUP(F49,ages!B$1:D$23,3,1)),\"\",VLOOKUP(F49,ages!B$1:D$23,3,1))","v":""},0,0,0,0,0]
[null,null,null,null,null,"",null,null,null,null,null,null,"","","","","","","","","","",{"$f":"IF(ISNUMBER(F50),IF(AL50<0.85,\"\",VLOOKUP(M50,A!A$2:X$23,VLOOKUP(F50,ages!B$1:C$23,2,1),1)),\"\")","v":""},{"$f":"IF(ISNUMBER(F50),IF(AM50<0.85,\"\",VLOOKUP(N50,B!A$2:X$23,VLOOKUP(F50,ages!B$1:C$23,2,1),1)),\"\")","v":""},{"$f":"IF(ISNUMBER(F50),IF(AN50<0.85,\"\",VLOOKUP(O50,'C'!A$2:X$23,VLOOKUP(F50,ages!B$1:C$23,2,1),1)),\"\")","v":""},{"$f":"IF(ISNUMBER(F50),IF(AO50<0.85,\"\",VLOOKUP(P50,D!A$2:X$23,VLOOKUP(F50,ages!B$1:C$23,2,1),1)),\"\")","v":""},{"$f":"IF(ISNUMBER(F50),IF(AP50<0.85,\"\",VLOOKUP(Q50,E!A$2:X$23,VLOOKUP(F50,ages!B$1:C$23,2,1),1)),\"\")","v":""},{"$f":"IF(ISNUMBER(F50),IF(AQ50<0.85,\"\",VLOOKUP(R50,F!A$2:X$23,VLOOKUP(F50,ages!B$1:C$23,2,1),1)),\"\")","v":""},{"$f":"IF(ISNUMBER(F50),IF(AR50<0.85,\"\",VLOOKUP(S50,G!A$2:X$23,VLOOKUP(F50,ages!B$1:C$23,2,1),1)),\"\")","v":""},{"$f":"IF(ISNUMBER(F50),IF(AS50<0.85,\"\",VLOOKUP(T50,H!A$2:X$23,VLOOKUP(F50,ages!B$1:C$23,2,1),1)),\"\")","v":""},{"$f":"IF(ISNUMBER(F50),IF(AT50<0.85,\"\",VLOOKUP(U50,I!A$2:X$23,VLOOKUP(F50,ages!B$1:C$23,2,1),1)),\"\")","v":""},{"$f":"IF(ISNUMBER(F50),IF(AU50<0.85,\"\",VLOOKUP(V50,J!A$2:X$23,VLOOKUP(F50,ages!B$1:C$23,2,1),1)),\"\")","v":""},"","","","",-1.0000000000000002E-6,0,0,0,0,0,0,0,0,0,0,0,null,null,null,null,null,null,null,null,null,null,null,null,null,null,null,null,null,null,null,null,null,null,null,null,null,null,null,null,null,null,null,null,null,null,null,null,null,null,null,null,null,null,null,null,null,null,null,null,null,null,null,null,null,null,null,null,null,null,null,null,null,null,null,null,null,null,null,null,null,null,-9.9999999999999995E-7,-9.9999999999999995E-7,-9.9999999999999995E-7,-9.9999999999999995E-7,-9.9999999999999995E-7,-9.9999999999999995E-7,-9.9999999999999995E-7,-9.9999999999999995E-7,-9.9999999999999995E-7,-9.9999999999999995E-7,-9.9999999999999995E-7,-9.9999999999999995E-7,-9.9999999999999995E-7,-9.9999999999999995E-7,-9.9999999999999995E-7,-9.9999999999999995E-7,-9.9999999999999995E-7,-9.9999999999999995E-7,-9.9999999999999995E-7,-9.9999999999999995E-7,{"$f":"IF(ISERROR(VLOOKUP(F50,ages!B$1:B$23,1,1)),\"\",VLOOKUP(F50,ages!B$1:B$23,1,1))","v":""},{"$f":"IF(ISERROR(VLOOKUP(F50,ages!B$1:D$23,3,1)),\"\",VLOOKUP(F50,ages!B$1:D$23,3,1))","v":""},0,0,0,0,0]
[null,null,null,null,null,"",null,null,null,null,null,null,"","","","","","","","","","",{"$f":"IF(ISNUMBER(F51),IF(AL51<0.85,\"\",VLOOKUP(M51,A!A$2:X$23,VLOOKUP(F51,ages!B$1:C$23,2,1),1)),\"\")","v":""},{"$f":"IF(ISNUMBER(F51),IF(AM51<0.85,\"\",VLOOKUP(N51,B!A$2:X$23,VLOOKUP(F51,ages!B$1:C$23,2,1),1)),\"\")","v":""},{"$f":"IF(ISNUMBER(F51),IF(AN51<0.85,\"\",VLOOKUP(O51,'C'!A$2:X$23,VLOOKUP(F51,ages!B$1:C$23,2,1),1)),\"\")","v":""},{"$f":"IF(ISNUMBER(F51),IF(AO51<0.85,\"\",VLOOKUP(P51,D!A$2:X$23,VLOOKUP(F51,ages!B$1:C$23,2,1),1)),\"\")","v":""},{"$f":"IF(ISNUMBER(F51),IF(AP51<0.85,\"\",VLOOKUP(Q51,E!A$2:X$23,VLOOKUP(F51,ages!B$1:C$23,2,1),1)),\"\")","v":""},{"$f":"IF(ISNUMBER(F51),IF(AQ51<0.85,\"\",VLOOKUP(R51,F!A$2:X$23,VLOOKUP(F51,ages!B$1:C$23,2,1),1)),\"\")","v":""},{"$f":"IF(ISNUMBER(F51),IF(AR51<0.85,\"\",VLOOKUP(S51,G!A$2:X$23,VLOOKUP(F51,ages!B$1:C$23,2,1),1)),\"\")","v":""},{"$f":"IF(ISNUMBER(F51),IF(AS51<0.85,\"\",VLOOKUP(T51,H!A$2:X$23,VLOOKUP(F51,ages!B$1:C$23,2,1),1)),\"\")","v":""},{"$f":"IF(ISNUMBER(F51),IF(AT51<0.85,\"\",VLOOKUP(U51,I!A$2:X$23,VLOOKUP(F51,ages!B$1:C$23,2,1),1)),\"\")","v":""},{"$f":"IF(ISNUMBER(F51),IF(AU51<0.85,\"\",VLOOKUP(V51,J!A$2:X$23,VLOOKUP(F51,ages!B$1:C$23,2,1),1)),\"\")","v":""},"","","","",-1.0000000000000002E-6,0,0,0,0,0,0,0,0,0,0,0,null,null,null,null,null,null,null,null,null,null,null,null,null,null,null,null,null,null,null,null,null,null,null,null,null,null,null,null,null,null,null,null,null,null,null,null,null,null,null,null,null,null,null,null,null,null,null,null,null,null,null,null,null,null,null,null,null,null,null,null,null,null,null,null,null,null,null,null,null,null,-9.9999999999999995E-7,-9.9999999999999995E-7,-9.9999999999999995E-7,-9.9999999999999995E-7,-9.9999999999999995E-7,-9.9999999999999995E-7,-9.9999999999999995E-7,-9.9999999999999995E-7,-9.9999999999999995E-7,-9.9999999999999995E-7,-9.9999999999999995E-7,-9.9999999999999995E-7,-9.9999999999999995E-7,-9.9999999999999995E-7,-9.9999999999999995E-7,-9.9999999999999995E-7,-9.9999999999999995E-7,-9.9999999999999995E-7,-9.9999999999999995E-7,-9.9999999999999995E-7,{"$f":"IF(ISERROR(VLOOKUP(F51,ages!B$1:B$23,1,1)),\"\",VLOOKUP(F51,ages!B$1:B$23,1,1))","v":""},{"$f":"IF(ISERROR(VLOOKUP(F51,ages!B$1:D$23,3,1)),\"\",VLOOKUP(F51,ages!B$1:D$23,3,1))","v":""},0,0,0,0,0]
[null,null,null,null,null,"",null,null,null,null,null,null,"","","","","","","","","","",{"$f":"IF(ISNUMBER(F52),IF(AL52<0.85,\"\",VLOOKUP(M52,A!A$2:X$23,VLOOKUP(F52,ages!B$1:C$23,2,1),1)),\"\")","v":""},{"$f":"IF(ISNUMBER(F52),IF(AM52<0.85,\"\",VLOOKUP(N52,B!A$2:X$23,VLOOKUP(F52,ages!B$1:C$23,2,1),1)),\"\")","v":""},{"$f":"IF(ISNUMBER(F52),IF(AN52<0.85,\"\",VLOOKUP(O52,'C'!A$2:X$23,VLOOKUP(F52,ages!B$1:C$23,2,1),1)),\"\")","v":""},{"$f":"IF(ISNUMBER(F52),IF(AO52<0.85,\"\",VLOOKUP(P52,D!A$2:X$23,VLOOKUP(F52,ages!B$1:C$23,2,1),1)),\"\")","v":""},{"$f":"IF(ISNUMBER(F52),IF(AP52<0.85,\"\",VLOOKUP(Q52,E!A$2:X$23,VLOOKUP(F52,ages!B$1:C$23,2,1),1)),\"\")","v":""},{"$f":"IF(ISNUMBER(F52),IF(AQ52<0.85,\"\",VLOOKUP(R52,F!A$2:X$23,VLOOKUP(F52,ages!B$1:C$23,2,1),1)),\"\")","v":""},{"$f":"IF(ISNUMBER(F52),IF(AR52<0.85,\"\",VLOOKUP(S52,G!A$2:X$23,VLOOKUP(F52,ages!B$1:C$23,2,1),1)),\"\")","v":""},{"$f":"IF(ISNUMBER(F52),IF(AS52<0.85,\"\",VLOOKUP(T52,H!A$2:X$23,VLOOKUP(F52,ages!B$1:C$23,2,1),1)),\"\")","v":""},{"$f":"IF(ISNUMBER(F52),IF(AT52<0.85,\"\",VLOOKUP(U52,I!A$2:X$23,VLOOKUP(F52,ages!B$1:C$23,2,1),1)),\"\")","v":""},{"$f":"IF(ISNUMBER(F52),IF(AU52<0.85,\"\",VLOOKUP(V52,J!A$2:X$23,VLOOKUP(F52,ages!B$1:C$23,2,1),1)),\"\")","v":""},"","","","",-1.0000000000000002E-6,0,0,0,0,0,0,0,0,0,0,0,null,null,null,null,null,null,null,null,null,null,null,null,null,null,null,null,null,null,null,null,null,null,null,null,null,null,null,null,null,null,null,null,null,null,null,null,null,null,null,null,null,null,null,null,null,null,null,null,null,null,null,null,null,null,null,null,null,null,null,null,null,null,null,null,null,null,null,null,null,null,-9.9999999999999995E-7,-9.9999999999999995E-7,-9.9999999999999995E-7,-9.9999999999999995E-7,-9.9999999999999995E-7,-9.9999999999999995E-7,-9.9999999999999995E-7,-9.9999999999999995E-7,-9.9999999999999995E-7,-9.9999999999999995E-7,-9.9999999999999995E-7,-9.9999999999999995E-7,-9.9999999999999995E-7,-9.9999999999999995E-7,-9.9999999999999995E-7,-9.9999999999999995E-7,-9.9999999999999995E-7,-9.9999999999999995E-7,-9.9999999999999995E-7,-9.9999999999999995E-7,{"$f":"IF(ISERROR(VLOOKUP(F52,ages!B$1:B$23,1,1)),\"\",VLOOKUP(F52,ages!B$1:B$23,1,1))","v":""},{"$f":"IF(ISERROR(VLOOKUP(F52,ages!B$1:D$23,3,1)),\"\",VLOOKUP(F52,ages!B$1:D$23,3,1))","v":""},0,0,0,0,0]
[null,null,null,null,null,"",null,null,null,null,null,null,"","","","","","","","","","",{"$f":"IF(ISNUMBER(F53),IF(AL53<0.85,\"\",VLOOKUP(M53,A!A$2:X$23,VLOOKUP(F53,ages!B$1:C$23,2,1),1)),\"\")","v":""},{"$f":"IF(ISNUMBER(F53),IF(AM53<0.85,\"\",VLOOKUP(N53,B!A$2:X$23,VLOOKUP(F53,ages!B$1:C$23,2,1),1)),\"\")","v":""},{"$f":"IF(ISNUMBER(F53),IF(AN53<0.85,\"\",VLOOKUP(O53,'C'!A$2:X$23,VLOOKUP(F53,ages!B$1:C$23,2,1),1)),\"\")","v":""},{"$f":"IF(ISNUMBER(F53),IF(AO53<0.85,\"\",VLOOKUP(P53,D!A$2:X$23,VLOOKUP(F53,ages!B$1:C$23,2,1),1)),\"\")","v":""},{"$f":"IF(ISNUMBER(F53),IF(AP53<0.85,\"\",VLOOKUP(Q53,E!A$2:X$23,VLOOKUP(F53,ages!B$1:C$23,2,1),1)),\"\")","v":""},{"$f":"IF(ISNUMBER(F53),IF(AQ53<0.85,\"\",VLOOKUP(R53,F!A$2:X$23,VLOOKUP(F53,ages!B$1:C$23,2,1),1)),\"\")","v":""},{"$f":"IF(ISNUMBER(F53),IF(AR53<0.85,\"\",VLOOKUP(S53,G!A$2:X$23,VLOOKUP(F53,ages!B$1:C$23,2,1),1)),\"\")","v":""},{"$f":"IF(ISNUMBER(F53),IF(AS53<0.85,\"\",VLOOKUP(T53,H!A$2:X$23,VLOOKUP(F53,ages!B$1:C$23,2,1),1)),\"\")","v":""},{"$f":"IF(ISNUMBER(F53),IF(AT53<0.85,\"\",VLOOKUP(U53,I!A$2:X$23,VLOOKUP(F53,ages!B$1:C$23,2,1),1)),\"\")","v":""},{"$f":"IF(ISNUMBER(F53),IF(AU53<0.85,\"\",VLOOKUP(V53,J!A$2:X$23,VLOOKUP(F53,ages!B$1:C$23,2,1),1)),\"\")","v":""},"","","","",-1.0000000000000002E-6,0,0,0,0,0,0,0,0,0,0,0,null,null,null,null,null,null,null,null,null,null,null,null,null,null,null,null,null,null,null,null,null,null,null,null,null,null,null,null,null,null,null,null,null,null,null,null,null,null,null,null,null,null,null,null,null,null,null,null,null,null,null,null,null,null,null,null,null,null,null,null,null,null,null,null,null,null,null,null,null,null,-9.9999999999999995E-7,-9.9999999999999995E-7,-9.9999999999999995E-7,-9.9999999999999995E-7,-9.9999999999999995E-7,-9.9999999999999995E-7,-9.9999999999999995E-7,-9.9999999999999995E-7,-9.9999999999999995E-7,-9.9999999999999995E-7,-9.9999999999999995E-7,-9.9999999999999995E-7,-9.9999999999999995E-7,-9.9999999999999995E-7,-9.9999999999999995E-7,-9.9999999999999995E-7,-9.9999999999999995E-7,-9.9999999999999995E-7,-9.9999999999999995E-7,-9.9999999999999995E-7,{"$f":"IF(ISERROR(VLOOKUP(F53,ages!B$1:B$23,1,1)),\"\",VLOOKUP(F53,ages!B$1:B$23,1,1))","v":""},{"$f":"IF(ISERROR(VLOOKUP(F53,ages!B$1:D$23,3,1)),\"\",VLOOKUP(F53,ages!B$1:D$23,3,1))","v":""},0,0,0,0,0]
[null,null,null,null,null,"",null,null,null,null,null,null,"","","","","","","","","","",{"$f":"IF(ISNUMBER(F54),IF(AL54<0.85,\"\",VLOOKUP(M54,A!A$2:X$23,VLOOKUP(F54,ages!B$1:C$23,2,1),1)),\"\")","v":""},{"$f":"IF(ISNUMBER(F54),IF(AM54<0.85,\"\",VLOOKUP(N54,B!A$2:X$23,VLOOKUP(F54,ages!B$1:C$23,2,1),1)),\"\")","v":""},{"$f":"IF(ISNUMBER(F54),IF(AN54<0.85,\"\",VLOOKUP(O54,'C'!A$2:X$23,VLOOKUP(F54,ages!B$1:C$23,2,1),1)),\"\")","v":""},{"$f":"IF(ISNUMBER(F54),IF(AO54<0.85,\"\",VLOOKUP(P54,D!A$2:X$23,VLOOKUP(F54,ages!B$1:C$23,2,1),1)),\"\")","v":""},{"$f":"IF(ISNUMBER(F54),IF(AP54<0.85,\"\",VLOOKUP(Q54,E!A$2:X$23,VLOOKUP(F54,ages!B$1:C$23,2,1),1)),\"\")","v":""},{"$f":"IF(ISNUMBER(F54),IF(AQ54<0.85,\"\",VLOOKUP(R54,F!A$2:X$23,VLOOKUP(F54,ages!B$1:C$23,2,1),1)),\"\")","v":""},{"$f":"IF(ISNUMBER(F54),IF(AR54<0.85,\"\",VLOOKUP(S54,G!A$2:X$23,VLOOKUP(F54,ages!B$1:C$23,2,1),1)),\"\")","v":""},{"$f":"IF(ISNUMBER(F54),IF(AS54<0.85,\"\",VLOOKUP(T54,H!A$2:X$23,VLOOKUP(F54,ages!B$1:C$23,2,1),1)),\"\")","v":""},{"$f":"IF(ISNUMBER(F54),IF(AT54<0.85,\"\",VLOOKUP(U54,I!A$2:X$23,VLOOKUP(F54,ages!B$1:C$23,2,1),1)),\"\")","v":""},{"$f":"IF(ISNUMBER(F54),IF(AU54<0.85,\"\",VLOOKUP(V54,J!A$2:X$23,VLOOKUP(F54,ages!B$1:C$23,2,1),1)),\"\")","v":""},"","","","",-1.0000000000000002E-6,0,0,0,0,0,0,0,0,0,0,0,null,null,null,null,null,null,null,null,null,null,null,null,null,null,null,null,null,null,null,null,null,null,null,null,null,null,null,null,null,null,null,null,null,null,null,null,null,null,null,null,null,null,null,null,null,null,null,null,null,null,null,null,null,null,null,null,null,null,null,null,null,null,null,null,null,null,null,null,null,null,-9.9999999999999995E-7,-9.9999999999999995E-7,-9.9999999999999995E-7,-9.9999999999999995E-7,-9.9999999999999995E-7,-9.9999999999999995E-7,-9.9999999999999995E-7,-9.9999999999999995E-7,-9.9999999999999995E-7,-9.9999999999999995E-7,-9.9999999999999995E-7,-9.9999999999999995E-7,-9.9999999999999995E-7,-9.9999999999999995E-7,-9.9999999999999995E-7,-9.9999999999999995E-7,-9.9999999999999995E-7,-9.9999999999999995E-7,-9.9999999999999995E-7,-9.9999999999999995E-7,{"$f":"IF(ISERROR(VLOOKUP(F54,ages!B$1:B$23,1,1)),\"\",VLOOKUP(F54,ages!B$1:B$23,1,1))","v":""},{"$f":"IF(ISERROR(VLOOKUP(F54,ages!B$1:D$23,3,1)),\"\",VLOOKUP(F54,ages!B$1:D$23,3,1))","v":""},0,0,0,0,0]
[null,null,null,null,null,"",null,null,null,null,null,null,"","","","","","","","","","",{"$f":"IF(ISNUMBER(F55),IF(AL55<0.85,\"\",VLOOKUP(M55,A!A$2:X$23,VLOOKUP(F55,ages!B$1:C$23,2,1),1)),\"\")","v":""},{"$f":"IF(ISNUMBER(F55),IF(AM55<0.85,\"\",VLOOKUP(N55,B!A$2:X$23,VLOOKUP(F55,ages!B$1:C$23,2,1),1)),\"\")","v":""},{"$f":"IF(ISNUMBER(F55),IF(AN55<0.85,\"\",VLOOKUP(O55,'C'!A$2:X$23,VLOOKUP(F55,ages!B$1:C$23,2,1),1)),\"\")","v":""},{"$f":"IF(ISNUMBER(F55),IF(AO55<0.85,\"\",VLOOKUP(P55,D!A$2:X$23,VLOOKUP(F55,ages!B$1:C$23,2,1),1)),\"\")","v":""},{"$f":"IF(ISNUMBER(F55),IF(AP55<0.85,\"\",VLOOKUP(Q55,E!A$2:X$23,VLOOKUP(F55,ages!B$1:C$23,2,1),1)),\"\")","v":""},{"$f":"IF(ISNUMBER(F55),IF(AQ55<0.85,\"\",VLOOKUP(R55,F!A$2:X$23,VLOOKUP(F55,ages!B$1:C$23,2,1),1)),\"\")","v":""},{"$f":"IF(ISNUMBER(F55),IF(AR55<0.85,\"\",VLOOKUP(S55,G!A$2:X$23,VLOOKUP(F55,ages!B$1:C$23,2,1),1)),\"\")","v":""},{"$f":"IF(ISNUMBER(F55),IF(AS55<0.85,\"\",VLOOKUP(T55,H!A$2:X$23,VLOOKUP(F55,ages!B$1:C$23,2,1),1)),\"\")","v":""},{"$f":"IF(ISNUMBER(F55),IF(AT55<0.85,\"\",VLOOKUP(U55,I!A$2:X$23,VLOOKUP(F55,ages!B$1:C$23,2,1),1)),\"\")","v":""},{"$f":"IF(ISNUMBER(F55),IF(AU55<0.85,\"\",VLOOKUP(V55,J!A$2:X$23,VLOOKUP(F55,ages!B$1:C$23,2,1),1)),\"\")","v":""},"","","","",-1.0000000000000002E-6,0,0,0,0,0,0,0,0,0,0,0,null,null,null,null,null,null,null,null,null,null,null,null,null,null,null,null,null,null,null,null,null,null,null,null,null,null,null,null,null,null,null,null,null,null,null,null,null,null,null,null,null,null,null,null,null,null,null,null,null,null,null,null,null,null,null,null,null,null,null,null,null,null,null,null,null,null,null,null,null,null,-9.9999999999999995E-7,-9.9999999999999995E-7,-9.9999999999999995E-7,-9.9999999999999995E-7,-9.9999999999999995E-7,-9.9999999999999995E-7,-9.9999999999999995E-7,-9.9999999999999995E-7,-9.9999999999999995E-7,-9.9999999999999995E-7,-9.9999999999999995E-7,-9.9999999999999995E-7,-9.9999999999999995E-7,-9.9999999999999995E-7,-9.9999999999999995E-7,-9.9999999999999995E-7,-9.9999999999999995E-7,-9.9999999999999995E-7,-9.9999999999999995E-7,-9.9999999999999995E-7,{"$f":"IF(ISERROR(VLOOKUP(F55,ages!B$1:B$23,1,1)),\"\",VLOOKUP(F55,ages!B$1:B$23,1,1))","v":""},{"$f":"IF(ISERROR(VLOOKUP(F55,ages!B$1:D$23,3,1)),\"\",VLOOKUP(F55,ages!B$1:D$23,3,1))","v":""},0,0,0,0,0]
[null,null,null,null,null,"",null,null,null,null,null,null,"","","","","","","","","","",{"$f":"IF(ISNUMBER(F56),IF(AL56<0.85,\"\",VLOOKUP(M56,A!A$2:X$23,VLOOKUP(F56,ages!B$1:C$23,2,1),1)),\"\")","v":""},{"$f":"IF(ISNUMBER(F56),IF(AM56<0.85,\"\",VLOOKUP(N56,B!A$2:X$23,VLOOKUP(F56,ages!B$1:C$23,2,1),1)),\"\")","v":""},{"$f":"IF(ISNUMBER(F56),IF(AN56<0.85,\"\",VLOOKUP(O56,'C'!A$2:X$23,VLOOKUP(F56,ages!B$1:C$23,2,1),1)),\"\")","v":""},{"$f":"IF(ISNUMBER(F56),IF(AO56<0.85,\"\",VLOOKUP(P56,D!A$2:X$23,VLOOKUP(F56,ages!B$1:C$23,2,1),1)),\"\")","v":""},{"$f":"IF(ISNUMBER(F56),IF(AP56<0.85,\"\",VLOOKUP(Q56,E!A$2:X$23,VLOOKUP(F56,ages!B$1:C$23,2,1),1)),\"\")","v":""},{"$f":"IF(ISNUMBER(F56),IF(AQ56<0.85,\"\",VLOOKUP(R56,F!A$2:X$23,VLOOKUP(F56,ages!B$1:C$23,2,1),1)),\"\")","v":""},{"$f":"IF(ISNUMBER(F56),IF(AR56<0.85,\"\",VLOOKUP(S56,G!A$2:X$23,VLOOKUP(F56,ages!B$1:C$23,2,1),1)),\"\")","v":""},{"$f":"IF(ISNUMBER(F56),IF(AS56<0.85,\"\",VLOOKUP(T56,H!A$2:X$23,VLOOKUP(F56,ages!B$1:C$23,2,1),1)),\"\")","v":""},{"$f":"IF(ISNUMBER(F56),IF(AT56<0.85,\"\",VLOOKUP(U56,I!A$2:X$23,VLOOKUP(F56,ages!B$1:C$23,2,1),1)),\"\")","v":""},{"$f":"IF(ISNUMBER(F56),IF(AU56<0.85,\"\",VLOOKUP(V56,J!A$2:X$23,VLOOKUP(F56,ages!B$1:C$23,2,1),1)),\"\")","v":""},"","","","",-1.0000000000000002E-6,0,0,0,0,0,0,0,0,0,0,0,null,null,null,null,null,null,null,null,null,null,null,null,null,null,null,null,null,null,null,null,null,null,null,null,null,null,null,null,null,null,null,null,null,null,null,null,null,null,null,null,null,null,null,null,null,null,null,null,null,null,null,null,null,null,null,null,null,null,null,null,null,null,null,null,null,null,null,null,null,null,-9.9999999999999995E-7,-9.9999999999999995E-7,-9.9999999999999995E-7,-9.9999999999999995E-7,-9.9999999999999995E-7,-9.9999999999999995E-7,-9.9999999999999995E-7,-9.9999999999999995E-7,-9.9999999999999995E-7,-9.9999999999999995E-7,-9.9999999999999995E-7,-9.9999999999999995E-7,-9.9999999999999995E-7,-9.9999999999999995E-7,-9.9999999999999995E-7,-9.9999999999999995E-7,-9.9999999999999995E-7,-9.9999999999999995E-7,-9.9999999999999995E-7,-9.9999999999999995E-7,{"$f":"IF(ISERROR(VLOOKUP(F56,ages!B$1:B$23,1,1)),\"\",VLOOKUP(F56,ages!B$1:B$23,1,1))","v":""},{"$f":"IF(ISERROR(VLOOKUP(F56,ages!B$1:D$23,3,1)),\"\",VLOOKUP(F56,ages!B$1:D$23,3,1))","v":""},0,0,0,0,0]
[null,null,null,null,null,"",null,null,null,null,null,null,"","","","","","","","","","",{"$f":"IF(ISNUMBER(F57),IF(AL57<0.85,\"\",VLOOKUP(M57,A!A$2:X$23,VLOOKUP(F57,ages!B$1:C$23,2,1),1)),\"\")","v":""},{"$f":"IF(ISNUMBER(F57),IF(AM57<0.85,\"\",VLOOKUP(N57,B!A$2:X$23,VLOOKUP(F57,ages!B$1:C$23,2,1),1)),\"\")","v":""},{"$f":"IF(ISNUMBER(F57),IF(AN57<0.85,\"\",VLOOKUP(O57,'C'!A$2:X$23,VLOOKUP(F57,ages!B$1:C$23,2,1),1)),\"\")","v":""},{"$f":"IF(ISNUMBER(F57),IF(AO57<0.85,\"\",VLOOKUP(P57,D!A$2:X$23,VLOOKUP(F57,ages!B$1:C$23,2,1),1)),\"\")","v":""},{"$f":"IF(ISNUMBER(F57),IF(AP57<0.85,\"\",VLOOKUP(Q57,E!A$2:X$23,VLOOKUP(F57,ages!B$1:C$23,2,1),1)),\"\")","v":""},{"$f":"IF(ISNUMBER(F57),IF(AQ57<0.85,\"\",VLOOKUP(R57,F!A$2:X$23,VLOOKUP(F57,ages!B$1:C$23,2,1),1)),\"\")","v":""},{"$f":"IF(ISNUMBER(F57),IF(AR57<0.85,\"\",VLOOKUP(S57,G!A$2:X$23,VLOOKUP(F57,ages!B$1:C$23,2,1),1)),\"\")","v":""},{"$f":"IF(ISNUMBER(F57),IF(AS57<0.85,\"\",VLOOKUP(T57,H!A$2:X$23,VLOOKUP(F57,ages!B$1:C$23,2,1),1)),\"\")","v":""},{"$f":"IF(ISNUMBER(F57),IF(AT57<0.85,\"\",VLOOKUP(U57,I!A$2:X$23,VLOOKUP(F57,ages!B$1:C$23,2,1),1)),\"\")","v":""},{"$f":"IF(ISNUMBER(F57),IF(AU57<0.85,\"\",VLOOKUP(V57,J!A$2:X$23,VLOOKUP(F57,ages!B$1:C$23,2,1),1)),\"\")","v":""},"","","","",-1.0000000000000002E-6,0,0,0,0,0,0,0,0,0,0,0,null,null,null,null,null,null,null,null,null,null,null,null,null,null,null,null,null,null,null,null,null,null,null,null,null,null,null,null,null,null,null,null,null,null,null,null,null,null,null,null,null,null,null,null,null,null,null,null,null,null,null,null,null,null,null,null,null,null,null,null,null,null,null,null,null,null,null,null,null,null,-9.9999999999999995E-7,-9.9999999999999995E-7,-9.9999999999999995E-7,-9.9999999999999995E-7,-9.9999999999999995E-7,-9.9999999999999995E-7,-9.9999999999999995E-7,-9.9999999999999995E-7,-9.9999999999999995E-7,-9.9999999999999995E-7,-9.9999999999999995E-7,-9.9999999999999995E-7,-9.9999999999999995E-7,-9.9999999999999995E-7,-9.9999999999999995E-7,-9.9999999999999995E-7,-9.9999999999999995E-7,-9.9999999999999995E-7,-9.9999999999999995E-7,-9.9999999999999995E-7,{"$f":"IF(ISERROR(VLOOKUP(F57,ages!B$1:B$23,1,1)),\"\",VLOOKUP(F57,ages!B$1:B$23,1,1))","v":""},{"$f":"IF(ISERROR(VLOOKUP(F57,ages!B$1:D$23,3,1)),\"\",VLOOKUP(F57,ages!B$1:D$23,3,1))","v":""},0,0,0,0,0]
[null,null,null,null,null,"",null,null,null,null,null,null,"","","","","","","","","","",{"$f":"IF(ISNUMBER(F58),IF(AL58<0.85,\"\",VLOOKUP(M58,A!A$2:X$23,VLOOKUP(F58,ages!B$1:C$23,2,1),1)),\"\")","v":""},{"$f":"IF(ISNUMBER(F58),IF(AM58<0.85,\"\",VLOOKUP(N58,B!A$2:X$23,VLOOKUP(F58,ages!B$1:C$23,2,1),1)),\"\")","v":""},{"$f":"IF(ISNUMBER(F58),IF(AN58<0.85,\"\",VLOOKUP(O58,'C'!A$2:X$23,VLOOKUP(F58,ages!B$1:C$23,2,1),1)),\"\")","v":""},{"$f":"IF(ISNUMBER(F58),IF(AO58<0.85,\"\",VLOOKUP(P58,D!A$2:X$23,VLOOKUP(F58,ages!B$1:C$23,2,1),1)),\"\")","v":""},{"$f":"IF(ISNUMBER(F58),IF(AP58<0.85,\"\",VLOOKUP(Q58,E!A$2:X$23,VLOOKUP(F58,ages!B$1:C$23,2,1),1)),\"\")","v":""},{"$f":"IF(ISNUMBER(F58),IF(AQ58<0.85,\"\",VLOOKUP(R58,F!A$2:X$23,VLOOKUP(F58,ages!B$1:C$23,2,1),1)),\"\")","v":""},{"$f":"IF(ISNUMBER(F58),IF(AR58<0.85,\"\",VLOOKUP(S58,G!A$2:X$23,VLOOKUP(F58,ages!B$1:C$23,2,1),1)),\"\")","v":""},{"$f":"IF(ISNUMBER(F58),IF(AS58<0.85,\"\",VLOOKUP(T58,H!A$2:X$23,VLOOKUP(F58,ages!B$1:C$23,2,1),1)),\"\")","v":""},{"$f":"IF(ISNUMBER(F58),IF(AT58<0.85,\"\",VLOOKUP(U58,I!A$2:X$23,VLOOKUP(F58,ages!B$1:C$23,2,1),1)),\"\")","v":""},{"$f":"IF(ISNUMBER(F58),IF(AU58<0.85,\"\",VLOOKUP(V58,J!A$2:X$23,VLOOKUP(F58,ages!B$1:C$23,2,1),1)),\"\")","v":""},"","","","",-1.0000000000000002E-6,0,0,0,0,0,0,0,0,0,0,0,null,null,null,null,null,null,null,null,null,null,null,null,null,null,null,null,null,null,null,null,null,null,null,null,null,null,null,null,null,null,null,null,null,null,null,null,null,null,null,null,null,null,null,null,null,null,null,null,null,null,null,null,null,null,null,null,null,null,null,null,null,null,null,null,null,null,null,null,null,null,-9.9999999999999995E-7,-9.9999999999999995E-7,-9.9999999999999995E-7,-9.9999999999999995E-7,-9.9999999999999995E-7,-9.9999999999999995E-7,-9.9999999999999995E-7,-9.9999999999999995E-7,-9.9999999999999995E-7,-9.9999999999999995E-7,-9.9999999999999995E-7,-9.9999999999999995E-7,-9.9999999999999995E-7,-9.9999999999999995E-7,-9.9999999999999995E-7,-9.9999999999999995E-7,-9.9999999999999995E-7,-9.9999999999999995E-7,-9.9999999999999995E-7,-9.9999999999999995E-7,{"$f":"IF(ISERROR(VLOOKUP(F58,ages!B$1:B$23,1,1)),\"\",VLOOKUP(F58,ages!B$1:B$23,1,1))","v":""},{"$f":"IF(ISERROR(VLOOKUP(F58,ages!B$1:D$23,3,1)),\"\",VLOOKUP(F58,ages!B$1:D$23,3,1))","v":""},0,0,0,0,0]
[null,null,null,null,null,"",null,null,null,null,null,null,"","","","","","","","","","",{"$f":"IF(ISNUMBER(F59),IF(AL59<0.85,\"\",VLOOKUP(M59,A!A$2:X$23,VLOOKUP(F59,ages!B$1:C$23,2,1),1)),\"\")","v":""},{"$f":"IF(ISNUMBER(F59),IF(AM59<0.85,\"\",VLOOKUP(N59,B!A$2:X$23,VLOOKUP(F59,ages!B$1:C$23,2,1),1)),\"\")","v":""},{"$f":"IF(ISNUMBER(F59),IF(AN59<0.85,\"\",VLOOKUP(O59,'C'!A$2:X$23,VLOOKUP(F59,ages!B$1:C$23,2,1),1)),\"\")","v":""},{"$f":"IF(ISNUMBER(F59),IF(AO59<0.85,\"\",VLOOKUP(P59,D!A$2:X$23,VLOOKUP(F59,ages!B$1:C$23,2,1),1)),\"\")","v":""},{"$f":"IF(ISNUMBER(F59),IF(AP59<0.85,\"\",VLOOKUP(Q59,E!A$2:X$23,VLOOKUP(F59,ages!B$1:C$23,2,1),1)),\"\")","v":""},{"$f":"IF(ISNUMBER(F59),IF(AQ59<0.85,\"\",VLOOKUP(R59,F!A$2:X$23,VLOOKUP(F59,ages!B$1:C$23,2,1),1)),\"\")","v":""},{"$f":"IF(ISNUMBER(F59),IF(AR59<0.85,\"\",VLOOKUP(S59,G!A$2:X$23,VLOOKUP(F59,ages!B$1:C$23,2,1),1)),\"\")","v":""},{"$f":"IF(ISNUMBER(F59),IF(AS59<0.85,\"\",VLOOKUP(T59,H!A$2:X$23,VLOOKUP(F59,ages!B$1:C$23,2,1),1)),\"\")","v":""},{"$f":"IF(ISNUMBER(F59),IF(AT59<0.85,\"\",VLOOKUP(U59,I!A$2:X$23,VLOOKUP(F59,ages!B$1:C$23,2,1),1)),\"\")","v":""},{"$f":"IF(ISNUMBER(F59),IF(AU59<0.85,\"\",VLOOKUP(V59,J!A$2:X$23,VLOOKUP(F59,ages!B$1:C$23,2,1),1)),\"\")","v":""},"","","","",-1.0000000000000002E-6,0,0,0,0,0,0,0,0,0,0,0,null,null,null,null,null,null,null,null,null,null,null,null,null,null,null,null,null,null,null,null,null,null,null,null,null,null,null,null,null,null,null,null,null,null,null,null,null,null,null,null,null,null,null,null,null,null,null,null,null,null,null,null,null,null,null,null,null,null,null,null,null,null,null,null,null,null,null,null,null,null,-9.9999999999999995E-7,-9.9999999999999995E-7,-9.9999999999999995E-7,-9.9999999999999995E-7,-9.9999999999999995E-7,-9.9999999999999995E-7,-9.9999999999999995E-7,-9.9999999999999995E-7,-9.9999999999999995E-7,-9.9999999999999995E-7,-9.9999999999999995E-7,-9.9999999999999995E-7,-9.9999999999999995E-7,-9.9999999999999995E-7,-9.9999999999999995E-7,-9.9999999999999995E-7,-9.9999999999999995E-7,-9.9999999999999995E-7,-9.9999999999999995E-7,-9.9999999999999995E-7,{"$f":"IF(ISERROR(VLOOKUP(F59,ages!B$1:B$23,1,1)),\"\",VLOOKUP(F59,ages!B$1:B$23,1,1))","v":""},{"$f":"IF(ISERROR(VLOOKUP(F59,ages!B$1:D$23,3,1)),\"\",VLOOKUP(F59,ages!B$1:D$23,3,1))","v":""},0,0,0,0,0]
[null,null,null,null,null,"",null,null,null,null,null,null,"","","","","","","","","","",{"$f":"IF(ISNUMBER(F60),IF(AL60<0.85,\"\",VLOOKUP(M60,A!A$2:X$23,VLOOKUP(F60,ages!B$1:C$23,2,1),1)),\"\")","v":""},{"$f":"IF(ISNUMBER(F60),IF(AM60<0.85,\"\",VLOOKUP(N60,B!A$2:X$23,VLOOKUP(F60,ages!B$1:C$23,2,1),1)),\"\")","v":""},{"$f":"IF(ISNUMBER(F60),IF(AN60<0.85,\"\",VLOOKUP(O60,'C'!A$2:X$23,VLOOKUP(F60,ages!B$1:C$23,2,1),1)),\"\")","v":""},{"$f":"IF(ISNUMBER(F60),IF(AO60<0.85,\"\",VLOOKUP(P60,D!A$2:X$23,VLOOKUP(F60,ages!B$1:C$23,2,1),1)),\"\")","v":""},{"$f":"IF(ISNUMBER(F60),IF(AP60<0.85,\"\",VLOOKUP(Q60,E!A$2:X$23,VLOOKUP(F60,ages!B$1:C$23,2,1),1)),\"\")","v":""},{"$f":"IF(ISNUMBER(F60),IF(AQ60<0.85,\"\",VLOOKUP(R60,F!A$2:X$23,VLOOKUP(F60,ages!B$1:C$23,2,1),1)),\"\")","v":""},{"$f":"IF(ISNUMBER(F60),IF(AR60<0.85,\"\",VLOOKUP(S60,G!A$2:X$23,VLOOKUP(F60,ages!B$1:C$23,2,1),1)),\"\")","v":""},{"$f":"IF(ISNUMBER(F60),IF(AS60<0.85,\"\",VLOOKUP(T60,H!A$2:X$23,VLOOKUP(F60,ages!B$1:C$23,2,1),1)),\"\")","v":""},{"$f":"IF(ISNUMBER(F60),IF(AT60<0.85,\"\",VLOOKUP(U60,I!A$2:X$23,VLOOKUP(F60,ages!B$1:C$23,2,1),1)),\"\")","v":""},{"$f":"IF(ISNUMBER(F60),IF(AU60<0.85,\"\",VLOOKUP(V60,J!A$2:X$23,VLOOKUP(F60,ages!B$1:C$23,2,1),1)),\"\")","v":""},"","","","",-1.0000000000000002E-6,0,0,0,0,0,0,0,0,0,0,0,null,null,null,null,null,null,null,null,null,null,null,null,null,null,null,null,null,null,null,null,null,null,null,null,null,null,null,null,null,null,null,null,null,null,null,null,null,null,null,null,null,null,null,null,null,null,null,null,null,null,null,null,null,null,null,null,null,null,null,null,null,null,null,null,null,null,null,null,null,null,-9.9999999999999995E-7,-9.9999999999999995E-7,-9.9999999999999995E-7,-9.9999999999999995E-7,-9.9999999999999995E-7,-9.9999999999999995E-7,-9.9999999999999995E-7,-9.9999999999999995E-7,-9.9999999999999995E-7,-9.9999999999999995E-7,-9.9999999999999995E-7,-9.9999999999999995E-7,-9.9999999999999995E-7,-9.9999999999999995E-7,-9.9999999999999995E-7,-9.9999999999999995E-7,-9.9999999999999995E-7,-9.9999999999999995E-7,-9.9999999999999995E-7,-9.9999999999999995E-7,{"$f":"IF(ISERROR(VLOOKUP(F60,ages!B$1:B$23,1,1)),\"\",VLOOKUP(F60,ages!B$1:B$23,1,1))","v":""},{"$f":"IF(ISERROR(VLOOKUP(F60,ages!B$1:D$23,3,1)),\"\",VLOOKUP(F60,ages!B$1:D$23,3,1))","v":""},0,0,0,0,0]
[null,null,null,null,null,"",null,null,null,null,null,null,"","","","","","","","","","",{"$f":"IF(ISNUMBER(F61),IF(AL61<0.85,\"\",VLOOKUP(M61,A!A$2:X$23,VLOOKUP(F61,ages!B$1:C$23,2,1),1)),\"\")","v":""},{"$f":"IF(ISNUMBER(F61),IF(AM61<0.85,\"\",VLOOKUP(N61,B!A$2:X$23,VLOOKUP(F61,ages!B$1:C$23,2,1),1)),\"\")","v":""},{"$f":"IF(ISNUMBER(F61),IF(AN61<0.85,\"\",VLOOKUP(O61,'C'!A$2:X$23,VLOOKUP(F61,ages!B$1:C$23,2,1),1)),\"\")","v":""},{"$f":"IF(ISNUMBER(F61),IF(AO61<0.85,\"\",VLOOKUP(P61,D!A$2:X$23,VLOOKUP(F61,ages!B$1:C$23,2,1),1)),\"\")","v":""},{"$f":"IF(ISNUMBER(F61),IF(AP61<0.85,\"\",VLOOKUP(Q61,E!A$2:X$23,VLOOKUP(F61,ages!B$1:C$23,2,1),1)),\"\")","v":""},{"$f":"IF(ISNUMBER(F61),IF(AQ61<0.85,\"\",VLOOKUP(R61,F!A$2:X$23,VLOOKUP(F61,ages!B$1:C$23,2,1),1)),\"\")","v":""},{"$f":"IF(ISNUMBER(F61),IF(AR61<0.85,\"\",VLOOKUP(S61,G!A$2:X$23,VLOOKUP(F61,ages!B$1:C$23,2,1),1)),\"\")","v":""},{"$f":"IF(ISNUMBER(F61),IF(AS61<0.85,\"\",VLOOKUP(T61,H!A$2:X$23,VLOOKUP(F61,ages!B$1:C$23,2,1),1)),\"\")","v":""},{"$f":"IF(ISNUMBER(F61),IF(AT61<0.85,\"\",VLOOKUP(U61,I!A$2:X$23,VLOOKUP(F61,ages!B$1:C$23,2,1),1)),\"\")","v":""},{"$f":"IF(ISNUMBER(F61),IF(AU61<0.85,\"\",VLOOKUP(V61,J!A$2:X$23,VLOOKUP(F61,ages!B$1:C$23,2,1),1)),\"\")","v":""},"","","","",-1.0000000000000002E-6,0,0,0,0,0,0,0,0,0,0,0,null,null,null,null,null,null,null,null,null,null,null,null,null,null,null,null,null,null,null,null,null,null,null,null,null,null,null,null,null,null,null,null,null,null,null,null,null,null,null,null,null,null,null,null,null,null,null,null,null,null,null,null,null,null,null,null,null,null,null,null,null,null,null,null,null,null,null,null,null,null,-9.9999999999999995E-7,-9.9999999999999995E-7,-9.9999999999999995E-7,-9.9999999999999995E-7,-9.9999999999999995E-7,-9.9999999999999995E-7,-9.9999999999999995E-7,-9.9999999999999995E-7,-9.9999999999999995E-7,-9.9999999999999995E-7,-9.9999999999999995E-7,-9.9999999999999995E-7,-9.9999999999999995E-7,-9.9999999999999995E-7,-9.9999999999999995E-7,-9.9999999999999995E-7,-9.9999999999999995E-7,-9.9999999999999995E-7,-9.9999999999999995E-7,-9.9999999999999995E-7,{"$f":"IF(ISERROR(VLOOKUP(F61,ages!B$1:B$23,1,1)),\"\",VLOOKUP(F61,ages!B$1:B$23,1,1))","v":""},{"$f":"IF(ISERROR(VLOOKUP(F61,ages!B$1:D$23,3,1)),\"\",VLOOKUP(F61,ages!B$1:D$23,3,1))","v":""},0,0,0,0,0]
[null,null,null,null,null,"",null,null,null,null,null,null,"","","","","","","","","","",{"$f":"IF(ISNUMBER(F62),IF(AL62<0.85,\"\",VLOOKUP(M62,A!A$2:X$23,VLOOKUP(F62,ages!B$1:C$23,2,1),1)),\"\")","v":""},{"$f":"IF(ISNUMBER(F62),IF(AM62<0.85,\"\",VLOOKUP(N62,B!A$2:X$23,VLOOKUP(F62,ages!B$1:C$23,2,1),1)),\"\")","v":""},{"$f":"IF(ISNUMBER(F62),IF(AN62<0.85,\"\",VLOOKUP(O62,'C'!A$2:X$23,VLOOKUP(F62,ages!B$1:C$23,2,1),1)),\"\")","v":""},{"$f":"IF(ISNUMBER(F62),IF(AO62<0.85,\"\",VLOOKUP(P62,D!A$2:X$23,VLOOKUP(F62,ages!B$1:C$23,2,1),1)),\"\")","v":""},{"$f":"IF(ISNUMBER(F62),IF(AP62<0.85,\"\",VLOOKUP(Q62,E!A$2:X$23,VLOOKUP(F62,ages!B$1:C$23,2,1),1)),\"\")","v":""},{"$f":"IF(ISNUMBER(F62),IF(AQ62<0.85,\"\",VLOOKUP(R62,F!A$2:X$23,VLOOKUP(F62,ages!B$1:C$23,2,1),1)),\"\")","v":""},{"$f":"IF(ISNUMBER(F62),IF(AR62<0.85,\"\",VLOOKUP(S62,G!A$2:X$23,VLOOKUP(F62,ages!B$1:C$23,2,1),1)),\"\")","v":""},{"$f":"IF(ISNUMBER(F62),IF(AS62<0.85,\"\",VLOOKUP(T62,H!A$2:X$23,VLOOKUP(F62,ages!B$1:C$23,2,1),1)),\"\")","v":""},{"$f":"IF(ISNUMBER(F62),IF(AT62<0.85,\"\",VLOOKUP(U62,I!A$2:X$23,VLOOKUP(F62,ages!B$1:C$23,2,1),1)),\"\")","v":""},{"$f":"IF(ISNUMBER(F62),IF(AU62<0.85,\"\",VLOOKUP(V62,J!A$2:X$23,VLOOKUP(F62,ages!B$1:C$23,2,1),1)),\"\")","v":""},"","","","",-1.0000000000000002E-6,0,0,0,0,0,0,0,0,0,0,0,null,null,null,null,null,null,null,null,null,null,null,null,null,null,null,null,null,null,null,null,null,null,null,null,null,null,null,null,null,null,null,null,null,null,null,null,null,null,null,null,null,null,null,null,null,null,null,null,null,null,null,null,null,null,null,null,null,null,null,null,null,null,null,null,null,null,null,null,null,null,-9.9999999999999995E-7,-9.9999999999999995E-7,-9.9999999999999995E-7,-9.9999999999999995E-7,-9.9999999999999995E-7,-9.9999999999999995E-7,-9.9999999999999995E-7,-9.9999999999999995E-7,-9.9999999999999995E-7,-9.9999999999999995E-7,-9.9999999999999995E-7,-9.9999999999999995E-7,-9.9999999999999995E-7,-9.9999999999999995E-7,-9.9999999999999995E-7,-9.9999999999999995E-7,-9.9999999999999995E-7,-9.9999999999999995E-7,-9.9999999999999995E-7,-9.9999999999999995E-7,{"$f":"IF(ISERROR(VLOOKUP(F62,ages!B$1:B$23,1,1)),\"\",VLOOKUP(F62,ages!B$1:B$23,1,1))","v":""},{"$f":"IF(ISERROR(VLOOKUP(F62,ages!B$1:D$23,3,1)),\"\",VLOOKUP(F62,ages!B$1:D$23,3,1))","v":""},0,0,0,0,0]
[null,null,null,null,null,"",null,null,null,null,null,null,"","","","","","","","","","",{"$f":"IF(ISNUMBER(F63),IF(AL63<0.85,\"\",VLOOKUP(M63,A!A$2:X$23,VLOOKUP(F63,ages!B$1:C$23,2,1),1)),\"\")","v":""},{"$f":"IF(ISNUMBER(F63),IF(AM63<0.85,\"\",VLOOKUP(N63,B!A$2:X$23,VLOOKUP(F63,ages!B$1:C$23,2,1),1)),\"\")","v":""},{"$f":"IF(ISNUMBER(F63),IF(AN63<0.85,\"\",VLOOKUP(O63,'C'!A$2:X$23,VLOOKUP(F63,ages!B$1:C$23,2,1),1)),\"\")","v":""},{"$f":"IF(ISNUMBER(F63),IF(AO63<0.85,\"\",VLOOKUP(P63,D!A$2:X$23,VLOOKUP(F63,ages!B$1:C$23,2,1),1)),\"\")","v":""},{"$f":"IF(ISNUMBER(F63),IF(AP63<0.85,\"\",VLOOKUP(Q63,E!A$2:X$23,VLOOKUP(F63,ages!B$1:C$23,2,1),1)),\"\")","v":""},{"$f":"IF(ISNUMBER(F63),IF(AQ63<0.85,\"\",VLOOKUP(R63,F!A$2:X$23,VLOOKUP(F63,ages!B$1:C$23,2,1),1)),\"\")","v":""},{"$f":"IF(ISNUMBER(F63),IF(AR63<0.85,\"\",VLOOKUP(S63,G!A$2:X$23,VLOOKUP(F63,ages!B$1:C$23,2,1),1)),\"\")","v":""},{"$f":"IF(ISNUMBER(F63),IF(AS63<0.85,\"\",VLOOKUP(T63,H!A$2:X$23,VLOOKUP(F63,ages!B$1:C$23,2,1),1)),\"\")","v":""},{"$f":"IF(ISNUMBER(F63),IF(AT63<0.85,\"\",VLOOKUP(U63,I!A$2:X$23,VLOOKUP(F63,ages!B$1:C$23,2,1),1)),\"\")","v":""},{"$f":"IF(ISNUMBER(F63),IF(AU63<0.85,\"\",VLOOKUP(V63,J!A$2:X$23,VLOOKUP(F63,ages!B$1:C$23,2,1),1)),\"\")","v":""},"","","","",-1.0000000000000002E-6,0,0,0,0,0,0,0,0,0,0,0,null,null,null,null,null,null,null,null,null,null,null,null,null,null,null,null,null,null,null,null,null,null,null,null,null,null,null,null,null,null,null,null,null,null,null,null,null,null,null,null,null,null,null,null,null,null,null,null,null,null,null,null,null,null,null,null,null,null,null,null,null,null,null,null,null,null,null,null,null,null,-9.9999999999999995E-7,-9.9999999999999995E-7,-9.9999999999999995E-7,-9.9999999999999995E-7,-9.9999999999999995E-7,-9.9999999999999995E-7,-9.9999999999999995E-7,-9.9999999999999995E-7,-9.9999999999999995E-7,-9.9999999999999995E-7,-9.9999999999999995E-7,-9.9999999999999995E-7,-9.9999999999999995E-7,-9.9999999999999995E-7,-9.9999999999999995E-7,-9.9999999999999995E-7,-9.9999999999999995E-7,-9.9999999999999995E-7,-9.9999999999999995E-7,-9.9999999999999995E-7,{"$f":"IF(ISERROR(VLOOKUP(F63,ages!B$1:B$23,1,1)),\"\",VLOOKUP(F63,ages!B$1:B$23,1,1))","v":""},{"$f":"IF(ISERROR(VLOOKUP(F63,ages!B$1:D$23,3,1)),\"\",VLOOKUP(F63,ages!B$1:D$23,3,1))","v":""},0,0,0,0,0]
[null,null,null,null,null,"",null,null,null,null,null,null,"","","","","","","","","","",{"$f":"IF(ISNUMBER(F64),IF(AL64<0.85,\"\",VLOOKUP(M64,A!A$2:X$23,VLOOKUP(F64,ages!B$1:C$23,2,1),1)),\"\")","v":""},{"$f":"IF(ISNUMBER(F64),IF(AM64<0.85,\"\",VLOOKUP(N64,B!A$2:X$23,VLOOKUP(F64,ages!B$1:C$23,2,1),1)),\"\")","v":""},{"$f":"IF(ISNUMBER(F64),IF(AN64<0.85,\"\",VLOOKUP(O64,'C'!A$2:X$23,VLOOKUP(F64,ages!B$1:C$23,2,1),1)),\"\")","v":""},{"$f":"IF(ISNUMBER(F64),IF(AO64<0.85,\"\",VLOOKUP(P64,D!A$2:X$23,VLOOKUP(F64,ages!B$1:C$23,2,1),1)),\"\")","v":""},{"$f":"IF(ISNUMBER(F64),IF(AP64<0.85,\"\",VLOOKUP(Q64,E!A$2:X$23,VLOOKUP(F64,ages!B$1:C$23,2,1),1)),\"\")","v":""},{"$f":"IF(ISNUMBER(F64),IF(AQ64<0.85,\"\",VLOOKUP(R64,F!A$2:X$23,VLOOKUP(F64,ages!B$1:C$23,2,1),1)),\"\")","v":""},{"$f":"IF(ISNUMBER(F64),IF(AR64<0.85,\"\",VLOOKUP(S64,G!A$2:X$23,VLOOKUP(F64,ages!B$1:C$23,2,1),1)),\"\")","v":""},{"$f":"IF(ISNUMBER(F64),IF(AS64<0.85,\"\",VLOOKUP(T64,H!A$2:X$23,VLOOKUP(F64,ages!B$1:C$23,2,1),1)),\"\")","v":""},{"$f":"IF(ISNUMBER(F64),IF(AT64<0.85,\"\",VLOOKUP(U64,I!A$2:X$23,VLOOKUP(F64,ages!B$1:C$23,2,1),1)),\"\")","v":""},{"$f":"IF(ISNUMBER(F64),IF(AU64<0.85,\"\",VLOOKUP(V64,J!A$2:X$23,VLOOKUP(F64,ages!B$1:C$23,2,1),1)),\"\")","v":""},"","","","",-1.0000000000000002E-6,0,0,0,0,0,0,0,0,0,0,0,null,null,null,null,null,null,null,null,null,null,null,null,null,null,null,null,null,null,null,null,null,null,null,null,null,null,null,null,null,null,null,null,null,null,null,null,null,null,null,null,null,null,null,null,null,null,null,null,null,null,null,null,null,null,null,null,null,null,null,null,null,null,null,null,null,null,null,null,null,null,-9.9999999999999995E-7,-9.9999999999999995E-7,-9.9999999999999995E-7,-9.9999999999999995E-7,-9.9999999999999995E-7,-9.9999999999999995E-7,-9.9999999999999995E-7,-9.9999999999999995E-7,-9.9999999999999995E-7,-9.9999999999999995E-7,-9.9999999999999995E-7,-9.9999999999999995E-7,-9.9999999999999995E-7,-9.9999999999999995E-7,-9.9999999999999995E-7,-9.9999999999999995E-7,-9.9999999999999995E-7,-9.9999999999999995E-7,-9.9999999999999995E-7,-9.9999999999999995E-7,{"$f":"IF(ISERROR(VLOOKUP(F64,ages!B$1:B$23,1,1)),\"\",VLOOKUP(F64,ages!B$1:B$23,1,1))","v":""},{"$f":"IF(ISERROR(VLOOKUP(F64,ages!B$1:D$23,3,1)),\"\",VLOOKUP(F64,ages!B$1:D$23,3,1))","v":""},0,0,0,0,0]
[null,null,null,null,null,"",null,null,null,null,null,null,"","","","","","","","","","",{"$f":"IF(ISNUMBER(F65),IF(AL65<0.85,\"\",VLOOKUP(M65,A!A$2:X$23,VLOOKUP(F65,ages!B$1:C$23,2,1),1)),\"\")","v":""},{"$f":"IF(ISNUMBER(F65),IF(AM65<0.85,\"\",VLOOKUP(N65,B!A$2:X$23,VLOOKUP(F65,ages!B$1:C$23,2,1),1)),\"\")","v":""},{"$f":"IF(ISNUMBER(F65),IF(AN65<0.85,\"\",VLOOKUP(O65,'C'!A$2:X$23,VLOOKUP(F65,ages!B$1:C$23,2,1),1)),\"\")","v":""},{"$f":"IF(ISNUMBER(F65),IF(AO65<0.85,\"\",VLOOKUP(P65,D!A$2:X$23,VLOOKUP(F65,ages!B$1:C$23,2,1),1)),\"\")","v":""},{"$f":"IF(ISNUMBER(F65),IF(AP65<0.85,\"\",VLOOKUP(Q65,E!A$2:X$23,VLOOKUP(F65,ages!B$1:C$23,2,1),1)),\"\")","v":""},{"$f":"IF(ISNUMBER(F65),IF(AQ65<0.85,\"\",VLOOKUP(R65,F!A$2:X$23,VLOOKUP(F65,ages!B$1:C$23,2,1),1)),\"\")","v":""},{"$f":"IF(ISNUMBER(F65),IF(AR65<0.85,\"\",VLOOKUP(S65,G!A$2:X$23,VLOOKUP(F65,ages!B$1:C$23,2,1),1)),\"\")","v":""},{"$f":"IF(ISNUMBER(F65),IF(AS65<0.85,\"\",VLOOKUP(T65,H!A$2:X$23,VLOOKUP(F65,ages!B$1:C$23,2,1),1)),\"\")","v":""},{"$f":"IF(ISNUMBER(F65),IF(AT65<0.85,\"\",VLOOKUP(U65,I!A$2:X$23,VLOOKUP(F65,ages!B$1:C$23,2,1),1)),\"\")","v":""},{"$f":"IF(ISNUMBER(F65),IF(AU65<0.85,\"\",VLOOKUP(V65,J!A$2:X$23,VLOOKUP(F65,ages!B$1:C$23,2,1),1)),\"\")","v":""},"","","","",-1.0000000000000002E-6,0,0,0,0,0,0,0,0,0,0,0,null,null,null,null,null,null,null,null,null,null,null,null,null,null,null,null,null,null,null,null,null,null,null,null,null,null,null,null,null,null,null,null,null,null,null,null,null,null,null,null,null,null,null,null,null,null,null,null,null,null,null,null,null,null,null,null,null,null,null,null,null,null,null,null,null,null,null,null,null,null,-9.9999999999999995E-7,-9.9999999999999995E-7,-9.9999999999999995E-7,-9.9999999999999995E-7,-9.9999999999999995E-7,-9.9999999999999995E-7,-9.9999999999999995E-7,-9.9999999999999995E-7,-9.9999999999999995E-7,-9.9999999999999995E-7,-9.9999999999999995E-7,-9.9999999999999995E-7,-9.9999999999999995E-7,-9.9999999999999995E-7,-9.9999999999999995E-7,-9.9999999999999995E-7,-9.9999999999999995E-7,-9.9999999999999995E-7,-9.9999999999999995E-7,-9.9999999999999995E-7,{"$f":"IF(ISERROR(VLOOKUP(F65,ages!B$1:B$23,1,1)),\"\",VLOOKUP(F65,ages!B$1:B$23,1,1))","v":""},{"$f":"IF(ISERROR(VLOOKUP(F65,ages!B$1:D$23,3,1)),\"\",VLOOKUP(F65,ages!B$1:D$23,3,1))","v":""},0,0,0,0,0]
[null,null,null,null,null,"",null,null,null,null,null,null,"","","","","","","","","","",{"$f":"IF(ISNUMBER(F66),IF(AL66<0.85,\"\",VLOOKUP(M66,A!A$2:X$23,VLOOKUP(F66,ages!B$1:C$23,2,1),1)),\"\")","v":""},{"$f":"IF(ISNUMBER(F66),IF(AM66<0.85,\"\",VLOOKUP(N66,B!A$2:X$23,VLOOKUP(F66,ages!B$1:C$23,2,1),1)),\"\")","v":""},{"$f":"IF(ISNUMBER(F66),IF(AN66<0.85,\"\",VLOOKUP(O66,'C'!A$2:X$23,VLOOKUP(F66,ages!B$1:C$23,2,1),1)),\"\")","v":""},{"$f":"IF(ISNUMBER(F66),IF(AO66<0.85,\"\",VLOOKUP(P66,D!A$2:X$23,VLOOKUP(F66,ages!B$1:C$23,2,1),1)),\"\")","v":""},{"$f":"IF(ISNUMBER(F66),IF(AP66<0.85,\"\",VLOOKUP(Q66,E!A$2:X$23,VLOOKUP(F66,ages!B$1:C$23,2,1),1)),\"\")","v":""},{"$f":"IF(ISNUMBER(F66),IF(AQ66<0.85,\"\",VLOOKUP(R66,F!A$2:X$23,VLOOKUP(F66,ages!B$1:C$23,2,1),1)),\"\")","v":""},{"$f":"IF(ISNUMBER(F66),IF(AR66<0.85,\"\",VLOOKUP(S66,G!A$2:X$23,VLOOKUP(F66,ages!B$1:C$23,2,1),1)),\"\")","v":""},{"$f":"IF(ISNUMBER(F66),IF(AS66<0.85,\"\",VLOOKUP(T66,H!A$2:X$23,VLOOKUP(F66,ages!B$1:C$23,2,1),1)),\"\")","v":""},{"$f":"IF(ISNUMBER(F66),IF(AT66<0.85,\"\",VLOOKUP(U66,I!A$2:X$23,VLOOKUP(F66,ages!B$1:C$23,2,1),1)),\"\")","v":""},{"$f":"IF(ISNUMBER(F66),IF(AU66<0.85,\"\",VLOOKUP(V66,J!A$2:X$23,VLOOKUP(F66,ages!B$1:C$23,2,1),1)),\"\")","v":""},"","","","",-1.0000000000000002E-6,0,0,0,0,0,0,0,0,0,0,0,null,null,null,null,null,null,null,null,null,null,null,null,null,null,null,null,null,null,null,null,null,null,null,null,null,null,null,null,null,null,null,null,null,null,null,null,null,null,null,null,null,null,null,null,null,null,null,null,null,null,null,null,null,null,null,null,null,null,null,null,null,null,null,null,null,null,null,null,null,null,-9.9999999999999995E-7,-9.9999999999999995E-7,-9.9999999999999995E-7,-9.9999999999999995E-7,-9.9999999999999995E-7,-9.9999999999999995E-7,-9.9999999999999995E-7,-9.9999999999999995E-7,-9.9999999999999995E-7,-9.9999999999999995E-7,-9.9999999999999995E-7,-9.9999999999999995E-7,-9.9999999999999995E-7,-9.9999999999999995E-7,-9.9999999999999995E-7,-9.9999999999999995E-7,-9.9999999999999995E-7,-9.9999999999999995E-7,-9.9999999999999995E-7,-9.9999999999999995E-7,{"$f":"IF(ISERROR(VLOOKUP(F66,ages!B$1:B$23,1,1)),\"\",VLOOKUP(F66,ages!B$1:B$23,1,1))","v":""},{"$f":"IF(ISERROR(VLOOKUP(F66,ages!B$1:D$23,3,1)),\"\",VLOOKUP(F66,ages!B$1:D$23,3,1))","v":""},0,0,0,0,0]
[null,null,null,null,null,"",null,null,null,null,null,null,"","","","","","","","","","",{"$f":"IF(ISNUMBER(F67),IF(AL67<0.85,\"\",VLOOKUP(M67,A!A$2:X$23,VLOOKUP(F67,ages!B$1:C$23,2,1),1)),\"\")","v":""},{"$f":"IF(ISNUMBER(F67),IF(AM67<0.85,\"\",VLOOKUP(N67,B!A$2:X$23,VLOOKUP(F67,ages!B$1:C$23,2,1),1)),\"\")","v":""},{"$f":"IF(ISNUMBER(F67),IF(AN67<0.85,\"\",VLOOKUP(O67,'C'!A$2:X$23,VLOOKUP(F67,ages!B$1:C$23,2,1),1)),\"\")","v":""},{"$f":"IF(ISNUMBER(F67),IF(AO67<0.85,\"\",VLOOKUP(P67,D!A$2:X$23,VLOOKUP(F67,ages!B$1:C$23,2,1),1)),\"\")","v":""},{"$f":"IF(ISNUMBER(F67),IF(AP67<0.85,\"\",VLOOKUP(Q67,E!A$2:X$23,VLOOKUP(F67,ages!B$1:C$23,2,1),1)),\"\")","v":""},{"$f":"IF(ISNUMBER(F67),IF(AQ67<0.85,\"\",VLOOKUP(R67,F!A$2:X$23,VLOOKUP(F67,ages!B$1:C$23,2,1),1)),\"\")","v":""},{"$f":"IF(ISNUMBER(F67),IF(AR67<0.85,\"\",VLOOKUP(S67,G!A$2:X$23,VLOOKUP(F67,ages!B$1:C$23,2,1),1)),\"\")","v":""},{"$f":"IF(ISNUMBER(F67),IF(AS67<0.85,\"\",VLOOKUP(T67,H!A$2:X$23,VLOOKUP(F67,ages!B$1:C$23,2,1),1)),\"\")","v":""},{"$f":"IF(ISNUMBER(F67),IF(AT67<0.85,\"\",VLOOKUP(U67,I!A$2:X$23,VLOOKUP(F67,ages!B$1:C$23,2,1),1)),\"\")","v":""},{"$f":"IF(ISNUMBER(F67),IF(AU67<0.85,\"\",VLOOKUP(V67,J!A$2:X$23,VLOOKUP(F67,ages!B$1:C$23,2,1),1)),\"\")","v":""},"","","","",-1.0000000000000002E-6,0,0,0,0,0,0,0,0,0,0,0,null,null,null,null,null,null,null,null,null,null,null,null,null,null,null,null,null,null,null,null,null,null,null,null,null,null,null,null,null,null,null,null,null,null,null,null,null,null,null,null,null,null,null,null,null,null,null,null,null,null,null,null,null,null,null,null,null,null,null,null,null,null,null,null,null,null,null,null,null,null,-9.9999999999999995E-7,-9.9999999999999995E-7,-9.9999999999999995E-7,-9.9999999999999995E-7,-9.9999999999999995E-7,-9.9999999999999995E-7,-9.9999999999999995E-7,-9.9999999999999995E-7,-9.9999999999999995E-7,-9.9999999999999995E-7,-9.9999999999999995E-7,-9.9999999999999995E-7,-9.9999999999999995E-7,-9.9999999999999995E-7,-9.9999999999999995E-7,-9.9999999999999995E-7,-9.9999999999999995E-7,-9.9999999999999995E-7,-9.9999999999999995E-7,-9.9999999999999995E-7,{"$f":"IF(ISERROR(VLOOKUP(F67,ages!B$1:B$23,1,1)),\"\",VLOOKUP(F67,ages!B$1:B$23,1,1))","v":""},{"$f":"IF(ISERROR(VLOOKUP(F67,ages!B$1:D$23,3,1)),\"\",VLOOKUP(F67,ages!B$1:D$23,3,1))","v":""},0,0,0,0,0]
[null,null,null,null,null,"",null,null,null,null,null,null,"","","","","","","","","","",{"$f":"IF(ISNUMBER(F68),IF(AL68<0.85,\"\",VLOOKUP(M68,A!A$2:X$23,VLOOKUP(F68,ages!B$1:C$23,2,1),1)),\"\")","v":""},{"$f":"IF(ISNUMBER(F68),IF(AM68<0.85,\"\",VLOOKUP(N68,B!A$2:X$23,VLOOKUP(F68,ages!B$1:C$23,2,1),1)),\"\")","v":""},{"$f":"IF(ISNUMBER(F68),IF(AN68<0.85,\"\",VLOOKUP(O68,'C'!A$2:X$23,VLOOKUP(F68,ages!B$1:C$23,2,1),1)),\"\")","v":""},{"$f":"IF(ISNUMBER(F68),IF(AO68<0.85,\"\",VLOOKUP(P68,D!A$2:X$23,VLOOKUP(F68,ages!B$1:C$23,2,1),1)),\"\")","v":""},{"$f":"IF(ISNUMBER(F68),IF(AP68<0.85,\"\",VLOOKUP(Q68,E!A$2:X$23,VLOOKUP(F68,ages!B$1:C$23,2,1),1)),\"\")","v":""},{"$f":"IF(ISNUMBER(F68),IF(AQ68<0.85,\"\",VLOOKUP(R68,F!A$2:X$23,VLOOKUP(F68,ages!B$1:C$23,2,1),1)),\"\")","v":""},{"$f":"IF(ISNUMBER(F68),IF(AR68<0.85,\"\",VLOOKUP(S68,G!A$2:X$23,VLOOKUP(F68,ages!B$1:C$23,2,1),1)),\"\")","v":""},{"$f":"IF(ISNUMBER(F68),IF(AS68<0.85,\"\",VLOOKUP(T68,H!A$2:X$23,VLOOKUP(F68,ages!B$1:C$23,2,1),1)),\"\")","v":""},{"$f":"IF(ISNUMBER(F68),IF(AT68<0.85,\"\",VLOOKUP(U68,I!A$2:X$23,VLOOKUP(F68,ages!B$1:C$23,2,1),1)),\"\")","v":""},{"$f":"IF(ISNUMBER(F68),IF(AU68<0.85,\"\",VLOOKUP(V68,J!A$2:X$23,VLOOKUP(F68,ages!B$1:C$23,2,1),1)),\"\")","v":""},"","","","",-1.0000000000000002E-6,0,0,0,0,0,0,0,0,0,0,0,null,null,null,null,null,null,null,null,null,null,null,null,null,null,null,null,null,null,null,null,null,null,null,null,null,null,null,null,null,null,null,null,null,null,null,null,null,null,null,null,null,null,null,null,null,null,null,null,null,null,null,null,null,null,null,null,null,null,null,null,null,null,null,null,null,null,null,null,null,null,-9.9999999999999995E-7,-9.9999999999999995E-7,-9.9999999999999995E-7,-9.9999999999999995E-7,-9.9999999999999995E-7,-9.9999999999999995E-7,-9.9999999999999995E-7,-9.9999999999999995E-7,-9.9999999999999995E-7,-9.9999999999999995E-7,-9.9999999999999995E-7,-9.9999999999999995E-7,-9.9999999999999995E-7,-9.9999999999999995E-7,-9.9999999999999995E-7,-9.9999999999999995E-7,-9.9999999999999995E-7,-9.9999999999999995E-7,-9.9999999999999995E-7,-9.9999999999999995E-7,{"$f":"IF(ISERROR(VLOOKUP(F68,ages!B$1:B$23,1,1)),\"\",VLOOKUP(F68,ages!B$1:B$23,1,1))","v":""},{"$f":"IF(ISERROR(VLOOKUP(F68,ages!B$1:D$23,3,1)),\"\",VLOOKUP(F68,ages!B$1:D$23,3,1))","v":""},0,0,0,0,0]
[null,null,null,null,null,"",null,null,null,null,null,null,"","","","","","","","","","",{"$f":"IF(ISNUMBER(F69),IF(AL69<0.85,\"\",VLOOKUP(M69,A!A$2:X$23,VLOOKUP(F69,ages!B$1:C$23,2,1),1)),\"\")","v":""},{"$f":"IF(ISNUMBER(F69),IF(AM69<0.85,\"\",VLOOKUP(N69,B!A$2:X$23,VLOOKUP(F69,ages!B$1:C$23,2,1),1)),\"\")","v":""},{"$f":"IF(ISNUMBER(F69),IF(AN69<0.85,\"\",VLOOKUP(O69,'C'!A$2:X$23,VLOOKUP(F69,ages!B$1:C$23,2,1),1)),\"\")","v":""},{"$f":"IF(ISNUMBER(F69),IF(AO69<0.85,\"\",VLOOKUP(P69,D!A$2:X$23,VLOOKUP(F69,ages!B$1:C$23,2,1),1)),\"\")","v":""},{"$f":"IF(ISNUMBER(F69),IF(AP69<0.85,\"\",VLOOKUP(Q69,E!A$2:X$23,VLOOKUP(F69,ages!B$1:C$23,2,1),1)),\"\")","v":""},{"$f":"IF(ISNUMBER(F69),IF(AQ69<0.85,\"\",VLOOKUP(R69,F!A$2:X$23,VLOOKUP(F69,ages!B$1:C$23,2,1),1)),\"\")","v":""},{"$f":"IF(ISNUMBER(F69),IF(AR69<0.85,\"\",VLOOKUP(S69,G!A$2:X$23,VLOOKUP(F69,ages!B$1:C$23,2,1),1)),\"\")","v":""},{"$f":"IF(ISNUMBER(F69),IF(AS69<0.85,\"\",VLOOKUP(T69,H!A$2:X$23,VLOOKUP(F69,ages!B$1:C$23,2,1),1)),\"\")","v":""},{"$f":"IF(ISNUMBER(F69),IF(AT69<0.85,\"\",VLOOKUP(U69,I!A$2:X$23,VLOOKUP(F69,ages!B$1:C$23,2,1),1)),\"\")","v":""},{"$f":"IF(ISNUMBER(F69),IF(AU69<0.85,\"\",VLOOKUP(V69,J!A$2:X$23,VLOOKUP(F69,ages!B$1:C$23,2,1),1)),\"\")","v":""},"","","","",-1.0000000000000002E-6,0,0,0,0,0,0,0,0,0,0,0,null,null,null,null,null,null,null,null,null,null,null,null,null,null,null,null,null,null,null,null,null,null,null,null,null,null,null,null,null,null,null,null,null,null,null,null,null,null,null,null,null,null,null,null,null,null,null,null,null,null,null,null,null,null,null,null,null,null,null,null,null,null,null,null,null,null,null,null,null,null,-9.9999999999999995E-7,-9.9999999999999995E-7,-9.9999999999999995E-7,-9.9999999999999995E-7,-9.9999999999999995E-7,-9.9999999999999995E-7,-9.9999999999999995E-7,-9.9999999999999995E-7,-9.9999999999999995E-7,-9.9999999999999995E-7,-9.9999999999999995E-7,-9.9999999999999995E-7,-9.9999999999999995E-7,-9.9999999999999995E-7,-9.9999999999999995E-7,-9.9999999999999995E-7,-9.9999999999999995E-7,-9.9999999999999995E-7,-9.9999999999999995E-7,-9.9999999999999995E-7,{"$f":"IF(ISERROR(VLOOKUP(F69,ages!B$1:B$23,1,1)),\"\",VLOOKUP(F69,ages!B$1:B$23,1,1))","v":""},{"$f":"IF(ISERROR(VLOOKUP(F69,ages!B$1:D$23,3,1)),\"\",VLOOKUP(F69,ages!B$1:D$23,3,1))","v":""},0,0,0,0,0]
[null,null,null,null,null,"",null,null,null,null,null,null,"","","","","","","","","","",{"$f":"IF(ISNUMBER(F70),IF(AL70<0.85,\"\",VLOOKUP(M70,A!A$2:X$23,VLOOKUP(F70,ages!B$1:C$23,2,1),1)),\"\")","v":""},{"$f":"IF(ISNUMBER(F70),IF(AM70<0.85,\"\",VLOOKUP(N70,B!A$2:X$23,VLOOKUP(F70,ages!B$1:C$23,2,1),1)),\"\")","v":""},{"$f":"IF(ISNUMBER(F70),IF(AN70<0.85,\"\",VLOOKUP(O70,'C'!A$2:X$23,VLOOKUP(F70,ages!B$1:C$23,2,1),1)),\"\")","v":""},{"$f":"IF(ISNUMBER(F70),IF(AO70<0.85,\"\",VLOOKUP(P70,D!A$2:X$23,VLOOKUP(F70,ages!B$1:C$23,2,1),1)),\"\")","v":""},{"$f":"IF(ISNUMBER(F70),IF(AP70<0.85,\"\",VLOOKUP(Q70,E!A$2:X$23,VLOOKUP(F70,ages!B$1:C$23,2,1),1)),\"\")","v":""},{"$f":"IF(ISNUMBER(F70),IF(AQ70<0.85,\"\",VLOOKUP(R70,F!A$2:X$23,VLOOKUP(F70,ages!B$1:C$23,2,1),1)),\"\")","v":""},{"$f":"IF(ISNUMBER(F70),IF(AR70<0.85,\"\",VLOOKUP(S70,G!A$2:X$23,VLOOKUP(F70,ages!B$1:C$23,2,1),1)),\"\")","v":""},{"$f":"IF(ISNUMBER(F70),IF(AS70<0.85,\"\",VLOOKUP(T70,H!A$2:X$23,VLOOKUP(F70,ages!B$1:C$23,2,1),1)),\"\")","v":""},{"$f":"IF(ISNUMBER(F70),IF(AT70<0.85,\"\",VLOOKUP(U70,I!A$2:X$23,VLOOKUP(F70,ages!B$1:C$23,2,1),1)),\"\")","v":""},{"$f":"IF(ISNUMBER(F70),IF(AU70<0.85,\"\",VLOOKUP(V70,J!A$2:X$23,VLOOKUP(F70,ages!B$1:C$23,2,1),1)),\"\")","v":""},"","","","",-1.0000000000000002E-6,0,0,0,0,0,0,0,0,0,0,0,null,null,null,null,null,null,null,null,null,null,null,null,null,null,null,null,null,null,null,null,null,null,null,null,null,null,null,null,null,null,null,null,null,null,null,null,null,null,null,null,null,null,null,null,null,null,null,null,null,null,null,null,null,null,null,null,null,null,null,null,null,null,null,null,null,null,null,null,null,null,-9.9999999999999995E-7,-9.9999999999999995E-7,-9.9999999999999995E-7,-9.9999999999999995E-7,-9.9999999999999995E-7,-9.9999999999999995E-7,-9.9999999999999995E-7,-9.9999999999999995E-7,-9.9999999999999995E-7,-9.9999999999999995E-7,-9.9999999999999995E-7,-9.9999999999999995E-7,-9.9999999999999995E-7,-9.9999999999999995E-7,-9.9999999999999995E-7,-9.9999999999999995E-7,-9.9999999999999995E-7,-9.9999999999999995E-7,-9.9999999999999995E-7,-9.9999999999999995E-7,{"$f":"IF(ISERROR(VLOOKUP(F70,ages!B$1:B$23,1,1)),\"\",VLOOKUP(F70,ages!B$1:B$23,1,1))","v":""},{"$f":"IF(ISERROR(VLOOKUP(F70,ages!B$1:D$23,3,1)),\"\",VLOOKUP(F70,ages!B$1:D$23,3,1))","v":""},0,0,0,0,0]
[null,null,null,null,null,"",null,null,null,null,null,null,"","","","","","","","","","",{"$f":"IF(ISNUMBER(F71),IF(AL71<0.85,\"\",VLOOKUP(M71,A!A$2:X$23,VLOOKUP(F71,ages!B$1:C$23,2,1),1)),\"\")","v":""},{"$f":"IF(ISNUMBER(F71),IF(AM71<0.85,\"\",VLOOKUP(N71,B!A$2:X$23,VLOOKUP(F71,ages!B$1:C$23,2,1),1)),\"\")","v":""},{"$f":"IF(ISNUMBER(F71),IF(AN71<0.85,\"\",VLOOKUP(O71,'C'!A$2:X$23,VLOOKUP(F71,ages!B$1:C$23,2,1),1)),\"\")","v":""},{"$f":"IF(ISNUMBER(F71),IF(AO71<0.85,\"\",VLOOKUP(P71,D!A$2:X$23,VLOOKUP(F71,ages!B$1:C$23,2,1),1)),\"\")","v":""},{"$f":"IF(ISNUMBER(F71),IF(AP71<0.85,\"\",VLOOKUP(Q71,E!A$2:X$23,VLOOKUP(F71,ages!B$1:C$23,2,1),1)),\"\")","v":""},{"$f":"IF(ISNUMBER(F71),IF(AQ71<0.85,\"\",VLOOKUP(R71,F!A$2:X$23,VLOOKUP(F71,ages!B$1:C$23,2,1),1)),\"\")","v":""},{"$f":"IF(ISNUMBER(F71),IF(AR71<0.85,\"\",VLOOKUP(S71,G!A$2:X$23,VLOOKUP(F71,ages!B$1:C$23,2,1),1)),\"\")","v":""},{"$f":"IF(ISNUMBER(F71),IF(AS71<0.85,\"\",VLOOKUP(T71,H!A$2:X$23,VLOOKUP(F71,ages!B$1:C$23,2,1),1)),\"\")","v":""},{"$f":"IF(ISNUMBER(F71),IF(AT71<0.85,\"\",VLOOKUP(U71,I!A$2:X$23,VLOOKUP(F71,ages!B$1:C$23,2,1),1)),\"\")","v":""},{"$f":"IF(ISNUMBER(F71),IF(AU71<0.85,\"\",VLOOKUP(V71,J!A$2:X$23,VLOOKUP(F71,ages!B$1:C$23,2,1),1)),\"\")","v":""},"","","","",-1.0000000000000002E-6,0,0,0,0,0,0,0,0,0,0,0,null,null,null,null,null,null,null,null,null,null,null,null,null,null,null,null,null,null,null,null,null,null,null,null,null,null,null,null,null,null,null,null,null,null,null,null,null,null,null,null,null,null,null,null,null,null,null,null,null,null,null,null,null,null,null,null,null,null,null,null,null,null,null,null,null,null,null,null,null,null,-9.9999999999999995E-7,-9.9999999999999995E-7,-9.9999999999999995E-7,-9.9999999999999995E-7,-9.9999999999999995E-7,-9.9999999999999995E-7,-9.9999999999999995E-7,-9.9999999999999995E-7,-9.9999999999999995E-7,-9.9999999999999995E-7,-9.9999999999999995E-7,-9.9999999999999995E-7,-9.9999999999999995E-7,-9.9999999999999995E-7,-9.9999999999999995E-7,-9.9999999999999995E-7,-9.9999999999999995E-7,-9.9999999999999995E-7,-9.9999999999999995E-7,-9.9999999999999995E-7,{"$f":"IF(ISERROR(VLOOKUP(F71,ages!B$1:B$23,1,1)),\"\",VLOOKUP(F71,ages!B$1:B$23,1,1))","v":""},{"$f":"IF(ISERROR(VLOOKUP(F71,ages!B$1:D$23,3,1)),\"\",VLOOKUP(F71,ages!B$1:D$23,3,1))","v":""},0,0,0,0,0]
[null,null,null,null,null,"",null,null,null,null,null,null,"","","","","","","","","","",{"$f":"IF(ISNUMBER(F72),IF(AL72<0.85,\"\",VLOOKUP(M72,A!A$2:X$23,VLOOKUP(F72,ages!B$1:C$23,2,1),1)),\"\")","v":""},{"$f":"IF(ISNUMBER(F72),IF(AM72<0.85,\"\",VLOOKUP(N72,B!A$2:X$23,VLOOKUP(F72,ages!B$1:C$23,2,1),1)),\"\")","v":""},{"$f":"IF(ISNUMBER(F72),IF(AN72<0.85,\"\",VLOOKUP(O72,'C'!A$2:X$23,VLOOKUP(F72,ages!B$1:C$23,2,1),1)),\"\")","v":""},{"$f":"IF(ISNUMBER(F72),IF(AO72<0.85,\"\",VLOOKUP(P72,D!A$2:X$23,VLOOKUP(F72,ages!B$1:C$23,2,1),1)),\"\")","v":""},{"$f":"IF(ISNUMBER(F72),IF(AP72<0.85,\"\",VLOOKUP(Q72,E!A$2:X$23,VLOOKUP(F72,ages!B$1:C$23,2,1),1)),\"\")","v":""},{"$f":"IF(ISNUMBER(F72),IF(AQ72<0.85,\"\",VLOOKUP(R72,F!A$2:X$23,VLOOKUP(F72,ages!B$1:C$23,2,1),1)),\"\")","v":""},{"$f":"IF(ISNUMBER(F72),IF(AR72<0.85,\"\",VLOOKUP(S72,G!A$2:X$23,VLOOKUP(F72,ages!B$1:C$23,2,1),1)),\"\")","v":""},{"$f":"IF(ISNUMBER(F72),IF(AS72<0.85,\"\",VLOOKUP(T72,H!A$2:X$23,VLOOKUP(F72,ages!B$1:C$23,2,1),1)),\"\")","v":""},{"$f":"IF(ISNUMBER(F72),IF(AT72<0.85,\"\",VLOOKUP(U72,I!A$2:X$23,VLOOKUP(F72,ages!B$1:C$23,2,1),1)),\"\")","v":""},{"$f":"IF(ISNUMBER(F72),IF(AU72<0.85,\"\",VLOOKUP(V72,J!A$2:X$23,VLOOKUP(F72,ages!B$1:C$23,2,1),1)),\"\")","v":""},"","","","",{"$f":"IF(COUNT(DO72:EH72)>15,SUM(DO72:EH72)/COUNT(DO72:EH72),\"\")","v":-1.0000000000000002E-6},0,0,0,0,0,0,0,0,0,0,0,null,null,null,null,null,null,null,null,null,null,null,null,null,null,null,null,null,null,null,null,null,null,null,null,null,null,null,null,null,null,null,null,null,null,null,null,null,null,null,null,null,null,null,null,null,null,null,null,null,null,null,null,null,null,null,null,null,null,null,null,null,null,null,null,null,null,null,null,null,null,-9.9999999999999995E-7,{"$f":"IF(ISNUMBER(CV72),3-CV72,-0.000001)","v":-9.9999999999999995E-7},{"$f":"IF(ISNUMBER(CW72),3-CW72,-0.000001)","v":-9.9999999999999995E-7},{"$f":"IF(ISNUMBER(CX72),3-CX72,-0.000001)","v":-9.9999999999999995E-7},{"$f":"IF(ISNUMBER(CY72),3-CY72,-0.000001)","v":-9.9999999999999995E-7},{"$f":"IF(ISNUMBER(CZ72),3-CZ72,-0.000001)","v":-9.9999999999999995E-7},{"$f":"IF(ISNUMBER(DA72),3-DA72,-0.000001)","v":-9.9999999999999995E-7},{"$f":"IF(ISNUMBER(DB72),3-DB72,-0.000001)","v":-9.9999999999999995E-7},{"$f":"IF(ISNUMBER(DC72),3-DC72,-0.000001)","v":-9.9999999999999995E-7},{"$f":"IF(ISNUMBER(DD72),3-DD72,-0.000001)","v":-9.9999999999999995E-7},{"$f":"IF(ISNUMBER(DE72),3-DE72,-0.000001)","v":-9.9999999999999995E-7},{"$f":"IF(ISNUMBER(DF72),3-DF72,-0.000001)","v":-9.9999999999999995E-7},{"$f":"IF(ISNUMBER(DG72),3-DG72,-0.000001)","v":-9.9999999999999995E-7},{"$f":"IF(ISNUMBER(DH72),3-DH72,-0.000001)","v":-9.9999999999999995E-7},{"$f":"IF(ISNUMBER(DI72),3-DI72,-0.000001)","v":-9.9999999999999995E-7},{"$f":"IF(ISNUMBER(DJ72),3-DJ72,-0.000001)","v":-9.9999999999999995E-7},{"$f":"IF(ISNUMBER(DK72),3-DK72,-0.000001)","v":-9.9999999999999995E-7},{"$f":"IF(ISNUMBER(DL72),3-DL72,-0.000001)","v":-9.9999999999999995E-7},{"$f":"IF(ISNUMBER(DM72),3-DM72,-0.000001)","v":-9.9999999999999995E-7},{"$f":"IF(ISNUMBER(DN72),3-DN72,-0.000001)","v":-9.9999999999999995E-7},{"$f":"IF(ISERROR(VLOOKUP(F72,ages!B$1:B$23,1,1)),\"\",VLOOKUP(F72,ages!B$1:B$23,1,1))","v":""},{"$f":"IF(ISERROR(VLOOKUP(F72,ages!B$1:D$23,3,1)),\"\",VLOOKUP(F72,ages!B$1:D$23,3,1))","v":""},0,0,0,0,0]
[null,null,null,null,null,{"$f":"IF(OR(D73=\"\",E73=\"\"),\"\",IF((EK73*12+EL73)<48,\"ald<4:0\",IF((EK73*12+EL73)>203,\"ald>16:11\",EK73*12+EL73)))","v":""},null,null,null,null,null,null,{"$f":"IF(AL73>0.79,ROUND(($DO73+$DV73+$AX73+$BT73+$BY73+$CH73+$CN73)/AL73,0),\"\")","v":""},{"$f":"IF(AM73>0.79,ROUND(($DS73+$EG73+$AW73+$BM73+$BW73+$CF73+$CM73)/AM73,0),\"\")","v":""},{"$f":"IF(AN73>0.79,ROUND(($EB73+$ED73+$AZ73+$BB73+$BH73+$CB73+$CP73)/AN73,0),\"\")","v":""},{"$f":"IF(AO73>0.79,ROUND(($DQ73+$EF73+$BF73+$BU73+$CJ73+$CR73+$CT73)/AO73,0),\"\")","v":""},{"$f":"IF(AP73>0.79,ROUND(($DW73+$EH73+$BA73+$BQ73+$CE73+$CG73+$CO73)/AP73,0),\"\")","v":""},{"$f":"IF(AQ73>0.79,ROUND(($DY73+$DZ73+$BG73+$BN73+$BS73+$BZ73+$CL73)/AQ73,0),\"\")","v":""},{"$f":"IF(AR73>0.79,ROUND(($DR73+$DX73+$BK73+$BO73+$BX73+$CD73+$CK73)/AR73,0),\"\")","v":""},{"$f":"IF(AS73>0.79,ROUND(($DT73+$EC73+$BD73+$BJ73+$BP73+$CA73+$CI73)/AS73,0),\"\")","v":""},{"$f":"IF(AT73>0.79,ROUND(($DU73+$EE73+$AY73+$BC73+$BI73+$BL73+$CC73)/AT73,0),\"\")","v":""},{"$f":"IF(AU73>0.79,ROUND(($DP73+$EA73+$BE73+$BR73+$BV73+$CQ73+$CS73)/AU73,0),\"\")","v":""},{"$f":"IF(ISNUMBER(F73),IF(AL73<0.85,\"\",VLOOKUP(M73,A!A$2:X$23,VLOOKUP(F73,ages!B$1:C$23,2,1),1)),\"\")","v":""},{"$f":"IF(ISNUMBER(F73),IF(AM73<0.85,\"\",VLOOKUP(N73,B!A$2:X$23,VLOOKUP(F73,ages!B$1:C$23,2,1),1)),\"\")","v":""},{"$f":"IF(ISNUMBER(F73),IF(AN73<0.85,\"\",VLOOKUP(O73,'C'!A$2:X$23,VLOOKUP(F73,ages!B$1:C$23,2,1),1)),\"\")","v":""},{"$f":"IF(ISNUMBER(F73),IF(AO73<0.85,\"\",VLOOKUP(P73,D!A$2:X$23,VLOOKUP(F73,ages!B$1:C$23,2,1),1)),\"\")","v":""},{"$f":"IF(ISNUMBER(F73),IF(AP73<0.85,\"\",VLOOKUP(Q73,E!A$2:X$23,VLOOKUP(F73,ages!B$1:C$23,2,1),1)),\"\")","v":""},{"$f":"IF(ISNUMBER(F73),IF(AQ73<0.85,\"\",VLOOKUP(R73,F!A$2:X$23,VLOOKUP(F73,ages!B$1:C$23,2,1),1)),\"\")","v":""},{"$f":"IF(ISNUMBER(F73),IF(AR73<0.85,\"\",VLOOKUP(S73,G!A$2:X$23,VLOOKUP(F73,ages!B$1:C$23,2,1),1)),\"\")","v":""},{"$f":"IF(ISNUMBER(F73),IF(AS73<0.85,\"\",VLOOKUP(T73,H!A$2:X$23,VLOOKUP(F73,ages!B$1:C$23,2,1),1)),\"\")","v":""},{"$f":"IF(ISNUMBER(F73),IF(AT73<0.85,\"\",VLOOKUP(U73,I!A$2:X$23,VLOOKUP(F73,ages!B$1:C$23,2,1),1)),\"\")","v":""},{"$f":"IF(ISNUMBER(F73),IF(AU73<0.85,\"\",VLOOKUP(V73,J!A$2:X$23,VLOOKUP(F73,ages!B$1:C$23,2,1),1)),\"\")","v":""},"","",{"$f":"IF(AG73=\"\",\"\",IF(ISNUMBER(AJ73),IF(AND(AK73>1.5,(AK73-AJ73)>1.3),0,1),\"\"))","v":""},{"$f":"IF(COUNT(AW73:CT73)>45,SUM(AW73:CT73)/COUNT(AW73:CT73),\"\")","v":""},-1.0000000000000002E-6,{"$f":"COUNT($AX73,$BT73,$BY73,$CH73,$CN73,$CU73,$DB73)/7","v":0},{"$f":"COUNT($AW73,$BM73,$BW73,$CF73,$CM73,$CY73,$DM73)/7","v":0},{"$f":"COUNT($AZ73,$BB73,$BH73,$CB73,$CP73,$DH73,$DJ73)/7","v":0},{"$f":"COUNT($BF73,$BU73,$CJ73,$CR73,$CT73,$CW73,$DL73)/7","v":0},{"$f":"COUNT($BA73,$BQ73,$CE73,$CG73,$CO73,$DC73,$DN73)/7","v":0},{"$f":"COUNT($BG73,$BN73,$BS73,$BZ73,$CL73,$DE73,$DF73)/7","v":0},{"$f":"COUNT($BK73,$BO73,$BX73,$CD73,$CK73,$CX73,$DD73)/7","v":0},{"$f":"COUNT($BD73,$BJ73,$BP73,$CA73,$CI73,$CZ73,$DI73)/7","v":0},{"$f":"COUNT($AY73,$BC73,$BI73,$BL73,$CC73,$DA73,$DK73)/7","v":0},{"$f":"COUNT($BE73,$BR73,$BV73,$CQ73,$CS73,$CV73,$DG73)/7","v":0},{"$f":"COUNT(AW73:DN73)/70","v":0},null,null,null,null,null,null,null,null,null,null,null,null,null,null,null,null,null,null,null,null,null,null,null,null,null,null,null,null,null,null,null,null,null,null,null,null,null,null,null,null,null,null,null,null,null,null,null,null,null,null,null,null,null,null,null,null,null,null,null,null,null,null,null,null,null,null,null,null,null,null,{"$f":"IF(ISNUMBER(CU73),3-CU73,-0.000001)","v":-9.9999999999999995E-7},-9.9999999999999995E-7,-9.9999999999999995E-7,-9.9999999999999995E-7,-9.9999999999999995E-7,-9.9999999999999995E-7,-9.9999999999999995E-7,-9.9999999999999995E-7,-9.9999999999999995E-7,-9.9999999999999995E-7,-9.9999999999999995E-7,-9.9999999999999995E-7,-9.9999999999999995E-7,-9.9999999999999995E-7,-9.9999999999999995E-7,-9.9999999999999995E-7,-9.9999999999999995E-7,-9.9999999999999995E-7,-9.9999999999999995E-7,-9.9999999999999995E-7,{"$f":"IF(ISERROR(VLOOKUP(F73,ages!B$1:B$23,1,1)),\"\",VLOOKUP(F73,ages!B$1:B$23,1,1))","v":""},{"$f":"IF(ISERROR(VLOOKUP(F73,ages!B$1:D$23,3,1)),\"\",VLOOKUP(F73,ages!B$1:D$23,3,1))","v":""},{"$f":"YEAR(E73)-YEAR(D73)-EN73","v":0},{"$f":"IF(MONTH(E73)-MONTH(D73)-EO73<0,12+MONTH(E73)-MONTH(D73)-EO73,MONTH(E73)-MONTH(D73)-EO73)","v":0},{"$f":"IF(DAY(E73)-DAY(D73)<0,30+DAY(E73)-DAY(D73),DAY(E73)-DAY(D73))","v":0},{"$f":"IF(MONTH(E73)-MONTH(D73)-EO73<0,1,0)","v":0},{"$f":"IF(DAY(E73)-DAY(D73)<0,1,0)","v":0}]
[null,null,null,null,null,"",null,null,null,null,null,null,"","","","","","","","","","",{"$f":"IF(ISNUMBER(F74),IF(AL74<0.85,\"\",VLOOKUP(M74,A!A$2:X$23,VLOOKUP(F74,ages!B$1:C$23,2,1),1)),\"\")","v":""},{"$f":"IF(ISNUMBER(F74),IF(AM74<0.85,\"\",VLOOKUP(N74,B!A$2:X$23,VLOOKUP(F74,ages!B$1:C$23,2,1),1)),\"\")","v":""},{"$f":"IF(ISNUMBER(F74),IF(AN74<0.85,\"\",VLOOKUP(O74,'C'!A$2:X$23,VLOOKUP(F74,ages!B$1:C$23,2,1),1)),\"\")","v":""},{"$f":"IF(ISNUMBER(F74),IF(AO74<0.85,\"\",VLOOKUP(P74,D!A$2:X$23,VLOOKUP(F74,ages!B$1:C$23,2,1),1)),\"\")","v":""},{"$f":"IF(ISNUMBER(F74),IF(AP74<0.85,\"\",VLOOKUP(Q74,E!A$2:X$23,VLOOKUP(F74,ages!B$1:C$23,2,1),1)),\"\")","v":""},{"$f":"IF(ISNUMBER(F74),IF(AQ74<0.85,\"\",VLOOKUP(R74,F!A$2:X$23,VLOOKUP(F74,ages!B$1:C$23,2,1),1)),\"\")","v":""},{"$f":"IF(ISNUMBER(F74),IF(AR74<0.85,\"\",VLOOKUP(S74,G!A$2:X$23,VLOOKUP(F74,ages!B$1:C$23,2,1),1)),\"\")","v":""},{"$f":"IF(ISNUMBER(F74),IF(AS74<0.85,\"\",VLOOKUP(T74,H!A$2:X$23,VLOOKUP(F74,ages!B$1:C$23,2,1),1)),\"\")","v":""},{"$f":"IF(ISNUMBER(F74),IF(AT74<0.85,\"\",VLOOKUP(U74,I!A$2:X$23,VLOOKUP(F74,ages!B$1:C$23,2,1),1)),\"\")","v":""},{"$f":"IF(ISNUMBER(F74),IF(AU74<0.85,\"\",VLOOKUP(V74,J!A$2:X$23,VLOOKUP(F74,ages!B$1:C$23,2,1),1)),\"\")","v":""},{"$f":"IF(ISNUMBER(F74),IF((COUNT(W74:AD74)=8),SUM(W74:AD74),\"\"),\"\")","v":""},{"$f":"IF(ISNUMBER(F74),IF((COUNT(W74:AF74)=10),SUM(AA74,AD74:AF74)-SUM(W74:Z74),\"\"),\"\")","v":""},"","",-1.0000000000000002E-6,0,0,0,0,0,0,0,0,0,0,0,null,null,null,null,null,null,null,null,null,null,null,null,null,null,null,null,null,null,null,null,null,null,null,null,null,null,null,null,null,null,null,null,null,null,null,null,null,null,null,null,null,null,null,null,null,null,null,null,null,null,null,null,null,null,null,null,null,null,null,null,null,null,null,null,null,null,null,null,null,null,-9.9999999999999995E-7,-9.9999999999999995E-7,-9.9999999999999995E-7,-9.9999999999999995E-7,-9.9999999999999995E-7,-9.9999999999999995E-7,-9.9999999999999995E-7,-9.9999999999999995E-7,-9.9999999999999995E-7,-9.9999999999999995E-7,-9.9999999999999995E-7,-9.9999999999999995E-7,-9.9999999999999995E-7,-9.9999999999999995E-7,-9.9999999999999995E-7,-9.9999999999999995E-7,-9.9999999999999995E-7,-9.9999999999999995E-7,-9.9999999999999995E-7,-9.9999999999999995E-7,{"$f":"IF(ISERROR(VLOOKUP(F74,ages!B$1:B$23,1,1)),\"\",VLOOKUP(F74,ages!B$1:B$23,1,1))","v":""},{"$f":"IF(ISERROR(VLOOKUP(F74,ages!B$1:D$23,3,1)),\"\",VLOOKUP(F74,ages!B$1:D$23,3,1))","v":""},0,0,0,0,0]
[null,null,null,null,null,"",null,null,null,null,null,null,"","","","","","","","","","",{"$f":"IF(ISNUMBER(F75),IF(AL75<0.85,\"\",VLOOKUP(M75,A!A$2:X$23,VLOOKUP(F75,ages!B$1:C$23,2,1),1)),\"\")","v":""},{"$f":"IF(ISNUMBER(F75),IF(AM75<0.85,\"\",VLOOKUP(N75,B!A$2:X$23,VLOOKUP(F75,ages!B$1:C$23,2,1),1)),\"\")","v":""},{"$f":"IF(ISNUMBER(F75),IF(AN75<0.85,\"\",VLOOKUP(O75,'C'!A$2:X$23,VLOOKUP(F75,ages!B$1:C$23,2,1),1)),\"\")","v":""},{"$f":"IF(ISNUMBER(F75),IF(AO75<0.85,\"\",VLOOKUP(P75,D!A$2:X$23,VLOOKUP(F75,ages!B$1:C$23,2,1),1)),\"\")","v":""},{"$f":"IF(ISNUMBER(F75),IF(AP75<0.85,\"\",VLOOKUP(Q75,E!A$2:X$23,VLOOKUP(F75,ages!B$1:C$23,2,1),1)),\"\")","v":""},{"$f":"IF(ISNUMBER(F75),IF(AQ75<0.85,\"\",VLOOKUP(R75,F!A$2:X$23,VLOOKUP(F75,ages!B$1:C$23,2,1),1)),\"\")","v":""},{"$f":"IF(ISNUMBER(F75),IF(AR75<0.85,\"\",VLOOKUP(S75,G!A$2:X$23,VLOOKUP(F75,ages!B$1:C$23,2,1),1)),\"\")","v":""},{"$f":"IF(ISNUMBER(F75),IF(AS75<0.85,\"\",VLOOKUP(T75,H!A$2:X$23,VLOOKUP(F75,ages!B$1:C$23,2,1),1)),\"\")","v":""},{"$f":"IF(ISNUMBER(F75),IF(AT75<0.85,\"\",VLOOKUP(U75,I!A$2:X$23,VLOOKUP(F75,ages!B$1:C$23,2,1),1)),\"\")","v":""},{"$f":"IF(ISNUMBER(F75),IF(AU75<0.85,\"\",VLOOKUP(V75,J!A$2:X$23,VLOOKUP(F75,ages!B$1:C$23,2,1),1)),\"\")","v":""},"","","","",-1.0000000000000002E-6,0,0,0,0,0,0,0,0,0,0,0,null,null,null,null,null,null,null,null,null,null,null,null,null,null,null,null,null,null,null,null,null,null,null,null,null,null,null,null,null,null,null,null,null,null,null,null,null,null,null,null,null,null,null,null,null,null,null,null,null,null,null,null,null,null,null,null,null,null,null,null,null,null,null,null,null,null,null,null,null,null,-9.9999999999999995E-7,-9.9999999999999995E-7,-9.9999999999999995E-7,-9.9999999999999995E-7,-9.9999999999999995E-7,-9.9999999999999995E-7,-9.9999999999999995E-7,-9.9999999999999995E-7,-9.9999999999999995E-7,-9.9999999999999995E-7,-9.9999999999999995E-7,-9.9999999999999995E-7,-9.9999999999999995E-7,-9.9999999999999995E-7,-9.9999999999999995E-7,-9.9999999999999995E-7,-9.9999999999999995E-7,-9.9999999999999995E-7,-9.9999999999999995E-7,-9.9999999999999995E-7,{"$f":"IF(ISERROR(VLOOKUP(F75,ages!B$1:B$23,1,1)),\"\",VLOOKUP(F75,ages!B$1:B$23,1,1))","v":""},{"$f":"IF(ISERROR(VLOOKUP(F75,ages!B$1:D$23,3,1)),\"\",VLOOKUP(F75,ages!B$1:D$23,3,1))","v":""},0,0,0,0,0]
[null,null,null,null,null,"",null,null,null,null,null,null,"","","","","","","","","","",{"$f":"IF(ISNUMBER(F76),IF(AL76<0.85,\"\",VLOOKUP(M76,A!A$2:X$23,VLOOKUP(F76,ages!B$1:C$23,2,1),1)),\"\")","v":""},{"$f":"IF(ISNUMBER(F76),IF(AM76<0.85,\"\",VLOOKUP(N76,B!A$2:X$23,VLOOKUP(F76,ages!B$1:C$23,2,1),1)),\"\")","v":""},{"$f":"IF(ISNUMBER(F76),IF(AN76<0.85,\"\",VLOOKUP(O76,'C'!A$2:X$23,VLOOKUP(F76,ages!B$1:C$23,2,1),1)),\"\")","v":""},{"$f":"IF(ISNUMBER(F76),IF(AO76<0.85,\"\",VLOOKUP(P76,D!A$2:X$23,VLOOKUP(F76,ages!B$1:C$23,2,1),1)),\"\")","v":""},{"$f":"IF(ISNUMBER(F76),IF(AP76<0.85,\"\",VLOOKUP(Q76,E!A$2:X$23,VLOOKUP(F76,ages!B$1:C$23,2,1),1)),\"\")","v":""},{"$f":"IF(ISNUMBER(F76),IF(AQ76<0.85,\"\",VLOOKUP(R76,F!A$2:X$23,VLOOKUP(F76,ages!B$1:C$23,2,1),1)),\"\")","v":""},{"$f":"IF(ISNUMBER(F76),IF(AR76<0.85,\"\",VLOOKUP(S76,G!A$2:X$23,VLOOKUP(F76,ages!B$1:C$23,2,1),1)),\"\")","v":""},{"$f":"IF(ISNUMBER(F76),IF(AS76<0.85,\"\",VLOOKUP(T76,H!A$2:X$23,VLOOKUP(F76,ages!B$1:C$23,2,1),1)),\"\")","v":""},{"$f":"IF(ISNUMBER(F76),IF(AT76<0.85,\"\",VLOOKUP(U76,I!A$2:X$23,VLOOKUP(F76,ages!B$1:C$23,2,1),1)),\"\")","v":""},{"$f":"IF(ISNUMBER(F76),IF(AU76<0.85,\"\",VLOOKUP(V76,J!A$2:X$23,VLOOKUP(F76,ages!B$1:C$23,2,1),1)),\"\")","v":""},"","","","",-1.0000000000000002E-6,0,0,0,0,0,0,0,0,0,0,0,null,null,null,null,null,null,null,null,null,null,null,null,null,null,null,null,null,null,null,null,null,null,null,null,null,null,null,null,null,null,null,null,null,null,null,null,null,null,null,null,null,null,null,null,null,null,null,null,null,null,null,null,null,null,null,null,null,null,null,null,null,null,null,null,null,null,null,null,null,null,-9.9999999999999995E-7,-9.9999999999999995E-7,-9.9999999999999995E-7,-9.9999999999999995E-7,-9.9999999999999995E-7,-9.9999999999999995E-7,-9.9999999999999995E-7,-9.9999999999999995E-7,-9.9999999999999995E-7,-9.9999999999999995E-7,-9.9999999999999995E-7,-9.9999999999999995E-7,-9.9999999999999995E-7,-9.9999999999999995E-7,-9.9999999999999995E-7,-9.9999999999999995E-7,-9.9999999999999995E-7,-9.9999999999999995E-7,-9.9999999999999995E-7,-9.9999999999999995E-7,{"$f":"IF(ISERROR(VLOOKUP(F76,ages!B$1:B$23,1,1)),\"\",VLOOKUP(F76,ages!B$1:B$23,1,1))","v":""},{"$f":"IF(ISERROR(VLOOKUP(F76,ages!B$1:D$23,3,1)),\"\",VLOOKUP(F76,ages!B$1:D$23,3,1))","v":""},0,0,0,0,0]
[null,null,null,null,null,"",null,null,null,null,null,null,"","","","","","","","","","",{"$f":"IF(ISNUMBER(F77),IF(AL77<0.85,\"\",VLOOKUP(M77,A!A$2:X$23,VLOOKUP(F77,ages!B$1:C$23,2,1),1)),\"\")","v":""},{"$f":"IF(ISNUMBER(F77),IF(AM77<0.85,\"\",VLOOKUP(N77,B!A$2:X$23,VLOOKUP(F77,ages!B$1:C$23,2,1),1)),\"\")","v":""},{"$f":"IF(ISNUMBER(F77),IF(AN77<0.85,\"\",VLOOKUP(O77,'C'!A$2:X$23,VLOOKUP(F77,ages!B$1:C$23,2,1),1)),\"\")","v":""},{"$f":"IF(ISNUMBER(F77),IF(AO77<0.85,\"\",VLOOKUP(P77,D!A$2:X$23,VLOOKUP(F77,ages!B$1:C$23,2,1),1)),\"\")","v":""},{"$f":"IF(ISNUMBER(F77),IF(AP77<0.85,\"\",VLOOKUP(Q77,E!A$2:X$23,VLOOKUP(F77,ages!B$1:C$23,2,1),1)),\"\")","v":""},{"$f":"IF(ISNUMBER(F77),IF(AQ77<0.85,\"\",VLOOKUP(R77,F!A$2:X$23,VLOOKUP(F77,ages!B$1:C$23,2,1),1)),\"\")","v":""},{"$f":"IF(ISNUMBER(F77),IF(AR77<0.85,\"\",VLOOKUP(S77,G!A$2:X$23,VLOOKUP(F77,ages!B$1:C$23,2,1),1)),\"\")","v":""},{"$f":"IF(ISNUMBER(F77),IF(AS77<0.85,\"\",VLOOKUP(T77,H!A$2:X$23,VLOOKUP(F77,ages!B$1:C$23,2,1),1)),\"\")","v":""},{"$f":"IF(ISNUMBER(F77),IF(AT77<0.85,\"\",VLOOKUP(U77,I!A$2:X$23,VLOOKUP(F77,ages!B$1:C$23,2,1),1)),\"\")","v":""},{"$f":"IF(ISNUMBER(F77),IF(AU77<0.85,\"\",VLOOKUP(V77,J!A$2:X$23,VLOOKUP(F77,ages!B$1:C$23,2,1),1)),\"\")","v":""},"","","","",-1.0000000000000002E-6,0,0,0,0,0,0,0,0,0,0,0,null,null,null,null,null,null,null,null,null,null,null,null,null,null,null,null,null,null,null,null,null,null,null,null,null,null,null,null,null,null,null,null,null,null,null,null,null,null,null,null,null,null,null,null,null,null,null,null,null,null,null,null,null,null,null,null,null,null,null,null,null,null,null,null,null,null,null,null,null,null,-9.9999999999999995E-7,-9.9999999999999995E-7,-9.9999999999999995E-7,-9.9999999999999995E-7,-9.9999999999999995E-7,-9.9999999999999995E-7,-9.9999999999999995E-7,-9.9999999999999995E-7,-9.9999999999999995E-7,-9.9999999999999995E-7,-9.9999999999999995E-7,-9.9999999999999995E-7,-9.9999999999999995E-7,-9.9999999999999995E-7,-9.9999999999999995E-7,-9.9999999999999995E-7,-9.9999999999999995E-7,-9.9999999999999995E-7,-9.9999999999999995E-7,-9.9999999999999995E-7,{"$f":"IF(ISERROR(VLOOKUP(F77,ages!B$1:B$23,1,1)),\"\",VLOOKUP(F77,ages!B$1:B$23,1,1))","v":""},{"$f":"IF(ISERROR(VLOOKUP(F77,ages!B$1:D$23,3,1)),\"\",VLOOKUP(F77,ages!B$1:D$23,3,1))","v":""},0,0,0,0,0]
[null,null,null,null,null,"",null,null,null,null,null,null,"","","","","","","","","","",{"$f":"IF(ISNUMBER(F78),IF(AL78<0.85,\"\",VLOOKUP(M78,A!A$2:X$23,VLOOKUP(F78,ages!B$1:C$23,2,1),1)),\"\")","v":""},{"$f":"IF(ISNUMBER(F78),IF(AM78<0.85,\"\",VLOOKUP(N78,B!A$2:X$23,VLOOKUP(F78,ages!B$1:C$23,2,1),1)),\"\")","v":""},{"$f":"IF(ISNUMBER(F78),IF(AN78<0.85,\"\",VLOOKUP(O78,'C'!A$2:X$23,VLOOKUP(F78,ages!B$1:C$23,2,1),1)),\"\")","v":""},{"$f":"IF(ISNUMBER(F78),IF(AO78<0.85,\"\",VLOOKUP(P78,D!A$2:X$23,VLOOKUP(F78,ages!B$1:C$23,2,1),1)),\"\")","v":""},{"$f":"IF(ISNUMBER(F78),IF(AP78<0.85,\"\",VLOOKUP(Q78,E!A$2:X$23,VLOOKUP(F78,ages!B$1:C$23,2,1),1)),\"\")","v":""},{"$f":"IF(ISNUMBER(F78),IF(AQ78<0.85,\"\",VLOOKUP(R78,F!A$2:X$23,VLOOKUP(F78,ages!B$1:C$23,2,1),1)),\"\")","v":""},{"$f":"IF(ISNUMBER(F78),IF(AR78<0.85,\"\",VLOOKUP(S78,G!A$2:X$23,VLOOKUP(F78,ages!B$1:C$23,2,1),1)),\"\")","v":""},{"$f":"IF(ISNUMBER(F78),IF(AS78<0.85,\"\",VLOOKUP(T78,H!A$2:X$23,VLOOKUP(F78,ages!B$1:C$23,2,1),1)),\"\")","v":""},{"$f":"IF(ISNUMBER(F78),IF(AT78<0.85,\"\",VLOOKUP(U78,I!A$2:X$23,VLOOKUP(F78,ages!B$1:C$23,2,1),1)),\"\")","v":""},{"$f":"IF(ISNUMBER(F78),IF(AU78<0.85,\"\",VLOOKUP(V78,J!A$2:X$23,VLOOKUP(F78,ages!B$1:C$23,2,1),1)),\"\")","v":""},"","","","",-1.0000000000000002E-6,0,0,0,0,0,0,0,0,0,0,0,null,null,null,null,null,null,null,null,null,null,null,null,null,null,null,null,null,null,null,null,null,null,null,null,null,null,null,null,null,null,null,null,null,null,null,null,null,null,null,null,null,null,null,null,null,null,null,null,null,null,null,null,null,null,null,null,null,null,null,null,null,null,null,null,null,null,null,null,null,null,-9.9999999999999995E-7,-9.9999999999999995E-7,-9.9999999999999995E-7,-9.9999999999999995E-7,-9.9999999999999995E-7,-9.9999999999999995E-7,-9.9999999999999995E-7,-9.9999999999999995E-7,-9.9999999999999995E-7,-9.9999999999999995E-7,-9.9999999999999995E-7,-9.9999999999999995E-7,-9.9999999999999995E-7,-9.9999999999999995E-7,-9.9999999999999995E-7,-9.9999999999999995E-7,-9.9999999999999995E-7,-9.9999999999999995E-7,-9.9999999999999995E-7,-9.9999999999999995E-7,{"$f":"IF(ISERROR(VLOOKUP(F78,ages!B$1:B$23,1,1)),\"\",VLOOKUP(F78,ages!B$1:B$23,1,1))","v":""},{"$f":"IF(ISERROR(VLOOKUP(F78,ages!B$1:D$23,3,1)),\"\",VLOOKUP(F78,ages!B$1:D$23,3,1))","v":""},0,0,0,0,0]
[null,null,null,null,null,"",null,null,null,null,null,null,"","","","","","","","","","",{"$f":"IF(ISNUMBER(F79),IF(AL79<0.85,\"\",VLOOKUP(M79,A!A$2:X$23,VLOOKUP(F79,ages!B$1:C$23,2,1),1)),\"\")","v":""},{"$f":"IF(ISNUMBER(F79),IF(AM79<0.85,\"\",VLOOKUP(N79,B!A$2:X$23,VLOOKUP(F79,ages!B$1:C$23,2,1),1)),\"\")","v":""},{"$f":"IF(ISNUMBER(F79),IF(AN79<0.85,\"\",VLOOKUP(O79,'C'!A$2:X$23,VLOOKUP(F79,ages!B$1:C$23,2,1),1)),\"\")","v":""},{"$f":"IF(ISNUMBER(F79),IF(AO79<0.85,\"\",VLOOKUP(P79,D!A$2:X$23,VLOOKUP(F79,ages!B$1:C$23,2,1),1)),\"\")","v":""},{"$f":"IF(ISNUMBER(F79),IF(AP79<0.85,\"\",VLOOKUP(Q79,E!A$2:X$23,VLOOKUP(F79,ages!B$1:C$23,2,1),1)),\"\")","v":""},{"$f":"IF(ISNUMBER(F79),IF(AQ79<0.85,\"\",VLOOKUP(R79,F!A$2:X$23,VLOOKUP(F79,ages!B$1:C$23,2,1),1)),\"\")","v":""},{"$f":"IF(ISNUMBER(F79),IF(AR79<0.85,\"\",VLOOKUP(S79,G!A$2:X$23,VLOOKUP(F79,ages!B$1:C$23,2,1),1)),\"\")","v":""},{"$f":"IF(ISNUMBER(F79),IF(AS79<0.85,\"\",VLOOKUP(T79,H!A$2:X$23,VLOOKUP(F79,ages!B$1:C$23,2,1),1)),\"\")","v":""},{"$f":"IF(ISNUMBER(F79),IF(AT79<0.85,\"\",VLOOKUP(U79,I!A$2:X$23,VLOOKUP(F79,ages!B$1:C$23,2,1),1)),\"\")","v":""},{"$f":"IF(ISNUMBER(F79),IF(AU79<0.85,\"\",VLOOKUP(V79,J!A$2:X$23,VLOOKUP(F79,ages!B$1:C$23,2,1),1)),\"\")","v":""},"","","","",-1.0000000000000002E-6,0,0,0,0,0,0,0,0,0,0,0,null,null,null,null,null,null,null,null,null,null,null,null,null,null,null,null,null,null,null,null,null,null,null,null,null,null,null,null,null,null,null,null,null,null,null,null,null,null,null,null,null,null,null,null,null,null,null,null,null,null,null,null,null,null,null,null,null,null,null,null,null,null,null,null,null,null,null,null,null,null,-9.9999999999999995E-7,-9.9999999999999995E-7,-9.9999999999999995E-7,-9.9999999999999995E-7,-9.9999999999999995E-7,-9.9999999999999995E-7,-9.9999999999999995E-7,-9.9999999999999995E-7,-9.9999999999999995E-7,-9.9999999999999995E-7,-9.9999999999999995E-7,-9.9999999999999995E-7,-9.9999999999999995E-7,-9.9999999999999995E-7,-9.9999999999999995E-7,-9.9999999999999995E-7,-9.9999999999999995E-7,-9.9999999999999995E-7,-9.9999999999999995E-7,-9.9999999999999995E-7,{"$f":"IF(ISERROR(VLOOKUP(F79,ages!B$1:B$23,1,1)),\"\",VLOOKUP(F79,ages!B$1:B$23,1,1))","v":""},{"$f":"IF(ISERROR(VLOOKUP(F79,ages!B$1:D$23,3,1)),\"\",VLOOKUP(F79,ages!B$1:D$23,3,1))","v":""},0,0,0,0,0]
[null,null,null,null,null,"",null,null,null,null,null,null,"","","","","","","","","","",{"$f":"IF(ISNUMBER(F80),IF(AL80<0.85,\"\",VLOOKUP(M80,A!A$2:X$23,VLOOKUP(F80,ages!B$1:C$23,2,1),1)),\"\")","v":""},{"$f":"IF(ISNUMBER(F80),IF(AM80<0.85,\"\",VLOOKUP(N80,B!A$2:X$23,VLOOKUP(F80,ages!B$1:C$23,2,1),1)),\"\")","v":""},{"$f":"IF(ISNUMBER(F80),IF(AN80<0.85,\"\",VLOOKUP(O80,'C'!A$2:X$23,VLOOKUP(F80,ages!B$1:C$23,2,1),1)),\"\")","v":""},{"$f":"IF(ISNUMBER(F80),IF(AO80<0.85,\"\",VLOOKUP(P80,D!A$2:X$23,VLOOKUP(F80,ages!B$1:C$23,2,1),1)),\"\")","v":""},{"$f":"IF(ISNUMBER(F80),IF(AP80<0.85,\"\",VLOOKUP(Q80,E!A$2:X$23,VLOOKUP(F80,ages!B$1:C$23,2,1),1)),\"\")","v":""},{"$f":"IF(ISNUMBER(F80),IF(AQ80<0.85,\"\",VLOOKUP(R80,F!A$2:X$23,VLOOKUP(F80,ages!B$1:C$23,2,1),1)),\"\")","v":""},{"$f":"IF(ISNUMBER(F80),IF(AR80<0.85,\"\",VLOOKUP(S80,G!A$2:X$23,VLOOKUP(F80,ages!B$1:C$23,2,1),1)),\"\")","v":""},{"$f":"IF(ISNUMBER(F80),IF(AS80<0.85,\"\",VLOOKUP(T80,H!A$2:X$23,VLOOKUP(F80,ages!B$1:C$23,2,1),1)),\"\")","v":""},{"$f":"IF(ISNUMBER(F80),IF(AT80<0.85,\"\",VLOOKUP(U80,I!A$2:X$23,VLOOKUP(F80,ages!B$1:C$23,2,1),1)),\"\")","v":""},{"$f":"IF(ISNUMBER(F80),IF(AU80<0.85,\"\",VLOOKUP(V80,J!A$2:X$23,VLOOKUP(F80,ages!B$1:C$23,2,1),1)),\"\")","v":""},"","","","",-1.0000000000000002E-6,0,0,0,0,0,0,0,0,0,0,0,null,null,null,null,null,null,null,null,null,null,null,null,null,null,null,null,null,null,null,null,null,null,null,null,null,null,null,null,null,null,null,null,null,null,null,null,null,null,null,null,null,null,null,null,null,null,null,null,null,null,null,null,null,null,null,null,null,null,null,null,null,null,null,null,null,null,null,null,null,null,-9.9999999999999995E-7,-9.9999999999999995E-7,-9.9999999999999995E-7,-9.9999999999999995E-7,-9.9999999999999995E-7,-9.9999999999999995E-7,-9.9999999999999995E-7,-9.9999999999999995E-7,-9.9999999999999995E-7,-9.9999999999999995E-7,-9.9999999999999995E-7,-9.9999999999999995E-7,-9.9999999999999995E-7,-9.9999999999999995E-7,-9.9999999999999995E-7,-9.9999999999999995E-7,-9.9999999999999995E-7,-9.9999999999999995E-7,-9.9999999999999995E-7,-9.9999999999999995E-7,{"$f":"IF(ISERROR(VLOOKUP(F80,ages!B$1:B$23,1,1)),\"\",VLOOKUP(F80,ages!B$1:B$23,1,1))","v":""},{"$f":"IF(ISERROR(VLOOKUP(F80,ages!B$1:D$23,3,1)),\"\",VLOOKUP(F80,ages!B$1:D$23,3,1))","v":""},0,0,0,0,0]
[null,null,null,null,null,"",null,null,null,null,null,null,"","","","","","","","","","",{"$f":"IF(ISNUMBER(F81),IF(AL81<0.85,\"\",VLOOKUP(M81,A!A$2:X$23,VLOOKUP(F81,ages!B$1:C$23,2,1),1)),\"\")","v":""},{"$f":"IF(ISNUMBER(F81),IF(AM81<0.85,\"\",VLOOKUP(N81,B!A$2:X$23,VLOOKUP(F81,ages!B$1:C$23,2,1),1)),\"\")","v":""},{"$f":"IF(ISNUMBER(F81),IF(AN81<0.85,\"\",VLOOKUP(O81,'C'!A$2:X$23,VLOOKUP(F81,ages!B$1:C$23,2,1),1)),\"\")","v":""},{"$f":"IF(ISNUMBER(F81),IF(AO81<0.85,\"\",VLOOKUP(P81,D!A$2:X$23,VLOOKUP(F81,ages!B$1:C$23,2,1),1)),\"\")","v":""},{"$f":"IF(ISNUMBER(F81),IF(AP81<0.85,\"\",VLOOKUP(Q81,E!A$2:X$23,VLOOKUP(F81,ages!B$1:C$23,2,1),1)),\"\")","v":""},{"$f":"IF(ISNUMBER(F81),IF(AQ81<0.85,\"\",VLOOKUP(R81,F!A$2:X$23,VLOOKUP(F81,ages!B$1:C$23,2,1),1)),\"\")","v":""},{"$f":"IF(ISNUMBER(F81),IF(AR81<0.85,\"\",VLOOKUP(S81,G!A$2:X$23,VLOOKUP(F81,ages!B$1:C$23,2,1),1)),\"\")","v":""},{"$f":"IF(ISNUMBER(F81),IF(AS81<0.85,\"\",VLOOKUP(T81,H!A$2:X$23,VLOOKUP(F81,ages!B$1:C$23,2,1),1)),\"\")","v":""},{"$f":"IF(ISNUMBER(F81),IF(AT81<0.85,\"\",VLOOKUP(U81,I!A$2:X$23,VLOOKUP(F81,ages!B$1:C$23,2,1),1)),\"\")","v":""},{"$f":"IF(ISNUMBER(F81),IF(AU81<0.85,\"\",VLOOKUP(V81,J!A$2:X$23,VLOOKUP(F81,ages!B$1:C$23,2,1),1)),\"\")","v":""},"","","","",-1.0000000000000002E-6,0,0,0,0,0,0,0,0,0,0,0,null,null,null,null,null,null,null,null,null,null,null,null,null,null,null,null,null,null,null,null,null,null,null,null,null,null,null,null,null,null,null,null,null,null,null,null,null,null,null,null,null,null,null,null,null,null,null,null,null,null,null,null,null,null,null,null,null,null,null,null,null,null,null,null,null,null,null,null,null,null,-9.9999999999999995E-7,-9.9999999999999995E-7,-9.9999999999999995E-7,-9.9999999999999995E-7,-9.9999999999999995E-7,-9.9999999999999995E-7,-9.9999999999999995E-7,-9.9999999999999995E-7,-9.9999999999999995E-7,-9.9999999999999995E-7,-9.9999999999999995E-7,-9.9999999999999995E-7,-9.9999999999999995E-7,-9.9999999999999995E-7,-9.9999999999999995E-7,-9.9999999999999995E-7,-9.9999999999999995E-7,-9.9999999999999995E-7,-9.9999999999999995E-7,-9.9999999999999995E-7,{"$f":"IF(ISERROR(VLOOKUP(F81,ages!B$1:B$23,1,1)),\"\",VLOOKUP(F81,ages!B$1:B$23,1,1))","v":""},{"$f":"IF(ISERROR(VLOOKUP(F81,ages!B$1:D$23,3,1)),\"\",VLOOKUP(F81,ages!B$1:D$23,3,1))","v":""},0,0,0,0,0]
[null,null,null,null,null,"",null,null,null,null,null,null,"","","","","","","","","","",{"$f":"IF(ISNUMBER(F82),IF(AL82<0.85,\"\",VLOOKUP(M82,A!A$2:X$23,VLOOKUP(F82,ages!B$1:C$23,2,1),1)),\"\")","v":""},{"$f":"IF(ISNUMBER(F82),IF(AM82<0.85,\"\",VLOOKUP(N82,B!A$2:X$23,VLOOKUP(F82,ages!B$1:C$23,2,1),1)),\"\")","v":""},{"$f":"IF(ISNUMBER(F82),IF(AN82<0.85,\"\",VLOOKUP(O82,'C'!A$2:X$23,VLOOKUP(F82,ages!B$1:C$23,2,1),1)),\"\")","v":""},{"$f":"IF(ISNUMBER(F82),IF(AO82<0.85,\"\",VLOOKUP(P82,D!A$2:X$23,VLOOKUP(F82,ages!B$1:C$23,2,1),1)),\"\")","v":""},{"$f":"IF(ISNUMBER(F82),IF(AP82<0.85,\"\",VLOOKUP(Q82,E!A$2:X$23,VLOOKUP(F82,ages!B$1:C$23,2,1),1)),\"\")","v":""},{"$f":"IF(ISNUMBER(F82),IF(AQ82<0.85,\"\",VLOOKUP(R82,F!A$2:X$23,VLOOKUP(F82,ages!B$1:C$23,2,1),1)),\"\")","v":""},{"$f":"IF(ISNUMBER(F82),IF(AR82<0.85,\"\",VLOOKUP(S82,G!A$2:X$23,VLOOKUP(F82,ages!B$1:C$23,2,1),1)),\"\")","v":""},{"$f":"IF(ISNUMBER(F82),IF(AS82<0.85,\"\",VLOOKUP(T82,H!A$2:X$23,VLOOKUP(F82,ages!B$1:C$23,2,1),1)),\"\")","v":""},{"$f":"IF(ISNUMBER(F82),IF(AT82<0.85,\"\",VLOOKUP(U82,I!A$2:X$23,VLOOKUP(F82,ages!B$1:C$23,2,1),1)),\"\")","v":""},{"$f":"IF(ISNUMBER(F82),IF(AU82<0.85,\"\",VLOOKUP(V82,J!A$2:X$23,VLOOKUP(F82,ages!B$1:C$23,2,1),1)),\"\")","v":""},"","","","",-1.0000000000000002E-6,0,0,0,0,0,0,0,0,0,0,0,null,null,null,null,null,null,null,null,null,null,null,null,null,null,null,null,null,null,null,null,null,null,null,null,null,null,null,null,null,null,null,null,null,null,null,null,null,null,null,null,null,null,null,null,null,null,null,null,null,null,null,null,null,null,null,null,null,null,null,null,null,null,null,null,null,null,null,null,null,null,-9.9999999999999995E-7,-9.9999999999999995E-7,-9.9999999999999995E-7,-9.9999999999999995E-7,-9.9999999999999995E-7,-9.9999999999999995E-7,-9.9999999999999995E-7,-9.9999999999999995E-7,-9.9999999999999995E-7,-9.9999999999999995E-7,-9.9999999999999995E-7,-9.9999999999999995E-7,-9.9999999999999995E-7,-9.9999999999999995E-7,-9.9999999999999995E-7,-9.9999999999999995E-7,-9.9999999999999995E-7,-9.9999999999999995E-7,-9.9999999999999995E-7,-9.9999999999999995E-7,{"$f":"IF(ISERROR(VLOOKUP(F82,ages!B$1:B$23,1,1)),\"\",VLOOKUP(F82,ages!B$1:B$23,1,1))","v":""},{"$f":"IF(ISERROR(VLOOKUP(F82,ages!B$1:D$23,3,1)),\"\",VLOOKUP(F82,ages!B$1:D$23,3,1))","v":""},0,0,0,0,0]
[null,null,null,null,null,"",null,null,null,null,null,null,"","","","","","","","","","",{"$f":"IF(ISNUMBER(F83),IF(AL83<0.85,\"\",VLOOKUP(M83,A!A$2:X$23,VLOOKUP(F83,ages!B$1:C$23,2,1),1)),\"\")","v":""},{"$f":"IF(ISNUMBER(F83),IF(AM83<0.85,\"\",VLOOKUP(N83,B!A$2:X$23,VLOOKUP(F83,ages!B$1:C$23,2,1),1)),\"\")","v":""},{"$f":"IF(ISNUMBER(F83),IF(AN83<0.85,\"\",VLOOKUP(O83,'C'!A$2:X$23,VLOOKUP(F83,ages!B$1:C$23,2,1),1)),\"\")","v":""},{"$f":"IF(ISNUMBER(F83),IF(AO83<0.85,\"\",VLOOKUP(P83,D!A$2:X$23,VLOOKUP(F83,ages!B$1:C$23,2,1),1)),\"\")","v":""},{"$f":"IF(ISNUMBER(F83),IF(AP83<0.85,\"\",VLOOKUP(Q83,E!A$2:X$23,VLOOKUP(F83,ages!B$1:C$23,2,1),1)),\"\")","v":""},{"$f":"IF(ISNUMBER(F83),IF(AQ83<0.85,\"\",VLOOKUP(R83,F!A$2:X$23,VLOOKUP(F83,ages!B$1:C$23,2,1),1)),\"\")","v":""},{"$f":"IF(ISNUMBER(F83),IF(AR83<0.85,\"\",VLOOKUP(S83,G!A$2:X$23,VLOOKUP(F83,ages!B$1:C$23,2,1),1)),\"\")","v":""},{"$f":"IF(ISNUMBER(F83),IF(AS83<0.85,\"\",VLOOKUP(T83,H!A$2:X$23,VLOOKUP(F83,ages!B$1:C$23,2,1),1)),\"\")","v":""},{"$f":"IF(ISNUMBER(F83),IF(AT83<0.85,\"\",VLOOKUP(U83,I!A$2:X$23,VLOOKUP(F83,ages!B$1:C$23,2,1),1)),\"\")","v":""},{"$f":"IF(ISNUMBER(F83),IF(AU83<0.85,\"\",VLOOKUP(V83,J!A$2:X$23,VLOOKUP(F83,ages!B$1:C$23,2,1),1)),\"\")","v":""},"","","","",-1.0000000000000002E-6,0,0,0,0,0,0,0,0,0,0,0,null,null,null,null,null,null,null,null,null,null,null,null,null,null,null,null,null,null,null,null,null,null,null,null,null,null,null,null,null,null,null,null,null,null,null,null,null,null,null,null,null,null,null,null,null,null,null,null,null,null,null,null,null,null,null,null,null,null,null,null,null,null,null,null,null,null,null,null,null,null,-9.9999999999999995E-7,-9.9999999999999995E-7,-9.9999999999999995E-7,-9.9999999999999995E-7,-9.9999999999999995E-7,-9.9999999999999995E-7,-9.9999999999999995E-7,-9.9999999999999995E-7,-9.9999999999999995E-7,-9.9999999999999995E-7,-9.9999999999999995E-7,-9.9999999999999995E-7,-9.9999999999999995E-7,-9.9999999999999995E-7,-9.9999999999999995E-7,-9.9999999999999995E-7,-9.9999999999999995E-7,-9.9999999999999995E-7,-9.9999999999999995E-7,-9.9999999999999995E-7,{"$f":"IF(ISERROR(VLOOKUP(F83,ages!B$1:B$23,1,1)),\"\",VLOOKUP(F83,ages!B$1:B$23,1,1))","v":""},{"$f":"IF(ISERROR(VLOOKUP(F83,ages!B$1:D$23,3,1)),\"\",VLOOKUP(F83,ages!B$1:D$23,3,1))","v":""},0,0,0,0,0]
[null,null,null,null,null,"",null,null,null,null,null,null,"","","","","","","","","","",{"$f":"IF(ISNUMBER(F84),IF(AL84<0.85,\"\",VLOOKUP(M84,A!A$2:X$23,VLOOKUP(F84,ages!B$1:C$23,2,1),1)),\"\")","v":""},{"$f":"IF(ISNUMBER(F84),IF(AM84<0.85,\"\",VLOOKUP(N84,B!A$2:X$23,VLOOKUP(F84,ages!B$1:C$23,2,1),1)),\"\")","v":""},{"$f":"IF(ISNUMBER(F84),IF(AN84<0.85,\"\",VLOOKUP(O84,'C'!A$2:X$23,VLOOKUP(F84,ages!B$1:C$23,2,1),1)),\"\")","v":""},{"$f":"IF(ISNUMBER(F84),IF(AO84<0.85,\"\",VLOOKUP(P84,D!A$2:X$23,VLOOKUP(F84,ages!B$1:C$23,2,1),1)),\"\")","v":""},{"$f":"IF(ISNUMBER(F84),IF(AP84<0.85,\"\",VLOOKUP(Q84,E!A$2:X$23,VLOOKUP(F84,ages!B$1:C$23,2,1),1)),\"\")","v":""},{"$f":"IF(ISNUMBER(F84),IF(AQ84<0.85,\"\",VLOOKUP(R84,F!A$2:X$23,VLOOKUP(F84,ages!B$1:C$23,2,1),1)),\"\")","v":""},{"$f":"IF(ISNUMBER(F84),IF(AR84<0.85,\"\",VLOOKUP(S84,G!A$2:X$23,VLOOKUP(F84,ages!B$1:C$23,2,1),1)),\"\")","v":""},{"$f":"IF(ISNUMBER(F84),IF(AS84<0.85,\"\",VLOOKUP(T84,H!A$2:X$23,VLOOKUP(F84,ages!B$1:C$23,2,1),1)),\"\")","v":""},{"$f":"IF(ISNUMBER(F84),IF(AT84<0.85,\"\",VLOOKUP(U84,I!A$2:X$23,VLOOKUP(F84,ages!B$1:C$23,2,1),1)),\"\")","v":""},{"$f":"IF(ISNUMBER(F84),IF(AU84<0.85,\"\",VLOOKUP(V84,J!A$2:X$23,VLOOKUP(F84,ages!B$1:C$23,2,1),1)),\"\")","v":""},"","","","",-1.0000000000000002E-6,0,0,0,0,0,0,0,0,0,0,0,null,null,null,null,null,null,null,null,null,null,null,null,null,null,null,null,null,null,null,null,null,null,null,null,null,null,null,null,null,null,null,null,null,null,null,null,null,null,null,null,null,null,null,null,null,null,null,null,null,null,null,null,null,null,null,null,null,null,null,null,null,null,null,null,null,null,null,null,null,null,-9.9999999999999995E-7,-9.9999999999999995E-7,-9.9999999999999995E-7,-9.9999999999999995E-7,-9.9999999999999995E-7,-9.9999999999999995E-7,-9.9999999999999995E-7,-9.9999999999999995E-7,-9.9999999999999995E-7,-9.9999999999999995E-7,-9.9999999999999995E-7,-9.9999999999999995E-7,-9.9999999999999995E-7,-9.9999999999999995E-7,-9.9999999999999995E-7,-9.9999999999999995E-7,-9.9999999999999995E-7,-9.9999999999999995E-7,-9.9999999999999995E-7,-9.9999999999999995E-7,{"$f":"IF(ISERROR(VLOOKUP(F84,ages!B$1:B$23,1,1)),\"\",VLOOKUP(F84,ages!B$1:B$23,1,1))","v":""},{"$f":"IF(ISERROR(VLOOKUP(F84,ages!B$1:D$23,3,1)),\"\",VLOOKUP(F84,ages!B$1:D$23,3,1))","v":""},0,0,0,0,0]
[null,null,null,null,null,"",null,null,null,null,null,null,"","","","","","","","","","",{"$f":"IF(ISNUMBER(F85),IF(AL85<0.85,\"\",VLOOKUP(M85,A!A$2:X$23,VLOOKUP(F85,ages!B$1:C$23,2,1),1)),\"\")","v":""},{"$f":"IF(ISNUMBER(F85),IF(AM85<0.85,\"\",VLOOKUP(N85,B!A$2:X$23,VLOOKUP(F85,ages!B$1:C$23,2,1),1)),\"\")","v":""},{"$f":"IF(ISNUMBER(F85),IF(AN85<0.85,\"\",VLOOKUP(O85,'C'!A$2:X$23,VLOOKUP(F85,ages!B$1:C$23,2,1),1)),\"\")","v":""},{"$f":"IF(ISNUMBER(F85),IF(AO85<0.85,\"\",VLOOKUP(P85,D!A$2:X$23,VLOOKUP(F85,ages!B$1:C$23,2,1),1)),\"\")","v":""},{"$f":"IF(ISNUMBER(F85),IF(AP85<0.85,\"\",VLOOKUP(Q85,E!A$2:X$23,VLOOKUP(F85,ages!B$1:C$23,2,1),1)),\"\")","v":""},{"$f":"IF(ISNUMBER(F85),IF(AQ85<0.85,\"\",VLOOKUP(R85,F!A$2:X$23,VLOOKUP(F85,ages!B$1:C$23,2,1),1)),\"\")","v":""},{"$f":"IF(ISNUMBER(F85),IF(AR85<0.85,\"\",VLOOKUP(S85,G!A$2:X$23,VLOOKUP(F85,ages!B$1:C$23,2,1),1)),\"\")","v":""},{"$f":"IF(ISNUMBER(F85),IF(AS85<0.85,\"\",VLOOKUP(T85,H!A$2:X$23,VLOOKUP(F85,ages!B$1:C$23,2,1),1)),\"\")","v":""},{"$f":"IF(ISNUMBER(F85),IF(AT85<0.85,\"\",VLOOKUP(U85,I!A$2:X$23,VLOOKUP(F85,ages!B$1:C$23,2,1),1)),\"\")","v":""},{"$f":"IF(ISNUMBER(F85),IF(AU85<0.85,\"\",VLOOKUP(V85,J!A$2:X$23,VLOOKUP(F85,ages!B$1:C$23,2,1),1)),\"\")","v":""},"","","","",-1.0000000000000002E-6,0,0,0,0,0,0,0,0,0,0,0,null,null,null,null,null,null,null,null,null,null,null,null,null,null,null,null,null,null,null,null,null,null,null,null,null,null,null,null,null,null,null,null,null,null,null,null,null,null,null,null,null,null,null,null,null,null,null,null,null,null,null,null,null,null,null,null,null,null,null,null,null,null,null,null,null,null,null,null,null,null,-9.9999999999999995E-7,-9.9999999999999995E-7,-9.9999999999999995E-7,-9.9999999999999995E-7,-9.9999999999999995E-7,-9.9999999999999995E-7,-9.9999999999999995E-7,-9.9999999999999995E-7,-9.9999999999999995E-7,-9.9999999999999995E-7,-9.9999999999999995E-7,-9.9999999999999995E-7,-9.9999999999999995E-7,-9.9999999999999995E-7,-9.9999999999999995E-7,-9.9999999999999995E-7,-9.9999999999999995E-7,-9.9999999999999995E-7,-9.9999999999999995E-7,-9.9999999999999995E-7,{"$f":"IF(ISERROR(VLOOKUP(F85,ages!B$1:B$23,1,1)),\"\",VLOOKUP(F85,ages!B$1:B$23,1,1))","v":""},{"$f":"IF(ISERROR(VLOOKUP(F85,ages!B$1:D$23,3,1)),\"\",VLOOKUP(F85,ages!B$1:D$23,3,1))","v":""},0,0,0,0,0]
[null,null,null,null,null,"",null,null,null,null,null,null,"","","","","","","","","","",{"$f":"IF(ISNUMBER(F86),IF(AL86<0.85,\"\",VLOOKUP(M86,A!A$2:X$23,VLOOKUP(F86,ages!B$1:C$23,2,1),1)),\"\")","v":""},{"$f":"IF(ISNUMBER(F86),IF(AM86<0.85,\"\",VLOOKUP(N86,B!A$2:X$23,VLOOKUP(F86,ages!B$1:C$23,2,1),1)),\"\")","v":""},{"$f":"IF(ISNUMBER(F86),IF(AN86<0.85,\"\",VLOOKUP(O86,'C'!A$2:X$23,VLOOKUP(F86,ages!B$1:C$23,2,1),1)),\"\")","v":""},{"$f":"IF(ISNUMBER(F86),IF(AO86<0.85,\"\",VLOOKUP(P86,D!A$2:X$23,VLOOKUP(F86,ages!B$1:C$23,2,1),1)),\"\")","v":""},{"$f":"IF(ISNUMBER(F86),IF(AP86<0.85,\"\",VLOOKUP(Q86,E!A$2:X$23,VLOOKUP(F86,ages!B$1:C$23,2,1),1)),\"\")","v":""},{"$f":"IF(ISNUMBER(F86),IF(AQ86<0.85,\"\",VLOOKUP(R86,F!A$2:X$23,VLOOKUP(F86,ages!B$1:C$23,2,1),1)),\"\")","v":""},{"$f":"IF(ISNUMBER(F86),IF(AR86<0.85,\"\",VLOOKUP(S86,G!A$2:X$23,VLOOKUP(F86,ages!B$1:C$23,2,1),1)),\"\")","v":""},{"$f":"IF(ISNUMBER(F86),IF(AS86<0.85,\"\",VLOOKUP(T86,H!A$2:X$23,VLOOKUP(F86,ages!B$1:C$23,2,1),1)),\"\")","v":""},{"$f":"IF(ISNUMBER(F86),IF(AT86<0.85,\"\",VLOOKUP(U86,I!A$2:X$23,VLOOKUP(F86,ages!B$1:C$23,2,1),1)),\"\")","v":""},{"$f":"IF(ISNUMBER(F86),IF(AU86<0.85,\"\",VLOOKUP(V86,J!A$2:X$23,VLOOKUP(F86,ages!B$1:C$23,2,1),1)),\"\")","v":""},"","","","",-1.0000000000000002E-6,0,0,0,0,0,0,0,0,0,0,0,null,null,null,null,null,null,null,null,null,null,null,null,null,null,null,null,null,null,null,null,null,null,null,null,null,null,null,null,null,null,null,null,null,null,null,null,null,null,null,null,null,null,null,null,null,null,null,null,null,null,null,null,null,null,null,null,null,null,null,null,null,null,null,null,null,null,null,null,null,null,-9.9999999999999995E-7,-9.9999999999999995E-7,-9.9999999999999995E-7,-9.9999999999999995E-7,-9.9999999999999995E-7,-9.9999999999999995E-7,-9.9999999999999995E-7,-9.9999999999999995E-7,-9.9999999999999995E-7,-9.9999999999999995E-7,-9.9999999999999995E-7,-9.9999999999999995E-7,-9.9999999999999995E-7,-9.9999999999999995E-7,-9.9999999999999995E-7,-9.9999999999999995E-7,-9.9999999999999995E-7,-9.9999999999999995E-7,-9.9999999999999995E-7,-9.9999999999999995E-7,{"$f":"IF(ISERROR(VLOOKUP(F86,ages!B$1:B$23,1,1)),\"\",VLOOKUP(F86,ages!B$1:B$23,1,1))","v":""},{"$f":"IF(ISERROR(VLOOKUP(F86,ages!B$1:D$23,3,1)),\"\",VLOOKUP(F86,ages!B$1:D$23,3,1))","v":""},0,0,0,0,0]
[null,null,null,null,null,"",null,null,null,null,null,null,"","","","","","","","","","",{"$f":"IF(ISNUMBER(F87),IF(AL87<0.85,\"\",VLOOKUP(M87,A!A$2:X$23,VLOOKUP(F87,ages!B$1:C$23,2,1),1)),\"\")","v":""},{"$f":"IF(ISNUMBER(F87),IF(AM87<0.85,\"\",VLOOKUP(N87,B!A$2:X$23,VLOOKUP(F87,ages!B$1:C$23,2,1),1)),\"\")","v":""},{"$f":"IF(ISNUMBER(F87),IF(AN87<0.85,\"\",VLOOKUP(O87,'C'!A$2:X$23,VLOOKUP(F87,ages!B$1:C$23,2,1),1)),\"\")","v":""},{"$f":"IF(ISNUMBER(F87),IF(AO87<0.85,\"\",VLOOKUP(P87,D!A$2:X$23,VLOOKUP(F87,ages!B$1:C$23,2,1),1)),\"\")","v":""},{"$f":"IF(ISNUMBER(F87),IF(AP87<0.85,\"\",VLOOKUP(Q87,E!A$2:X$23,VLOOKUP(F87,ages!B$1:C$23,2,1),1)),\"\")","v":""},{"$f":"IF(ISNUMBER(F87),IF(AQ87<0.85,\"\",VLOOKUP(R87,F!A$2:X$23,VLOOKUP(F87,ages!B$1:C$23,2,1),1)),\"\")","v":""},{"$f":"IF(ISNUMBER(F87),IF(AR87<0.85,\"\",VLOOKUP(S87,G!A$2:X$23,VLOOKUP(F87,ages!B$1:C$23,2,1),1)),\"\")","v":""},{"$f":"IF(ISNUMBER(F87),IF(AS87<0.85,\"\",VLOOKUP(T87,H!A$2:X$23,VLOOKUP(F87,ages!B$1:C$23,2,1),1)),\"\")","v":""},{"$f":"IF(ISNUMBER(F87),IF(AT87<0.85,\"\",VLOOKUP(U87,I!A$2:X$23,VLOOKUP(F87,ages!B$1:C$23,2,1),1)),\"\")","v":""},{"$f":"IF(ISNUMBER(F87),IF(AU87<0.85,\"\",VLOOKUP(V87,J!A$2:X$23,VLOOKUP(F87,ages!B$1:C$23,2,1),1)),\"\")","v":""},"","","","",-1.0000000000000002E-6,0,0,0,0,0,0,0,0,0,0,0,null,null,null,null,null,null,null,null,null,null,null,null,null,null,null,null,null,null,null,null,null,null,null,null,null,null,null,null,null,null,null,null,null,null,null,null,null,null,null,null,null,null,null,null,null,null,null,null,null,null,null,null,null,null,null,null,null,null,null,null,null,null,null,null,null,null,null,null,null,null,-9.9999999999999995E-7,-9.9999999999999995E-7,-9.9999999999999995E-7,-9.9999999999999995E-7,-9.9999999999999995E-7,-9.9999999999999995E-7,-9.9999999999999995E-7,-9.9999999999999995E-7,-9.9999999999999995E-7,-9.9999999999999995E-7,-9.9999999999999995E-7,-9.9999999999999995E-7,-9.9999999999999995E-7,-9.9999999999999995E-7,-9.9999999999999995E-7,-9.9999999999999995E-7,-9.9999999999999995E-7,-9.9999999999999995E-7,-9.9999999999999995E-7,-9.9999999999999995E-7,{"$f":"IF(ISERROR(VLOOKUP(F87,ages!B$1:B$23,1,1)),\"\",VLOOKUP(F87,ages!B$1:B$23,1,1))","v":""},{"$f":"IF(ISERROR(VLOOKUP(F87,ages!B$1:D$23,3,1)),\"\",VLOOKUP(F87,ages!B$1:D$23,3,1))","v":""},0,0,0,0,0]
[null,null,null,null,null,"",null,null,null,null,null,null,"","","","","","","","","","",{"$f":"IF(ISNUMBER(F88),IF(AL88<0.85,\"\",VLOOKUP(M88,A!A$2:X$23,VLOOKUP(F88,ages!B$1:C$23,2,1),1)),\"\")","v":""},{"$f":"IF(ISNUMBER(F88),IF(AM88<0.85,\"\",VLOOKUP(N88,B!A$2:X$23,VLOOKUP(F88,ages!B$1:C$23,2,1),1)),\"\")","v":""},{"$f":"IF(ISNUMBER(F88),IF(AN88<0.85,\"\",VLOOKUP(O88,'C'!A$2:X$23,VLOOKUP(F88,ages!B$1:C$23,2,1),1)),\"\")","v":""},{"$f":"IF(ISNUMBER(F88),IF(AO88<0.85,\"\",VLOOKUP(P88,D!A$2:X$23,VLOOKUP(F88,ages!B$1:C$23,2,1),1)),\"\")","v":""},{"$f":"IF(ISNUMBER(F88),IF(AP88<0.85,\"\",VLOOKUP(Q88,E!A$2:X$23,VLOOKUP(F88,ages!B$1:C$23,2,1),1)),\"\")","v":""},{"$f":"IF(ISNUMBER(F88),IF(AQ88<0.85,\"\",VLOOKUP(R88,F!A$2:X$23,VLOOKUP(F88,ages!B$1:C$23,2,1),1)),\"\")","v":""},{"$f":"IF(ISNUMBER(F88),IF(AR88<0.85,\"\",VLOOKUP(S88,G!A$2:X$23,VLOOKUP(F88,ages!B$1:C$23,2,1),1)),\"\")","v":""},{"$f":"IF(ISNUMBER(F88),IF(AS88<0.85,\"\",VLOOKUP(T88,H!A$2:X$23,VLOOKUP(F88,ages!B$1:C$23,2,1),1)),\"\")","v":""},{"$f":"IF(ISNUMBER(F88),IF(AT88<0.85,\"\",VLOOKUP(U88,I!A$2:X$23,VLOOKUP(F88,ages!B$1:C$23,2,1),1)),\"\")","v":""},{"$f":"IF(ISNUMBER(F88),IF(AU88<0.85,\"\",VLOOKUP(V88,J!A$2:X$23,VLOOKUP(F88,ages!B$1:C$23,2,1),1)),\"\")","v":""},"","","","",-1.0000000000000002E-6,0,0,0,0,0,0,0,0,0,0,0,null,null,null,null,null,null,null,null,null,null,null,null,null,null,null,null,null,null,null,null,null,null,null,null,null,null,null,null,null,null,null,null,null,null,null,null,null,null,null,null,null,null,null,null,null,null,null,null,null,null,null,null,null,null,null,null,null,null,null,null,null,null,null,null,null,null,null,null,null,null,-9.9999999999999995E-7,-9.9999999999999995E-7,-9.9999999999999995E-7,-9.9999999999999995E-7,-9.9999999999999995E-7,-9.9999999999999995E-7,-9.9999999999999995E-7,-9.9999999999999995E-7,-9.9999999999999995E-7,-9.9999999999999995E-7,-9.9999999999999995E-7,-9.9999999999999995E-7,-9.9999999999999995E-7,-9.9999999999999995E-7,-9.9999999999999995E-7,-9.9999999999999995E-7,-9.9999999999999995E-7,-9.9999999999999995E-7,-9.9999999999999995E-7,-9.9999999999999995E-7,{"$f":"IF(ISERROR(VLOOKUP(F88,ages!B$1:B$23,1,1)),\"\",VLOOKUP(F88,ages!B$1:B$23,1,1))","v":""},{"$f":"IF(ISERROR(VLOOKUP(F88,ages!B$1:D$23,3,1)),\"\",VLOOKUP(F88,ages!B$1:D$23,3,1))","v":""},0,0,0,0,0]
[null,null,null,null,null,"",null,null,null,null,null,null,"","","","","","","","","","",{"$f":"IF(ISNUMBER(F89),IF(AL89<0.85,\"\",VLOOKUP(M89,A!A$2:X$23,VLOOKUP(F89,ages!B$1:C$23,2,1),1)),\"\")","v":""},{"$f":"IF(ISNUMBER(F89),IF(AM89<0.85,\"\",VLOOKUP(N89,B!A$2:X$23,VLOOKUP(F89,ages!B$1:C$23,2,1),1)),\"\")","v":""},{"$f":"IF(ISNUMBER(F89),IF(AN89<0.85,\"\",VLOOKUP(O89,'C'!A$2:X$23,VLOOKUP(F89,ages!B$1:C$23,2,1),1)),\"\")","v":""},{"$f":"IF(ISNUMBER(F89),IF(AO89<0.85,\"\",VLOOKUP(P89,D!A$2:X$23,VLOOKUP(F89,ages!B$1:C$23,2,1),1)),\"\")","v":""},{"$f":"IF(ISNUMBER(F89),IF(AP89<0.85,\"\",VLOOKUP(Q89,E!A$2:X$23,VLOOKUP(F89,ages!B$1:C$23,2,1),1)),\"\")","v":""},{"$f":"IF(ISNUMBER(F89),IF(AQ89<0.85,\"\",VLOOKUP(R89,F!A$2:X$23,VLOOKUP(F89,ages!B$1:C$23,2,1),1)),\"\")","v":""},{"$f":"IF(ISNUMBER(F89),IF(AR89<0.85,\"\",VLOOKUP(S89,G!A$2:X$23,VLOOKUP(F89,ages!B$1:C$23,2,1),1)),\"\")","v":""},{"$f":"IF(ISNUMBER(F89),IF(AS89<0.85,\"\",VLOOKUP(T89,H!A$2:X$23,VLOOKUP(F89,ages!B$1:C$23,2,1),1)),\"\")","v":""},{"$f":"IF(ISNUMBER(F89),IF(AT89<0.85,\"\",VLOOKUP(U89,I!A$2:X$23,VLOOKUP(F89,ages!B$1:C$23,2,1),1)),\"\")","v":""},{"$f":"IF(ISNUMBER(F89),IF(AU89<0.85,\"\",VLOOKUP(V89,J!A$2:X$23,VLOOKUP(F89,ages!B$1:C$23,2,1),1)),\"\")","v":""},"","","","",-1.0000000000000002E-6,0,0,0,0,0,0,0,0,0,0,0,null,null,null,null,null,null,null,null,null,null,null,null,null,null,null,null,null,null,null,null,null,null,null,null,null,null,null,null,null,null,null,null,null,null,null,null,null,null,null,null,null,null,null,null,null,null,null,null,null,null,null,null,null,null,null,null,null,null,null,null,null,null,null,null,null,null,null,null,null,null,-9.9999999999999995E-7,-9.9999999999999995E-7,-9.9999999999999995E-7,-9.9999999999999995E-7,-9.9999999999999995E-7,-9.9999999999999995E-7,-9.9999999999999995E-7,-9.9999999999999995E-7,-9.9999999999999995E-7,-9.9999999999999995E-7,-9.9999999999999995E-7,-9.9999999999999995E-7,-9.9999999999999995E-7,-9.9999999999999995E-7,-9.9999999999999995E-7,-9.9999999999999995E-7,-9.9999999999999995E-7,-9.9999999999999995E-7,-9.9999999999999995E-7,-9.9999999999999995E-7,{"$f":"IF(ISERROR(VLOOKUP(F89,ages!B$1:B$23,1,1)),\"\",VLOOKUP(F89,ages!B$1:B$23,1,1))","v":""},{"$f":"IF(ISERROR(VLOOKUP(F89,ages!B$1:D$23,3,1)),\"\",VLOOKUP(F89,ages!B$1:D$23,3,1))","v":""},0,0,0,0,0]
[null,null,null,null,null,"",null,null,null,null,null,null,"","","","","","","","","","",{"$f":"IF(ISNUMBER(F90),IF(AL90<0.85,\"\",VLOOKUP(M90,A!A$2:X$23,VLOOKUP(F90,ages!B$1:C$23,2,1),1)),\"\")","v":""},{"$f":"IF(ISNUMBER(F90),IF(AM90<0.85,\"\",VLOOKUP(N90,B!A$2:X$23,VLOOKUP(F90,ages!B$1:C$23,2,1),1)),\"\")","v":""},{"$f":"IF(ISNUMBER(F90),IF(AN90<0.85,\"\",VLOOKUP(O90,'C'!A$2:X$23,VLOOKUP(F90,ages!B$1:C$23,2,1),1)),\"\")","v":""},{"$f":"IF(ISNUMBER(F90),IF(AO90<0.85,\"\",VLOOKUP(P90,D!A$2:X$23,VLOOKUP(F90,ages!B$1:C$23,2,1),1)),\"\")","v":""},{"$f":"IF(ISNUMBER(F90),IF(AP90<0.85,\"\",VLOOKUP(Q90,E!A$2:X$23,VLOOKUP(F90,ages!B$1:C$23,2,1),1)),\"\")","v":""},{"$f":"IF(ISNUMBER(F90),IF(AQ90<0.85,\"\",VLOOKUP(R90,F!A$2:X$23,VLOOKUP(F90,ages!B$1:C$23,2,1),1)),\"\")","v":""},{"$f":"IF(ISNUMBER(F90),IF(AR90<0.85,\"\",VLOOKUP(S90,G!A$2:X$23,VLOOKUP(F90,ages!B$1:C$23,2,1),1)),\"\")","v":""},{"$f":"IF(ISNUMBER(F90),IF(AS90<0.85,\"\",VLOOKUP(T90,H!A$2:X$23,VLOOKUP(F90,ages!B$1:C$23,2,1),1)),\"\")","v":""},{"$f":"IF(ISNUMBER(F90),IF(AT90<0.85,\"\",VLOOKUP(U90,I!A$2:X$23,VLOOKUP(F90,ages!B$1:C$23,2,1),1)),\"\")","v":""},{"$f":"IF(ISNUMBER(F90),IF(AU90<0.85,\"\",VLOOKUP(V90,J!A$2:X$23,VLOOKUP(F90,ages!B$1:C$23,2,1),1)),\"\")","v":""},"","","","",-1.0000000000000002E-6,0,0,0,0,0,0,0,0,0,0,0,null,null,null,null,null,null,null,null,null,null,null,null,null,null,null,null,null,null,null,null,null,null,null,null,null,null,null,null,null,null,null,null,null,null,null,null,null,null,null,null,null,null,null,null,null,null,null,null,null,null,null,null,null,null,null,null,null,null,null,null,null,null,null,null,null,null,null,null,null,null,-9.9999999999999995E-7,-9.9999999999999995E-7,-9.9999999999999995E-7,-9.9999999999999995E-7,-9.9999999999999995E-7,-9.9999999999999995E-7,-9.9999999999999995E-7,-9.9999999999999995E-7,-9.9999999999999995E-7,-9.9999999999999995E-7,-9.9999999999999995E-7,-9.9999999999999995E-7,-9.9999999999999995E-7,-9.9999999999999995E-7,-9.9999999999999995E-7,-9.9999999999999995E-7,-9.9999999999999995E-7,-9.9999999999999995E-7,-9.9999999999999995E-7,-9.9999999999999995E-7,{"$f":"IF(ISERROR(VLOOKUP(F90,ages!B$1:B$23,1,1)),\"\",VLOOKUP(F90,ages!B$1:B$23,1,1))","v":""},{"$f":"IF(ISERROR(VLOOKUP(F90,ages!B$1:D$23,3,1)),\"\",VLOOKUP(F90,ages!B$1:D$23,3,1))","v":""},0,0,0,0,0]
[null,null,null,null,null,"",null,null,null,null,null,null,"","","","","","","","","","",{"$f":"IF(ISNUMBER(F91),IF(AL91<0.85,\"\",VLOOKUP(M91,A!A$2:X$23,VLOOKUP(F91,ages!B$1:C$23,2,1),1)),\"\")","v":""},{"$f":"IF(ISNUMBER(F91),IF(AM91<0.85,\"\",VLOOKUP(N91,B!A$2:X$23,VLOOKUP(F91,ages!B$1:C$23,2,1),1)),\"\")","v":""},{"$f":"IF(ISNUMBER(F91),IF(AN91<0.85,\"\",VLOOKUP(O91,'C'!A$2:X$23,VLOOKUP(F91,ages!B$1:C$23,2,1),1)),\"\")","v":""},{"$f":"IF(ISNUMBER(F91),IF(AO91<0.85,\"\",VLOOKUP(P91,D!A$2:X$23,VLOOKUP(F91,ages!B$1:C$23,2,1),1)),\"\")","v":""},{"$f":"IF(ISNUMBER(F91),IF(AP91<0.85,\"\",VLOOKUP(Q91,E!A$2:X$23,VLOOKUP(F91,ages!B$1:C$23,2,1),1)),\"\")","v":""},{"$f":"IF(ISNUMBER(F91),IF(AQ91<0.85,\"\",VLOOKUP(R91,F!A$2:X$23,VLOOKUP(F91,ages!B$1:C$23,2,1),1)),\"\")","v":""},{"$f":"IF(ISNUMBER(F91),IF(AR91<0.85,\"\",VLOOKUP(S91,G!A$2:X$23,VLOOKUP(F91,ages!B$1:C$23,2,1),1)),\"\")","v":""},{"$f":"IF(ISNUMBER(F91),IF(AS91<0.85,\"\",VLOOKUP(T91,H!A$2:X$23,VLOOKUP(F91,ages!B$1:C$23,2,1),1)),\"\")","v":""},{"$f":"IF(ISNUMBER(F91),IF(AT91<0.85,\"\",VLOOKUP(U91,I!A$2:X$23,VLOOKUP(F91,ages!B$1:C$23,2,1),1)),\"\")","v":""},{"$f":"IF(ISNUMBER(F91),IF(AU91<0.85,\"\",VLOOKUP(V91,J!A$2:X$23,VLOOKUP(F91,ages!B$1:C$23,2,1),1)),\"\")","v":""},"","","","",-1.0000000000000002E-6,0,0,0,0,0,0,0,0,0,0,0,null,null,null,null,null,null,null,null,null,null,null,null,null,null,null,null,null,null,null,null,null,null,null,null,null,null,null,null,null,null,null,null,null,null,null,null,null,null,null,null,null,null,null,null,null,null,null,null,null,null,null,null,null,null,null,null,null,null,null,null,null,null,null,null,null,null,null,null,null,null,-9.9999999999999995E-7,-9.9999999999999995E-7,-9.9999999999999995E-7,-9.9999999999999995E-7,-9.9999999999999995E-7,-9.9999999999999995E-7,-9.9999999999999995E-7,-9.9999999999999995E-7,-9.9999999999999995E-7,-9.9999999999999995E-7,-9.9999999999999995E-7,-9.9999999999999995E-7,-9.9999999999999995E-7,-9.9999999999999995E-7,-9.9999999999999995E-7,-9.9999999999999995E-7,-9.9999999999999995E-7,-9.9999999999999995E-7,-9.9999999999999995E-7,-9.9999999999999995E-7,{"$f":"IF(ISERROR(VLOOKUP(F91,ages!B$1:B$23,1,1)),\"\",VLOOKUP(F91,ages!B$1:B$23,1,1))","v":""},{"$f":"IF(ISERROR(VLOOKUP(F91,ages!B$1:D$23,3,1)),\"\",VLOOKUP(F91,ages!B$1:D$23,3,1))","v":""},0,0,0,0,0]
[null,null,null,null,null,"",null,null,null,null,null,null,"","","","","","","","","","",{"$f":"IF(ISNUMBER(F92),IF(AL92<0.85,\"\",VLOOKUP(M92,A!A$2:X$23,VLOOKUP(F92,ages!B$1:C$23,2,1),1)),\"\")","v":""},{"$f":"IF(ISNUMBER(F92),IF(AM92<0.85,\"\",VLOOKUP(N92,B!A$2:X$23,VLOOKUP(F92,ages!B$1:C$23,2,1),1)),\"\")","v":""},{"$f":"IF(ISNUMBER(F92),IF(AN92<0.85,\"\",VLOOKUP(O92,'C'!A$2:X$23,VLOOKUP(F92,ages!B$1:C$23,2,1),1)),\"\")","v":""},{"$f":"IF(ISNUMBER(F92),IF(AO92<0.85,\"\",VLOOKUP(P92,D!A$2:X$23,VLOOKUP(F92,ages!B$1:C$23,2,1),1)),\"\")","v":""},{"$f":"IF(ISNUMBER(F92),IF(AP92<0.85,\"\",VLOOKUP(Q92,E!A$2:X$23,VLOOKUP(F92,ages!B$1:C$23,2,1),1)),\"\")","v":""},{"$f":"IF(ISNUMBER(F92),IF(AQ92<0.85,\"\",VLOOKUP(R92,F!A$2:X$23,VLOOKUP(F92,ages!B$1:C$23,2,1),1)),\"\")","v":""},{"$f":"IF(ISNUMBER(F92),IF(AR92<0.85,\"\",VLOOKUP(S92,G!A$2:X$23,VLOOKUP(F92,ages!B$1:C$23,2,1),1)),\"\")","v":""},{"$f":"IF(ISNUMBER(F92),IF(AS92<0.85,\"\",VLOOKUP(T92,H!A$2:X$23,VLOOKUP(F92,ages!B$1:C$23,2,1),1)),\"\")","v":""},{"$f":"IF(ISNUMBER(F92),IF(AT92<0.85,\"\",VLOOKUP(U92,I!A$2:X$23,VLOOKUP(F92,ages!B$1:C$23,2,1),1)),\"\")","v":""},{"$f":"IF(ISNUMBER(F92),IF(AU92<0.85,\"\",VLOOKUP(V92,J!A$2:X$23,VLOOKUP(F92,ages!B$1:C$23,2,1),1)),\"\")","v":""},"","","","",-1.0000000000000002E-6,0,0,0,0,0,0,0,0,0,0,0,null,null,null,null,null,null,null,null,null,null,null,null,null,null,null,null,null,null,null,null,null,null,null,null,null,null,null,null,null,null,null,null,null,null,null,null,null,null,null,null,null,null,null,null,null,null,null,null,null,null,null,null,null,null,null,null,null,null,null,null,null,null,null,null,null,null,null,null,null,null,-9.9999999999999995E-7,-9.9999999999999995E-7,-9.9999999999999995E-7,-9.9999999999999995E-7,-9.9999999999999995E-7,-9.9999999999999995E-7,-9.9999999999999995E-7,-9.9999999999999995E-7,-9.9999999999999995E-7,-9.9999999999999995E-7,-9.9999999999999995E-7,-9.9999999999999995E-7,-9.9999999999999995E-7,-9.9999999999999995E-7,-9.9999999999999995E-7,-9.9999999999999995E-7,-9.9999999999999995E-7,-9.9999999999999995E-7,-9.9999999999999995E-7,-9.9999999999999995E-7,{"$f":"IF(ISERROR(VLOOKUP(F92,ages!B$1:B$23,1,1)),\"\",VLOOKUP(F92,ages!B$1:B$23,1,1))","v":""},{"$f":"IF(ISERROR(VLOOKUP(F92,ages!B$1:D$23,3,1)),\"\",VLOOKUP(F92,ages!B$1:D$23,3,1))","v":""},0,0,0,0,0]
[null,null,null,null,null,"",null,null,null,null,null,null,"","","","","","","","","","",{"$f":"IF(ISNUMBER(F93),IF(AL93<0.85,\"\",VLOOKUP(M93,A!A$2:X$23,VLOOKUP(F93,ages!B$1:C$23,2,1),1)),\"\")","v":""},{"$f":"IF(ISNUMBER(F93),IF(AM93<0.85,\"\",VLOOKUP(N93,B!A$2:X$23,VLOOKUP(F93,ages!B$1:C$23,2,1),1)),\"\")","v":""},{"$f":"IF(ISNUMBER(F93),IF(AN93<0.85,\"\",VLOOKUP(O93,'C'!A$2:X$23,VLOOKUP(F93,ages!B$1:C$23,2,1),1)),\"\")","v":""},{"$f":"IF(ISNUMBER(F93),IF(AO93<0.85,\"\",VLOOKUP(P93,D!A$2:X$23,VLOOKUP(F93,ages!B$1:C$23,2,1),1)),\"\")","v":""},{"$f":"IF(ISNUMBER(F93),IF(AP93<0.85,\"\",VLOOKUP(Q93,E!A$2:X$23,VLOOKUP(F93,ages!B$1:C$23,2,1),1)),\"\")","v":""},{"$f":"IF(ISNUMBER(F93),IF(AQ93<0.85,\"\",VLOOKUP(R93,F!A$2:X$23,VLOOKUP(F93,ages!B$1:C$23,2,1),1)),\"\")","v":""},{"$f":"IF(ISNUMBER(F93),IF(AR93<0.85,\"\",VLOOKUP(S93,G!A$2:X$23,VLOOKUP(F93,ages!B$1:C$23,2,1),1)),\"\")","v":""},{"$f":"IF(ISNUMBER(F93),IF(AS93<0.85,\"\",VLOOKUP(T93,H!A$2:X$23,VLOOKUP(F93,ages!B$1:C$23,2,1),1)),\"\")","v":""},{"$f":"IF(ISNUMBER(F93),IF(AT93<0.85,\"\",VLOOKUP(U93,I!A$2:X$23,VLOOKUP(F93,ages!B$1:C$23,2,1),1)),\"\")","v":""},{"$f":"IF(ISNUMBER(F93),IF(AU93<0.85,\"\",VLOOKUP(V93,J!A$2:X$23,VLOOKUP(F93,ages!B$1:C$23,2,1),1)),\"\")","v":""},"","","","",-1.0000000000000002E-6,0,0,0,0,0,0,0,0,0,0,0,null,null,null,null,null,null,null,null,null,null,null,null,null,null,null,null,null,null,null,null,null,null,null,null,null,null,null,null,null,null,null,null,null,null,null,null,null,null,null,null,null,null,null,null,null,null,null,null,null,null,null,null,null,null,null,null,null,null,null,null,null,null,null,null,null,null,null,null,null,null,-9.9999999999999995E-7,-9.9999999999999995E-7,-9.9999999999999995E-7,-9.9999999999999995E-7,-9.9999999999999995E-7,-9.9999999999999995E-7,-9.9999999999999995E-7,-9.9999999999999995E-7,-9.9999999999999995E-7,-9.9999999999999995E-7,-9.9999999999999995E-7,-9.9999999999999995E-7,-9.9999999999999995E-7,-9.9999999999999995E-7,-9.9999999999999995E-7,-9.9999999999999995E-7,-9.9999999999999995E-7,-9.9999999999999995E-7,-9.9999999999999995E-7,-9.9999999999999995E-7,{"$f":"IF(ISERROR(VLOOKUP(F93,ages!B$1:B$23,1,1)),\"\",VLOOKUP(F93,ages!B$1:B$23,1,1))","v":""},{"$f":"IF(ISERROR(VLOOKUP(F93,ages!B$1:D$23,3,1)),\"\",VLOOKUP(F93,ages!B$1:D$23,3,1))","v":""},0,0,0,0,0]
[null,null,null,null,null,"",null,null,null,null,null,null,"","","","","","","","","","",{"$f":"IF(ISNUMBER(F94),IF(AL94<0.85,\"\",VLOOKUP(M94,A!A$2:X$23,VLOOKUP(F94,ages!B$1:C$23,2,1),1)),\"\")","v":""},{"$f":"IF(ISNUMBER(F94),IF(AM94<0.85,\"\",VLOOKUP(N94,B!A$2:X$23,VLOOKUP(F94,ages!B$1:C$23,2,1),1)),\"\")","v":""},{"$f":"IF(ISNUMBER(F94),IF(AN94<0.85,\"\",VLOOKUP(O94,'C'!A$2:X$23,VLOOKUP(F94,ages!B$1:C$23,2,1),1)),\"\")","v":""},{"$f":"IF(ISNUMBER(F94),IF(AO94<0.85,\"\",VLOOKUP(P94,D!A$2:X$23,VLOOKUP(F94,ages!B$1:C$23,2,1),1)),\"\")","v":""},{"$f":"IF(ISNUMBER(F94),IF(AP94<0.85,\"\",VLOOKUP(Q94,E!A$2:X$23,VLOOKUP(F94,ages!B$1:C$23,2,1),1)),\"\")","v":""},{"$f":"IF(ISNUMBER(F94),IF(AQ94<0.85,\"\",VLOOKUP(R94,F!A$2:X$23,VLOOKUP(F94,ages!B$1:C$23,2,1),1)),\"\")","v":""},{"$f":"IF(ISNUMBER(F94),IF(AR94<0.85,\"\",VLOOKUP(S94,G!A$2:X$23,VLOOKUP(F94,ages!B$1:C$23,2,1),1)),\"\")","v":""},{"$f":"IF(ISNUMBER(F94),IF(AS94<0.85,\"\",VLOOKUP(T94,H!A$2:X$23,VLOOKUP(F94,ages!B$1:C$23,2,1),1)),\"\")","v":""},{"$f":"IF(ISNUMBER(F94),IF(AT94<0.85,\"\",VLOOKUP(U94,I!A$2:X$23,VLOOKUP(F94,ages!B$1:C$23,2,1),1)),\"\")","v":""},{"$f":"IF(ISNUMBER(F94),IF(AU94<0.85,\"\",VLOOKUP(V94,J!A$2:X$23,VLOOKUP(F94,ages!B$1:C$23,2,1),1)),\"\")","v":""},"","","","",-1.0000000000000002E-6,0,0,0,0,0,0,0,0,0,0,0,null,null,null,null,null,null,null,null,null,null,null,null,null,null,null,null,null,null,null,null,null,null,null,null,null,null,null,null,null,null,null,null,null,null,null,null,null,null,null,null,null,null,null,null,null,null,null,null,null,null,null,null,null,null,null,null,null,null,null,null,null,null,null,null,null,null,null,null,null,null,-9.9999999999999995E-7,-9.9999999999999995E-7,-9.9999999999999995E-7,-9.9999999999999995E-7,-9.9999999999999995E-7,-9.9999999999999995E-7,-9.9999999999999995E-7,-9.9999999999999995E-7,-9.9999999999999995E-7,-9.9999999999999995E-7,-9.9999999999999995E-7,-9.9999999999999995E-7,-9.9999999999999995E-7,-9.9999999999999995E-7,-9.9999999999999995E-7,-9.9999999999999995E-7,-9.9999999999999995E-7,-9.9999999999999995E-7,-9.9999999999999995E-7,-9.9999999999999995E-7,{"$f":"IF(ISERROR(VLOOKUP(F94,ages!B$1:B$23,1,1)),\"\",VLOOKUP(F94,ages!B$1:B$23,1,1))","v":""},{"$f":"IF(ISERROR(VLOOKUP(F94,ages!B$1:D$23,3,1)),\"\",VLOOKUP(F94,ages!B$1:D$23,3,1))","v":""},0,0,0,0,0]
[null,null,null,null,null,"",null,null,null,null,null,null,"","","","","","","","","","",{"$f":"IF(ISNUMBER(F95),IF(AL95<0.85,\"\",VLOOKUP(M95,A!A$2:X$23,VLOOKUP(F95,ages!B$1:C$23,2,1),1)),\"\")","v":""},{"$f":"IF(ISNUMBER(F95),IF(AM95<0.85,\"\",VLOOKUP(N95,B!A$2:X$23,VLOOKUP(F95,ages!B$1:C$23,2,1),1)),\"\")","v":""},{"$f":"IF(ISNUMBER(F95),IF(AN95<0.85,\"\",VLOOKUP(O95,'C'!A$2:X$23,VLOOKUP(F95,ages!B$1:C$23,2,1),1)),\"\")","v":""},{"$f":"IF(ISNUMBER(F95),IF(AO95<0.85,\"\",VLOOKUP(P95,D!A$2:X$23,VLOOKUP(F95,ages!B$1:C$23,2,1),1)),\"\")","v":""},{"$f":"IF(ISNUMBER(F95),IF(AP95<0.85,\"\",VLOOKUP(Q95,E!A$2:X$23,VLOOKUP(F95,ages!B$1:C$23,2,1),1)),\"\")","v":""},{"$f":"IF(ISNUMBER(F95),IF(AQ95<0.85,\"\",VLOOKUP(R95,F!A$2:X$23,VLOOKUP(F95,ages!B$1:C$23,2,1),1)),\"\")","v":""},{"$f":"IF(ISNUMBER(F95),IF(AR95<0.85,\"\",VLOOKUP(S95,G!A$2:X$23,VLOOKUP(F95,ages!B$1:C$23,2,1),1)),\"\")","v":""},{"$f":"IF(ISNUMBER(F95),IF(AS95<0.85,\"\",VLOOKUP(T95,H!A$2:X$23,VLOOKUP(F95,ages!B$1:C$23,2,1),1)),\"\")","v":""},{"$f":"IF(ISNUMBER(F95),IF(AT95<0.85,\"\",VLOOKUP(U95,I!A$2:X$23,VLOOKUP(F95,ages!B$1:C$23,2,1),1)),\"\")","v":""},{"$f":"IF(ISNUMBER(F95),IF(AU95<0.85,\"\",VLOOKUP(V95,J!A$2:X$23,VLOOKUP(F95,ages!B$1:C$23,2,1),1)),\"\")","v":""},"","","","",-1.0000000000000002E-6,0,0,0,0,0,0,0,0,0,0,0,null,null,null,null,null,null,null,null,null,null,null,null,null,null,null,null,null,null,null,null,null,null,null,null,null,null,null,null,null,null,null,null,null,null,null,null,null,null,null,null,null,null,null,null,null,null,null,null,null,null,null,null,null,null,null,null,null,null,null,null,null,null,null,null,null,null,null,null,null,null,-9.9999999999999995E-7,-9.9999999999999995E-7,-9.9999999999999995E-7,-9.9999999999999995E-7,-9.9999999999999995E-7,-9.9999999999999995E-7,-9.9999999999999995E-7,-9.9999999999999995E-7,-9.9999999999999995E-7,-9.9999999999999995E-7,-9.9999999999999995E-7,-9.9999999999999995E-7,-9.9999999999999995E-7,-9.9999999999999995E-7,-9.9999999999999995E-7,-9.9999999999999995E-7,-9.9999999999999995E-7,-9.9999999999999995E-7,-9.9999999999999995E-7,-9.9999999999999995E-7,{"$f":"IF(ISERROR(VLOOKUP(F95,ages!B$1:B$23,1,1)),\"\",VLOOKUP(F95,ages!B$1:B$23,1,1))","v":""},{"$f":"IF(ISERROR(VLOOKUP(F95,ages!B$1:D$23,3,1)),\"\",VLOOKUP(F95,ages!B$1:D$23,3,1))","v":""},0,0,0,0,0]
[null,null,null,null,null,"",null,null,null,null,null,null,"","","","","","","","","","",{"$f":"IF(ISNUMBER(F96),IF(AL96<0.85,\"\",VLOOKUP(M96,A!A$2:X$23,VLOOKUP(F96,ages!B$1:C$23,2,1),1)),\"\")","v":""},{"$f":"IF(ISNUMBER(F96),IF(AM96<0.85,\"\",VLOOKUP(N96,B!A$2:X$23,VLOOKUP(F96,ages!B$1:C$23,2,1),1)),\"\")","v":""},{"$f":"IF(ISNUMBER(F96),IF(AN96<0.85,\"\",VLOOKUP(O96,'C'!A$2:X$23,VLOOKUP(F96,ages!B$1:C$23,2,1),1)),\"\")","v":""},{"$f":"IF(ISNUMBER(F96),IF(AO96<0.85,\"\",VLOOKUP(P96,D!A$2:X$23,VLOOKUP(F96,ages!B$1:C$23,2,1),1)),\"\")","v":""},{"$f":"IF(ISNUMBER(F96),IF(AP96<0.85,\"\",VLOOKUP(Q96,E!A$2:X$23,VLOOKUP(F96,ages!B$1:C$23,2,1),1)),\"\")","v":""},{"$f":"IF(ISNUMBER(F96),IF(AQ96<0.85,\"\",VLOOKUP(R96,F!A$2:X$23,VLOOKUP(F96,ages!B$1:C$23,2,1),1)),\"\")","v":""},{"$f":"IF(ISNUMBER(F96),IF(AR96<0.85,\"\",VLOOKUP(S96,G!A$2:X$23,VLOOKUP(F96,ages!B$1:C$23,2,1),1)),\"\")","v":""},{"$f":"IF(ISNUMBER(F96),IF(AS96<0.85,\"\",VLOOKUP(T96,H!A$2:X$23,VLOOKUP(F96,ages!B$1:C$23,2,1),1)),\"\")","v":""},{"$f":"IF(ISNUMBER(F96),IF(AT96<0.85,\"\",VLOOKUP(U96,I!A$2:X$23,VLOOKUP(F96,ages!B$1:C$23,2,1),1)),\"\")","v":""},{"$f":"IF(ISNUMBER(F96),IF(AU96<0.85,\"\",VLOOKUP(V96,J!A$2:X$23,VLOOKUP(F96,ages!B$1:C$23,2,1),1)),\"\")","v":""},"","","","",-1.0000000000000002E-6,0,0,0,0,0,0,0,0,0,0,0,null,null,null,null,null,null,null,null,null,null,null,null,null,null,null,null,null,null,null,null,null,null,null,null,null,null,null,null,null,null,null,null,null,null,null,null,null,null,null,null,null,null,null,null,null,null,null,null,null,null,null,null,null,null,null,null,null,null,null,null,null,null,null,null,null,null,null,null,null,null,-9.9999999999999995E-7,-9.9999999999999995E-7,-9.9999999999999995E-7,-9.9999999999999995E-7,-9.9999999999999995E-7,-9.9999999999999995E-7,-9.9999999999999995E-7,-9.9999999999999995E-7,-9.9999999999999995E-7,-9.9999999999999995E-7,-9.9999999999999995E-7,-9.9999999999999995E-7,-9.9999999999999995E-7,-9.9999999999999995E-7,-9.9999999999999995E-7,-9.9999999999999995E-7,-9.9999999999999995E-7,-9.9999999999999995E-7,-9.9999999999999995E-7,-9.9999999999999995E-7,{"$f":"IF(ISERROR(VLOOKUP(F96,ages!B$1:B$23,1,1)),\"\",VLOOKUP(F96,ages!B$1:B$23,1,1))","v":""},{"$f":"IF(ISERROR(VLOOKUP(F96,ages!B$1:D$23,3,1)),\"\",VLOOKUP(F96,ages!B$1:D$23,3,1))","v":""},0,0,0,0,0]
[null,null,null,null,null,"",null,null,null,null,null,null,"","","","","","","","","","",{"$f":"IF(ISNUMBER(F97),IF(AL97<0.85,\"\",VLOOKUP(M97,A!A$2:X$23,VLOOKUP(F97,ages!B$1:C$23,2,1),1)),\"\")","v":""},{"$f":"IF(ISNUMBER(F97),IF(AM97<0.85,\"\",VLOOKUP(N97,B!A$2:X$23,VLOOKUP(F97,ages!B$1:C$23,2,1),1)),\"\")","v":""},{"$f":"IF(ISNUMBER(F97),IF(AN97<0.85,\"\",VLOOKUP(O97,'C'!A$2:X$23,VLOOKUP(F97,ages!B$1:C$23,2,1),1)),\"\")","v":""},{"$f":"IF(ISNUMBER(F97),IF(AO97<0.85,\"\",VLOOKUP(P97,D!A$2:X$23,VLOOKUP(F97,ages!B$1:C$23,2,1),1)),\"\")","v":""},{"$f":"IF(ISNUMBER(F97),IF(AP97<0.85,\"\",VLOOKUP(Q97,E!A$2:X$23,VLOOKUP(F97,ages!B$1:C$23,2,1),1)),\"\")","v":""},{"$f":"IF(ISNUMBER(F97),IF(AQ97<0.85,\"\",VLOOKUP(R97,F!A$2:X$23,VLOOKUP(F97,ages!B$1:C$23,2,1),1)),\"\")","v":""},{"$f":"IF(ISNUMBER(F97),IF(AR97<0.85,\"\",VLOOKUP(S97,G!A$2:X$23,VLOOKUP(F97,ages!B$1:C$23,2,1),1)),\"\")","v":""},{"$f":"IF(ISNUMBER(F97),IF(AS97<0.85,\"\",VLOOKUP(T97,H!A$2:X$23,VLOOKUP(F97,ages!B$1:C$23,2,1),1)),\"\")","v":""},{"$f":"IF(ISNUMBER(F97),IF(AT97<0.85,\"\",VLOOKUP(U97,I!A$2:X$23,VLOOKUP(F97,ages!B$1:C$23,2,1),1)),\"\")","v":""},{"$f":"IF(ISNUMBER(F97),IF(AU97<0.85,\"\",VLOOKUP(V97,J!A$2:X$23,VLOOKUP(F97,ages!B$1:C$23,2,1),1)),\"\")","v":""},"","","","",-1.0000000000000002E-6,0,0,0,0,0,0,0,0,0,0,0,null,null,null,null,null,null,null,null,null,null,null,null,null,null,null,null,null,null,null,null,null,null,null,null,null,null,null,null,null,null,null,null,null,null,null,null,null,null,null,null,null,null,null,null,null,null,null,null,null,null,null,null,null,null,null,null,null,null,null,null,null,null,null,null,null,null,null,null,null,null,-9.9999999999999995E-7,-9.9999999999999995E-7,-9.9999999999999995E-7,-9.9999999999999995E-7,-9.9999999999999995E-7,-9.9999999999999995E-7,-9.9999999999999995E-7,-9.9999999999999995E-7,-9.9999999999999995E-7,-9.9999999999999995E-7,-9.9999999999999995E-7,-9.9999999999999995E-7,-9.9999999999999995E-7,-9.9999999999999995E-7,-9.9999999999999995E-7,-9.9999999999999995E-7,-9.9999999999999995E-7,-9.9999999999999995E-7,-9.9999999999999995E-7,-9.9999999999999995E-7,{"$f":"IF(ISERROR(VLOOKUP(F97,ages!B$1:B$23,1,1)),\"\",VLOOKUP(F97,ages!B$1:B$23,1,1))","v":""},{"$f":"IF(ISERROR(VLOOKUP(F97,ages!B$1:D$23,3,1)),\"\",VLOOKUP(F97,ages!B$1:D$23,3,1))","v":""},0,0,0,0,0]
[null,null,null,null,null,"",null,null,null,null,null,null,"","","","","","","","","","",{"$f":"IF(ISNUMBER(F98),IF(AL98<0.85,\"\",VLOOKUP(M98,A!A$2:X$23,VLOOKUP(F98,ages!B$1:C$23,2,1),1)),\"\")","v":""},{"$f":"IF(ISNUMBER(F98),IF(AM98<0.85,\"\",VLOOKUP(N98,B!A$2:X$23,VLOOKUP(F98,ages!B$1:C$23,2,1),1)),\"\")","v":""},{"$f":"IF(ISNUMBER(F98),IF(AN98<0.85,\"\",VLOOKUP(O98,'C'!A$2:X$23,VLOOKUP(F98,ages!B$1:C$23,2,1),1)),\"\")","v":""},{"$f":"IF(ISNUMBER(F98),IF(AO98<0.85,\"\",VLOOKUP(P98,D!A$2:X$23,VLOOKUP(F98,ages!B$1:C$23,2,1),1)),\"\")","v":""},{"$f":"IF(ISNUMBER(F98),IF(AP98<0.85,\"\",VLOOKUP(Q98,E!A$2:X$23,VLOOKUP(F98,ages!B$1:C$23,2,1),1)),\"\")","v":""},{"$f":"IF(ISNUMBER(F98),IF(AQ98<0.85,\"\",VLOOKUP(R98,F!A$2:X$23,VLOOKUP(F98,ages!B$1:C$23,2,1),1)),\"\")","v":""},{"$f":"IF(ISNUMBER(F98),IF(AR98<0.85,\"\",VLOOKUP(S98,G!A$2:X$23,VLOOKUP(F98,ages!B$1:C$23,2,1),1)),\"\")","v":""},{"$f":"IF(ISNUMBER(F98),IF(AS98<0.85,\"\",VLOOKUP(T98,H!A$2:X$23,VLOOKUP(F98,ages!B$1:C$23,2,1),1)),\"\")","v":""},{"$f":"IF(ISNUMBER(F98),IF(AT98<0.85,\"\",VLOOKUP(U98,I!A$2:X$23,VLOOKUP(F98,ages!B$1:C$23,2,1),1)),\"\")","v":""},{"$f":"IF(ISNUMBER(F98),IF(AU98<0.85,\"\",VLOOKUP(V98,J!A$2:X$23,VLOOKUP(F98,ages!B$1:C$23,2,1),1)),\"\")","v":""},"","","","",-1.0000000000000002E-6,0,0,0,0,0,0,0,0,0,0,0,null,null,null,null,null,null,null,null,null,null,null,null,null,null,null,null,null,null,null,null,null,null,null,null,null,null,null,null,null,null,null,null,null,null,null,null,null,null,null,null,null,null,null,null,null,null,null,null,null,null,null,null,null,null,null,null,null,null,null,null,null,null,null,null,null,null,null,null,null,null,-9.9999999999999995E-7,-9.9999999999999995E-7,-9.9999999999999995E-7,-9.9999999999999995E-7,-9.9999999999999995E-7,-9.9999999999999995E-7,-9.9999999999999995E-7,-9.9999999999999995E-7,-9.9999999999999995E-7,-9.9999999999999995E-7,-9.9999999999999995E-7,-9.9999999999999995E-7,-9.9999999999999995E-7,-9.9999999999999995E-7,-9.9999999999999995E-7,-9.9999999999999995E-7,-9.9999999999999995E-7,-9.9999999999999995E-7,-9.9999999999999995E-7,-9.9999999999999995E-7,{"$f":"IF(ISERROR(VLOOKUP(F98,ages!B$1:B$23,1,1)),\"\",VLOOKUP(F98,ages!B$1:B$23,1,1))","v":""},{"$f":"IF(ISERROR(VLOOKUP(F98,ages!B$1:D$23,3,1)),\"\",VLOOKUP(F98,ages!B$1:D$23,3,1))","v":""},0,0,0,0,0]
[null,null,null,null,null,"",null,null,null,null,null,null,"","","","","","","","","","",{"$f":"IF(ISNUMBER(F99),IF(AL99<0.85,\"\",VLOOKUP(M99,A!A$2:X$23,VLOOKUP(F99,ages!B$1:C$23,2,1),1)),\"\")","v":""},{"$f":"IF(ISNUMBER(F99),IF(AM99<0.85,\"\",VLOOKUP(N99,B!A$2:X$23,VLOOKUP(F99,ages!B$1:C$23,2,1),1)),\"\")","v":""},{"$f":"IF(ISNUMBER(F99),IF(AN99<0.85,\"\",VLOOKUP(O99,'C'!A$2:X$23,VLOOKUP(F99,ages!B$1:C$23,2,1),1)),\"\")","v":""},{"$f":"IF(ISNUMBER(F99),IF(AO99<0.85,\"\",VLOOKUP(P99,D!A$2:X$23,VLOOKUP(F99,ages!B$1:C$23,2,1),1)),\"\")","v":""},{"$f":"IF(ISNUMBER(F99),IF(AP99<0.85,\"\",VLOOKUP(Q99,E!A$2:X$23,VLOOKUP(F99,ages!B$1:C$23,2,1),1)),\"\")","v":""},{"$f":"IF(ISNUMBER(F99),IF(AQ99<0.85,\"\",VLOOKUP(R99,F!A$2:X$23,VLOOKUP(F99,ages!B$1:C$23,2,1),1)),\"\")","v":""},{"$f":"IF(ISNUMBER(F99),IF(AR99<0.85,\"\",VLOOKUP(S99,G!A$2:X$23,VLOOKUP(F99,ages!B$1:C$23,2,1),1)),\"\")","v":""},{"$f":"IF(ISNUMBER(F99),IF(AS99<0.85,\"\",VLOOKUP(T99,H!A$2:X$23,VLOOKUP(F99,ages!B$1:C$23,2,1),1)),\"\")","v":""},{"$f":"IF(ISNUMBER(F99),IF(AT99<0.85,\"\",VLOOKUP(U99,I!A$2:X$23,VLOOKUP(F99,ages!B$1:C$23,2,1),1)),\"\")","v":""},{"$f":"IF(ISNUMBER(F99),IF(AU99<0.85,\"\",VLOOKUP(V99,J!A$2:X$23,VLOOKUP(F99,ages!B$1:C$23,2,1),1)),\"\")","v":""},"","","","",-1.0000000000000002E-6,0,0,0,0,0,0,0,0,0,0,0,null,null,null,null,null,null,null,null,null,null,null,null,null,null,null,null,null,null,null,null,null,null,null,null,null,null,null,null,null,null,null,null,null,null,null,null,null,null,null,null,null,null,null,null,null,null,null,null,null,null,null,null,null,null,null,null,null,null,null,null,null,null,null,null,null,null,null,null,null,null,-9.9999999999999995E-7,-9.9999999999999995E-7,-9.9999999999999995E-7,-9.9999999999999995E-7,-9.9999999999999995E-7,-9.9999999999999995E-7,-9.9999999999999995E-7,-9.9999999999999995E-7,-9.9999999999999995E-7,-9.9999999999999995E-7,-9.9999999999999995E-7,-9.9999999999999995E-7,-9.9999999999999995E-7,-9.9999999999999995E-7,-9.9999999999999995E-7,-9.9999999999999995E-7,-9.9999999999999995E-7,-9.9999999999999995E-7,-9.9999999999999995E-7,-9.9999999999999995E-7,{"$f":"IF(ISERROR(VLOOKUP(F99,ages!B$1:B$23,1,1)),\"\",VLOOKUP(F99,ages!B$1:B$23,1,1))","v":""},{"$f":"IF(ISERROR(VLOOKUP(F99,ages!B$1:D$23,3,1)),\"\",VLOOKUP(F99,ages!B$1:D$23,3,1))","v":""},0,0,0,0,0]
[null,null,null,null,null,"",null,null,null,null,null,null,"","","","","","","","","","",{"$f":"IF(ISNUMBER(F100),IF(AL100<0.85,\"\",VLOOKUP(M100,A!A$2:X$23,VLOOKUP(F100,ages!B$1:C$23,2,1),1)),\"\")","v":""},{"$f":"IF(ISNUMBER(F100),IF(AM100<0.85,\"\",VLOOKUP(N100,B!A$2:X$23,VLOOKUP(F100,ages!B$1:C$23,2,1),1)),\"\")","v":""},{"$f":"IF(ISNUMBER(F100),IF(AN100<0.85,\"\",VLOOKUP(O100,'C'!A$2:X$23,VLOOKUP(F100,ages!B$1:C$23,2,1),1)),\"\")","v":""},{"$f":"IF(ISNUMBER(F100),IF(AO100<0.85,\"\",VLOOKUP(P100,D!A$2:X$23,VLOOKUP(F100,ages!B$1:C$23,2,1),1)),\"\")","v":""},{"$f":"IF(ISNUMBER(F100),IF(AP100<0.85,\"\",VLOOKUP(Q100,E!A$2:X$23,VLOOKUP(F100,ages!B$1:C$23,2,1),1)),\"\")","v":""},{"$f":"IF(ISNUMBER(F100),IF(AQ100<0.85,\"\",VLOOKUP(R100,F!A$2:X$23,VLOOKUP(F100,ages!B$1:C$23,2,1),1)),\"\")","v":""},{"$f":"IF(ISNUMBER(F100),IF(AR100<0.85,\"\",VLOOKUP(S100,G!A$2:X$23,VLOOKUP(F100,ages!B$1:C$23,2,1),1)),\"\")","v":""},{"$f":"IF(ISNUMBER(F100),IF(AS100<0.85,\"\",VLOOKUP(T100,H!A$2:X$23,VLOOKUP(F100,ages!B$1:C$23,2,1),1)),\"\")","v":""},{"$f":"IF(ISNUMBER(F100),IF(AT100<0.85,\"\",VLOOKUP(U100,I!A$2:X$23,VLOOKUP(F100,ages!B$1:C$23,2,1),1)),\"\")","v":""},{"$f":"IF(ISNUMBER(F100),IF(AU100<0.85,\"\",VLOOKUP(V100,J!A$2:X$23,VLOOKUP(F100,ages!B$1:C$23,2,1),1)),\"\")","v":""},"","","","",-1.0000000000000002E-6,0,0,0,0,0,0,0,0,0,0,0,null,null,null,null,null,null,null,null,null,null,null,null,null,null,null,null,null,null,null,null,null,null,null,null,null,null,null,null,null,null,null,null,null,null,null,null,null,null,null,null,null,null,null,null,null,null,null,null,null,null,null,null,null,null,null,null,null,null,null,null,null,null,null,null,null,null,null,null,null,null,-9.9999999999999995E-7,-9.9999999999999995E-7,-9.9999999999999995E-7,-9.9999999999999995E-7,-9.9999999999999995E-7,-9.9999999999999995E-7,-9.9999999999999995E-7,-9.9999999999999995E-7,-9.9999999999999995E-7,-9.9999999999999995E-7,-9.9999999999999995E-7,-9.9999999999999995E-7,-9.9999999999999995E-7,-9.9999999999999995E-7,-9.9999999999999995E-7,-9.9999999999999995E-7,-9.9999999999999995E-7,-9.9999999999999995E-7,-9.9999999999999995E-7,-9.9999999999999995E-7,{"$f":"IF(ISERROR(VLOOKUP(F100,ages!B$1:B$23,1,1)),\"\",VLOOKUP(F100,ages!B$1:B$23,1,1))","v":""},{"$f":"IF(ISERROR(VLOOKUP(F100,ages!B$1:D$23,3,1)),\"\",VLOOKUP(F100,ages!B$1:D$23,3,1))","v":""},0,0,0,0,0]
[null,null,null,null,null,"",null,null,null,null,null,null,"","","","","","","","","","",{"$f":"IF(ISNUMBER(F101),IF(AL101<0.85,\"\",VLOOKUP(M101,A!A$2:X$23,VLOOKUP(F101,ages!B$1:C$23,2,1),1)),\"\")","v":""},{"$f":"IF(ISNUMBER(F101),IF(AM101<0.85,\"\",VLOOKUP(N101,B!A$2:X$23,VLOOKUP(F101,ages!B$1:C$23,2,1),1)),\"\")","v":""},{"$f":"IF(ISNUMBER(F101),IF(AN101<0.85,\"\",VLOOKUP(O101,'C'!A$2:X$23,VLOOKUP(F101,ages!B$1:C$23,2,1),1)),\"\")","v":""},{"$f":"IF(ISNUMBER(F101),IF(AO101<0.85,\"\",VLOOKUP(P101,D!A$2:X$23,VLOOKUP(F101,ages!B$1:C$23,2,1),1)),\"\")","v":""},{"$f":"IF(ISNUMBER(F101),IF(AP101<0.85,\"\",VLOOKUP(Q101,E!A$2:X$23,VLOOKUP(F101,ages!B$1:C$23,2,1),1)),\"\")","v":""},{"$f":"IF(ISNUMBER(F101),IF(AQ101<0.85,\"\",VLOOKUP(R101,F!A$2:X$23,VLOOKUP(F101,ages!B$1:C$23,2,1),1)),\"\")","v":""},{"$f":"IF(ISNUMBER(F101),IF(AR101<0.85,\"\",VLOOKUP(S101,G!A$2:X$23,VLOOKUP(F101,ages!B$1:C$23,2,1),1)),\"\")","v":""},{"$f":"IF(ISNUMBER(F101),IF(AS101<0.85,\"\",VLOOKUP(T101,H!A$2:X$23,VLOOKUP(F101,ages!B$1:C$23,2,1),1)),\"\")","v":""},{"$f":"IF(ISNUMBER(F101),IF(AT101<0.85,\"\",VLOOKUP(U101,I!A$2:X$23,VLOOKUP(F101,ages!B$1:C$23,2,1),1)),\"\")","v":""},{"$f":"IF(ISNUMBER(F101),IF(AU101<0.85,\"\",VLOOKUP(V101,J!A$2:X$23,VLOOKUP(F101,ages!B$1:C$23,2,1),1)),\"\")","v":""},"","","","",-1.0000000000000002E-6,0,0,0,0,0,0,0,0,0,0,0,null,null,null,null,null,null,null,null,null,null,null,null,null,null,null,null,null,null,null,null,null,null,null,null,null,null,null,null,null,null,null,null,null,null,null,null,null,null,null,null,null,null,null,null,null,null,null,null,null,null,null,null,null,null,null,null,null,null,null,null,null,null,null,null,null,null,null,null,null,null,-9.9999999999999995E-7,-9.9999999999999995E-7,-9.9999999999999995E-7,-9.9999999999999995E-7,-9.9999999999999995E-7,-9.9999999999999995E-7,-9.9999999999999995E-7,-9.9999999999999995E-7,-9.9999999999999995E-7,-9.9999999999999995E-7,-9.9999999999999995E-7,-9.9999999999999995E-7,-9.9999999999999995E-7,-9.9999999999999995E-7,-9.9999999999999995E-7,-9.9999999999999995E-7,-9.9999999999999995E-7,-9.9999999999999995E-7,-9.9999999999999995E-7,-9.9999999999999995E-7,{"$f":"IF(ISERROR(VLOOKUP(F101,ages!B$1:B$23,1,1)),\"\",VLOOKUP(F101,ages!B$1:B$23,1,1))","v":""},{"$f":"IF(ISERROR(VLOOKUP(F101,ages!B$1:D$23,3,1)),\"\",VLOOKUP(F101,ages!B$1:D$23,3,1))","v":""},0,0,0,0,0]
[null,null,null,null,null,"",null,null,null,null,null,null,"","","","","","","","","","",{"$f":"IF(ISNUMBER(F102),IF(AL102<0.85,\"\",VLOOKUP(M102,A!A$2:X$23,VLOOKUP(F102,ages!B$1:C$23,2,1),1)),\"\")","v":""},{"$f":"IF(ISNUMBER(F102),IF(AM102<0.85,\"\",VLOOKUP(N102,B!A$2:X$23,VLOOKUP(F102,ages!B$1:C$23,2,1),1)),\"\")","v":""},{"$f":"IF(ISNUMBER(F102),IF(AN102<0.85,\"\",VLOOKUP(O102,'C'!A$2:X$23,VLOOKUP(F102,ages!B$1:C$23,2,1),1)),\"\")","v":""},{"$f":"IF(ISNUMBER(F102),IF(AO102<0.85,\"\",VLOOKUP(P102,D!A$2:X$23,VLOOKUP(F102,ages!B$1:C$23,2,1),1)),\"\")","v":""},{"$f":"IF(ISNUMBER(F102),IF(AP102<0.85,\"\",VLOOKUP(Q102,E!A$2:X$23,VLOOKUP(F102,ages!B$1:C$23,2,1),1)),\"\")","v":""},{"$f":"IF(ISNUMBER(F102),IF(AQ102<0.85,\"\",VLOOKUP(R102,F!A$2:X$23,VLOOKUP(F102,ages!B$1:C$23,2,1),1)),\"\")","v":""},{"$f":"IF(ISNUMBER(F102),IF(AR102<0.85,\"\",VLOOKUP(S102,G!A$2:X$23,VLOOKUP(F102,ages!B$1:C$23,2,1),1)),\"\")","v":""},{"$f":"IF(ISNUMBER(F102),IF(AS102<0.85,\"\",VLOOKUP(T102,H!A$2:X$23,VLOOKUP(F102,ages!B$1:C$23,2,1),1)),\"\")","v":""},{"$f":"IF(ISNUMBER(F102),IF(AT102<0.85,\"\",VLOOKUP(U102,I!A$2:X$23,VLOOKUP(F102,ages!B$1:C$23,2,1),1)),\"\")","v":""},{"$f":"IF(ISNUMBER(F102),IF(AU102<0.85,\"\",VLOOKUP(V102,J!A$2:X$23,VLOOKUP(F102,ages!B$1:C$23,2,1),1)),\"\")","v":""},"","","","",-1.0000000000000002E-6,0,0,0,0,0,0,0,0,0,0,0,null,null,null,null,null,null,null,null,null,null,null,null,null,null,null,null,null,null,null,null,null,null,null,null,null,null,null,null,null,null,null,null,null,null,null,null,null,null,null,null,null,null,null,null,null,null,null,null,null,null,null,null,null,null,null,null,null,null,null,null,null,null,null,null,null,null,null,null,null,null,-9.9999999999999995E-7,-9.9999999999999995E-7,-9.9999999999999995E-7,-9.9999999999999995E-7,-9.9999999999999995E-7,-9.9999999999999995E-7,-9.9999999999999995E-7,-9.9999999999999995E-7,-9.9999999999999995E-7,-9.9999999999999995E-7,-9.9999999999999995E-7,-9.9999999999999995E-7,-9.9999999999999995E-7,-9.9999999999999995E-7,-9.9999999999999995E-7,-9.9999999999999995E-7,-9.9999999999999995E-7,-9.9999999999999995E-7,-9.9999999999999995E-7,-9.9999999999999995E-7,{"$f":"IF(ISERROR(VLOOKUP(F102,ages!B$1:B$23,1,1)),\"\",VLOOKUP(F102,ages!B$1:B$23,1,1))","v":""},{"$f":"IF(ISERROR(VLOOKUP(F102,ages!B$1:D$23,3,1)),\"\",VLOOKUP(F102,ages!B$1:D$23,3,1))","v":""},0,0,0,0,0]
[null,null,null,null,null,"",null,null,null,null,null,null,"","","","","","","","","","",{"$f":"IF(ISNUMBER(F103),IF(AL103<0.85,\"\",VLOOKUP(M103,A!A$2:X$23,VLOOKUP(F103,ages!B$1:C$23,2,1),1)),\"\")","v":""},{"$f":"IF(ISNUMBER(F103),IF(AM103<0.85,\"\",VLOOKUP(N103,B!A$2:X$23,VLOOKUP(F103,ages!B$1:C$23,2,1),1)),\"\")","v":""},{"$f":"IF(ISNUMBER(F103),IF(AN103<0.85,\"\",VLOOKUP(O103,'C'!A$2:X$23,VLOOKUP(F103,ages!B$1:C$23,2,1),1)),\"\")","v":""},{"$f":"IF(ISNUMBER(F103),IF(AO103<0.85,\"\",VLOOKUP(P103,D!A$2:X$23,VLOOKUP(F103,ages!B$1:C$23,2,1),1)),\"\")","v":""},{"$f":"IF(ISNUMBER(F103),IF(AP103<0.85,\"\",VLOOKUP(Q103,E!A$2:X$23,VLOOKUP(F103,ages!B$1:C$23,2,1),1)),\"\")","v":""},{"$f":"IF(ISNUMBER(F103),IF(AQ103<0.85,\"\",VLOOKUP(R103,F!A$2:X$23,VLOOKUP(F103,ages!B$1:C$23,2,1),1)),\"\")","v":""},{"$f":"IF(ISNUMBER(F103),IF(AR103<0.85,\"\",VLOOKUP(S103,G!A$2:X$23,VLOOKUP(F103,ages!B$1:C$23,2,1),1)),\"\")","v":""},{"$f":"IF(ISNUMBER(F103),IF(AS103<0.85,\"\",VLOOKUP(T103,H!A$2:X$23,VLOOKUP(F103,ages!B$1:C$23,2,1),1)),\"\")","v":""},{"$f":"IF(ISNUMBER(F103),IF(AT103<0.85,\"\",VLOOKUP(U103,I!A$2:X$23,VLOOKUP(F103,ages!B$1:C$23,2,1),1)),\"\")","v":""},{"$f":"IF(ISNUMBER(F103),IF(AU103<0.85,\"\",VLOOKUP(V103,J!A$2:X$23,VLOOKUP(F103,ages!B$1:C$23,2,1),1)),\"\")","v":""},"","","","",-1.0000000000000002E-6,0,0,0,0,0,0,0,0,0,0,0,null,null,null,null,null,null,null,null,null,null,null,null,null,null,null,null,null,null,null,null,null,null,null,null,null,null,null,null,null,null,null,null,null,null,null,null,null,null,null,null,null,null,null,null,null,null,null,null,null,null,null,null,null,null,null,null,null,null,null,null,null,null,null,null,null,null,null,null,null,null,-9.9999999999999995E-7,-9.9999999999999995E-7,-9.9999999999999995E-7,-9.9999999999999995E-7,-9.9999999999999995E-7,-9.9999999999999995E-7,-9.9999999999999995E-7,-9.9999999999999995E-7,-9.9999999999999995E-7,-9.9999999999999995E-7,-9.9999999999999995E-7,-9.9999999999999995E-7,-9.9999999999999995E-7,-9.9999999999999995E-7,-9.9999999999999995E-7,-9.9999999999999995E-7,-9.9999999999999995E-7,-9.9999999999999995E-7,-9.9999999999999995E-7,-9.9999999999999995E-7,{"$f":"IF(ISERROR(VLOOKUP(F103,ages!B$1:B$23,1,1)),\"\",VLOOKUP(F103,ages!B$1:B$23,1,1))","v":""},{"$f":"IF(ISERROR(VLOOKUP(F103,ages!B$1:D$23,3,1)),\"\",VLOOKUP(F103,ages!B$1:D$23,3,1))","v":""},0,0,0,0,0]
[null,null,null,null,null,"",null,null,null,null,null,null,"","","","","","","","","","",{"$f":"IF(ISNUMBER(F104),IF(AL104<0.85,\"\",VLOOKUP(M104,A!A$2:X$23,VLOOKUP(F104,ages!B$1:C$23,2,1),1)),\"\")","v":""},{"$f":"IF(ISNUMBER(F104),IF(AM104<0.85,\"\",VLOOKUP(N104,B!A$2:X$23,VLOOKUP(F104,ages!B$1:C$23,2,1),1)),\"\")","v":""},{"$f":"IF(ISNUMBER(F104),IF(AN104<0.85,\"\",VLOOKUP(O104,'C'!A$2:X$23,VLOOKUP(F104,ages!B$1:C$23,2,1),1)),\"\")","v":""},{"$f":"IF(ISNUMBER(F104),IF(AO104<0.85,\"\",VLOOKUP(P104,D!A$2:X$23,VLOOKUP(F104,ages!B$1:C$23,2,1),1)),\"\")","v":""},{"$f":"IF(ISNUMBER(F104),IF(AP104<0.85,\"\",VLOOKUP(Q104,E!A$2:X$23,VLOOKUP(F104,ages!B$1:C$23,2,1),1)),\"\")","v":""},{"$f":"IF(ISNUMBER(F104),IF(AQ104<0.85,\"\",VLOOKUP(R104,F!A$2:X$23,VLOOKUP(F104,ages!B$1:C$23,2,1),1)),\"\")","v":""},{"$f":"IF(ISNUMBER(F104),IF(AR104<0.85,\"\",VLOOKUP(S104,G!A$2:X$23,VLOOKUP(F104,ages!B$1:C$23,2,1),1)),\"\")","v":""},{"$f":"IF(ISNUMBER(F104),IF(AS104<0.85,\"\",VLOOKUP(T104,H!A$2:X$23,VLOOKUP(F104,ages!B$1:C$23,2,1),1)),\"\")","v":""},{"$f":"IF(ISNUMBER(F104),IF(AT104<0.85,\"\",VLOOKUP(U104,I!A$2:X$23,VLOOKUP(F104,ages!B$1:C$23,2,1),1)),\"\")","v":""},{"$f":"IF(ISNUMBER(F104),IF(AU104<0.85,\"\",VLOOKUP(V104,J!A$2:X$23,VLOOKUP(F104,ages!B$1:C$23,2,1),1)),\"\")","v":""},"","","","",-1.0000000000000002E-6,0,0,0,0,0,0,0,0,0,0,0,null,null,null,null,null,null,null,null,null,null,null,null,null,null,null,null,null,null,null,null,null,null,null,null,null,null,null,null,null,null,null,null,null,null,null,null,null,null,null,null,null,null,null,null,null,null,null,null,null,null,null,null,null,null,null,null,null,null,null,null,null,null,null,null,null,null,null,null,null,null,-9.9999999999999995E-7,-9.9999999999999995E-7,-9.9999999999999995E-7,-9.9999999999999995E-7,-9.9999999999999995E-7,-9.9999999999999995E-7,-9.9999999999999995E-7,-9.9999999999999995E-7,-9.9999999999999995E-7,-9.9999999999999995E-7,-9.9999999999999995E-7,-9.9999999999999995E-7,-9.9999999999999995E-7,-9.9999999999999995E-7,-9.9999999999999995E-7,-9.9999999999999995E-7,-9.9999999999999995E-7,-9.9999999999999995E-7,-9.9999999999999995E-7,-9.9999999999999995E-7,{"$f":"IF(ISERROR(VLOOKUP(F104,ages!B$1:B$23,1,1)),\"\",VLOOKUP(F104,ages!B$1:B$23,1,1))","v":""},{"$f":"IF(ISERROR(VLOOKUP(F104,ages!B$1:D$23,3,1)),\"\",VLOOKUP(F104,ages!B$1:D$23,3,1))","v":""},0,0,0,0,0]
[null,null,null,null,null,"",null,null,null,null,null,null,"","","","","","","","","","",{"$f":"IF(ISNUMBER(F105),IF(AL105<0.85,\"\",VLOOKUP(M105,A!A$2:X$23,VLOOKUP(F105,ages!B$1:C$23,2,1),1)),\"\")","v":""},{"$f":"IF(ISNUMBER(F105),IF(AM105<0.85,\"\",VLOOKUP(N105,B!A$2:X$23,VLOOKUP(F105,ages!B$1:C$23,2,1),1)),\"\")","v":""},{"$f":"IF(ISNUMBER(F105),IF(AN105<0.85,\"\",VLOOKUP(O105,'C'!A$2:X$23,VLOOKUP(F105,ages!B$1:C$23,2,1),1)),\"\")","v":""},{"$f":"IF(ISNUMBER(F105),IF(AO105<0.85,\"\",VLOOKUP(P105,D!A$2:X$23,VLOOKUP(F105,ages!B$1:C$23,2,1),1)),\"\")","v":""},{"$f":"IF(ISNUMBER(F105),IF(AP105<0.85,\"\",VLOOKUP(Q105,E!A$2:X$23,VLOOKUP(F105,ages!B$1:C$23,2,1),1)),\"\")","v":""},{"$f":"IF(ISNUMBER(F105),IF(AQ105<0.85,\"\",VLOOKUP(R105,F!A$2:X$23,VLOOKUP(F105,ages!B$1:C$23,2,1),1)),\"\")","v":""},{"$f":"IF(ISNUMBER(F105),IF(AR105<0.85,\"\",VLOOKUP(S105,G!A$2:X$23,VLOOKUP(F105,ages!B$1:C$23,2,1),1)),\"\")","v":""},{"$f":"IF(ISNUMBER(F105),IF(AS105<0.85,\"\",VLOOKUP(T105,H!A$2:X$23,VLOOKUP(F105,ages!B$1:C$23,2,1),1)),\"\")","v":""},{"$f":"IF(ISNUMBER(F105),IF(AT105<0.85,\"\",VLOOKUP(U105,I!A$2:X$23,VLOOKUP(F105,ages!B$1:C$23,2,1),1)),\"\")","v":""},{"$f":"IF(ISNUMBER(F105),IF(AU105<0.85,\"\",VLOOKUP(V105,J!A$2:X$23,VLOOKUP(F105,ages!B$1:C$23,2,1),1)),\"\")","v":""},"","","","",-1.0000000000000002E-6,0,0,0,0,0,0,0,0,0,0,0,null,null,null,null,null,null,null,null,null,null,null,null,null,null,null,null,null,null,null,null,null,null,null,null,null,null,null,null,null,null,null,null,null,null,null,null,null,null,null,null,null,null,null,null,null,null,null,null,null,null,null,null,null,null,null,null,null,null,null,null,null,null,null,null,null,null,null,null,null,null,-9.9999999999999995E-7,-9.9999999999999995E-7,-9.9999999999999995E-7,-9.9999999999999995E-7,-9.9999999999999995E-7,-9.9999999999999995E-7,-9.9999999999999995E-7,-9.9999999999999995E-7,-9.9999999999999995E-7,-9.9999999999999995E-7,-9.9999999999999995E-7,-9.9999999999999995E-7,-9.9999999999999995E-7,-9.9999999999999995E-7,-9.9999999999999995E-7,-9.9999999999999995E-7,-9.9999999999999995E-7,-9.9999999999999995E-7,-9.9999999999999995E-7,-9.9999999999999995E-7,{"$f":"IF(ISERROR(VLOOKUP(F105,ages!B$1:B$23,1,1)),\"\",VLOOKUP(F105,ages!B$1:B$23,1,1))","v":""},{"$f":"IF(ISERROR(VLOOKUP(F105,ages!B$1:D$23,3,1)),\"\",VLOOKUP(F105,ages!B$1:D$23,3,1))","v":""},0,0,0,0,0]
[null,null,null,null,null,"",null,null,null,null,null,null,"","","","","","","","","","",{"$f":"IF(ISNUMBER(F106),IF(AL106<0.85,\"\",VLOOKUP(M106,A!A$2:X$23,VLOOKUP(F106,ages!B$1:C$23,2,1),1)),\"\")","v":""},{"$f":"IF(ISNUMBER(F106),IF(AM106<0.85,\"\",VLOOKUP(N106,B!A$2:X$23,VLOOKUP(F106,ages!B$1:C$23,2,1),1)),\"\")","v":""},{"$f":"IF(ISNUMBER(F106),IF(AN106<0.85,\"\",VLOOKUP(O106,'C'!A$2:X$23,VLOOKUP(F106,ages!B$1:C$23,2,1),1)),\"\")","v":""},{"$f":"IF(ISNUMBER(F106),IF(AO106<0.85,\"\",VLOOKUP(P106,D!A$2:X$23,VLOOKUP(F106,ages!B$1:C$23,2,1),1)),\"\")","v":""},{"$f":"IF(ISNUMBER(F106),IF(AP106<0.85,\"\",VLOOKUP(Q106,E!A$2:X$23,VLOOKUP(F106,ages!B$1:C$23,2,1),1)),\"\")","v":""},{"$f":"IF(ISNUMBER(F106),IF(AQ106<0.85,\"\",VLOOKUP(R106,F!A$2:X$23,VLOOKUP(F106,ages!B$1:C$23,2,1),1)),\"\")","v":""},{"$f":"IF(ISNUMBER(F106),IF(AR106<0.85,\"\",VLOOKUP(S106,G!A$2:X$23,VLOOKUP(F106,ages!B$1:C$23,2,1),1)),\"\")","v":""},{"$f":"IF(ISNUMBER(F106),IF(AS106<0.85,\"\",VLOOKUP(T106,H!A$2:X$23,VLOOKUP(F106,ages!B$1:C$23,2,1),1)),\"\")","v":""},{"$f":"IF(ISNUMBER(F106),IF(AT106<0.85,\"\",VLOOKUP(U106,I!A$2:X$23,VLOOKUP(F106,ages!B$1:C$23,2,1),1)),\"\")","v":""},{"$f":"IF(ISNUMBER(F106),IF(AU106<0.85,\"\",VLOOKUP(V106,J!A$2:X$23,VLOOKUP(F106,ages!B$1:C$23,2,1),1)),\"\")","v":""},"","","","",-1.0000000000000002E-6,0,0,0,0,0,0,0,0,0,0,0,null,null,null,null,null,null,null,null,null,null,null,null,null,null,null,null,null,null,null,null,null,null,null,null,null,null,null,null,null,null,null,null,null,null,null,null,null,null,null,null,null,null,null,null,null,null,null,null,null,null,null,null,null,null,null,null,null,null,null,null,null,null,null,null,null,null,null,null,null,null,-9.9999999999999995E-7,-9.9999999999999995E-7,-9.9999999999999995E-7,-9.9999999999999995E-7,-9.9999999999999995E-7,-9.9999999999999995E-7,-9.9999999999999995E-7,-9.9999999999999995E-7,-9.9999999999999995E-7,-9.9999999999999995E-7,-9.9999999999999995E-7,-9.9999999999999995E-7,-9.9999999999999995E-7,-9.9999999999999995E-7,-9.9999999999999995E-7,-9.9999999999999995E-7,-9.9999999999999995E-7,-9.9999999999999995E-7,-9.9999999999999995E-7,-9.9999999999999995E-7,{"$f":"IF(ISERROR(VLOOKUP(F106,ages!B$1:B$23,1,1)),\"\",VLOOKUP(F106,ages!B$1:B$23,1,1))","v":""},{"$f":"IF(ISERROR(VLOOKUP(F106,ages!B$1:D$23,3,1)),\"\",VLOOKUP(F106,ages!B$1:D$23,3,1))","v":""},0,0,0,0,0]
[null,null,null,null,null,"",null,null,null,null,null,null,"","","","","","","","","","",{"$f":"IF(ISNUMBER(F107),IF(AL107<0.85,\"\",VLOOKUP(M107,A!A$2:X$23,VLOOKUP(F107,ages!B$1:C$23,2,1),1)),\"\")","v":""},{"$f":"IF(ISNUMBER(F107),IF(AM107<0.85,\"\",VLOOKUP(N107,B!A$2:X$23,VLOOKUP(F107,ages!B$1:C$23,2,1),1)),\"\")","v":""},{"$f":"IF(ISNUMBER(F107),IF(AN107<0.85,\"\",VLOOKUP(O107,'C'!A$2:X$23,VLOOKUP(F107,ages!B$1:C$23,2,1),1)),\"\")","v":""},{"$f":"IF(ISNUMBER(F107),IF(AO107<0.85,\"\",VLOOKUP(P107,D!A$2:X$23,VLOOKUP(F107,ages!B$1:C$23,2,1),1)),\"\")","v":""},{"$f":"IF(ISNUMBER(F107),IF(AP107<0.85,\"\",VLOOKUP(Q107,E!A$2:X$23,VLOOKUP(F107,ages!B$1:C$23,2,1),1)),\"\")","v":""},{"$f":"IF(ISNUMBER(F107),IF(AQ107<0.85,\"\",VLOOKUP(R107,F!A$2:X$23,VLOOKUP(F107,ages!B$1:C$23,2,1),1)),\"\")","v":""},{"$f":"IF(ISNUMBER(F107),IF(AR107<0.85,\"\",VLOOKUP(S107,G!A$2:X$23,VLOOKUP(F107,ages!B$1:C$23,2,1),1)),\"\")","v":""},{"$f":"IF(ISNUMBER(F107),IF(AS107<0.85,\"\",VLOOKUP(T107,H!A$2:X$23,VLOOKUP(F107,ages!B$1:C$23,2,1),1)),\"\")","v":""},{"$f":"IF(ISNUMBER(F107),IF(AT107<0.85,\"\",VLOOKUP(U107,I!A$2:X$23,VLOOKUP(F107,ages!B$1:C$23,2,1),1)),\"\")","v":""},{"$f":"IF(ISNUMBER(F107),IF(AU107<0.85,\"\",VLOOKUP(V107,J!A$2:X$23,VLOOKUP(F107,ages!B$1:C$23,2,1),1)),\"\")","v":""},"","","","",-1.0000000000000002E-6,0,0,0,0,0,0,0,0,0,0,0,null,null,null,null,null,null,null,null,null,null,null,null,null,null,null,null,null,null,null,null,null,null,null,null,null,null,null,null,null,null,null,null,null,null,null,null,null,null,null,null,null,null,null,null,null,null,null,null,null,null,null,null,null,null,null,null,null,null,null,null,null,null,null,null,null,null,null,null,null,null,-9.9999999999999995E-7,-9.9999999999999995E-7,-9.9999999999999995E-7,-9.9999999999999995E-7,-9.9999999999999995E-7,-9.9999999999999995E-7,-9.9999999999999995E-7,-9.9999999999999995E-7,-9.9999999999999995E-7,-9.9999999999999995E-7,-9.9999999999999995E-7,-9.9999999999999995E-7,-9.9999999999999995E-7,-9.9999999999999995E-7,-9.9999999999999995E-7,-9.9999999999999995E-7,-9.9999999999999995E-7,-9.9999999999999995E-7,-9.9999999999999995E-7,-9.9999999999999995E-7,{"$f":"IF(ISERROR(VLOOKUP(F107,ages!B$1:B$23,1,1)),\"\",VLOOKUP(F107,ages!B$1:B$23,1,1))","v":""},{"$f":"IF(ISERROR(VLOOKUP(F107,ages!B$1:D$23,3,1)),\"\",VLOOKUP(F107,ages!B$1:D$23,3,1))","v":""},0,0,0,0,0]
[null,null,null,null,null,"",null,null,null,null,null,null,"","","","","","","","","","",{"$f":"IF(ISNUMBER(F108),IF(AL108<0.85,\"\",VLOOKUP(M108,A!A$2:X$23,VLOOKUP(F108,ages!B$1:C$23,2,1),1)),\"\")","v":""},{"$f":"IF(ISNUMBER(F108),IF(AM108<0.85,\"\",VLOOKUP(N108,B!A$2:X$23,VLOOKUP(F108,ages!B$1:C$23,2,1),1)),\"\")","v":""},{"$f":"IF(ISNUMBER(F108),IF(AN108<0.85,\"\",VLOOKUP(O108,'C'!A$2:X$23,VLOOKUP(F108,ages!B$1:C$23,2,1),1)),\"\")","v":""},{"$f":"IF(ISNUMBER(F108),IF(AO108<0.85,\"\",VLOOKUP(P108,D!A$2:X$23,VLOOKUP(F108,ages!B$1:C$23,2,1),1)),\"\")","v":""},{"$f":"IF(ISNUMBER(F108),IF(AP108<0.85,\"\",VLOOKUP(Q108,E!A$2:X$23,VLOOKUP(F108,ages!B$1:C$23,2,1),1)),\"\")","v":""},{"$f":"IF(ISNUMBER(F108),IF(AQ108<0.85,\"\",VLOOKUP(R108,F!A$2:X$23,VLOOKUP(F108,ages!B$1:C$23,2,1),1)),\"\")","v":""},{"$f":"IF(ISNUMBER(F108),IF(AR108<0.85,\"\",VLOOKUP(S108,G!A$2:X$23,VLOOKUP(F108,ages!B$1:C$23,2,1),1)),\"\")","v":""},{"$f":"IF(ISNUMBER(F108),IF(AS108<0.85,\"\",VLOOKUP(T108,H!A$2:X$23,VLOOKUP(F108,ages!B$1:C$23,2,1),1)),\"\")","v":""},{"$f":"IF(ISNUMBER(F108),IF(AT108<0.85,\"\",VLOOKUP(U108,I!A$2:X$23,VLOOKUP(F108,ages!B$1:C$23,2,1),1)),\"\")","v":""},{"$f":"IF(ISNUMBER(F108),IF(AU108<0.85,\"\",VLOOKUP(V108,J!A$2:X$23,VLOOKUP(F108,ages!B$1:C$23,2,1),1)),\"\")","v":""},"","","","",-1.0000000000000002E-6,0,0,0,0,0,0,0,0,0,0,0,null,null,null,null,null,null,null,null,null,null,null,null,null,null,null,null,null,null,null,null,null,null,null,null,null,null,null,null,null,null,null,null,null,null,null,null,null,null,null,null,null,null,null,null,null,null,null,null,null,null,null,null,null,null,null,null,null,null,null,null,null,null,null,null,null,null,null,null,null,null,-9.9999999999999995E-7,-9.9999999999999995E-7,-9.9999999999999995E-7,-9.9999999999999995E-7,-9.9999999999999995E-7,-9.9999999999999995E-7,-9.9999999999999995E-7,-9.9999999999999995E-7,-9.9999999999999995E-7,-9.9999999999999995E-7,-9.9999999999999995E-7,-9.9999999999999995E-7,-9.9999999999999995E-7,-9.9999999999999995E-7,-9.9999999999999995E-7,-9.9999999999999995E-7,-9.9999999999999995E-7,-9.9999999999999995E-7,-9.9999999999999995E-7,-9.9999999999999995E-7,{"$f":"IF(ISERROR(VLOOKUP(F108,ages!B$1:B$23,1,1)),\"\",VLOOKUP(F108,ages!B$1:B$23,1,1))","v":""},{"$f":"IF(ISERROR(VLOOKUP(F108,ages!B$1:D$23,3,1)),\"\",VLOOKUP(F108,ages!B$1:D$23,3,1))","v":""},0,0,0,0,0]
[null,null,null,null,null,"",null,null,null,null,null,null,"","","","","","","","","","",{"$f":"IF(ISNUMBER(F109),IF(AL109<0.85,\"\",VLOOKUP(M109,A!A$2:X$23,VLOOKUP(F109,ages!B$1:C$23,2,1),1)),\"\")","v":""},{"$f":"IF(ISNUMBER(F109),IF(AM109<0.85,\"\",VLOOKUP(N109,B!A$2:X$23,VLOOKUP(F109,ages!B$1:C$23,2,1),1)),\"\")","v":""},{"$f":"IF(ISNUMBER(F109),IF(AN109<0.85,\"\",VLOOKUP(O109,'C'!A$2:X$23,VLOOKUP(F109,ages!B$1:C$23,2,1),1)),\"\")","v":""},{"$f":"IF(ISNUMBER(F109),IF(AO109<0.85,\"\",VLOOKUP(P109,D!A$2:X$23,VLOOKUP(F109,ages!B$1:C$23,2,1),1)),\"\")","v":""},{"$f":"IF(ISNUMBER(F109),IF(AP109<0.85,\"\",VLOOKUP(Q109,E!A$2:X$23,VLOOKUP(F109,ages!B$1:C$23,2,1),1)),\"\")","v":""},{"$f":"IF(ISNUMBER(F109),IF(AQ109<0.85,\"\",VLOOKUP(R109,F!A$2:X$23,VLOOKUP(F109,ages!B$1:C$23,2,1),1)),\"\")","v":""},{"$f":"IF(ISNUMBER(F109),IF(AR109<0.85,\"\",VLOOKUP(S109,G!A$2:X$23,VLOOKUP(F109,ages!B$1:C$23,2,1),1)),\"\")","v":""},{"$f":"IF(ISNUMBER(F109),IF(AS109<0.85,\"\",VLOOKUP(T109,H!A$2:X$23,VLOOKUP(F109,ages!B$1:C$23,2,1),1)),\"\")","v":""},{"$f":"IF(ISNUMBER(F109),IF(AT109<0.85,\"\",VLOOKUP(U109,I!A$2:X$23,VLOOKUP(F109,ages!B$1:C$23,2,1),1)),\"\")","v":""},{"$f":"IF(ISNUMBER(F109),IF(AU109<0.85,\"\",VLOOKUP(V109,J!A$2:X$23,VLOOKUP(F109,ages!B$1:C$23,2,1),1)),\"\")","v":""},"","","","",-1.0000000000000002E-6,0,0,0,0,0,0,0,0,0,0,0,null,null,null,null,null,null,null,null,null,null,null,null,null,null,null,null,null,null,null,null,null,null,null,null,null,null,null,null,null,null,null,null,null,null,null,null,null,null,null,null,null,null,null,null,null,null,null,null,null,null,null,null,null,null,null,null,null,null,null,null,null,null,null,null,null,null,null,null,null,null,-9.9999999999999995E-7,-9.9999999999999995E-7,-9.9999999999999995E-7,-9.9999999999999995E-7,-9.9999999999999995E-7,-9.9999999999999995E-7,-9.9999999999999995E-7,-9.9999999999999995E-7,-9.9999999999999995E-7,-9.9999999999999995E-7,-9.9999999999999995E-7,-9.9999999999999995E-7,-9.9999999999999995E-7,-9.9999999999999995E-7,-9.9999999999999995E-7,-9.9999999999999995E-7,-9.9999999999999995E-7,-9.9999999999999995E-7,-9.9999999999999995E-7,-9.9999999999999995E-7,{"$f":"IF(ISERROR(VLOOKUP(F109,ages!B$1:B$23,1,1)),\"\",VLOOKUP(F109,ages!B$1:B$23,1,1))","v":""},{"$f":"IF(ISERROR(VLOOKUP(F109,ages!B$1:D$23,3,1)),\"\",VLOOKUP(F109,ages!B$1:D$23,3,1))","v":""},0,0,0,0,0]
[null,null,null,null,null,"",null,null,null,null,null,null,"","","","","","","","","","",{"$f":"IF(ISNUMBER(F110),IF(AL110<0.85,\"\",VLOOKUP(M110,A!A$2:X$23,VLOOKUP(F110,ages!B$1:C$23,2,1),1)),\"\")","v":""},{"$f":"IF(ISNUMBER(F110),IF(AM110<0.85,\"\",VLOOKUP(N110,B!A$2:X$23,VLOOKUP(F110,ages!B$1:C$23,2,1),1)),\"\")","v":""},{"$f":"IF(ISNUMBER(F110),IF(AN110<0.85,\"\",VLOOKUP(O110,'C'!A$2:X$23,VLOOKUP(F110,ages!B$1:C$23,2,1),1)),\"\")","v":""},{"$f":"IF(ISNUMBER(F110),IF(AO110<0.85,\"\",VLOOKUP(P110,D!A$2:X$23,VLOOKUP(F110,ages!B$1:C$23,2,1),1)),\"\")","v":""},{"$f":"IF(ISNUMBER(F110),IF(AP110<0.85,\"\",VLOOKUP(Q110,E!A$2:X$23,VLOOKUP(F110,ages!B$1:C$23,2,1),1)),\"\")","v":""},{"$f":"IF(ISNUMBER(F110),IF(AQ110<0.85,\"\",VLOOKUP(R110,F!A$2:X$23,VLOOKUP(F110,ages!B$1:C$23,2,1),1)),\"\")","v":""},{"$f":"IF(ISNUMBER(F110),IF(AR110<0.85,\"\",VLOOKUP(S110,G!A$2:X$23,VLOOKUP(F110,ages!B$1:C$23,2,1),1)),\"\")","v":""},{"$f":"IF(ISNUMBER(F110),IF(AS110<0.85,\"\",VLOOKUP(T110,H!A$2:X$23,VLOOKUP(F110,ages!B$1:C$23,2,1),1)),\"\")","v":""},{"$f":"IF(ISNUMBER(F110),IF(AT110<0.85,\"\",VLOOKUP(U110,I!A$2:X$23,VLOOKUP(F110,ages!B$1:C$23,2,1),1)),\"\")","v":""},{"$f":"IF(ISNUMBER(F110),IF(AU110<0.85,\"\",VLOOKUP(V110,J!A$2:X$23,VLOOKUP(F110,ages!B$1:C$23,2,1),1)),\"\")","v":""},"","","","",-1.0000000000000002E-6,0,0,0,0,0,0,0,0,0,0,0,null,null,null,null,null,null,null,null,null,null,null,null,null,null,null,null,null,null,null,null,null,null,null,null,null,null,null,null,null,null,null,null,null,null,null,null,null,null,null,null,null,null,null,null,null,null,null,null,null,null,null,null,null,null,null,null,null,null,null,null,null,null,null,null,null,null,null,null,null,null,-9.9999999999999995E-7,-9.9999999999999995E-7,-9.9999999999999995E-7,-9.9999999999999995E-7,-9.9999999999999995E-7,-9.9999999999999995E-7,-9.9999999999999995E-7,-9.9999999999999995E-7,-9.9999999999999995E-7,-9.9999999999999995E-7,-9.9999999999999995E-7,-9.9999999999999995E-7,-9.9999999999999995E-7,-9.9999999999999995E-7,-9.9999999999999995E-7,-9.9999999999999995E-7,-9.9999999999999995E-7,-9.9999999999999995E-7,-9.9999999999999995E-7,-9.9999999999999995E-7,{"$f":"IF(ISERROR(VLOOKUP(F110,ages!B$1:B$23,1,1)),\"\",VLOOKUP(F110,ages!B$1:B$23,1,1))","v":""},{"$f":"IF(ISERROR(VLOOKUP(F110,ages!B$1:D$23,3,1)),\"\",VLOOKUP(F110,ages!B$1:D$23,3,1))","v":""},0,0,0,0,0]
[null,null,null,null,null,"",null,null,null,null,null,null,"","","","","","","","","","",{"$f":"IF(ISNUMBER(F111),IF(AL111<0.85,\"\",VLOOKUP(M111,A!A$2:X$23,VLOOKUP(F111,ages!B$1:C$23,2,1),1)),\"\")","v":""},{"$f":"IF(ISNUMBER(F111),IF(AM111<0.85,\"\",VLOOKUP(N111,B!A$2:X$23,VLOOKUP(F111,ages!B$1:C$23,2,1),1)),\"\")","v":""},{"$f":"IF(ISNUMBER(F111),IF(AN111<0.85,\"\",VLOOKUP(O111,'C'!A$2:X$23,VLOOKUP(F111,ages!B$1:C$23,2,1),1)),\"\")","v":""},{"$f":"IF(ISNUMBER(F111),IF(AO111<0.85,\"\",VLOOKUP(P111,D!A$2:X$23,VLOOKUP(F111,ages!B$1:C$23,2,1),1)),\"\")","v":""},{"$f":"IF(ISNUMBER(F111),IF(AP111<0.85,\"\",VLOOKUP(Q111,E!A$2:X$23,VLOOKUP(F111,ages!B$1:C$23,2,1),1)),\"\")","v":""},{"$f":"IF(ISNUMBER(F111),IF(AQ111<0.85,\"\",VLOOKUP(R111,F!A$2:X$23,VLOOKUP(F111,ages!B$1:C$23,2,1),1)),\"\")","v":""},{"$f":"IF(ISNUMBER(F111),IF(AR111<0.85,\"\",VLOOKUP(S111,G!A$2:X$23,VLOOKUP(F111,ages!B$1:C$23,2,1),1)),\"\")","v":""},{"$f":"IF(ISNUMBER(F111),IF(AS111<0.85,\"\",VLOOKUP(T111,H!A$2:X$23,VLOOKUP(F111,ages!B$1:C$23,2,1),1)),\"\")","v":""},{"$f":"IF(ISNUMBER(F111),IF(AT111<0.85,\"\",VLOOKUP(U111,I!A$2:X$23,VLOOKUP(F111,ages!B$1:C$23,2,1),1)),\"\")","v":""},{"$f":"IF(ISNUMBER(F111),IF(AU111<0.85,\"\",VLOOKUP(V111,J!A$2:X$23,VLOOKUP(F111,ages!B$1:C$23,2,1),1)),\"\")","v":""},"","","","",-1.0000000000000002E-6,0,0,0,0,0,0,0,0,0,0,0,null,null,null,null,null,null,null,null,null,null,null,null,null,null,null,null,null,null,null,null,null,null,null,null,null,null,null,null,null,null,null,null,null,null,null,null,null,null,null,null,null,null,null,null,null,null,null,null,null,null,null,null,null,null,null,null,null,null,null,null,null,null,null,null,null,null,null,null,null,null,-9.9999999999999995E-7,-9.9999999999999995E-7,-9.9999999999999995E-7,-9.9999999999999995E-7,-9.9999999999999995E-7,-9.9999999999999995E-7,-9.9999999999999995E-7,-9.9999999999999995E-7,-9.9999999999999995E-7,-9.9999999999999995E-7,-9.9999999999999995E-7,-9.9999999999999995E-7,-9.9999999999999995E-7,-9.9999999999999995E-7,-9.9999999999999995E-7,-9.9999999999999995E-7,-9.9999999999999995E-7,-9.9999999999999995E-7,-9.9999999999999995E-7,-9.9999999999999995E-7,{"$f":"IF(ISERROR(VLOOKUP(F111,ages!B$1:B$23,1,1)),\"\",VLOOKUP(F111,ages!B$1:B$23,1,1))","v":""},{"$f":"IF(ISERROR(VLOOKUP(F111,ages!B$1:D$23,3,1)),\"\",VLOOKUP(F111,ages!B$1:D$23,3,1))","v":""},0,0,0,0,0]
[null,null,null,null,null,"",null,null,null,null,null,null,"","","","","","","","","","",{"$f":"IF(ISNUMBER(F112),IF(AL112<0.85,\"\",VLOOKUP(M112,A!A$2:X$23,VLOOKUP(F112,ages!B$1:C$23,2,1),1)),\"\")","v":""},{"$f":"IF(ISNUMBER(F112),IF(AM112<0.85,\"\",VLOOKUP(N112,B!A$2:X$23,VLOOKUP(F112,ages!B$1:C$23,2,1),1)),\"\")","v":""},{"$f":"IF(ISNUMBER(F112),IF(AN112<0.85,\"\",VLOOKUP(O112,'C'!A$2:X$23,VLOOKUP(F112,ages!B$1:C$23,2,1),1)),\"\")","v":""},{"$f":"IF(ISNUMBER(F112),IF(AO112<0.85,\"\",VLOOKUP(P112,D!A$2:X$23,VLOOKUP(F112,ages!B$1:C$23,2,1),1)),\"\")","v":""},{"$f":"IF(ISNUMBER(F112),IF(AP112<0.85,\"\",VLOOKUP(Q112,E!A$2:X$23,VLOOKUP(F112,ages!B$1:C$23,2,1),1)),\"\")","v":""},{"$f":"IF(ISNUMBER(F112),IF(AQ112<0.85,\"\",VLOOKUP(R112,F!A$2:X$23,VLOOKUP(F112,ages!B$1:C$23,2,1),1)),\"\")","v":""},{"$f":"IF(ISNUMBER(F112),IF(AR112<0.85,\"\",VLOOKUP(S112,G!A$2:X$23,VLOOKUP(F112,ages!B$1:C$23,2,1),1)),\"\")","v":""},{"$f":"IF(ISNUMBER(F112),IF(AS112<0.85,\"\",VLOOKUP(T112,H!A$2:X$23,VLOOKUP(F112,ages!B$1:C$23,2,1),1)),\"\")","v":""},{"$f":"IF(ISNUMBER(F112),IF(AT112<0.85,\"\",VLOOKUP(U112,I!A$2:X$23,VLOOKUP(F112,ages!B$1:C$23,2,1),1)),\"\")","v":""},{"$f":"IF(ISNUMBER(F112),IF(AU112<0.85,\"\",VLOOKUP(V112,J!A$2:X$23,VLOOKUP(F112,ages!B$1:C$23,2,1),1)),\"\")","v":""},"","","","",-1.0000000000000002E-6,0,0,0,0,0,0,0,0,0,0,0,null,null,null,null,null,null,null,null,null,null,null,null,null,null,null,null,null,null,null,null,null,null,null,null,null,null,null,null,null,null,null,null,null,null,null,null,null,null,null,null,null,null,null,null,null,null,null,null,null,null,null,null,null,null,null,null,null,null,null,null,null,null,null,null,null,null,null,null,null,null,-9.9999999999999995E-7,-9.9999999999999995E-7,-9.9999999999999995E-7,-9.9999999999999995E-7,-9.9999999999999995E-7,-9.9999999999999995E-7,-9.9999999999999995E-7,-9.9999999999999995E-7,-9.9999999999999995E-7,-9.9999999999999995E-7,-9.9999999999999995E-7,-9.9999999999999995E-7,-9.9999999999999995E-7,-9.9999999999999995E-7,-9.9999999999999995E-7,-9.9999999999999995E-7,-9.9999999999999995E-7,-9.9999999999999995E-7,-9.9999999999999995E-7,-9.9999999999999995E-7,{"$f":"IF(ISERROR(VLOOKUP(F112,ages!B$1:B$23,1,1)),\"\",VLOOKUP(F112,ages!B$1:B$23,1,1))","v":""},{"$f":"IF(ISERROR(VLOOKUP(F112,ages!B$1:D$23,3,1)),\"\",VLOOKUP(F112,ages!B$1:D$23,3,1))","v":""},0,0,0,0,0]
[null,null,null,null,null,"",null,null,null,null,null,null,"","","","","","","","","","",{"$f":"IF(ISNUMBER(F113),IF(AL113<0.85,\"\",VLOOKUP(M113,A!A$2:X$23,VLOOKUP(F113,ages!B$1:C$23,2,1),1)),\"\")","v":""},{"$f":"IF(ISNUMBER(F113),IF(AM113<0.85,\"\",VLOOKUP(N113,B!A$2:X$23,VLOOKUP(F113,ages!B$1:C$23,2,1),1)),\"\")","v":""},{"$f":"IF(ISNUMBER(F113),IF(AN113<0.85,\"\",VLOOKUP(O113,'C'!A$2:X$23,VLOOKUP(F113,ages!B$1:C$23,2,1),1)),\"\")","v":""},{"$f":"IF(ISNUMBER(F113),IF(AO113<0.85,\"\",VLOOKUP(P113,D!A$2:X$23,VLOOKUP(F113,ages!B$1:C$23,2,1),1)),\"\")","v":""},{"$f":"IF(ISNUMBER(F113),IF(AP113<0.85,\"\",VLOOKUP(Q113,E!A$2:X$23,VLOOKUP(F113,ages!B$1:C$23,2,1),1)),\"\")","v":""},{"$f":"IF(ISNUMBER(F113),IF(AQ113<0.85,\"\",VLOOKUP(R113,F!A$2:X$23,VLOOKUP(F113,ages!B$1:C$23,2,1),1)),\"\")","v":""},{"$f":"IF(ISNUMBER(F113),IF(AR113<0.85,\"\",VLOOKUP(S113,G!A$2:X$23,VLOOKUP(F113,ages!B$1:C$23,2,1),1)),\"\")","v":""},{"$f":"IF(ISNUMBER(F113),IF(AS113<0.85,\"\",VLOOKUP(T113,H!A$2:X$23,VLOOKUP(F113,ages!B$1:C$23,2,1),1)),\"\")","v":""},{"$f":"IF(ISNUMBER(F113),IF(AT113<0.85,\"\",VLOOKUP(U113,I!A$2:X$23,VLOOKUP(F113,ages!B$1:C$23,2,1),1)),\"\")","v":""},{"$f":"IF(ISNUMBER(F113),IF(AU113<0.85,\"\",VLOOKUP(V113,J!A$2:X$23,VLOOKUP(F113,ages!B$1:C$23,2,1),1)),\"\")","v":""},"","","","",-1.0000000000000002E-6,0,0,0,0,0,0,0,0,0,0,0,null,null,null,null,null,null,null,null,null,null,null,null,null,null,null,null,null,null,null,null,null,null,null,null,null,null,null,null,null,null,null,null,null,null,null,null,null,null,null,null,null,null,null,null,null,null,null,null,null,null,null,null,null,null,null,null,null,null,null,null,null,null,null,null,null,null,null,null,null,null,-9.9999999999999995E-7,-9.9999999999999995E-7,-9.9999999999999995E-7,-9.9999999999999995E-7,-9.9999999999999995E-7,-9.9999999999999995E-7,-9.9999999999999995E-7,-9.9999999999999995E-7,-9.9999999999999995E-7,-9.9999999999999995E-7,-9.9999999999999995E-7,-9.9999999999999995E-7,-9.9999999999999995E-7,-9.9999999999999995E-7,-9.9999999999999995E-7,-9.9999999999999995E-7,-9.9999999999999995E-7,-9.9999999999999995E-7,-9.9999999999999995E-7,-9.9999999999999995E-7,{"$f":"IF(ISERROR(VLOOKUP(F113,ages!B$1:B$23,1,1)),\"\",VLOOKUP(F113,ages!B$1:B$23,1,1))","v":""},{"$f":"IF(ISERROR(VLOOKUP(F113,ages!B$1:D$23,3,1)),\"\",VLOOKUP(F113,ages!B$1:D$23,3,1))","v":""},0,0,0,0,0]
[null,null,null,null,null,"",null,null,null,null,null,null,"","","","","","","","","","",{"$f":"IF(ISNUMBER(F114),IF(AL114<0.85,\"\",VLOOKUP(M114,A!A$2:X$23,VLOOKUP(F114,ages!B$1:C$23,2,1),1)),\"\")","v":""},{"$f":"IF(ISNUMBER(F114),IF(AM114<0.85,\"\",VLOOKUP(N114,B!A$2:X$23,VLOOKUP(F114,ages!B$1:C$23,2,1),1)),\"\")","v":""},{"$f":"IF(ISNUMBER(F114),IF(AN114<0.85,\"\",VLOOKUP(O114,'C'!A$2:X$23,VLOOKUP(F114,ages!B$1:C$23,2,1),1)),\"\")","v":""},{"$f":"IF(ISNUMBER(F114),IF(AO114<0.85,\"\",VLOOKUP(P114,D!A$2:X$23,VLOOKUP(F114,ages!B$1:C$23,2,1),1)),\"\")","v":""},{"$f":"IF(ISNUMBER(F114),IF(AP114<0.85,\"\",VLOOKUP(Q114,E!A$2:X$23,VLOOKUP(F114,ages!B$1:C$23,2,1),1)),\"\")","v":""},{"$f":"IF(ISNUMBER(F114),IF(AQ114<0.85,\"\",VLOOKUP(R114,F!A$2:X$23,VLOOKUP(F114,ages!B$1:C$23,2,1),1)),\"\")","v":""},{"$f":"IF(ISNUMBER(F114),IF(AR114<0.85,\"\",VLOOKUP(S114,G!A$2:X$23,VLOOKUP(F114,ages!B$1:C$23,2,1),1)),\"\")","v":""},{"$f":"IF(ISNUMBER(F114),IF(AS114<0.85,\"\",VLOOKUP(T114,H!A$2:X$23,VLOOKUP(F114,ages!B$1:C$23,2,1),1)),\"\")","v":""},{"$f":"IF(ISNUMBER(F114),IF(AT114<0.85,\"\",VLOOKUP(U114,I!A$2:X$23,VLOOKUP(F114,ages!B$1:C$23,2,1),1)),\"\")","v":""},{"$f":"IF(ISNUMBER(F114),IF(AU114<0.85,\"\",VLOOKUP(V114,J!A$2:X$23,VLOOKUP(F114,ages!B$1:C$23,2,1),1)),\"\")","v":""},"","","","",-1.0000000000000002E-6,0,0,0,0,0,0,0,0,0,0,0,null,null,null,null,null,null,null,null,null,null,null,null,null,null,null,null,null,null,null,null,null,null,null,null,null,null,null,null,null,null,null,null,null,null,null,null,null,null,null,null,null,null,null,null,null,null,null,null,null,null,null,null,null,null,null,null,null,null,null,null,null,null,null,null,null,null,null,null,null,null,-9.9999999999999995E-7,-9.9999999999999995E-7,-9.9999999999999995E-7,-9.9999999999999995E-7,-9.9999999999999995E-7,-9.9999999999999995E-7,-9.9999999999999995E-7,-9.9999999999999995E-7,-9.9999999999999995E-7,-9.9999999999999995E-7,-9.9999999999999995E-7,-9.9999999999999995E-7,-9.9999999999999995E-7,-9.9999999999999995E-7,-9.9999999999999995E-7,-9.9999999999999995E-7,-9.9999999999999995E-7,-9.9999999999999995E-7,-9.9999999999999995E-7,-9.9999999999999995E-7,{"$f":"IF(ISERROR(VLOOKUP(F114,ages!B$1:B$23,1,1)),\"\",VLOOKUP(F114,ages!B$1:B$23,1,1))","v":""},{"$f":"IF(ISERROR(VLOOKUP(F114,ages!B$1:D$23,3,1)),\"\",VLOOKUP(F114,ages!B$1:D$23,3,1))","v":""},0,0,0,0,0]
[null,null,null,null,null,"",null,null,null,null,null,null,"","","","","","","","","","",{"$f":"IF(ISNUMBER(F115),IF(AL115<0.85,\"\",VLOOKUP(M115,A!A$2:X$23,VLOOKUP(F115,ages!B$1:C$23,2,1),1)),\"\")","v":""},{"$f":"IF(ISNUMBER(F115),IF(AM115<0.85,\"\",VLOOKUP(N115,B!A$2:X$23,VLOOKUP(F115,ages!B$1:C$23,2,1),1)),\"\")","v":""},{"$f":"IF(ISNUMBER(F115),IF(AN115<0.85,\"\",VLOOKUP(O115,'C'!A$2:X$23,VLOOKUP(F115,ages!B$1:C$23,2,1),1)),\"\")","v":""},{"$f":"IF(ISNUMBER(F115),IF(AO115<0.85,\"\",VLOOKUP(P115,D!A$2:X$23,VLOOKUP(F115,ages!B$1:C$23,2,1),1)),\"\")","v":""},{"$f":"IF(ISNUMBER(F115),IF(AP115<0.85,\"\",VLOOKUP(Q115,E!A$2:X$23,VLOOKUP(F115,ages!B$1:C$23,2,1),1)),\"\")","v":""},{"$f":"IF(ISNUMBER(F115),IF(AQ115<0.85,\"\",VLOOKUP(R115,F!A$2:X$23,VLOOKUP(F115,ages!B$1:C$23,2,1),1)),\"\")","v":""},{"$f":"IF(ISNUMBER(F115),IF(AR115<0.85,\"\",VLOOKUP(S115,G!A$2:X$23,VLOOKUP(F115,ages!B$1:C$23,2,1),1)),\"\")","v":""},{"$f":"IF(ISNUMBER(F115),IF(AS115<0.85,\"\",VLOOKUP(T115,H!A$2:X$23,VLOOKUP(F115,ages!B$1:C$23,2,1),1)),\"\")","v":""},{"$f":"IF(ISNUMBER(F115),IF(AT115<0.85,\"\",VLOOKUP(U115,I!A$2:X$23,VLOOKUP(F115,ages!B$1:C$23,2,1),1)),\"\")","v":""},{"$f":"IF(ISNUMBER(F115),IF(AU115<0.85,\"\",VLOOKUP(V115,J!A$2:X$23,VLOOKUP(F115,ages!B$1:C$23,2,1),1)),\"\")","v":""},"","","","",-1.0000000000000002E-6,0,0,0,0,0,0,0,0,0,0,0,null,null,null,null,null,null,null,null,null,null,null,null,null,null,null,null,null,null,null,null,null,null,null,null,null,null,null,null,null,null,null,null,null,null,null,null,null,null,null,null,null,null,null,null,null,null,null,null,null,null,null,null,null,null,null,null,null,null,null,null,null,null,null,null,null,null,null,null,null,null,-9.9999999999999995E-7,-9.9999999999999995E-7,-9.9999999999999995E-7,-9.9999999999999995E-7,-9.9999999999999995E-7,-9.9999999999999995E-7,-9.9999999999999995E-7,-9.9999999999999995E-7,-9.9999999999999995E-7,-9.9999999999999995E-7,-9.9999999999999995E-7,-9.9999999999999995E-7,-9.9999999999999995E-7,-9.9999999999999995E-7,-9.9999999999999995E-7,-9.9999999999999995E-7,-9.9999999999999995E-7,-9.9999999999999995E-7,-9.9999999999999995E-7,-9.9999999999999995E-7,{"$f":"IF(ISERROR(VLOOKUP(F115,ages!B$1:B$23,1,1)),\"\",VLOOKUP(F115,ages!B$1:B$23,1,1))","v":""},{"$f":"IF(ISERROR(VLOOKUP(F115,ages!B$1:D$23,3,1)),\"\",VLOOKUP(F115,ages!B$1:D$23,3,1))","v":""},0,0,0,0,0]
[null,null,null,null,null,"",null,null,null,null,null,null,"","","","","","","","","","",{"$f":"IF(ISNUMBER(F116),IF(AL116<0.85,\"\",VLOOKUP(M116,A!A$2:X$23,VLOOKUP(F116,ages!B$1:C$23,2,1),1)),\"\")","v":""},{"$f":"IF(ISNUMBER(F116),IF(AM116<0.85,\"\",VLOOKUP(N116,B!A$2:X$23,VLOOKUP(F116,ages!B$1:C$23,2,1),1)),\"\")","v":""},{"$f":"IF(ISNUMBER(F116),IF(AN116<0.85,\"\",VLOOKUP(O116,'C'!A$2:X$23,VLOOKUP(F116,ages!B$1:C$23,2,1),1)),\"\")","v":""},{"$f":"IF(ISNUMBER(F116),IF(AO116<0.85,\"\",VLOOKUP(P116,D!A$2:X$23,VLOOKUP(F116,ages!B$1:C$23,2,1),1)),\"\")","v":""},{"$f":"IF(ISNUMBER(F116),IF(AP116<0.85,\"\",VLOOKUP(Q116,E!A$2:X$23,VLOOKUP(F116,ages!B$1:C$23,2,1),1)),\"\")","v":""},{"$f":"IF(ISNUMBER(F116),IF(AQ116<0.85,\"\",VLOOKUP(R116,F!A$2:X$23,VLOOKUP(F116,ages!B$1:C$23,2,1),1)),\"\")","v":""},{"$f":"IF(ISNUMBER(F116),IF(AR116<0.85,\"\",VLOOKUP(S116,G!A$2:X$23,VLOOKUP(F116,ages!B$1:C$23,2,1),1)),\"\")","v":""},{"$f":"IF(ISNUMBER(F116),IF(AS116<0.85,\"\",VLOOKUP(T116,H!A$2:X$23,VLOOKUP(F116,ages!B$1:C$23,2,1),1)),\"\")","v":""},{"$f":"IF(ISNUMBER(F116),IF(AT116<0.85,\"\",VLOOKUP(U116,I!A$2:X$23,VLOOKUP(F116,ages!B$1:C$23,2,1),1)),\"\")","v":""},{"$f":"IF(ISNUMBER(F116),IF(AU116<0.85,\"\",VLOOKUP(V116,J!A$2:X$23,VLOOKUP(F116,ages!B$1:C$23,2,1),1)),\"\")","v":""},"","","","",-1.0000000000000002E-6,0,0,0,0,0,0,0,0,0,0,0,null,null,null,null,null,null,null,null,null,null,null,null,null,null,null,null,null,null,null,null,null,null,null,null,null,null,null,null,null,null,null,null,null,null,null,null,null,null,null,null,null,null,null,null,null,null,null,null,null,null,null,null,null,null,null,null,null,null,null,null,null,null,null,null,null,null,null,null,null,null,-9.9999999999999995E-7,-9.9999999999999995E-7,-9.9999999999999995E-7,-9.9999999999999995E-7,-9.9999999999999995E-7,-9.9999999999999995E-7,-9.9999999999999995E-7,-9.9999999999999995E-7,-9.9999999999999995E-7,-9.9999999999999995E-7,-9.9999999999999995E-7,-9.9999999999999995E-7,-9.9999999999999995E-7,-9.9999999999999995E-7,-9.9999999999999995E-7,-9.9999999999999995E-7,-9.9999999999999995E-7,-9.9999999999999995E-7,-9.9999999999999995E-7,-9.9999999999999995E-7,{"$f":"IF(ISERROR(VLOOKUP(F116,ages!B$1:B$23,1,1)),\"\",VLOOKUP(F116,ages!B$1:B$23,1,1))","v":""},{"$f":"IF(ISERROR(VLOOKUP(F116,ages!B$1:D$23,3,1)),\"\",VLOOKUP(F116,ages!B$1:D$23,3,1))","v":""},0,0,0,0,0]
[null,null,null,null,null,"",null,null,null,null,null,null,"","","","","","","","","","",{"$f":"IF(ISNUMBER(F117),IF(AL117<0.85,\"\",VLOOKUP(M117,A!A$2:X$23,VLOOKUP(F117,ages!B$1:C$23,2,1),1)),\"\")","v":""},{"$f":"IF(ISNUMBER(F117),IF(AM117<0.85,\"\",VLOOKUP(N117,B!A$2:X$23,VLOOKUP(F117,ages!B$1:C$23,2,1),1)),\"\")","v":""},{"$f":"IF(ISNUMBER(F117),IF(AN117<0.85,\"\",VLOOKUP(O117,'C'!A$2:X$23,VLOOKUP(F117,ages!B$1:C$23,2,1),1)),\"\")","v":""},{"$f":"IF(ISNUMBER(F117),IF(AO117<0.85,\"\",VLOOKUP(P117,D!A$2:X$23,VLOOKUP(F117,ages!B$1:C$23,2,1),1)),\"\")","v":""},{"$f":"IF(ISNUMBER(F117),IF(AP117<0.85,\"\",VLOOKUP(Q117,E!A$2:X$23,VLOOKUP(F117,ages!B$1:C$23,2,1),1)),\"\")","v":""},{"$f":"IF(ISNUMBER(F117),IF(AQ117<0.85,\"\",VLOOKUP(R117,F!A$2:X$23,VLOOKUP(F117,ages!B$1:C$23,2,1),1)),\"\")","v":""},{"$f":"IF(ISNUMBER(F117),IF(AR117<0.85,\"\",VLOOKUP(S117,G!A$2:X$23,VLOOKUP(F117,ages!B$1:C$23,2,1),1)),\"\")","v":""},{"$f":"IF(ISNUMBER(F117),IF(AS117<0.85,\"\",VLOOKUP(T117,H!A$2:X$23,VLOOKUP(F117,ages!B$1:C$23,2,1),1)),\"\")","v":""},{"$f":"IF(ISNUMBER(F117),IF(AT117<0.85,\"\",VLOOKUP(U117,I!A$2:X$23,VLOOKUP(F117,ages!B$1:C$23,2,1),1)),\"\")","v":""},{"$f":"IF(ISNUMBER(F117),IF(AU117<0.85,\"\",VLOOKUP(V117,J!A$2:X$23,VLOOKUP(F117,ages!B$1:C$23,2,1),1)),\"\")","v":""},"","","","",-1.0000000000000002E-6,0,0,0,0,0,0,0,0,0,0,0,null,null,null,null,null,null,null,null,null,null,null,null,null,null,null,null,null,null,null,null,null,null,null,null,null,null,null,null,null,null,null,null,null,null,null,null,null,null,null,null,null,null,null,null,null,null,null,null,null,null,null,null,null,null,null,null,null,null,null,null,null,null,null,null,null,null,null,null,null,null,-9.9999999999999995E-7,-9.9999999999999995E-7,-9.9999999999999995E-7,-9.9999999999999995E-7,-9.9999999999999995E-7,-9.9999999999999995E-7,-9.9999999999999995E-7,-9.9999999999999995E-7,-9.9999999999999995E-7,-9.9999999999999995E-7,-9.9999999999999995E-7,-9.9999999999999995E-7,-9.9999999999999995E-7,-9.9999999999999995E-7,-9.9999999999999995E-7,-9.9999999999999995E-7,-9.9999999999999995E-7,-9.9999999999999995E-7,-9.9999999999999995E-7,-9.9999999999999995E-7,{"$f":"IF(ISERROR(VLOOKUP(F117,ages!B$1:B$23,1,1)),\"\",VLOOKUP(F117,ages!B$1:B$23,1,1))","v":""},{"$f":"IF(ISERROR(VLOOKUP(F117,ages!B$1:D$23,3,1)),\"\",VLOOKUP(F117,ages!B$1:D$23,3,1))","v":""},0,0,0,0,0]
[null,null,null,null,null,"",null,null,null,null,null,null,"","","","","","","","","","",{"$f":"IF(ISNUMBER(F118),IF(AL118<0.85,\"\",VLOOKUP(M118,A!A$2:X$23,VLOOKUP(F118,ages!B$1:C$23,2,1),1)),\"\")","v":""},{"$f":"IF(ISNUMBER(F118),IF(AM118<0.85,\"\",VLOOKUP(N118,B!A$2:X$23,VLOOKUP(F118,ages!B$1:C$23,2,1),1)),\"\")","v":""},{"$f":"IF(ISNUMBER(F118),IF(AN118<0.85,\"\",VLOOKUP(O118,'C'!A$2:X$23,VLOOKUP(F118,ages!B$1:C$23,2,1),1)),\"\")","v":""},{"$f":"IF(ISNUMBER(F118),IF(AO118<0.85,\"\",VLOOKUP(P118,D!A$2:X$23,VLOOKUP(F118,ages!B$1:C$23,2,1),1)),\"\")","v":""},{"$f":"IF(ISNUMBER(F118),IF(AP118<0.85,\"\",VLOOKUP(Q118,E!A$2:X$23,VLOOKUP(F118,ages!B$1:C$23,2,1),1)),\"\")","v":""},{"$f":"IF(ISNUMBER(F118),IF(AQ118<0.85,\"\",VLOOKUP(R118,F!A$2:X$23,VLOOKUP(F118,ages!B$1:C$23,2,1),1)),\"\")","v":""},{"$f":"IF(ISNUMBER(F118),IF(AR118<0.85,\"\",VLOOKUP(S118,G!A$2:X$23,VLOOKUP(F118,ages!B$1:C$23,2,1),1)),\"\")","v":""},{"$f":"IF(ISNUMBER(F118),IF(AS118<0.85,\"\",VLOOKUP(T118,H!A$2:X$23,VLOOKUP(F118,ages!B$1:C$23,2,1),1)),\"\")","v":""},{"$f":"IF(ISNUMBER(F118),IF(AT118<0.85,\"\",VLOOKUP(U118,I!A$2:X$23,VLOOKUP(F118,ages!B$1:C$23,2,1),1)),\"\")","v":""},{"$f":"IF(ISNUMBER(F118),IF(AU118<0.85,\"\",VLOOKUP(V118,J!A$2:X$23,VLOOKUP(F118,ages!B$1:C$23,2,1),1)),\"\")","v":""},"","","","",-1.0000000000000002E-6,0,0,0,0,0,0,0,0,0,0,0,null,null,null,null,null,null,null,null,null,null,null,null,null,null,null,null,null,null,null,null,null,null,null,null,null,null,null,null,null,null,null,null,null,null,null,null,null,null,null,null,null,null,null,null,null,null,null,null,null,null,null,null,null,null,null,null,null,null,null,null,null,null,null,null,null,null,null,null,null,null,-9.9999999999999995E-7,-9.9999999999999995E-7,-9.9999999999999995E-7,-9.9999999999999995E-7,-9.9999999999999995E-7,-9.9999999999999995E-7,-9.9999999999999995E-7,-9.9999999999999995E-7,-9.9999999999999995E-7,-9.9999999999999995E-7,-9.9999999999999995E-7,-9.9999999999999995E-7,-9.9999999999999995E-7,-9.9999999999999995E-7,-9.9999999999999995E-7,-9.9999999999999995E-7,-9.9999999999999995E-7,-9.9999999999999995E-7,-9.9999999999999995E-7,-9.9999999999999995E-7,{"$f":"IF(ISERROR(VLOOKUP(F118,ages!B$1:B$23,1,1)),\"\",VLOOKUP(F118,ages!B$1:B$23,1,1))","v":""},{"$f":"IF(ISERROR(VLOOKUP(F118,ages!B$1:D$23,3,1)),\"\",VLOOKUP(F118,ages!B$1:D$23,3,1))","v":""},0,0,0,0,0]
[null,null,null,null,null,"",null,null,null,null,null,null,"","","","","","","","","","",{"$f":"IF(ISNUMBER(F119),IF(AL119<0.85,\"\",VLOOKUP(M119,A!A$2:X$23,VLOOKUP(F119,ages!B$1:C$23,2,1),1)),\"\")","v":""},{"$f":"IF(ISNUMBER(F119),IF(AM119<0.85,\"\",VLOOKUP(N119,B!A$2:X$23,VLOOKUP(F119,ages!B$1:C$23,2,1),1)),\"\")","v":""},{"$f":"IF(ISNUMBER(F119),IF(AN119<0.85,\"\",VLOOKUP(O119,'C'!A$2:X$23,VLOOKUP(F119,ages!B$1:C$23,2,1),1)),\"\")","v":""},{"$f":"IF(ISNUMBER(F119),IF(AO119<0.85,\"\",VLOOKUP(P119,D!A$2:X$23,VLOOKUP(F119,ages!B$1:C$23,2,1),1)),\"\")","v":""},{"$f":"IF(ISNUMBER(F119),IF(AP119<0.85,\"\",VLOOKUP(Q119,E!A$2:X$23,VLOOKUP(F119,ages!B$1:C$23,2,1),1)),\"\")","v":""},{"$f":"IF(ISNUMBER(F119),IF(AQ119<0.85,\"\",VLOOKUP(R119,F!A$2:X$23,VLOOKUP(F119,ages!B$1:C$23,2,1),1)),\"\")","v":""},{"$f":"IF(ISNUMBER(F119),IF(AR119<0.85,\"\",VLOOKUP(S119,G!A$2:X$23,VLOOKUP(F119,ages!B$1:C$23,2,1),1)),\"\")","v":""},{"$f":"IF(ISNUMBER(F119),IF(AS119<0.85,\"\",VLOOKUP(T119,H!A$2:X$23,VLOOKUP(F119,ages!B$1:C$23,2,1),1)),\"\")","v":""},{"$f":"IF(ISNUMBER(F119),IF(AT119<0.85,\"\",VLOOKUP(U119,I!A$2:X$23,VLOOKUP(F119,ages!B$1:C$23,2,1),1)),\"\")","v":""},{"$f":"IF(ISNUMBER(F119),IF(AU119<0.85,\"\",VLOOKUP(V119,J!A$2:X$23,VLOOKUP(F119,ages!B$1:C$23,2,1),1)),\"\")","v":""},"","","","",-1.0000000000000002E-6,0,0,0,0,0,0,0,0,0,0,0,null,null,null,null,null,null,null,null,null,null,null,null,null,null,null,null,null,null,null,null,null,null,null,null,null,null,null,null,null,null,null,null,null,null,null,null,null,null,null,null,null,null,null,null,null,null,null,null,null,null,null,null,null,null,null,null,null,null,null,null,null,null,null,null,null,null,null,null,null,null,-9.9999999999999995E-7,-9.9999999999999995E-7,-9.9999999999999995E-7,-9.9999999999999995E-7,-9.9999999999999995E-7,-9.9999999999999995E-7,-9.9999999999999995E-7,-9.9999999999999995E-7,-9.9999999999999995E-7,-9.9999999999999995E-7,-9.9999999999999995E-7,-9.9999999999999995E-7,-9.9999999999999995E-7,-9.9999999999999995E-7,-9.9999999999999995E-7,-9.9999999999999995E-7,-9.9999999999999995E-7,-9.9999999999999995E-7,-9.9999999999999995E-7,-9.9999999999999995E-7,{"$f":"IF(ISERROR(VLOOKUP(F119,ages!B$1:B$23,1,1)),\"\",VLOOKUP(F119,ages!B$1:B$23,1,1))","v":""},{"$f":"IF(ISERROR(VLOOKUP(F119,ages!B$1:D$23,3,1)),\"\",VLOOKUP(F119,ages!B$1:D$23,3,1))","v":""},0,0,0,0,0]
[null,null,null,null,null,"",null,null,null,null,null,null,"","","","","","","","","","",{"$f":"IF(ISNUMBER(F120),IF(AL120<0.85,\"\",VLOOKUP(M120,A!A$2:X$23,VLOOKUP(F120,ages!B$1:C$23,2,1),1)),\"\")","v":""},{"$f":"IF(ISNUMBER(F120),IF(AM120<0.85,\"\",VLOOKUP(N120,B!A$2:X$23,VLOOKUP(F120,ages!B$1:C$23,2,1),1)),\"\")","v":""},{"$f":"IF(ISNUMBER(F120),IF(AN120<0.85,\"\",VLOOKUP(O120,'C'!A$2:X$23,VLOOKUP(F120,ages!B$1:C$23,2,1),1)),\"\")","v":""},{"$f":"IF(ISNUMBER(F120),IF(AO120<0.85,\"\",VLOOKUP(P120,D!A$2:X$23,VLOOKUP(F120,ages!B$1:C$23,2,1),1)),\"\")","v":""},{"$f":"IF(ISNUMBER(F120),IF(AP120<0.85,\"\",VLOOKUP(Q120,E!A$2:X$23,VLOOKUP(F120,ages!B$1:C$23,2,1),1)),\"\")","v":""},{"$f":"IF(ISNUMBER(F120),IF(AQ120<0.85,\"\",VLOOKUP(R120,F!A$2:X$23,VLOOKUP(F120,ages!B$1:C$23,2,1),1)),\"\")","v":""},{"$f":"IF(ISNUMBER(F120),IF(AR120<0.85,\"\",VLOOKUP(S120,G!A$2:X$23,VLOOKUP(F120,ages!B$1:C$23,2,1),1)),\"\")","v":""},{"$f":"IF(ISNUMBER(F120),IF(AS120<0.85,\"\",VLOOKUP(T120,H!A$2:X$23,VLOOKUP(F120,ages!B$1:C$23,2,1),1)),\"\")","v":""},{"$f":"IF(ISNUMBER(F120),IF(AT120<0.85,\"\",VLOOKUP(U120,I!A$2:X$23,VLOOKUP(F120,ages!B$1:C$23,2,1),1)),\"\")","v":""},{"$f":"IF(ISNUMBER(F120),IF(AU120<0.85,\"\",VLOOKUP(V120,J!A$2:X$23,VLOOKUP(F120,ages!B$1:C$23,2,1),1)),\"\")","v":""},"","","","",-1.0000000000000002E-6,0,0,0,0,0,0,0,0,0,0,0,null,null,null,null,null,null,null,null,null,null,null,null,null,null,null,null,null,null,null,null,null,null,null,null,null,null,null,null,null,null,null,null,null,null,null,null,null,null,null,null,null,null,null,null,null,null,null,null,null,null,null,null,null,null,null,null,null,null,null,null,null,null,null,null,null,null,null,null,null,null,-9.9999999999999995E-7,-9.9999999999999995E-7,-9.9999999999999995E-7,-9.9999999999999995E-7,-9.9999999999999995E-7,-9.9999999999999995E-7,-9.9999999999999995E-7,-9.9999999999999995E-7,-9.9999999999999995E-7,-9.9999999999999995E-7,-9.9999999999999995E-7,-9.9999999999999995E-7,-9.9999999999999995E-7,-9.9999999999999995E-7,-9.9999999999999995E-7,-9.9999999999999995E-7,-9.9999999999999995E-7,-9.9999999999999995E-7,-9.9999999999999995E-7,-9.9999999999999995E-7,{"$f":"IF(ISERROR(VLOOKUP(F120,ages!B$1:B$23,1,1)),\"\",VLOOKUP(F120,ages!B$1:B$23,1,1))","v":""},{"$f":"IF(ISERROR(VLOOKUP(F120,ages!B$1:D$23,3,1)),\"\",VLOOKUP(F120,ages!B$1:D$23,3,1))","v":""},0,0,0,0,0]
[null,null,null,null,null,"",null,null,null,null,null,null,"","","","","","","","","","",{"$f":"IF(ISNUMBER(F121),IF(AL121<0.85,\"\",VLOOKUP(M121,A!A$2:X$23,VLOOKUP(F121,ages!B$1:C$23,2,1),1)),\"\")","v":""},{"$f":"IF(ISNUMBER(F121),IF(AM121<0.85,\"\",VLOOKUP(N121,B!A$2:X$23,VLOOKUP(F121,ages!B$1:C$23,2,1),1)),\"\")","v":""},{"$f":"IF(ISNUMBER(F121),IF(AN121<0.85,\"\",VLOOKUP(O121,'C'!A$2:X$23,VLOOKUP(F121,ages!B$1:C$23,2,1),1)),\"\")","v":""},{"$f":"IF(ISNUMBER(F121),IF(AO121<0.85,\"\",VLOOKUP(P121,D!A$2:X$23,VLOOKUP(F121,ages!B$1:C$23,2,1),1)),\"\")","v":""},{"$f":"IF(ISNUMBER(F121),IF(AP121<0.85,\"\",VLOOKUP(Q121,E!A$2:X$23,VLOOKUP(F121,ages!B$1:C$23,2,1),1)),\"\")","v":""},{"$f":"IF(ISNUMBER(F121),IF(AQ121<0.85,\"\",VLOOKUP(R121,F!A$2:X$23,VLOOKUP(F121,ages!B$1:C$23,2,1),1)),\"\")","v":""},{"$f":"IF(ISNUMBER(F121),IF(AR121<0.85,\"\",VLOOKUP(S121,G!A$2:X$23,VLOOKUP(F121,ages!B$1:C$23,2,1),1)),\"\")","v":""},{"$f":"IF(ISNUMBER(F121),IF(AS121<0.85,\"\",VLOOKUP(T121,H!A$2:X$23,VLOOKUP(F121,ages!B$1:C$23,2,1),1)),\"\")","v":""},{"$f":"IF(ISNUMBER(F121),IF(AT121<0.85,\"\",VLOOKUP(U121,I!A$2:X$23,VLOOKUP(F121,ages!B$1:C$23,2,1),1)),\"\")","v":""},{"$f":"IF(ISNUMBER(F121),IF(AU121<0.85,\"\",VLOOKUP(V121,J!A$2:X$23,VLOOKUP(F121,ages!B$1:C$23,2,1),1)),\"\")","v":""},"","","","",-1.0000000000000002E-6,0,0,0,0,0,0,0,0,0,0,0,null,null,null,null,null,null,null,null,null,null,null,null,null,null,null,null,null,null,null,null,null,null,null,null,null,null,null,null,null,null,null,null,null,null,null,null,null,null,null,null,null,null,null,null,null,null,null,null,null,null,null,null,null,null,null,null,null,null,null,null,null,null,null,null,null,null,null,null,null,null,-9.9999999999999995E-7,-9.9999999999999995E-7,-9.9999999999999995E-7,-9.9999999999999995E-7,-9.9999999999999995E-7,-9.9999999999999995E-7,-9.9999999999999995E-7,-9.9999999999999995E-7,-9.9999999999999995E-7,-9.9999999999999995E-7,-9.9999999999999995E-7,-9.9999999999999995E-7,-9.9999999999999995E-7,-9.9999999999999995E-7,-9.9999999999999995E-7,-9.9999999999999995E-7,-9.9999999999999995E-7,-9.9999999999999995E-7,-9.9999999999999995E-7,-9.9999999999999995E-7,{"$f":"IF(ISERROR(VLOOKUP(F121,ages!B$1:B$23,1,1)),\"\",VLOOKUP(F121,ages!B$1:B$23,1,1))","v":""},{"$f":"IF(ISERROR(VLOOKUP(F121,ages!B$1:D$23,3,1)),\"\",VLOOKUP(F121,ages!B$1:D$23,3,1))","v":""},0,0,0,0,0]
[null,null,null,null,null,"",null,null,null,null,null,null,"","","","","","","","","","",{"$f":"IF(ISNUMBER(F122),IF(AL122<0.85,\"\",VLOOKUP(M122,A!A$2:X$23,VLOOKUP(F122,ages!B$1:C$23,2,1),1)),\"\")","v":""},{"$f":"IF(ISNUMBER(F122),IF(AM122<0.85,\"\",VLOOKUP(N122,B!A$2:X$23,VLOOKUP(F122,ages!B$1:C$23,2,1),1)),\"\")","v":""},{"$f":"IF(ISNUMBER(F122),IF(AN122<0.85,\"\",VLOOKUP(O122,'C'!A$2:X$23,VLOOKUP(F122,ages!B$1:C$23,2,1),1)),\"\")","v":""},{"$f":"IF(ISNUMBER(F122),IF(AO122<0.85,\"\",VLOOKUP(P122,D!A$2:X$23,VLOOKUP(F122,ages!B$1:C$23,2,1),1)),\"\")","v":""},{"$f":"IF(ISNUMBER(F122),IF(AP122<0.85,\"\",VLOOKUP(Q122,E!A$2:X$23,VLOOKUP(F122,ages!B$1:C$23,2,1),1)),\"\")","v":""},{"$f":"IF(ISNUMBER(F122),IF(AQ122<0.85,\"\",VLOOKUP(R122,F!A$2:X$23,VLOOKUP(F122,ages!B$1:C$23,2,1),1)),\"\")","v":""},{"$f":"IF(ISNUMBER(F122),IF(AR122<0.85,\"\",VLOOKUP(S122,G!A$2:X$23,VLOOKUP(F122,ages!B$1:C$23,2,1),1)),\"\")","v":""},{"$f":"IF(ISNUMBER(F122),IF(AS122<0.85,\"\",VLOOKUP(T122,H!A$2:X$23,VLOOKUP(F122,ages!B$1:C$23,2,1),1)),\"\")","v":""},{"$f":"IF(ISNUMBER(F122),IF(AT122<0.85,\"\",VLOOKUP(U122,I!A$2:X$23,VLOOKUP(F122,ages!B$1:C$23,2,1),1)),\"\")","v":""},{"$f":"IF(ISNUMBER(F122),IF(AU122<0.85,\"\",VLOOKUP(V122,J!A$2:X$23,VLOOKUP(F122,ages!B$1:C$23,2,1),1)),\"\")","v":""},"","","","",-1.0000000000000002E-6,0,0,0,0,0,0,0,0,0,0,0,null,null,null,null,null,null,null,null,null,null,null,null,null,null,null,null,null,null,null,null,null,null,null,null,null,null,null,null,null,null,null,null,null,null,null,null,null,null,null,null,null,null,null,null,null,null,null,null,null,null,null,null,null,null,null,null,null,null,null,null,null,null,null,null,null,null,null,null,null,null,-9.9999999999999995E-7,-9.9999999999999995E-7,-9.9999999999999995E-7,-9.9999999999999995E-7,-9.9999999999999995E-7,-9.9999999999999995E-7,-9.9999999999999995E-7,-9.9999999999999995E-7,-9.9999999999999995E-7,-9.9999999999999995E-7,-9.9999999999999995E-7,-9.9999999999999995E-7,-9.9999999999999995E-7,-9.9999999999999995E-7,-9.9999999999999995E-7,-9.9999999999999995E-7,-9.9999999999999995E-7,-9.9999999999999995E-7,-9.9999999999999995E-7,-9.9999999999999995E-7,{"$f":"IF(ISERROR(VLOOKUP(F122,ages!B$1:B$23,1,1)),\"\",VLOOKUP(F122,ages!B$1:B$23,1,1))","v":""},{"$f":"IF(ISERROR(VLOOKUP(F122,ages!B$1:D$23,3,1)),\"\",VLOOKUP(F122,ages!B$1:D$23,3,1))","v":""},0,0,0,0,0]
[null,null,null,null,null,"",null,null,null,null,null,null,"","","","","","","","","","",{"$f":"IF(ISNUMBER(F123),IF(AL123<0.85,\"\",VLOOKUP(M123,A!A$2:X$23,VLOOKUP(F123,ages!B$1:C$23,2,1),1)),\"\")","v":""},{"$f":"IF(ISNUMBER(F123),IF(AM123<0.85,\"\",VLOOKUP(N123,B!A$2:X$23,VLOOKUP(F123,ages!B$1:C$23,2,1),1)),\"\")","v":""},{"$f":"IF(ISNUMBER(F123),IF(AN123<0.85,\"\",VLOOKUP(O123,'C'!A$2:X$23,VLOOKUP(F123,ages!B$1:C$23,2,1),1)),\"\")","v":""},{"$f":"IF(ISNUMBER(F123),IF(AO123<0.85,\"\",VLOOKUP(P123,D!A$2:X$23,VLOOKUP(F123,ages!B$1:C$23,2,1),1)),\"\")","v":""},{"$f":"IF(ISNUMBER(F123),IF(AP123<0.85,\"\",VLOOKUP(Q123,E!A$2:X$23,VLOOKUP(F123,ages!B$1:C$23,2,1),1)),\"\")","v":""},{"$f":"IF(ISNUMBER(F123),IF(AQ123<0.85,\"\",VLOOKUP(R123,F!A$2:X$23,VLOOKUP(F123,ages!B$1:C$23,2,1),1)),\"\")","v":""},{"$f":"IF(ISNUMBER(F123),IF(AR123<0.85,\"\",VLOOKUP(S123,G!A$2:X$23,VLOOKUP(F123,ages!B$1:C$23,2,1),1)),\"\")","v":""},{"$f":"IF(ISNUMBER(F123),IF(AS123<0.85,\"\",VLOOKUP(T123,H!A$2:X$23,VLOOKUP(F123,ages!B$1:C$23,2,1),1)),\"\")","v":""},{"$f":"IF(ISNUMBER(F123),IF(AT123<0.85,\"\",VLOOKUP(U123,I!A$2:X$23,VLOOKUP(F123,ages!B$1:C$23,2,1),1)),\"\")","v":""},{"$f":"IF(ISNUMBER(F123),IF(AU123<0.85,\"\",VLOOKUP(V123,J!A$2:X$23,VLOOKUP(F123,ages!B$1:C$23,2,1),1)),\"\")","v":""},"","","","",-1.0000000000000002E-6,0,0,0,0,0,0,0,0,0,0,0,null,null,null,null,null,null,null,null,null,null,null,null,null,null,null,null,null,null,null,null,null,null,null,null,null,null,null,null,null,null,null,null,null,null,null,null,null,null,null,null,null,null,null,null,null,null,null,null,null,null,null,null,null,null,null,null,null,null,null,null,null,null,null,null,null,null,null,null,null,null,-9.9999999999999995E-7,-9.9999999999999995E-7,-9.9999999999999995E-7,-9.9999999999999995E-7,-9.9999999999999995E-7,-9.9999999999999995E-7,-9.9999999999999995E-7,-9.9999999999999995E-7,-9.9999999999999995E-7,-9.9999999999999995E-7,-9.9999999999999995E-7,-9.9999999999999995E-7,-9.9999999999999995E-7,-9.9999999999999995E-7,-9.9999999999999995E-7,-9.9999999999999995E-7,-9.9999999999999995E-7,-9.9999999999999995E-7,-9.9999999999999995E-7,-9.9999999999999995E-7,{"$f":"IF(ISERROR(VLOOKUP(F123,ages!B$1:B$23,1,1)),\"\",VLOOKUP(F123,ages!B$1:B$23,1,1))","v":""},{"$f":"IF(ISERROR(VLOOKUP(F123,ages!B$1:D$23,3,1)),\"\",VLOOKUP(F123,ages!B$1:D$23,3,1))","v":""},0,0,0,0,0]
[null,null,null,null,null,"",null,null,null,null,null,null,"","","","","","","","","","",{"$f":"IF(ISNUMBER(F124),IF(AL124<0.85,\"\",VLOOKUP(M124,A!A$2:X$23,VLOOKUP(F124,ages!B$1:C$23,2,1),1)),\"\")","v":""},{"$f":"IF(ISNUMBER(F124),IF(AM124<0.85,\"\",VLOOKUP(N124,B!A$2:X$23,VLOOKUP(F124,ages!B$1:C$23,2,1),1)),\"\")","v":""},{"$f":"IF(ISNUMBER(F124),IF(AN124<0.85,\"\",VLOOKUP(O124,'C'!A$2:X$23,VLOOKUP(F124,ages!B$1:C$23,2,1),1)),\"\")","v":""},{"$f":"IF(ISNUMBER(F124),IF(AO124<0.85,\"\",VLOOKUP(P124,D!A$2:X$23,VLOOKUP(F124,ages!B$1:C$23,2,1),1)),\"\")","v":""},{"$f":"IF(ISNUMBER(F124),IF(AP124<0.85,\"\",VLOOKUP(Q124,E!A$2:X$23,VLOOKUP(F124,ages!B$1:C$23,2,1),1)),\"\")","v":""},{"$f":"IF(ISNUMBER(F124),IF(AQ124<0.85,\"\",VLOOKUP(R124,F!A$2:X$23,VLOOKUP(F124,ages!B$1:C$23,2,1),1)),\"\")","v":""},{"$f":"IF(ISNUMBER(F124),IF(AR124<0.85,\"\",VLOOKUP(S124,G!A$2:X$23,VLOOKUP(F124,ages!B$1:C$23,2,1),1)),\"\")","v":""},{"$f":"IF(ISNUMBER(F124),IF(AS124<0.85,\"\",VLOOKUP(T124,H!A$2:X$23,VLOOKUP(F124,ages!B$1:C$23,2,1),1)),\"\")","v":""},{"$f":"IF(ISNUMBER(F124),IF(AT124<0.85,\"\",VLOOKUP(U124,I!A$2:X$23,VLOOKUP(F124,ages!B$1:C$23,2,1),1)),\"\")","v":""},{"$f":"IF(ISNUMBER(F124),IF(AU124<0.85,\"\",VLOOKUP(V124,J!A$2:X$23,VLOOKUP(F124,ages!B$1:C$23,2,1),1)),\"\")","v":""},"","","","",-1.0000000000000002E-6,0,0,0,0,0,0,0,0,0,0,0,null,null,null,null,null,null,null,null,null,null,null,null,null,null,null,null,null,null,null,null,null,null,null,null,null,null,null,null,null,null,null,null,null,null,null,null,null,null,null,null,null,null,null,null,null,null,null,null,null,null,null,null,null,null,null,null,null,null,null,null,null,null,null,null,null,null,null,null,null,null,-9.9999999999999995E-7,-9.9999999999999995E-7,-9.9999999999999995E-7,-9.9999999999999995E-7,-9.9999999999999995E-7,-9.9999999999999995E-7,-9.9999999999999995E-7,-9.9999999999999995E-7,-9.9999999999999995E-7,-9.9999999999999995E-7,-9.9999999999999995E-7,-9.9999999999999995E-7,-9.9999999999999995E-7,-9.9999999999999995E-7,-9.9999999999999995E-7,-9.9999999999999995E-7,-9.9999999999999995E-7,-9.9999999999999995E-7,-9.9999999999999995E-7,-9.9999999999999995E-7,{"$f":"IF(ISERROR(VLOOKUP(F124,ages!B$1:B$23,1,1)),\"\",VLOOKUP(F124,ages!B$1:B$23,1,1))","v":""},{"$f":"IF(ISERROR(VLOOKUP(F124,ages!B$1:D$23,3,1)),\"\",VLOOKUP(F124,ages!B$1:D$23,3,1))","v":""},0,0,0,0,0]
[null,null,null,null,null,"",null,null,null,null,null,null,"","","","","","","","","","",{"$f":"IF(ISNUMBER(F125),IF(AL125<0.85,\"\",VLOOKUP(M125,A!A$2:X$23,VLOOKUP(F125,ages!B$1:C$23,2,1),1)),\"\")","v":""},{"$f":"IF(ISNUMBER(F125),IF(AM125<0.85,\"\",VLOOKUP(N125,B!A$2:X$23,VLOOKUP(F125,ages!B$1:C$23,2,1),1)),\"\")","v":""},{"$f":"IF(ISNUMBER(F125),IF(AN125<0.85,\"\",VLOOKUP(O125,'C'!A$2:X$23,VLOOKUP(F125,ages!B$1:C$23,2,1),1)),\"\")","v":""},{"$f":"IF(ISNUMBER(F125),IF(AO125<0.85,\"\",VLOOKUP(P125,D!A$2:X$23,VLOOKUP(F125,ages!B$1:C$23,2,1),1)),\"\")","v":""},{"$f":"IF(ISNUMBER(F125),IF(AP125<0.85,\"\",VLOOKUP(Q125,E!A$2:X$23,VLOOKUP(F125,ages!B$1:C$23,2,1),1)),\"\")","v":""},{"$f":"IF(ISNUMBER(F125),IF(AQ125<0.85,\"\",VLOOKUP(R125,F!A$2:X$23,VLOOKUP(F125,ages!B$1:C$23,2,1),1)),\"\")","v":""},{"$f":"IF(ISNUMBER(F125),IF(AR125<0.85,\"\",VLOOKUP(S125,G!A$2:X$23,VLOOKUP(F125,ages!B$1:C$23,2,1),1)),\"\")","v":""},{"$f":"IF(ISNUMBER(F125),IF(AS125<0.85,\"\",VLOOKUP(T125,H!A$2:X$23,VLOOKUP(F125,ages!B$1:C$23,2,1),1)),\"\")","v":""},{"$f":"IF(ISNUMBER(F125),IF(AT125<0.85,\"\",VLOOKUP(U125,I!A$2:X$23,VLOOKUP(F125,ages!B$1:C$23,2,1),1)),\"\")","v":""},{"$f":"IF(ISNUMBER(F125),IF(AU125<0.85,\"\",VLOOKUP(V125,J!A$2:X$23,VLOOKUP(F125,ages!B$1:C$23,2,1),1)),\"\")","v":""},"","","","",-1.0000000000000002E-6,0,0,0,0,0,0,0,0,0,0,0,null,null,null,null,null,null,null,null,null,null,null,null,null,null,null,null,null,null,null,null,null,null,null,null,null,null,null,null,null,null,null,null,null,null,null,null,null,null,null,null,null,null,null,null,null,null,null,null,null,null,null,null,null,null,null,null,null,null,null,null,null,null,null,null,null,null,null,null,null,null,-9.9999999999999995E-7,-9.9999999999999995E-7,-9.9999999999999995E-7,-9.9999999999999995E-7,-9.9999999999999995E-7,-9.9999999999999995E-7,-9.9999999999999995E-7,-9.9999999999999995E-7,-9.9999999999999995E-7,-9.9999999999999995E-7,-9.9999999999999995E-7,-9.9999999999999995E-7,-9.9999999999999995E-7,-9.9999999999999995E-7,-9.9999999999999995E-7,-9.9999999999999995E-7,-9.9999999999999995E-7,-9.9999999999999995E-7,-9.9999999999999995E-7,-9.9999999999999995E-7,{"$f":"IF(ISERROR(VLOOKUP(F125,ages!B$1:B$23,1,1)),\"\",VLOOKUP(F125,ages!B$1:B$23,1,1))","v":""},{"$f":"IF(ISERROR(VLOOKUP(F125,ages!B$1:D$23,3,1)),\"\",VLOOKUP(F125,ages!B$1:D$23,3,1))","v":""},0,0,0,0,0]
[null,null,null,null,null,"",null,null,null,null,null,null,"","","","","","","","","","",{"$f":"IF(ISNUMBER(F126),IF(AL126<0.85,\"\",VLOOKUP(M126,A!A$2:X$23,VLOOKUP(F126,ages!B$1:C$23,2,1),1)),\"\")","v":""},{"$f":"IF(ISNUMBER(F126),IF(AM126<0.85,\"\",VLOOKUP(N126,B!A$2:X$23,VLOOKUP(F126,ages!B$1:C$23,2,1),1)),\"\")","v":""},{"$f":"IF(ISNUMBER(F126),IF(AN126<0.85,\"\",VLOOKUP(O126,'C'!A$2:X$23,VLOOKUP(F126,ages!B$1:C$23,2,1),1)),\"\")","v":""},{"$f":"IF(ISNUMBER(F126),IF(AO126<0.85,\"\",VLOOKUP(P126,D!A$2:X$23,VLOOKUP(F126,ages!B$1:C$23,2,1),1)),\"\")","v":""},{"$f":"IF(ISNUMBER(F126),IF(AP126<0.85,\"\",VLOOKUP(Q126,E!A$2:X$23,VLOOKUP(F126,ages!B$1:C$23,2,1),1)),\"\")","v":""},{"$f":"IF(ISNUMBER(F126),IF(AQ126<0.85,\"\",VLOOKUP(R126,F!A$2:X$23,VLOOKUP(F126,ages!B$1:C$23,2,1),1)),\"\")","v":""},{"$f":"IF(ISNUMBER(F126),IF(AR126<0.85,\"\",VLOOKUP(S126,G!A$2:X$23,VLOOKUP(F126,ages!B$1:C$23,2,1),1)),\"\")","v":""},{"$f":"IF(ISNUMBER(F126),IF(AS126<0.85,\"\",VLOOKUP(T126,H!A$2:X$23,VLOOKUP(F126,ages!B$1:C$23,2,1),1)),\"\")","v":""},{"$f":"IF(ISNUMBER(F126),IF(AT126<0.85,\"\",VLOOKUP(U126,I!A$2:X$23,VLOOKUP(F126,ages!B$1:C$23,2,1),1)),\"\")","v":""},{"$f":"IF(ISNUMBER(F126),IF(AU126<0.85,\"\",VLOOKUP(V126,J!A$2:X$23,VLOOKUP(F126,ages!B$1:C$23,2,1),1)),\"\")","v":""},"","","","",-1.0000000000000002E-6,0,0,0,0,0,0,0,0,0,0,0,null,null,null,null,null,null,null,null,null,null,null,null,null,null,null,null,null,null,null,null,null,null,null,null,null,null,null,null,null,null,null,null,null,null,null,null,null,null,null,null,null,null,null,null,null,null,null,null,null,null,null,null,null,null,null,null,null,null,null,null,null,null,null,null,null,null,null,null,null,null,-9.9999999999999995E-7,-9.9999999999999995E-7,-9.9999999999999995E-7,-9.9999999999999995E-7,-9.9999999999999995E-7,-9.9999999999999995E-7,-9.9999999999999995E-7,-9.9999999999999995E-7,-9.9999999999999995E-7,-9.9999999999999995E-7,-9.9999999999999995E-7,-9.9999999999999995E-7,-9.9999999999999995E-7,-9.9999999999999995E-7,-9.9999999999999995E-7,-9.9999999999999995E-7,-9.9999999999999995E-7,-9.9999999999999995E-7,-9.9999999999999995E-7,-9.9999999999999995E-7,{"$f":"IF(ISERROR(VLOOKUP(F126,ages!B$1:B$23,1,1)),\"\",VLOOKUP(F126,ages!B$1:B$23,1,1))","v":""},{"$f":"IF(ISERROR(VLOOKUP(F126,ages!B$1:D$23,3,1)),\"\",VLOOKUP(F126,ages!B$1:D$23,3,1))","v":""},0,0,0,0,0]
[null,null,null,null,null,"",null,null,null,null,null,null,"","","","","","","","","","",{"$f":"IF(ISNUMBER(F127),IF(AL127<0.85,\"\",VLOOKUP(M127,A!A$2:X$23,VLOOKUP(F127,ages!B$1:C$23,2,1),1)),\"\")","v":""},{"$f":"IF(ISNUMBER(F127),IF(AM127<0.85,\"\",VLOOKUP(N127,B!A$2:X$23,VLOOKUP(F127,ages!B$1:C$23,2,1),1)),\"\")","v":""},{"$f":"IF(ISNUMBER(F127),IF(AN127<0.85,\"\",VLOOKUP(O127,'C'!A$2:X$23,VLOOKUP(F127,ages!B$1:C$23,2,1),1)),\"\")","v":""},{"$f":"IF(ISNUMBER(F127),IF(AO127<0.85,\"\",VLOOKUP(P127,D!A$2:X$23,VLOOKUP(F127,ages!B$1:C$23,2,1),1)),\"\")","v":""},{"$f":"IF(ISNUMBER(F127),IF(AP127<0.85,\"\",VLOOKUP(Q127,E!A$2:X$23,VLOOKUP(F127,ages!B$1:C$23,2,1),1)),\"\")","v":""},{"$f":"IF(ISNUMBER(F127),IF(AQ127<0.85,\"\",VLOOKUP(R127,F!A$2:X$23,VLOOKUP(F127,ages!B$1:C$23,2,1),1)),\"\")","v":""},{"$f":"IF(ISNUMBER(F127),IF(AR127<0.85,\"\",VLOOKUP(S127,G!A$2:X$23,VLOOKUP(F127,ages!B$1:C$23,2,1),1)),\"\")","v":""},{"$f":"IF(ISNUMBER(F127),IF(AS127<0.85,\"\",VLOOKUP(T127,H!A$2:X$23,VLOOKUP(F127,ages!B$1:C$23,2,1),1)),\"\")","v":""},{"$f":"IF(ISNUMBER(F127),IF(AT127<0.85,\"\",VLOOKUP(U127,I!A$2:X$23,VLOOKUP(F127,ages!B$1:C$23,2,1),1)),\"\")","v":""},{"$f":"IF(ISNUMBER(F127),IF(AU127<0.85,\"\",VLOOKUP(V127,J!A$2:X$23,VLOOKUP(F127,ages!B$1:C$23,2,1),1)),\"\")","v":""},"","","","",-1.0000000000000002E-6,0,0,0,0,0,0,0,0,0,0,0,null,null,null,null,null,null,null,null,null,null,null,null,null,null,null,null,null,null,null,null,null,null,null,null,null,null,null,null,null,null,null,null,null,null,null,null,null,null,null,null,null,null,null,null,null,null,null,null,null,null,null,null,null,null,null,null,null,null,null,null,null,null,null,null,null,null,null,null,null,null,-9.9999999999999995E-7,-9.9999999999999995E-7,-9.9999999999999995E-7,-9.9999999999999995E-7,-9.9999999999999995E-7,-9.9999999999999995E-7,-9.9999999999999995E-7,-9.9999999999999995E-7,-9.9999999999999995E-7,-9.9999999999999995E-7,-9.9999999999999995E-7,-9.9999999999999995E-7,-9.9999999999999995E-7,-9.9999999999999995E-7,-9.9999999999999995E-7,-9.9999999999999995E-7,-9.9999999999999995E-7,-9.9999999999999995E-7,-9.9999999999999995E-7,-9.9999999999999995E-7,{"$f":"IF(ISERROR(VLOOKUP(F127,ages!B$1:B$23,1,1)),\"\",VLOOKUP(F127,ages!B$1:B$23,1,1))","v":""},{"$f":"IF(ISERROR(VLOOKUP(F127,ages!B$1:D$23,3,1)),\"\",VLOOKUP(F127,ages!B$1:D$23,3,1))","v":""},0,0,0,0,0]
[null,null,null,null,null,"",null,null,null,null,null,null,"","","","","","","","","","",{"$f":"IF(ISNUMBER(F128),IF(AL128<0.85,\"\",VLOOKUP(M128,A!A$2:X$23,VLOOKUP(F128,ages!B$1:C$23,2,1),1)),\"\")","v":""},{"$f":"IF(ISNUMBER(F128),IF(AM128<0.85,\"\",VLOOKUP(N128,B!A$2:X$23,VLOOKUP(F128,ages!B$1:C$23,2,1),1)),\"\")","v":""},{"$f":"IF(ISNUMBER(F128),IF(AN128<0.85,\"\",VLOOKUP(O128,'C'!A$2:X$23,VLOOKUP(F128,ages!B$1:C$23,2,1),1)),\"\")","v":""},{"$f":"IF(ISNUMBER(F128),IF(AO128<0.85,\"\",VLOOKUP(P128,D!A$2:X$23,VLOOKUP(F128,ages!B$1:C$23,2,1),1)),\"\")","v":""},{"$f":"IF(ISNUMBER(F128),IF(AP128<0.85,\"\",VLOOKUP(Q128,E!A$2:X$23,VLOOKUP(F128,ages!B$1:C$23,2,1),1)),\"\")","v":""},{"$f":"IF(ISNUMBER(F128),IF(AQ128<0.85,\"\",VLOOKUP(R128,F!A$2:X$23,VLOOKUP(F128,ages!B$1:C$23,2,1),1)),\"\")","v":""},{"$f":"IF(ISNUMBER(F128),IF(AR128<0.85,\"\",VLOOKUP(S128,G!A$2:X$23,VLOOKUP(F128,ages!B$1:C$23,2,1),1)),\"\")","v":""},{"$f":"IF(ISNUMBER(F128),IF(AS128<0.85,\"\",VLOOKUP(T128,H!A$2:X$23,VLOOKUP(F128,ages!B$1:C$23,2,1),1)),\"\")","v":""},{"$f":"IF(ISNUMBER(F128),IF(AT128<0.85,\"\",VLOOKUP(U128,I!A$2:X$23,VLOOKUP(F128,ages!B$1:C$23,2,1),1)),\"\")","v":""},{"$f":"IF(ISNUMBER(F128),IF(AU128<0.85,\"\",VLOOKUP(V128,J!A$2:X$23,VLOOKUP(F128,ages!B$1:C$23,2,1),1)),\"\")","v":""},"","","","",-1.0000000000000002E-6,0,0,0,0,0,0,0,0,0,0,0,null,null,null,null,null,null,null,null,null,null,null,null,null,null,null,null,null,null,null,null,null,null,null,null,null,null,null,null,null,null,null,null,null,null,null,null,null,null,null,null,null,null,null,null,null,null,null,null,null,null,null,null,null,null,null,null,null,null,null,null,null,null,null,null,null,null,null,null,null,null,-9.9999999999999995E-7,-9.9999999999999995E-7,-9.9999999999999995E-7,-9.9999999999999995E-7,-9.9999999999999995E-7,-9.9999999999999995E-7,-9.9999999999999995E-7,-9.9999999999999995E-7,-9.9999999999999995E-7,-9.9999999999999995E-7,-9.9999999999999995E-7,-9.9999999999999995E-7,-9.9999999999999995E-7,-9.9999999999999995E-7,-9.9999999999999995E-7,-9.9999999999999995E-7,-9.9999999999999995E-7,-9.9999999999999995E-7,-9.9999999999999995E-7,-9.9999999999999995E-7,{"$f":"IF(ISERROR(VLOOKUP(F128,ages!B$1:B$23,1,1)),\"\",VLOOKUP(F128,ages!B$1:B$23,1,1))","v":""},{"$f":"IF(ISERROR(VLOOKUP(F128,ages!B$1:D$23,3,1)),\"\",VLOOKUP(F128,ages!B$1:D$23,3,1))","v":""},0,0,0,0,0]
[null,null,null,null,null,"",null,null,null,null,null,null,"","","","","","","","","","",{"$f":"IF(ISNUMBER(F129),IF(AL129<0.85,\"\",VLOOKUP(M129,A!A$2:X$23,VLOOKUP(F129,ages!B$1:C$23,2,1),1)),\"\")","v":""},{"$f":"IF(ISNUMBER(F129),IF(AM129<0.85,\"\",VLOOKUP(N129,B!A$2:X$23,VLOOKUP(F129,ages!B$1:C$23,2,1),1)),\"\")","v":""},{"$f":"IF(ISNUMBER(F129),IF(AN129<0.85,\"\",VLOOKUP(O129,'C'!A$2:X$23,VLOOKUP(F129,ages!B$1:C$23,2,1),1)),\"\")","v":""},{"$f":"IF(ISNUMBER(F129),IF(AO129<0.85,\"\",VLOOKUP(P129,D!A$2:X$23,VLOOKUP(F129,ages!B$1:C$23,2,1),1)),\"\")","v":""},{"$f":"IF(ISNUMBER(F129),IF(AP129<0.85,\"\",VLOOKUP(Q129,E!A$2:X$23,VLOOKUP(F129,ages!B$1:C$23,2,1),1)),\"\")","v":""},{"$f":"IF(ISNUMBER(F129),IF(AQ129<0.85,\"\",VLOOKUP(R129,F!A$2:X$23,VLOOKUP(F129,ages!B$1:C$23,2,1),1)),\"\")","v":""},{"$f":"IF(ISNUMBER(F129),IF(AR129<0.85,\"\",VLOOKUP(S129,G!A$2:X$23,VLOOKUP(F129,ages!B$1:C$23,2,1),1)),\"\")","v":""},{"$f":"IF(ISNUMBER(F129),IF(AS129<0.85,\"\",VLOOKUP(T129,H!A$2:X$23,VLOOKUP(F129,ages!B$1:C$23,2,1),1)),\"\")","v":""},{"$f":"IF(ISNUMBER(F129),IF(AT129<0.85,\"\",VLOOKUP(U129,I!A$2:X$23,VLOOKUP(F129,ages!B$1:C$23,2,1),1)),\"\")","v":""},{"$f":"IF(ISNUMBER(F129),IF(AU129<0.85,\"\",VLOOKUP(V129,J!A$2:X$23,VLOOKUP(F129,ages!B$1:C$23,2,1),1)),\"\")","v":""},"","","","",-1.0000000000000002E-6,0,0,0,0,0,0,0,0,0,0,0,null,null,null,null,null,null,null,null,null,null,null,null,null,null,null,null,null,null,null,null,null,null,null,null,null,null,null,null,null,null,null,null,null,null,null,null,null,null,null,null,null,null,null,null,null,null,null,null,null,null,null,null,null,null,null,null,null,null,null,null,null,null,null,null,null,null,null,null,null,null,-9.9999999999999995E-7,-9.9999999999999995E-7,-9.9999999999999995E-7,-9.9999999999999995E-7,-9.9999999999999995E-7,-9.9999999999999995E-7,-9.9999999999999995E-7,-9.9999999999999995E-7,-9.9999999999999995E-7,-9.9999999999999995E-7,-9.9999999999999995E-7,-9.9999999999999995E-7,-9.9999999999999995E-7,-9.9999999999999995E-7,-9.9999999999999995E-7,-9.9999999999999995E-7,-9.9999999999999995E-7,-9.9999999999999995E-7,-9.9999999999999995E-7,-9.9999999999999995E-7,{"$f":"IF(ISERROR(VLOOKUP(F129,ages!B$1:B$23,1,1)),\"\",VLOOKUP(F129,ages!B$1:B$23,1,1))","v":""},{"$f":"IF(ISERROR(VLOOKUP(F129,ages!B$1:D$23,3,1)),\"\",VLOOKUP(F129,ages!B$1:D$23,3,1))","v":""},0,0,0,0,0]
[null,null,null,null,null,"",null,null,null,null,null,null,"","","","","","","","","","",{"$f":"IF(ISNUMBER(F130),IF(AL130<0.85,\"\",VLOOKUP(M130,A!A$2:X$23,VLOOKUP(F130,ages!B$1:C$23,2,1),1)),\"\")","v":""},{"$f":"IF(ISNUMBER(F130),IF(AM130<0.85,\"\",VLOOKUP(N130,B!A$2:X$23,VLOOKUP(F130,ages!B$1:C$23,2,1),1)),\"\")","v":""},{"$f":"IF(ISNUMBER(F130),IF(AN130<0.85,\"\",VLOOKUP(O130,'C'!A$2:X$23,VLOOKUP(F130,ages!B$1:C$23,2,1),1)),\"\")","v":""},{"$f":"IF(ISNUMBER(F130),IF(AO130<0.85,\"\",VLOOKUP(P130,D!A$2:X$23,VLOOKUP(F130,ages!B$1:C$23,2,1),1)),\"\")","v":""},{"$f":"IF(ISNUMBER(F130),IF(AP130<0.85,\"\",VLOOKUP(Q130,E!A$2:X$23,VLOOKUP(F130,ages!B$1:C$23,2,1),1)),\"\")","v":""},{"$f":"IF(ISNUMBER(F130),IF(AQ130<0.85,\"\",VLOOKUP(R130,F!A$2:X$23,VLOOKUP(F130,ages!B$1:C$23,2,1),1)),\"\")","v":""},{"$f":"IF(ISNUMBER(F130),IF(AR130<0.85,\"\",VLOOKUP(S130,G!A$2:X$23,VLOOKUP(F130,ages!B$1:C$23,2,1),1)),\"\")","v":""},{"$f":"IF(ISNUMBER(F130),IF(AS130<0.85,\"\",VLOOKUP(T130,H!A$2:X$23,VLOOKUP(F130,ages!B$1:C$23,2,1),1)),\"\")","v":""},{"$f":"IF(ISNUMBER(F130),IF(AT130<0.85,\"\",VLOOKUP(U130,I!A$2:X$23,VLOOKUP(F130,ages!B$1:C$23,2,1),1)),\"\")","v":""},{"$f":"IF(ISNUMBER(F130),IF(AU130<0.85,\"\",VLOOKUP(V130,J!A$2:X$23,VLOOKUP(F130,ages!B$1:C$23,2,1),1)),\"\")","v":""},"","","","",-1.0000000000000002E-6,0,0,0,0,0,0,0,0,0,0,0,null,null,null,null,null,null,null,null,null,null,null,null,null,null,null,null,null,null,null,null,null,null,null,null,null,null,null,null,null,null,null,null,null,null,null,null,null,null,null,null,null,null,null,null,null,null,null,null,null,null,null,null,null,null,null,null,null,null,null,null,null,null,null,null,null,null,null,null,null,null,-9.9999999999999995E-7,-9.9999999999999995E-7,-9.9999999999999995E-7,-9.9999999999999995E-7,-9.9999999999999995E-7,-9.9999999999999995E-7,-9.9999999999999995E-7,-9.9999999999999995E-7,-9.9999999999999995E-7,-9.9999999999999995E-7,-9.9999999999999995E-7,-9.9999999999999995E-7,-9.9999999999999995E-7,-9.9999999999999995E-7,-9.9999999999999995E-7,-9.9999999999999995E-7,-9.9999999999999995E-7,-9.9999999999999995E-7,-9.9999999999999995E-7,-9.9999999999999995E-7,{"$f":"IF(ISERROR(VLOOKUP(F130,ages!B$1:B$23,1,1)),\"\",VLOOKUP(F130,ages!B$1:B$23,1,1))","v":""},{"$f":"IF(ISERROR(VLOOKUP(F130,ages!B$1:D$23,3,1)),\"\",VLOOKUP(F130,ages!B$1:D$23,3,1))","v":""},0,0,0,0,0]
[null,null,null,null,null,"",null,null,null,null,null,null,"","","","","","","","","","",{"$f":"IF(ISNUMBER(F131),IF(AL131<0.85,\"\",VLOOKUP(M131,A!A$2:X$23,VLOOKUP(F131,ages!B$1:C$23,2,1),1)),\"\")","v":""},{"$f":"IF(ISNUMBER(F131),IF(AM131<0.85,\"\",VLOOKUP(N131,B!A$2:X$23,VLOOKUP(F131,ages!B$1:C$23,2,1),1)),\"\")","v":""},{"$f":"IF(ISNUMBER(F131),IF(AN131<0.85,\"\",VLOOKUP(O131,'C'!A$2:X$23,VLOOKUP(F131,ages!B$1:C$23,2,1),1)),\"\")","v":""},{"$f":"IF(ISNUMBER(F131),IF(AO131<0.85,\"\",VLOOKUP(P131,D!A$2:X$23,VLOOKUP(F131,ages!B$1:C$23,2,1),1)),\"\")","v":""},{"$f":"IF(ISNUMBER(F131),IF(AP131<0.85,\"\",VLOOKUP(Q131,E!A$2:X$23,VLOOKUP(F131,ages!B$1:C$23,2,1),1)),\"\")","v":""},{"$f":"IF(ISNUMBER(F131),IF(AQ131<0.85,\"\",VLOOKUP(R131,F!A$2:X$23,VLOOKUP(F131,ages!B$1:C$23,2,1),1)),\"\")","v":""},{"$f":"IF(ISNUMBER(F131),IF(AR131<0.85,\"\",VLOOKUP(S131,G!A$2:X$23,VLOOKUP(F131,ages!B$1:C$23,2,1),1)),\"\")","v":""},{"$f":"IF(ISNUMBER(F131),IF(AS131<0.85,\"\",VLOOKUP(T131,H!A$2:X$23,VLOOKUP(F131,ages!B$1:C$23,2,1),1)),\"\")","v":""},{"$f":"IF(ISNUMBER(F131),IF(AT131<0.85,\"\",VLOOKUP(U131,I!A$2:X$23,VLOOKUP(F131,ages!B$1:C$23,2,1),1)),\"\")","v":""},{"$f":"IF(ISNUMBER(F131),IF(AU131<0.85,\"\",VLOOKUP(V131,J!A$2:X$23,VLOOKUP(F131,ages!B$1:C$23,2,1),1)),\"\")","v":""},"","","","",-1.0000000000000002E-6,0,0,0,0,0,0,0,0,0,0,0,null,null,null,null,null,null,null,null,null,null,null,null,null,null,null,null,null,null,null,null,null,null,null,null,null,null,null,null,null,null,null,null,null,null,null,null,null,null,null,null,null,null,null,null,null,null,null,null,null,null,null,null,null,null,null,null,null,null,null,null,null,null,null,null,null,null,null,null,null,null,-9.9999999999999995E-7,-9.9999999999999995E-7,-9.9999999999999995E-7,-9.9999999999999995E-7,-9.9999999999999995E-7,-9.9999999999999995E-7,-9.9999999999999995E-7,-9.9999999999999995E-7,-9.9999999999999995E-7,-9.9999999999999995E-7,-9.9999999999999995E-7,-9.9999999999999995E-7,-9.9999999999999995E-7,-9.9999999999999995E-7,-9.9999999999999995E-7,-9.9999999999999995E-7,-9.9999999999999995E-7,-9.9999999999999995E-7,-9.9999999999999995E-7,-9.9999999999999995E-7,{"$f":"IF(ISERROR(VLOOKUP(F131,ages!B$1:B$23,1,1)),\"\",VLOOKUP(F131,ages!B$1:B$23,1,1))","v":""},{"$f":"IF(ISERROR(VLOOKUP(F131,ages!B$1:D$23,3,1)),\"\",VLOOKUP(F131,ages!B$1:D$23,3,1))","v":""},0,0,0,0,0]
[null,null,null,null,null,"",null,null,null,null,null,null,"","","","","","","","","","",{"$f":"IF(ISNUMBER(F132),IF(AL132<0.85,\"\",VLOOKUP(M132,A!A$2:X$23,VLOOKUP(F132,ages!B$1:C$23,2,1),1)),\"\")","v":""},{"$f":"IF(ISNUMBER(F132),IF(AM132<0.85,\"\",VLOOKUP(N132,B!A$2:X$23,VLOOKUP(F132,ages!B$1:C$23,2,1),1)),\"\")","v":""},{"$f":"IF(ISNUMBER(F132),IF(AN132<0.85,\"\",VLOOKUP(O132,'C'!A$2:X$23,VLOOKUP(F132,ages!B$1:C$23,2,1),1)),\"\")","v":""},{"$f":"IF(ISNUMBER(F132),IF(AO132<0.85,\"\",VLOOKUP(P132,D!A$2:X$23,VLOOKUP(F132,ages!B$1:C$23,2,1),1)),\"\")","v":""},{"$f":"IF(ISNUMBER(F132),IF(AP132<0.85,\"\",VLOOKUP(Q132,E!A$2:X$23,VLOOKUP(F132,ages!B$1:C$23,2,1),1)),\"\")","v":""},{"$f":"IF(ISNUMBER(F132),IF(AQ132<0.85,\"\",VLOOKUP(R132,F!A$2:X$23,VLOOKUP(F132,ages!B$1:C$23,2,1),1)),\"\")","v":""},{"$f":"IF(ISNUMBER(F132),IF(AR132<0.85,\"\",VLOOKUP(S132,G!A$2:X$23,VLOOKUP(F132,ages!B$1:C$23,2,1),1)),\"\")","v":""},{"$f":"IF(ISNUMBER(F132),IF(AS132<0.85,\"\",VLOOKUP(T132,H!A$2:X$23,VLOOKUP(F132,ages!B$1:C$23,2,1),1)),\"\")","v":""},{"$f":"IF(ISNUMBER(F132),IF(AT132<0.85,\"\",VLOOKUP(U132,I!A$2:X$23,VLOOKUP(F132,ages!B$1:C$23,2,1),1)),\"\")","v":""},{"$f":"IF(ISNUMBER(F132),IF(AU132<0.85,\"\",VLOOKUP(V132,J!A$2:X$23,VLOOKUP(F132,ages!B$1:C$23,2,1),1)),\"\")","v":""},"","","","",-1.0000000000000002E-6,0,0,0,0,0,0,0,0,0,0,0,null,null,null,null,null,null,null,null,null,null,null,null,null,null,null,null,null,null,null,null,null,null,null,null,null,null,null,null,null,null,null,null,null,null,null,null,null,null,null,null,null,null,null,null,null,null,null,null,null,null,null,null,null,null,null,null,null,null,null,null,null,null,null,null,null,null,null,null,null,null,-9.9999999999999995E-7,-9.9999999999999995E-7,-9.9999999999999995E-7,-9.9999999999999995E-7,-9.9999999999999995E-7,-9.9999999999999995E-7,-9.9999999999999995E-7,-9.9999999999999995E-7,-9.9999999999999995E-7,-9.9999999999999995E-7,-9.9999999999999995E-7,-9.9999999999999995E-7,-9.9999999999999995E-7,-9.9999999999999995E-7,-9.9999999999999995E-7,-9.9999999999999995E-7,-9.9999999999999995E-7,-9.9999999999999995E-7,-9.9999999999999995E-7,-9.9999999999999995E-7,{"$f":"IF(ISERROR(VLOOKUP(F132,ages!B$1:B$23,1,1)),\"\",VLOOKUP(F132,ages!B$1:B$23,1,1))","v":""},{"$f":"IF(ISERROR(VLOOKUP(F132,ages!B$1:D$23,3,1)),\"\",VLOOKUP(F132,ages!B$1:D$23,3,1))","v":""},0,0,0,0,0]
[null,null,null,null,null,"",null,null,null,null,null,null,"","","","","","","","","","",{"$f":"IF(ISNUMBER(F133),IF(AL133<0.85,\"\",VLOOKUP(M133,A!A$2:X$23,VLOOKUP(F133,ages!B$1:C$23,2,1),1)),\"\")","v":""},{"$f":"IF(ISNUMBER(F133),IF(AM133<0.85,\"\",VLOOKUP(N133,B!A$2:X$23,VLOOKUP(F133,ages!B$1:C$23,2,1),1)),\"\")","v":""},{"$f":"IF(ISNUMBER(F133),IF(AN133<0.85,\"\",VLOOKUP(O133,'C'!A$2:X$23,VLOOKUP(F133,ages!B$1:C$23,2,1),1)),\"\")","v":""},{"$f":"IF(ISNUMBER(F133),IF(AO133<0.85,\"\",VLOOKUP(P133,D!A$2:X$23,VLOOKUP(F133,ages!B$1:C$23,2,1),1)),\"\")","v":""},{"$f":"IF(ISNUMBER(F133),IF(AP133<0.85,\"\",VLOOKUP(Q133,E!A$2:X$23,VLOOKUP(F133,ages!B$1:C$23,2,1),1)),\"\")","v":""},{"$f":"IF(ISNUMBER(F133),IF(AQ133<0.85,\"\",VLOOKUP(R133,F!A$2:X$23,VLOOKUP(F133,ages!B$1:C$23,2,1),1)),\"\")","v":""},{"$f":"IF(ISNUMBER(F133),IF(AR133<0.85,\"\",VLOOKUP(S133,G!A$2:X$23,VLOOKUP(F133,ages!B$1:C$23,2,1),1)),\"\")","v":""},{"$f":"IF(ISNUMBER(F133),IF(AS133<0.85,\"\",VLOOKUP(T133,H!A$2:X$23,VLOOKUP(F133,ages!B$1:C$23,2,1),1)),\"\")","v":""},{"$f":"IF(ISNUMBER(F133),IF(AT133<0.85,\"\",VLOOKUP(U133,I!A$2:X$23,VLOOKUP(F133,ages!B$1:C$23,2,1),1)),\"\")","v":""},{"$f":"IF(ISNUMBER(F133),IF(AU133<0.85,\"\",VLOOKUP(V133,J!A$2:X$23,VLOOKUP(F133,ages!B$1:C$23,2,1),1)),\"\")","v":""},"","","","",-1.0000000000000002E-6,0,0,0,0,0,0,0,0,0,0,0,null,null,null,null,null,null,null,null,null,null,null,null,null,null,null,null,null,null,null,null,null,null,null,null,null,null,null,null,null,null,null,null,null,null,null,null,null,null,null,null,null,null,null,null,null,null,null,null,null,null,null,null,null,null,null,null,null,null,null,null,null,null,null,null,null,null,null,null,null,null,-9.9999999999999995E-7,-9.9999999999999995E-7,-9.9999999999999995E-7,-9.9999999999999995E-7,-9.9999999999999995E-7,-9.9999999999999995E-7,-9.9999999999999995E-7,-9.9999999999999995E-7,-9.9999999999999995E-7,-9.9999999999999995E-7,-9.9999999999999995E-7,-9.9999999999999995E-7,-9.9999999999999995E-7,-9.9999999999999995E-7,-9.9999999999999995E-7,-9.9999999999999995E-7,-9.9999999999999995E-7,-9.9999999999999995E-7,-9.9999999999999995E-7,-9.9999999999999995E-7,{"$f":"IF(ISERROR(VLOOKUP(F133,ages!B$1:B$23,1,1)),\"\",VLOOKUP(F133,ages!B$1:B$23,1,1))","v":""},{"$f":"IF(ISERROR(VLOOKUP(F133,ages!B$1:D$23,3,1)),\"\",VLOOKUP(F133,ages!B$1:D$23,3,1))","v":""},0,0,0,0,0]
[null,null,null,null,null,"",null,null,null,null,null,null,"","","","","","","","","","",{"$f":"IF(ISNUMBER(F134),IF(AL134<0.85,\"\",VLOOKUP(M134,A!A$2:X$23,VLOOKUP(F134,ages!B$1:C$23,2,1),1)),\"\")","v":""},{"$f":"IF(ISNUMBER(F134),IF(AM134<0.85,\"\",VLOOKUP(N134,B!A$2:X$23,VLOOKUP(F134,ages!B$1:C$23,2,1),1)),\"\")","v":""},{"$f":"IF(ISNUMBER(F134),IF(AN134<0.85,\"\",VLOOKUP(O134,'C'!A$2:X$23,VLOOKUP(F134,ages!B$1:C$23,2,1),1)),\"\")","v":""},{"$f":"IF(ISNUMBER(F134),IF(AO134<0.85,\"\",VLOOKUP(P134,D!A$2:X$23,VLOOKUP(F134,ages!B$1:C$23,2,1),1)),\"\")","v":""},{"$f":"IF(ISNUMBER(F134),IF(AP134<0.85,\"\",VLOOKUP(Q134,E!A$2:X$23,VLOOKUP(F134,ages!B$1:C$23,2,1),1)),\"\")","v":""},{"$f":"IF(ISNUMBER(F134),IF(AQ134<0.85,\"\",VLOOKUP(R134,F!A$2:X$23,VLOOKUP(F134,ages!B$1:C$23,2,1),1)),\"\")","v":""},{"$f":"IF(ISNUMBER(F134),IF(AR134<0.85,\"\",VLOOKUP(S134,G!A$2:X$23,VLOOKUP(F134,ages!B$1:C$23,2,1),1)),\"\")","v":""},{"$f":"IF(ISNUMBER(F134),IF(AS134<0.85,\"\",VLOOKUP(T134,H!A$2:X$23,VLOOKUP(F134,ages!B$1:C$23,2,1),1)),\"\")","v":""},{"$f":"IF(ISNUMBER(F134),IF(AT134<0.85,\"\",VLOOKUP(U134,I!A$2:X$23,VLOOKUP(F134,ages!B$1:C$23,2,1),1)),\"\")","v":""},{"$f":"IF(ISNUMBER(F134),IF(AU134<0.85,\"\",VLOOKUP(V134,J!A$2:X$23,VLOOKUP(F134,ages!B$1:C$23,2,1),1)),\"\")","v":""},"","","","",-1.0000000000000002E-6,0,0,0,0,0,0,0,0,0,0,0,null,null,null,null,null,null,null,null,null,null,null,null,null,null,null,null,null,null,null,null,null,null,null,null,null,null,null,null,null,null,null,null,null,null,null,null,null,null,null,null,null,null,null,null,null,null,null,null,null,null,null,null,null,null,null,null,null,null,null,null,null,null,null,null,null,null,null,null,null,null,-9.9999999999999995E-7,-9.9999999999999995E-7,-9.9999999999999995E-7,-9.9999999999999995E-7,-9.9999999999999995E-7,-9.9999999999999995E-7,-9.9999999999999995E-7,-9.9999999999999995E-7,-9.9999999999999995E-7,-9.9999999999999995E-7,-9.9999999999999995E-7,-9.9999999999999995E-7,-9.9999999999999995E-7,-9.9999999999999995E-7,-9.9999999999999995E-7,-9.9999999999999995E-7,-9.9999999999999995E-7,-9.9999999999999995E-7,-9.9999999999999995E-7,-9.9999999999999995E-7,{"$f":"IF(ISERROR(VLOOKUP(F134,ages!B$1:B$23,1,1)),\"\",VLOOKUP(F134,ages!B$1:B$23,1,1))","v":""},{"$f":"IF(ISERROR(VLOOKUP(F134,ages!B$1:D$23,3,1)),\"\",VLOOKUP(F134,ages!B$1:D$23,3,1))","v":""},0,0,0,0,0]
[null,null,null,null,null,"",null,null,null,null,null,null,"","","","","","","","","","",{"$f":"IF(ISNUMBER(F135),IF(AL135<0.85,\"\",VLOOKUP(M135,A!A$2:X$23,VLOOKUP(F135,ages!B$1:C$23,2,1),1)),\"\")","v":""},{"$f":"IF(ISNUMBER(F135),IF(AM135<0.85,\"\",VLOOKUP(N135,B!A$2:X$23,VLOOKUP(F135,ages!B$1:C$23,2,1),1)),\"\")","v":""},{"$f":"IF(ISNUMBER(F135),IF(AN135<0.85,\"\",VLOOKUP(O135,'C'!A$2:X$23,VLOOKUP(F135,ages!B$1:C$23,2,1),1)),\"\")","v":""},{"$f":"IF(ISNUMBER(F135),IF(AO135<0.85,\"\",VLOOKUP(P135,D!A$2:X$23,VLOOKUP(F135,ages!B$1:C$23,2,1),1)),\"\")","v":""},{"$f":"IF(ISNUMBER(F135),IF(AP135<0.85,\"\",VLOOKUP(Q135,E!A$2:X$23,VLOOKUP(F135,ages!B$1:C$23,2,1),1)),\"\")","v":""},{"$f":"IF(ISNUMBER(F135),IF(AQ135<0.85,\"\",VLOOKUP(R135,F!A$2:X$23,VLOOKUP(F135,ages!B$1:C$23,2,1),1)),\"\")","v":""},{"$f":"IF(ISNUMBER(F135),IF(AR135<0.85,\"\",VLOOKUP(S135,G!A$2:X$23,VLOOKUP(F135,ages!B$1:C$23,2,1),1)),\"\")","v":""},{"$f":"IF(ISNUMBER(F135),IF(AS135<0.85,\"\",VLOOKUP(T135,H!A$2:X$23,VLOOKUP(F135,ages!B$1:C$23,2,1),1)),\"\")","v":""},{"$f":"IF(ISNUMBER(F135),IF(AT135<0.85,\"\",VLOOKUP(U135,I!A$2:X$23,VLOOKUP(F135,ages!B$1:C$23,2,1),1)),\"\")","v":""},{"$f":"IF(ISNUMBER(F135),IF(AU135<0.85,\"\",VLOOKUP(V135,J!A$2:X$23,VLOOKUP(F135,ages!B$1:C$23,2,1),1)),\"\")","v":""},"","","","",-1.0000000000000002E-6,0,0,0,0,0,0,0,0,0,0,0,null,null,null,null,null,null,null,null,null,null,null,null,null,null,null,null,null,null,null,null,null,null,null,null,null,null,null,null,null,null,null,null,null,null,null,null,null,null,null,null,null,null,null,null,null,null,null,null,null,null,null,null,null,null,null,null,null,null,null,null,null,null,null,null,null,null,null,null,null,null,-9.9999999999999995E-7,-9.9999999999999995E-7,-9.9999999999999995E-7,-9.9999999999999995E-7,-9.9999999999999995E-7,-9.9999999999999995E-7,-9.9999999999999995E-7,-9.9999999999999995E-7,-9.9999999999999995E-7,-9.9999999999999995E-7,-9.9999999999999995E-7,-9.9999999999999995E-7,-9.9999999999999995E-7,-9.9999999999999995E-7,-9.9999999999999995E-7,-9.9999999999999995E-7,-9.9999999999999995E-7,-9.9999999999999995E-7,-9.9999999999999995E-7,-9.9999999999999995E-7,{"$f":"IF(ISERROR(VLOOKUP(F135,ages!B$1:B$23,1,1)),\"\",VLOOKUP(F135,ages!B$1:B$23,1,1))","v":""},{"$f":"IF(ISERROR(VLOOKUP(F135,ages!B$1:D$23,3,1)),\"\",VLOOKUP(F135,ages!B$1:D$23,3,1))","v":""},0,0,0,0,0]
[null,null,null,null,null,"",null,null,null,null,null,null,"","","","","","","","","","",{"$f":"IF(ISNUMBER(F136),IF(AL136<0.85,\"\",VLOOKUP(M136,A!A$2:X$23,VLOOKUP(F136,ages!B$1:C$23,2,1),1)),\"\")","v":""},{"$f":"IF(ISNUMBER(F136),IF(AM136<0.85,\"\",VLOOKUP(N136,B!A$2:X$23,VLOOKUP(F136,ages!B$1:C$23,2,1),1)),\"\")","v":""},{"$f":"IF(ISNUMBER(F136),IF(AN136<0.85,\"\",VLOOKUP(O136,'C'!A$2:X$23,VLOOKUP(F136,ages!B$1:C$23,2,1),1)),\"\")","v":""},{"$f":"IF(ISNUMBER(F136),IF(AO136<0.85,\"\",VLOOKUP(P136,D!A$2:X$23,VLOOKUP(F136,ages!B$1:C$23,2,1),1)),\"\")","v":""},{"$f":"IF(ISNUMBER(F136),IF(AP136<0.85,\"\",VLOOKUP(Q136,E!A$2:X$23,VLOOKUP(F136,ages!B$1:C$23,2,1),1)),\"\")","v":""},{"$f":"IF(ISNUMBER(F136),IF(AQ136<0.85,\"\",VLOOKUP(R136,F!A$2:X$23,VLOOKUP(F136,ages!B$1:C$23,2,1),1)),\"\")","v":""},{"$f":"IF(ISNUMBER(F136),IF(AR136<0.85,\"\",VLOOKUP(S136,G!A$2:X$23,VLOOKUP(F136,ages!B$1:C$23,2,1),1)),\"\")","v":""},{"$f":"IF(ISNUMBER(F136),IF(AS136<0.85,\"\",VLOOKUP(T136,H!A$2:X$23,VLOOKUP(F136,ages!B$1:C$23,2,1),1)),\"\")","v":""},{"$f":"IF(ISNUMBER(F136),IF(AT136<0.85,\"\",VLOOKUP(U136,I!A$2:X$23,VLOOKUP(F136,ages!B$1:C$23,2,1),1)),\"\")","v":""},{"$f":"IF(ISNUMBER(F136),IF(AU136<0.85,\"\",VLOOKUP(V136,J!A$2:X$23,VLOOKUP(F136,ages!B$1:C$23,2,1),1)),\"\")","v":""},"","","","",{"$f":"IF(COUNT(DO136:EH136)>15,SUM(DO136:EH136)/COUNT(DO136:EH136),\"\")","v":-1.0000000000000002E-6},0,0,0,0,0,0,0,0,0,0,0,null,null,null,null,null,null,null,null,null,null,null,null,null,null,null,null,null,null,null,null,null,null,null,null,null,null,null,null,null,null,null,null,null,null,null,null,null,null,null,null,null,null,null,null,null,null,null,null,null,null,null,null,null,null,null,null,null,null,null,null,null,null,null,null,null,null,null,null,null,null,-9.9999999999999995E-7,{"$f":"IF(ISNUMBER(CV136),3-CV136,-0.000001)","v":-9.9999999999999995E-7},{"$f":"IF(ISNUMBER(CW136),3-CW136,-0.000001)","v":-9.9999999999999995E-7},{"$f":"IF(ISNUMBER(CX136),3-CX136,-0.000001)","v":-9.9999999999999995E-7},{"$f":"IF(ISNUMBER(CY136),3-CY136,-0.000001)","v":-9.9999999999999995E-7},{"$f":"IF(ISNUMBER(CZ136),3-CZ136,-0.000001)","v":-9.9999999999999995E-7},{"$f":"IF(ISNUMBER(DA136),3-DA136,-0.000001)","v":-9.9999999999999995E-7},{"$f":"IF(ISNUMBER(DB136),3-DB136,-0.000001)","v":-9.9999999999999995E-7},{"$f":"IF(ISNUMBER(DC136),3-DC136,-0.000001)","v":-9.9999999999999995E-7},{"$f":"IF(ISNUMBER(DD136),3-DD136,-0.000001)","v":-9.9999999999999995E-7},{"$f":"IF(ISNUMBER(DE136),3-DE136,-0.000001)","v":-9.9999999999999995E-7},{"$f":"IF(ISNUMBER(DF136),3-DF136,-0.000001)","v":-9.9999999999999995E-7},{"$f":"IF(ISNUMBER(DG136),3-DG136,-0.000001)","v":-9.9999999999999995E-7},{"$f":"IF(ISNUMBER(DH136),3-DH136,-0.000001)","v":-9.9999999999999995E-7},{"$f":"IF(ISNUMBER(DI136),3-DI136,-0.000001)","v":-9.9999999999999995E-7},{"$f":"IF(ISNUMBER(DJ136),3-DJ136,-0.000001)","v":-9.9999999999999995E-7},{"$f":"IF(ISNUMBER(DK136),3-DK136,-0.000001)","v":-9.9999999999999995E-7},{"$f":"IF(ISNUMBER(DL136),3-DL136,-0.000001)","v":-9.9999999999999995E-7},{"$f":"IF(ISNUMBER(DM136),3-DM136,-0.000001)","v":-9.9999999999999995E-7},{"$f":"IF(ISNUMBER(DN136),3-DN136,-0.000001)","v":-9.9999999999999995E-7},{"$f":"IF(ISERROR(VLOOKUP(F136,ages!B$1:B$23,1,1)),\"\",VLOOKUP(F136,ages!B$1:B$23,1,1))","v":""},{"$f":"IF(ISERROR(VLOOKUP(F136,ages!B$1:D$23,3,1)),\"\",VLOOKUP(F136,ages!B$1:D$23,3,1))","v":""},0,0,0,0,0]
[null,null,null,null,null,{"$f":"IF(OR(D137=\"\",E137=\"\"),\"\",IF((EK137*12+EL137)<48,\"ald<4:0\",IF((EK137*12+EL137)>203,\"ald>16:11\",EK137*12+EL137)))","v":""},null,null,null,null,null,null,{"$f":"IF(AL137>0.79,ROUND(($DO137+$DV137+$AX137+$BT137+$BY137+$CH137+$CN137)/AL137,0),\"\")","v":""},{"$f":"IF(AM137>0.79,ROUND(($DS137+$EG137+$AW137+$BM137+$BW137+$CF137+$CM137)/AM137,0),\"\")","v":""},{"$f":"IF(AN137>0.79,ROUND(($EB137+$ED137+$AZ137+$BB137+$BH137+$CB137+$CP137)/AN137,0),\"\")","v":""},{"$f":"IF(AO137>0.79,ROUND(($DQ137+$EF137+$BF137+$BU137+$CJ137+$CR137+$CT137)/AO137,0),\"\")","v":""},{"$f":"IF(AP137>0.79,ROUND(($DW137+$EH137+$BA137+$BQ137+$CE137+$CG137+$CO137)/AP137,0),\"\")","v":""},{"$f":"IF(AQ137>0.79,ROUND(($DY137+$DZ137+$BG137+$BN137+$BS137+$BZ137+$CL137)/AQ137,0),\"\")","v":""},{"$f":"IF(AR137>0.79,ROUND(($DR137+$DX137+$BK137+$BO137+$BX137+$CD137+$CK137)/AR137,0),\"\")","v":""},{"$f":"IF(AS137>0.79,ROUND(($DT137+$EC137+$BD137+$BJ137+$BP137+$CA137+$CI137)/AS137,0),\"\")","v":""},{"$f":"IF(AT137>0.79,ROUND(($DU137+$EE137+$AY137+$BC137+$BI137+$BL137+$CC137)/AT137,0),\"\")","v":""},{"$f":"IF(AU137>0.79,ROUND(($DP137+$EA137+$BE137+$BR137+$BV137+$CQ137+$CS137)/AU137,0),\"\")","v":""},{"$f":"IF(ISNUMBER(F137),IF(AL137<0.85,\"\",VLOOKUP(M137,A!A$2:X$23,VLOOKUP(F137,ages!B$1:C$23,2,1),1)),\"\")","v":""},{"$f":"IF(ISNUMBER(F137),IF(AM137<0.85,\"\",VLOOKUP(N137,B!A$2:X$23,VLOOKUP(F137,ages!B$1:C$23,2,1),1)),\"\")","v":""},{"$f":"IF(ISNUMBER(F137),IF(AN137<0.85,\"\",VLOOKUP(O137,'C'!A$2:X$23,VLOOKUP(F137,ages!B$1:C$23,2,1),1)),\"\")","v":""},{"$f":"IF(ISNUMBER(F137),IF(AO137<0.85,\"\",VLOOKUP(P137,D!A$2:X$23,VLOOKUP(F137,ages!B$1:C$23,2,1),1)),\"\")","v":""},{"$f":"IF(ISNUMBER(F137),IF(AP137<0.85,\"\",VLOOKUP(Q137,E!A$2:X$23,VLOOKUP(F137,ages!B$1:C$23,2,1),1)),\"\")","v":""},{"$f":"IF(ISNUMBER(F137),IF(AQ137<0.85,\"\",VLOOKUP(R137,F!A$2:X$23,VLOOKUP(F137,ages!B$1:C$23,2,1),1)),\"\")","v":""},{"$f":"IF(ISNUMBER(F137),IF(AR137<0.85,\"\",VLOOKUP(S137,G!A$2:X$23,VLOOKUP(F137,ages!B$1:C$23,2,1),1)),\"\")","v":""},{"$f":"IF(ISNUMBER(F137),IF(AS137<0.85,\"\",VLOOKUP(T137,H!A$2:X$23,VLOOKUP(F137,ages!B$1:C$23,2,1),1)),\"\")","v":""},{"$f":"IF(ISNUMBER(F137),IF(AT137<0.85,\"\",VLOOKUP(U137,I!A$2:X$23,VLOOKUP(F137,ages!B$1:C$23,2,1),1)),\"\")","v":""},{"$f":"IF(ISNUMBER(F137),IF(AU137<0.85,\"\",VLOOKUP(V137,J!A$2:X$23,VLOOKUP(F137,ages!B$1:C$23,2,1),1)),\"\")","v":""},"","",{"$f":"IF(AG137=\"\",\"\",IF(ISNUMBER(AJ137),IF(AND(AK137>1.5,(AK137-AJ137)>1.3),0,1),\"\"))","v":""},{"$f":"IF(COUNT(AW137:CT137)>45,SUM(AW137:CT137)/COUNT(AW137:CT137),\"\")","v":""},-1.0000000000000002E-6,{"$f":"COUNT($AX137,$BT137,$BY137,$CH137,$CN137,$CU137,$DB137)/7","v":0},{"$f":"COUNT($AW137,$BM137,$BW137,$CF137,$CM137,$CY137,$DM137)/7","v":0},{"$f":"COUNT($AZ137,$BB137,$BH137,$CB137,$CP137,$DH137,$DJ137)/7","v":0},{"$f":"COUNT($BF137,$BU137,$CJ137,$CR137,$CT137,$CW137,$DL137)/7","v":0},{"$f":"COUNT($BA137,$BQ137,$CE137,$CG137,$CO137,$DC137,$DN137)/7","v":0},{"$f":"COUNT($BG137,$BN137,$BS137,$BZ137,$CL137,$DE137,$DF137)/7","v":0},{"$f":"COUNT($BK137,$BO137,$BX137,$CD137,$CK137,$CX137,$DD137)/7","v":0},{"$f":"COUNT($BD137,$BJ137,$BP137,$CA137,$CI137,$CZ137,$DI137)/7","v":0},{"$f":"COUNT($AY137,$BC137,$BI137,$BL137,$CC137,$DA137,$DK137)/7","v":0},{"$f":"COUNT($BE137,$BR137,$BV137,$CQ137,$CS137,$CV137,$DG137)/7","v":0},{"$f":"COUNT(AW137:DN137)/70","v":0},null,null,null,null,null,null,null,null,null,null,null,null,null,null,null,null,null,null,null,null,null,null,null,null,null,null,null,null,null,null,null,null,null,null,null,null,null,null,null,null,null,null,null,null,null,null,null,null,null,null,null,null,null,null,null,null,null,null,null,null,null,null,null,null,null,null,null,null,null,null,{"$f":"IF(ISNUMBER(CU137),3-CU137,-0.000001)","v":-9.9999999999999995E-7},-9.9999999999999995E-7,-9.9999999999999995E-7,-9.9999999999999995E-7,-9.9999999999999995E-7,-9.9999999999999995E-7,-9.9999999999999995E-7,-9.9999999999999995E-7,-9.9999999999999995E-7,-9.9999999999999995E-7,-9.9999999999999995E-7,-9.9999999999999995E-7,-9.9999999999999995E-7,-9.9999999999999995E-7,-9.9999999999999995E-7,-9.9999999999999995E-7,-9.9999999999999995E-7,-9.9999999999999995E-7,-9.9999999999999995E-7,-9.9999999999999995E-7,{"$f":"IF(ISERROR(VLOOKUP(F137,ages!B$1:B$23,1,1)),\"\",VLOOKUP(F137,ages!B$1:B$23,1,1))","v":""},{"$f":"IF(ISERROR(VLOOKUP(F137,ages!B$1:D$23,3,1)),\"\",VLOOKUP(F137,ages!B$1:D$23,3,1))","v":""},{"$f":"YEAR(E137)-YEAR(D137)-EN137","v":0},{"$f":"IF(MONTH(E137)-MONTH(D137)-EO137<0,12+MONTH(E137)-MONTH(D137)-EO137,MONTH(E137)-MONTH(D137)-EO137)","v":0},{"$f":"IF(DAY(E137)-DAY(D137)<0,30+DAY(E137)-DAY(D137),DAY(E137)-DAY(D137))","v":0},{"$f":"IF(MONTH(E137)-MONTH(D137)-EO137<0,1,0)","v":0},{"$f":"IF(DAY(E137)-DAY(D137)<0,1,0)","v":0}]
[null,null,null,null,null,"",null,null,null,null,null,null,"","","","","","","","","","",{"$f":"IF(ISNUMBER(F138),IF(AL138<0.85,\"\",VLOOKUP(M138,A!A$2:X$23,VLOOKUP(F138,ages!B$1:C$23,2,1),1)),\"\")","v":""},{"$f":"IF(ISNUMBER(F138),IF(AM138<0.85,\"\",VLOOKUP(N138,B!A$2:X$23,VLOOKUP(F138,ages!B$1:C$23,2,1),1)),\"\")","v":""},{"$f":"IF(ISNUMBER(F138),IF(AN138<0.85,\"\",VLOOKUP(O138,'C'!A$2:X$23,VLOOKUP(F138,ages!B$1:C$23,2,1),1)),\"\")","v":""},{"$f":"IF(ISNUMBER(F138),IF(AO138<0.85,\"\",VLOOKUP(P138,D!A$2:X$23,VLOOKUP(F138,ages!B$1:C$23,2,1),1)),\"\")","v":""},{"$f":"IF(ISNUMBER(F138),IF(AP138<0.85,\"\",VLOOKUP(Q138,E!A$2:X$23,VLOOKUP(F138,ages!B$1:C$23,2,1),1)),\"\")","v":""},{"$f":"IF(ISNUMBER(F138),IF(AQ138<0.85,\"\",VLOOKUP(R138,F!A$2:X$23,VLOOKUP(F138,ages!B$1:C$23,2,1),1)),\"\")","v":""},{"$f":"IF(ISNUMBER(F138),IF(AR138<0.85,\"\",VLOOKUP(S138,G!A$2:X$23,VLOOKUP(F138,ages!B$1:C$23,2,1),1)),\"\")","v":""},{"$f":"IF(ISNUMBER(F138),IF(AS138<0.85,\"\",VLOOKUP(T138,H!A$2:X$23,VLOOKUP(F138,ages!B$1:C$23,2,1),1)),\"\")","v":""},{"$f":"IF(ISNUMBER(F138),IF(AT138<0.85,\"\",VLOOKUP(U138,I!A$2:X$23,VLOOKUP(F138,ages!B$1:C$23,2,1),1)),\"\")","v":""},{"$f":"IF(ISNUMBER(F138),IF(AU138<0.85,\"\",VLOOKUP(V138,J!A$2:X$23,VLOOKUP(F138,ages!B$1:C$23,2,1),1)),\"\")","v":""},{"$f":"IF(ISNUMBER(F138),IF((COUNT(W138:AD138)=8),SUM(W138:AD138),\"\"),\"\")","v":""},{"$f":"IF(ISNUMBER(F138),IF((COUNT(W138:AF138)=10),SUM(AA138,AD138:AF138)-SUM(W138:Z138),\"\"),\"\")","v":""},"","",-1.0000000000000002E-6,0,0,0,0,0,0,0,0,0,0,0,null,null,null,null,null,null,null,null,null,null,null,null,null,null,null,null,null,null,null,null,null,null,null,null,null,null,null,null,null,null,null,null,null,null,null,null,null,null,null,null,null,null,null,null,null,null,null,null,null,null,null,null,null,null,null,null,null,null,null,null,null,null,null,null,null,null,null,null,null,null,-9.9999999999999995E-7,-9.9999999999999995E-7,-9.9999999999999995E-7,-9.9999999999999995E-7,-9.9999999999999995E-7,-9.9999999999999995E-7,-9.9999999999999995E-7,-9.9999999999999995E-7,-9.9999999999999995E-7,-9.9999999999999995E-7,-9.9999999999999995E-7,-9.9999999999999995E-7,-9.9999999999999995E-7,-9.9999999999999995E-7,-9.9999999999999995E-7,-9.9999999999999995E-7,-9.9999999999999995E-7,-9.9999999999999995E-7,-9.9999999999999995E-7,-9.9999999999999995E-7,{"$f":"IF(ISERROR(VLOOKUP(F138,ages!B$1:B$23,1,1)),\"\",VLOOKUP(F138,ages!B$1:B$23,1,1))","v":""},{"$f":"IF(ISERROR(VLOOKUP(F138,ages!B$1:D$23,3,1)),\"\",VLOOKUP(F138,ages!B$1:D$23,3,1))","v":""},0,0,0,0,0]
[null,null,null,null,null,"",null,null,null,null,null,null,"","","","","","","","","","",{"$f":"IF(ISNUMBER(F139),IF(AL139<0.85,\"\",VLOOKUP(M139,A!A$2:X$23,VLOOKUP(F139,ages!B$1:C$23,2,1),1)),\"\")","v":""},{"$f":"IF(ISNUMBER(F139),IF(AM139<0.85,\"\",VLOOKUP(N139,B!A$2:X$23,VLOOKUP(F139,ages!B$1:C$23,2,1),1)),\"\")","v":""},{"$f":"IF(ISNUMBER(F139),IF(AN139<0.85,\"\",VLOOKUP(O139,'C'!A$2:X$23,VLOOKUP(F139,ages!B$1:C$23,2,1),1)),\"\")","v":""},{"$f":"IF(ISNUMBER(F139),IF(AO139<0.85,\"\",VLOOKUP(P139,D!A$2:X$23,VLOOKUP(F139,ages!B$1:C$23,2,1),1)),\"\")","v":""},{"$f":"IF(ISNUMBER(F139),IF(AP139<0.85,\"\",VLOOKUP(Q139,E!A$2:X$23,VLOOKUP(F139,ages!B$1:C$23,2,1),1)),\"\")","v":""},{"$f":"IF(ISNUMBER(F139),IF(AQ139<0.85,\"\",VLOOKUP(R139,F!A$2:X$23,VLOOKUP(F139,ages!B$1:C$23,2,1),1)),\"\")","v":""},{"$f":"IF(ISNUMBER(F139),IF(AR139<0.85,\"\",VLOOKUP(S139,G!A$2:X$23,VLOOKUP(F139,ages!B$1:C$23,2,1),1)),\"\")","v":""},{"$f":"IF(ISNUMBER(F139),IF(AS139<0.85,\"\",VLOOKUP(T139,H!A$2:X$23,VLOOKUP(F139,ages!B$1:C$23,2,1),1)),\"\")","v":""},{"$f":"IF(ISNUMBER(F139),IF(AT139<0.85,\"\",VLOOKUP(U139,I!A$2:X$23,VLOOKUP(F139,ages!B$1:C$23,2,1),1)),\"\")","v":""},{"$f":"IF(ISNUMBER(F139),IF(AU139<0.85,\"\",VLOOKUP(V139,J!A$2:X$23,VLOOKUP(F139,ages!B$1:C$23,2,1),1)),\"\")","v":""},"","","","",-1.0000000000000002E-6,0,0,0,0,0,0,0,0,0,0,0,null,null,null,null,null,null,null,null,null,null,null,null,null,null,null,null,null,null,null,null,null,null,null,null,null,null,null,null,null,null,null,null,null,null,null,null,null,null,null,null,null,null,null,null,null,null,null,null,null,null,null,null,null,null,null,null,null,null,null,null,null,null,null,null,null,null,null,null,null,null,-9.9999999999999995E-7,-9.9999999999999995E-7,-9.9999999999999995E-7,-9.9999999999999995E-7,-9.9999999999999995E-7,-9.9999999999999995E-7,-9.9999999999999995E-7,-9.9999999999999995E-7,-9.9999999999999995E-7,-9.9999999999999995E-7,-9.9999999999999995E-7,-9.9999999999999995E-7,-9.9999999999999995E-7,-9.9999999999999995E-7,-9.9999999999999995E-7,-9.9999999999999995E-7,-9.9999999999999995E-7,-9.9999999999999995E-7,-9.9999999999999995E-7,-9.9999999999999995E-7,{"$f":"IF(ISERROR(VLOOKUP(F139,ages!B$1:B$23,1,1)),\"\",VLOOKUP(F139,ages!B$1:B$23,1,1))","v":""},{"$f":"IF(ISERROR(VLOOKUP(F139,ages!B$1:D$23,3,1)),\"\",VLOOKUP(F139,ages!B$1:D$23,3,1))","v":""},0,0,0,0,0]
[null,null,null,null,null,"",null,null,null,null,null,null,"","","","","","","","","","",{"$f":"IF(ISNUMBER(F140),IF(AL140<0.85,\"\",VLOOKUP(M140,A!A$2:X$23,VLOOKUP(F140,ages!B$1:C$23,2,1),1)),\"\")","v":""},{"$f":"IF(ISNUMBER(F140),IF(AM140<0.85,\"\",VLOOKUP(N140,B!A$2:X$23,VLOOKUP(F140,ages!B$1:C$23,2,1),1)),\"\")","v":""},{"$f":"IF(ISNUMBER(F140),IF(AN140<0.85,\"\",VLOOKUP(O140,'C'!A$2:X$23,VLOOKUP(F140,ages!B$1:C$23,2,1),1)),\"\")","v":""},{"$f":"IF(ISNUMBER(F140),IF(AO140<0.85,\"\",VLOOKUP(P140,D!A$2:X$23,VLOOKUP(F140,ages!B$1:C$23,2,1),1)),\"\")","v":""},{"$f":"IF(ISNUMBER(F140),IF(AP140<0.85,\"\",VLOOKUP(Q140,E!A$2:X$23,VLOOKUP(F140,ages!B$1:C$23,2,1),1)),\"\")","v":""},{"$f":"IF(ISNUMBER(F140),IF(AQ140<0.85,\"\",VLOOKUP(R140,F!A$2:X$23,VLOOKUP(F140,ages!B$1:C$23,2,1),1)),\"\")","v":""},{"$f":"IF(ISNUMBER(F140),IF(AR140<0.85,\"\",VLOOKUP(S140,G!A$2:X$23,VLOOKUP(F140,ages!B$1:C$23,2,1),1)),\"\")","v":""},{"$f":"IF(ISNUMBER(F140),IF(AS140<0.85,\"\",VLOOKUP(T140,H!A$2:X$23,VLOOKUP(F140,ages!B$1:C$23,2,1),1)),\"\")","v":""},{"$f":"IF(ISNUMBER(F140),IF(AT140<0.85,\"\",VLOOKUP(U140,I!A$2:X$23,VLOOKUP(F140,ages!B$1:C$23,2,1),1)),\"\")","v":""},{"$f":"IF(ISNUMBER(F140),IF(AU140<0.85,\"\",VLOOKUP(V140,J!A$2:X$23,VLOOKUP(F140,ages!B$1:C$23,2,1),1)),\"\")","v":""},"","","","",-1.0000000000000002E-6,0,0,0,0,0,0,0,0,0,0,0,null,null,null,null,null,null,null,null,null,null,null,null,null,null,null,null,null,null,null,null,null,null,null,null,null,null,null,null,null,null,null,null,null,null,null,null,null,null,null,null,null,null,null,null,null,null,null,null,null,null,null,null,null,null,null,null,null,null,null,null,null,null,null,null,null,null,null,null,null,null,-9.9999999999999995E-7,-9.9999999999999995E-7,-9.9999999999999995E-7,-9.9999999999999995E-7,-9.9999999999999995E-7,-9.9999999999999995E-7,-9.9999999999999995E-7,-9.9999999999999995E-7,-9.9999999999999995E-7,-9.9999999999999995E-7,-9.9999999999999995E-7,-9.9999999999999995E-7,-9.9999999999999995E-7,-9.9999999999999995E-7,-9.9999999999999995E-7,-9.9999999999999995E-7,-9.9999999999999995E-7,-9.9999999999999995E-7,-9.9999999999999995E-7,-9.9999999999999995E-7,{"$f":"IF(ISERROR(VLOOKUP(F140,ages!B$1:B$23,1,1)),\"\",VLOOKUP(F140,ages!B$1:B$23,1,1))","v":""},{"$f":"IF(ISERROR(VLOOKUP(F140,ages!B$1:D$23,3,1)),\"\",VLOOKUP(F140,ages!B$1:D$23,3,1))","v":""},0,0,0,0,0]
[null,null,null,null,null,"",null,null,null,null,null,null,"","","","","","","","","","",{"$f":"IF(ISNUMBER(F141),IF(AL141<0.85,\"\",VLOOKUP(M141,A!A$2:X$23,VLOOKUP(F141,ages!B$1:C$23,2,1),1)),\"\")","v":""},{"$f":"IF(ISNUMBER(F141),IF(AM141<0.85,\"\",VLOOKUP(N141,B!A$2:X$23,VLOOKUP(F141,ages!B$1:C$23,2,1),1)),\"\")","v":""},{"$f":"IF(ISNUMBER(F141),IF(AN141<0.85,\"\",VLOOKUP(O141,'C'!A$2:X$23,VLOOKUP(F141,ages!B$1:C$23,2,1),1)),\"\")","v":""},{"$f":"IF(ISNUMBER(F141),IF(AO141<0.85,\"\",VLOOKUP(P141,D!A$2:X$23,VLOOKUP(F141,ages!B$1:C$23,2,1),1)),\"\")","v":""},{"$f":"IF(ISNUMBER(F141),IF(AP141<0.85,\"\",VLOOKUP(Q141,E!A$2:X$23,VLOOKUP(F141,ages!B$1:C$23,2,1),1)),\"\")","v":""},{"$f":"IF(ISNUMBER(F141),IF(AQ141<0.85,\"\",VLOOKUP(R141,F!A$2:X$23,VLOOKUP(F141,ages!B$1:C$23,2,1),1)),\"\")","v":""},{"$f":"IF(ISNUMBER(F141),IF(AR141<0.85,\"\",VLOOKUP(S141,G!A$2:X$23,VLOOKUP(F141,ages!B$1:C$23,2,1),1)),\"\")","v":""},{"$f":"IF(ISNUMBER(F141),IF(AS141<0.85,\"\",VLOOKUP(T141,H!A$2:X$23,VLOOKUP(F141,ages!B$1:C$23,2,1),1)),\"\")","v":""},{"$f":"IF(ISNUMBER(F141),IF(AT141<0.85,\"\",VLOOKUP(U141,I!A$2:X$23,VLOOKUP(F141,ages!B$1:C$23,2,1),1)),\"\")","v":""},{"$f":"IF(ISNUMBER(F141),IF(AU141<0.85,\"\",VLOOKUP(V141,J!A$2:X$23,VLOOKUP(F141,ages!B$1:C$23,2,1),1)),\"\")","v":""},"","","","",-1.0000000000000002E-6,0,0,0,0,0,0,0,0,0,0,0,null,null,null,null,null,null,null,null,null,null,null,null,null,null,null,null,null,null,null,null,null,null,null,null,null,null,null,null,null,null,null,null,null,null,null,null,null,null,null,null,null,null,null,null,null,null,null,null,null,null,null,null,null,null,null,null,null,null,null,null,null,null,null,null,null,null,null,null,null,null,-9.9999999999999995E-7,-9.9999999999999995E-7,-9.9999999999999995E-7,-9.9999999999999995E-7,-9.9999999999999995E-7,-9.9999999999999995E-7,-9.9999999999999995E-7,-9.9999999999999995E-7,-9.9999999999999995E-7,-9.9999999999999995E-7,-9.9999999999999995E-7,-9.9999999999999995E-7,-9.9999999999999995E-7,-9.9999999999999995E-7,-9.9999999999999995E-7,-9.9999999999999995E-7,-9.9999999999999995E-7,-9.9999999999999995E-7,-9.9999999999999995E-7,-9.9999999999999995E-7,{"$f":"IF(ISERROR(VLOOKUP(F141,ages!B$1:B$23,1,1)),\"\",VLOOKUP(F141,ages!B$1:B$23,1,1))","v":""},{"$f":"IF(ISERROR(VLOOKUP(F141,ages!B$1:D$23,3,1)),\"\",VLOOKUP(F141,ages!B$1:D$23,3,1))","v":""},0,0,0,0,0]
[null,null,null,null,null,"",null,null,null,null,null,null,"","","","","","","","","","",{"$f":"IF(ISNUMBER(F142),IF(AL142<0.85,\"\",VLOOKUP(M142,A!A$2:X$23,VLOOKUP(F142,ages!B$1:C$23,2,1),1)),\"\")","v":""},{"$f":"IF(ISNUMBER(F142),IF(AM142<0.85,\"\",VLOOKUP(N142,B!A$2:X$23,VLOOKUP(F142,ages!B$1:C$23,2,1),1)),\"\")","v":""},{"$f":"IF(ISNUMBER(F142),IF(AN142<0.85,\"\",VLOOKUP(O142,'C'!A$2:X$23,VLOOKUP(F142,ages!B$1:C$23,2,1),1)),\"\")","v":""},{"$f":"IF(ISNUMBER(F142),IF(AO142<0.85,\"\",VLOOKUP(P142,D!A$2:X$23,VLOOKUP(F142,ages!B$1:C$23,2,1),1)),\"\")","v":""},{"$f":"IF(ISNUMBER(F142),IF(AP142<0.85,\"\",VLOOKUP(Q142,E!A$2:X$23,VLOOKUP(F142,ages!B$1:C$23,2,1),1)),\"\")","v":""},{"$f":"IF(ISNUMBER(F142),IF(AQ142<0.85,\"\",VLOOKUP(R142,F!A$2:X$23,VLOOKUP(F142,ages!B$1:C$23,2,1),1)),\"\")","v":""},{"$f":"IF(ISNUMBER(F142),IF(AR142<0.85,\"\",VLOOKUP(S142,G!A$2:X$23,VLOOKUP(F142,ages!B$1:C$23,2,1),1)),\"\")","v":""},{"$f":"IF(ISNUMBER(F142),IF(AS142<0.85,\"\",VLOOKUP(T142,H!A$2:X$23,VLOOKUP(F142,ages!B$1:C$23,2,1),1)),\"\")","v":""},{"$f":"IF(ISNUMBER(F142),IF(AT142<0.85,\"\",VLOOKUP(U142,I!A$2:X$23,VLOOKUP(F142,ages!B$1:C$23,2,1),1)),\"\")","v":""},{"$f":"IF(ISNUMBER(F142),IF(AU142<0.85,\"\",VLOOKUP(V142,J!A$2:X$23,VLOOKUP(F142,ages!B$1:C$23,2,1),1)),\"\")","v":""},"","","","",-1.0000000000000002E-6,0,0,0,0,0,0,0,0,0,0,0,null,null,null,null,null,null,null,null,null,null,null,null,null,null,null,null,null,null,null,null,null,null,null,null,null,null,null,null,null,null,null,null,null,null,null,null,null,null,null,null,null,null,null,null,null,null,null,null,null,null,null,null,null,null,null,null,null,null,null,null,null,null,null,null,null,null,null,null,null,null,-9.9999999999999995E-7,-9.9999999999999995E-7,-9.9999999999999995E-7,-9.9999999999999995E-7,-9.9999999999999995E-7,-9.9999999999999995E-7,-9.9999999999999995E-7,-9.9999999999999995E-7,-9.9999999999999995E-7,-9.9999999999999995E-7,-9.9999999999999995E-7,-9.9999999999999995E-7,-9.9999999999999995E-7,-9.9999999999999995E-7,-9.9999999999999995E-7,-9.9999999999999995E-7,-9.9999999999999995E-7,-9.9999999999999995E-7,-9.9999999999999995E-7,-9.9999999999999995E-7,{"$f":"IF(ISERROR(VLOOKUP(F142,ages!B$1:B$23,1,1)),\"\",VLOOKUP(F142,ages!B$1:B$23,1,1))","v":""},{"$f":"IF(ISERROR(VLOOKUP(F142,ages!B$1:D$23,3,1)),\"\",VLOOKUP(F142,ages!B$1:D$23,3,1))","v":""},0,0,0,0,0]
[null,null,null,null,null,"",null,null,null,null,null,null,"","","","","","","","","","",{"$f":"IF(ISNUMBER(F143),IF(AL143<0.85,\"\",VLOOKUP(M143,A!A$2:X$23,VLOOKUP(F143,ages!B$1:C$23,2,1),1)),\"\")","v":""},{"$f":"IF(ISNUMBER(F143),IF(AM143<0.85,\"\",VLOOKUP(N143,B!A$2:X$23,VLOOKUP(F143,ages!B$1:C$23,2,1),1)),\"\")","v":""},{"$f":"IF(ISNUMBER(F143),IF(AN143<0.85,\"\",VLOOKUP(O143,'C'!A$2:X$23,VLOOKUP(F143,ages!B$1:C$23,2,1),1)),\"\")","v":""},{"$f":"IF(ISNUMBER(F143),IF(AO143<0.85,\"\",VLOOKUP(P143,D!A$2:X$23,VLOOKUP(F143,ages!B$1:C$23,2,1),1)),\"\")","v":""},{"$f":"IF(ISNUMBER(F143),IF(AP143<0.85,\"\",VLOOKUP(Q143,E!A$2:X$23,VLOOKUP(F143,ages!B$1:C$23,2,1),1)),\"\")","v":""},{"$f":"IF(ISNUMBER(F143),IF(AQ143<0.85,\"\",VLOOKUP(R143,F!A$2:X$23,VLOOKUP(F143,ages!B$1:C$23,2,1),1)),\"\")","v":""},{"$f":"IF(ISNUMBER(F143),IF(AR143<0.85,\"\",VLOOKUP(S143,G!A$2:X$23,VLOOKUP(F143,ages!B$1:C$23,2,1),1)),\"\")","v":""},{"$f":"IF(ISNUMBER(F143),IF(AS143<0.85,\"\",VLOOKUP(T143,H!A$2:X$23,VLOOKUP(F143,ages!B$1:C$23,2,1),1)),\"\")","v":""},{"$f":"IF(ISNUMBER(F143),IF(AT143<0.85,\"\",VLOOKUP(U143,I!A$2:X$23,VLOOKUP(F143,ages!B$1:C$23,2,1),1)),\"\")","v":""},{"$f":"IF(ISNUMBER(F143),IF(AU143<0.85,\"\",VLOOKUP(V143,J!A$2:X$23,VLOOKUP(F143,ages!B$1:C$23,2,1),1)),\"\")","v":""},"","","","",-1.0000000000000002E-6,0,0,0,0,0,0,0,0,0,0,0,null,null,null,null,null,null,null,null,null,null,null,null,null,null,null,null,null,null,null,null,null,null,null,null,null,null,null,null,null,null,null,null,null,null,null,null,null,null,null,null,null,null,null,null,null,null,null,null,null,null,null,null,null,null,null,null,null,null,null,null,null,null,null,null,null,null,null,null,null,null,-9.9999999999999995E-7,-9.9999999999999995E-7,-9.9999999999999995E-7,-9.9999999999999995E-7,-9.9999999999999995E-7,-9.9999999999999995E-7,-9.9999999999999995E-7,-9.9999999999999995E-7,-9.9999999999999995E-7,-9.9999999999999995E-7,-9.9999999999999995E-7,-9.9999999999999995E-7,-9.9999999999999995E-7,-9.9999999999999995E-7,-9.9999999999999995E-7,-9.9999999999999995E-7,-9.9999999999999995E-7,-9.9999999999999995E-7,-9.9999999999999995E-7,-9.9999999999999995E-7,{"$f":"IF(ISERROR(VLOOKUP(F143,ages!B$1:B$23,1,1)),\"\",VLOOKUP(F143,ages!B$1:B$23,1,1))","v":""},{"$f":"IF(ISERROR(VLOOKUP(F143,ages!B$1:D$23,3,1)),\"\",VLOOKUP(F143,ages!B$1:D$23,3,1))","v":""},0,0,0,0,0]
[null,null,null,null,null,"",null,null,null,null,null,null,"","","","","","","","","","",{"$f":"IF(ISNUMBER(F144),IF(AL144<0.85,\"\",VLOOKUP(M144,A!A$2:X$23,VLOOKUP(F144,ages!B$1:C$23,2,1),1)),\"\")","v":""},{"$f":"IF(ISNUMBER(F144),IF(AM144<0.85,\"\",VLOOKUP(N144,B!A$2:X$23,VLOOKUP(F144,ages!B$1:C$23,2,1),1)),\"\")","v":""},{"$f":"IF(ISNUMBER(F144),IF(AN144<0.85,\"\",VLOOKUP(O144,'C'!A$2:X$23,VLOOKUP(F144,ages!B$1:C$23,2,1),1)),\"\")","v":""},{"$f":"IF(ISNUMBER(F144),IF(AO144<0.85,\"\",VLOOKUP(P144,D!A$2:X$23,VLOOKUP(F144,ages!B$1:C$23,2,1),1)),\"\")","v":""},{"$f":"IF(ISNUMBER(F144),IF(AP144<0.85,\"\",VLOOKUP(Q144,E!A$2:X$23,VLOOKUP(F144,ages!B$1:C$23,2,1),1)),\"\")","v":""},{"$f":"IF(ISNUMBER(F144),IF(AQ144<0.85,\"\",VLOOKUP(R144,F!A$2:X$23,VLOOKUP(F144,ages!B$1:C$23,2,1),1)),\"\")","v":""},{"$f":"IF(ISNUMBER(F144),IF(AR144<0.85,\"\",VLOOKUP(S144,G!A$2:X$23,VLOOKUP(F144,ages!B$1:C$23,2,1),1)),\"\")","v":""},{"$f":"IF(ISNUMBER(F144),IF(AS144<0.85,\"\",VLOOKUP(T144,H!A$2:X$23,VLOOKUP(F144,ages!B$1:C$23,2,1),1)),\"\")","v":""},{"$f":"IF(ISNUMBER(F144),IF(AT144<0.85,\"\",VLOOKUP(U144,I!A$2:X$23,VLOOKUP(F144,ages!B$1:C$23,2,1),1)),\"\")","v":""},{"$f":"IF(ISNUMBER(F144),IF(AU144<0.85,\"\",VLOOKUP(V144,J!A$2:X$23,VLOOKUP(F144,ages!B$1:C$23,2,1),1)),\"\")","v":""},"","","","",-1.0000000000000002E-6,0,0,0,0,0,0,0,0,0,0,0,null,null,null,null,null,null,null,null,null,null,null,null,null,null,null,null,null,null,null,null,null,null,null,null,null,null,null,null,null,null,null,null,null,null,null,null,null,null,null,null,null,null,null,null,null,null,null,null,null,null,null,null,null,null,null,null,null,null,null,null,null,null,null,null,null,null,null,null,null,null,-9.9999999999999995E-7,-9.9999999999999995E-7,-9.9999999999999995E-7,-9.9999999999999995E-7,-9.9999999999999995E-7,-9.9999999999999995E-7,-9.9999999999999995E-7,-9.9999999999999995E-7,-9.9999999999999995E-7,-9.9999999999999995E-7,-9.9999999999999995E-7,-9.9999999999999995E-7,-9.9999999999999995E-7,-9.9999999999999995E-7,-9.9999999999999995E-7,-9.9999999999999995E-7,-9.9999999999999995E-7,-9.9999999999999995E-7,-9.9999999999999995E-7,-9.9999999999999995E-7,{"$f":"IF(ISERROR(VLOOKUP(F144,ages!B$1:B$23,1,1)),\"\",VLOOKUP(F144,ages!B$1:B$23,1,1))","v":""},{"$f":"IF(ISERROR(VLOOKUP(F144,ages!B$1:D$23,3,1)),\"\",VLOOKUP(F144,ages!B$1:D$23,3,1))","v":""},0,0,0,0,0]
[null,null,null,null,null,"",null,null,null,null,null,null,"","","","","","","","","","",{"$f":"IF(ISNUMBER(F145),IF(AL145<0.85,\"\",VLOOKUP(M145,A!A$2:X$23,VLOOKUP(F145,ages!B$1:C$23,2,1),1)),\"\")","v":""},{"$f":"IF(ISNUMBER(F145),IF(AM145<0.85,\"\",VLOOKUP(N145,B!A$2:X$23,VLOOKUP(F145,ages!B$1:C$23,2,1),1)),\"\")","v":""},{"$f":"IF(ISNUMBER(F145),IF(AN145<0.85,\"\",VLOOKUP(O145,'C'!A$2:X$23,VLOOKUP(F145,ages!B$1:C$23,2,1),1)),\"\")","v":""},{"$f":"IF(ISNUMBER(F145),IF(AO145<0.85,\"\",VLOOKUP(P145,D!A$2:X$23,VLOOKUP(F145,ages!B$1:C$23,2,1),1)),\"\")","v":""},{"$f":"IF(ISNUMBER(F145),IF(AP145<0.85,\"\",VLOOKUP(Q145,E!A$2:X$23,VLOOKUP(F145,ages!B$1:C$23,2,1),1)),\"\")","v":""},{"$f":"IF(ISNUMBER(F145),IF(AQ145<0.85,\"\",VLOOKUP(R145,F!A$2:X$23,VLOOKUP(F145,ages!B$1:C$23,2,1),1)),\"\")","v":""},{"$f":"IF(ISNUMBER(F145),IF(AR145<0.85,\"\",VLOOKUP(S145,G!A$2:X$23,VLOOKUP(F145,ages!B$1:C$23,2,1),1)),\"\")","v":""},{"$f":"IF(ISNUMBER(F145),IF(AS145<0.85,\"\",VLOOKUP(T145,H!A$2:X$23,VLOOKUP(F145,ages!B$1:C$23,2,1),1)),\"\")","v":""},{"$f":"IF(ISNUMBER(F145),IF(AT145<0.85,\"\",VLOOKUP(U145,I!A$2:X$23,VLOOKUP(F145,ages!B$1:C$23,2,1),1)),\"\")","v":""},{"$f":"IF(ISNUMBER(F145),IF(AU145<0.85,\"\",VLOOKUP(V145,J!A$2:X$23,VLOOKUP(F145,ages!B$1:C$23,2,1),1)),\"\")","v":""},"","","","",-1.0000000000000002E-6,0,0,0,0,0,0,0,0,0,0,0,null,null,null,null,null,null,null,null,null,null,null,null,null,null,null,null,null,null,null,null,null,null,null,null,null,null,null,null,null,null,null,null,null,null,null,null,null,null,null,null,null,null,null,null,null,null,null,null,null,null,null,null,null,null,null,null,null,null,null,null,null,null,null,null,null,null,null,null,null,null,-9.9999999999999995E-7,-9.9999999999999995E-7,-9.9999999999999995E-7,-9.9999999999999995E-7,-9.9999999999999995E-7,-9.9999999999999995E-7,-9.9999999999999995E-7,-9.9999999999999995E-7,-9.9999999999999995E-7,-9.9999999999999995E-7,-9.9999999999999995E-7,-9.9999999999999995E-7,-9.9999999999999995E-7,-9.9999999999999995E-7,-9.9999999999999995E-7,-9.9999999999999995E-7,-9.9999999999999995E-7,-9.9999999999999995E-7,-9.9999999999999995E-7,-9.9999999999999995E-7,{"$f":"IF(ISERROR(VLOOKUP(F145,ages!B$1:B$23,1,1)),\"\",VLOOKUP(F145,ages!B$1:B$23,1,1))","v":""},{"$f":"IF(ISERROR(VLOOKUP(F145,ages!B$1:D$23,3,1)),\"\",VLOOKUP(F145,ages!B$1:D$23,3,1))","v":""},0,0,0,0,0]
[null,null,null,null,null,"",null,null,null,null,null,null,"","","","","","","","","","",{"$f":"IF(ISNUMBER(F146),IF(AL146<0.85,\"\",VLOOKUP(M146,A!A$2:X$23,VLOOKUP(F146,ages!B$1:C$23,2,1),1)),\"\")","v":""},{"$f":"IF(ISNUMBER(F146),IF(AM146<0.85,\"\",VLOOKUP(N146,B!A$2:X$23,VLOOKUP(F146,ages!B$1:C$23,2,1),1)),\"\")","v":""},{"$f":"IF(ISNUMBER(F146),IF(AN146<0.85,\"\",VLOOKUP(O146,'C'!A$2:X$23,VLOOKUP(F146,ages!B$1:C$23,2,1),1)),\"\")","v":""},{"$f":"IF(ISNUMBER(F146),IF(AO146<0.85,\"\",VLOOKUP(P146,D!A$2:X$23,VLOOKUP(F146,ages!B$1:C$23,2,1),1)),\"\")","v":""},{"$f":"IF(ISNUMBER(F146),IF(AP146<0.85,\"\",VLOOKUP(Q146,E!A$2:X$23,VLOOKUP(F146,ages!B$1:C$23,2,1),1)),\"\")","v":""},{"$f":"IF(ISNUMBER(F146),IF(AQ146<0.85,\"\",VLOOKUP(R146,F!A$2:X$23,VLOOKUP(F146,ages!B$1:C$23,2,1),1)),\"\")","v":""},{"$f":"IF(ISNUMBER(F146),IF(AR146<0.85,\"\",VLOOKUP(S146,G!A$2:X$23,VLOOKUP(F146,ages!B$1:C$23,2,1),1)),\"\")","v":""},{"$f":"IF(ISNUMBER(F146),IF(AS146<0.85,\"\",VLOOKUP(T146,H!A$2:X$23,VLOOKUP(F146,ages!B$1:C$23,2,1),1)),\"\")","v":""},{"$f":"IF(ISNUMBER(F146),IF(AT146<0.85,\"\",VLOOKUP(U146,I!A$2:X$23,VLOOKUP(F146,ages!B$1:C$23,2,1),1)),\"\")","v":""},{"$f":"IF(ISNUMBER(F146),IF(AU146<0.85,\"\",VLOOKUP(V146,J!A$2:X$23,VLOOKUP(F146,ages!B$1:C$23,2,1),1)),\"\")","v":""},"","","","",-1.0000000000000002E-6,0,0,0,0,0,0,0,0,0,0,0,null,null,null,null,null,null,null,null,null,null,null,null,null,null,null,null,null,null,null,null,null,null,null,null,null,null,null,null,null,null,null,null,null,null,null,null,null,null,null,null,null,null,null,null,null,null,null,null,null,null,null,null,null,null,null,null,null,null,null,null,null,null,null,null,null,null,null,null,null,null,-9.9999999999999995E-7,-9.9999999999999995E-7,-9.9999999999999995E-7,-9.9999999999999995E-7,-9.9999999999999995E-7,-9.9999999999999995E-7,-9.9999999999999995E-7,-9.9999999999999995E-7,-9.9999999999999995E-7,-9.9999999999999995E-7,-9.9999999999999995E-7,-9.9999999999999995E-7,-9.9999999999999995E-7,-9.9999999999999995E-7,-9.9999999999999995E-7,-9.9999999999999995E-7,-9.9999999999999995E-7,-9.9999999999999995E-7,-9.9999999999999995E-7,-9.9999999999999995E-7,{"$f":"IF(ISERROR(VLOOKUP(F146,ages!B$1:B$23,1,1)),\"\",VLOOKUP(F146,ages!B$1:B$23,1,1))","v":""},{"$f":"IF(ISERROR(VLOOKUP(F146,ages!B$1:D$23,3,1)),\"\",VLOOKUP(F146,ages!B$1:D$23,3,1))","v":""},0,0,0,0,0]
[null,null,null,null,null,"",null,null,null,null,null,null,"","","","","","","","","","",{"$f":"IF(ISNUMBER(F147),IF(AL147<0.85,\"\",VLOOKUP(M147,A!A$2:X$23,VLOOKUP(F147,ages!B$1:C$23,2,1),1)),\"\")","v":""},{"$f":"IF(ISNUMBER(F147),IF(AM147<0.85,\"\",VLOOKUP(N147,B!A$2:X$23,VLOOKUP(F147,ages!B$1:C$23,2,1),1)),\"\")","v":""},{"$f":"IF(ISNUMBER(F147),IF(AN147<0.85,\"\",VLOOKUP(O147,'C'!A$2:X$23,VLOOKUP(F147,ages!B$1:C$23,2,1),1)),\"\")","v":""},{"$f":"IF(ISNUMBER(F147),IF(AO147<0.85,\"\",VLOOKUP(P147,D!A$2:X$23,VLOOKUP(F147,ages!B$1:C$23,2,1),1)),\"\")","v":""},{"$f":"IF(ISNUMBER(F147),IF(AP147<0.85,\"\",VLOOKUP(Q147,E!A$2:X$23,VLOOKUP(F147,ages!B$1:C$23,2,1),1)),\"\")","v":""},{"$f":"IF(ISNUMBER(F147),IF(AQ147<0.85,\"\",VLOOKUP(R147,F!A$2:X$23,VLOOKUP(F147,ages!B$1:C$23,2,1),1)),\"\")","v":""},{"$f":"IF(ISNUMBER(F147),IF(AR147<0.85,\"\",VLOOKUP(S147,G!A$2:X$23,VLOOKUP(F147,ages!B$1:C$23,2,1),1)),\"\")","v":""},{"$f":"IF(ISNUMBER(F147),IF(AS147<0.85,\"\",VLOOKUP(T147,H!A$2:X$23,VLOOKUP(F147,ages!B$1:C$23,2,1),1)),\"\")","v":""},{"$f":"IF(ISNUMBER(F147),IF(AT147<0.85,\"\",VLOOKUP(U147,I!A$2:X$23,VLOOKUP(F147,ages!B$1:C$23,2,1),1)),\"\")","v":""},{"$f":"IF(ISNUMBER(F147),IF(AU147<0.85,\"\",VLOOKUP(V147,J!A$2:X$23,VLOOKUP(F147,ages!B$1:C$23,2,1),1)),\"\")","v":""},"","","","",-1.0000000000000002E-6,0,0,0,0,0,0,0,0,0,0,0,null,null,null,null,null,null,null,null,null,null,null,null,null,null,null,null,null,null,null,null,null,null,null,null,null,null,null,null,null,null,null,null,null,null,null,null,null,null,null,null,null,null,null,null,null,null,null,null,null,null,null,null,null,null,null,null,null,null,null,null,null,null,null,null,null,null,null,null,null,null,-9.9999999999999995E-7,-9.9999999999999995E-7,-9.9999999999999995E-7,-9.9999999999999995E-7,-9.9999999999999995E-7,-9.9999999999999995E-7,-9.9999999999999995E-7,-9.9999999999999995E-7,-9.9999999999999995E-7,-9.9999999999999995E-7,-9.9999999999999995E-7,-9.9999999999999995E-7,-9.9999999999999995E-7,-9.9999999999999995E-7,-9.9999999999999995E-7,-9.9999999999999995E-7,-9.9999999999999995E-7,-9.9999999999999995E-7,-9.9999999999999995E-7,-9.9999999999999995E-7,{"$f":"IF(ISERROR(VLOOKUP(F147,ages!B$1:B$23,1,1)),\"\",VLOOKUP(F147,ages!B$1:B$23,1,1))","v":""},{"$f":"IF(ISERROR(VLOOKUP(F147,ages!B$1:D$23,3,1)),\"\",VLOOKUP(F147,ages!B$1:D$23,3,1))","v":""},0,0,0,0,0]
[null,null,null,null,null,"",null,null,null,null,null,null,"","","","","","","","","","",{"$f":"IF(ISNUMBER(F148),IF(AL148<0.85,\"\",VLOOKUP(M148,A!A$2:X$23,VLOOKUP(F148,ages!B$1:C$23,2,1),1)),\"\")","v":""},{"$f":"IF(ISNUMBER(F148),IF(AM148<0.85,\"\",VLOOKUP(N148,B!A$2:X$23,VLOOKUP(F148,ages!B$1:C$23,2,1),1)),\"\")","v":""},{"$f":"IF(ISNUMBER(F148),IF(AN148<0.85,\"\",VLOOKUP(O148,'C'!A$2:X$23,VLOOKUP(F148,ages!B$1:C$23,2,1),1)),\"\")","v":""},{"$f":"IF(ISNUMBER(F148),IF(AO148<0.85,\"\",VLOOKUP(P148,D!A$2:X$23,VLOOKUP(F148,ages!B$1:C$23,2,1),1)),\"\")","v":""},{"$f":"IF(ISNUMBER(F148),IF(AP148<0.85,\"\",VLOOKUP(Q148,E!A$2:X$23,VLOOKUP(F148,ages!B$1:C$23,2,1),1)),\"\")","v":""},{"$f":"IF(ISNUMBER(F148),IF(AQ148<0.85,\"\",VLOOKUP(R148,F!A$2:X$23,VLOOKUP(F148,ages!B$1:C$23,2,1),1)),\"\")","v":""},{"$f":"IF(ISNUMBER(F148),IF(AR148<0.85,\"\",VLOOKUP(S148,G!A$2:X$23,VLOOKUP(F148,ages!B$1:C$23,2,1),1)),\"\")","v":""},{"$f":"IF(ISNUMBER(F148),IF(AS148<0.85,\"\",VLOOKUP(T148,H!A$2:X$23,VLOOKUP(F148,ages!B$1:C$23,2,1),1)),\"\")","v":""},{"$f":"IF(ISNUMBER(F148),IF(AT148<0.85,\"\",VLOOKUP(U148,I!A$2:X$23,VLOOKUP(F148,ages!B$1:C$23,2,1),1)),\"\")","v":""},{"$f":"IF(ISNUMBER(F148),IF(AU148<0.85,\"\",VLOOKUP(V148,J!A$2:X$23,VLOOKUP(F148,ages!B$1:C$23,2,1),1)),\"\")","v":""},"","","","",-1.0000000000000002E-6,0,0,0,0,0,0,0,0,0,0,0,null,null,null,null,null,null,null,null,null,null,null,null,null,null,null,null,null,null,null,null,null,null,null,null,null,null,null,null,null,null,null,null,null,null,null,null,null,null,null,null,null,null,null,null,null,null,null,null,null,null,null,null,null,null,null,null,null,null,null,null,null,null,null,null,null,null,null,null,null,null,-9.9999999999999995E-7,-9.9999999999999995E-7,-9.9999999999999995E-7,-9.9999999999999995E-7,-9.9999999999999995E-7,-9.9999999999999995E-7,-9.9999999999999995E-7,-9.9999999999999995E-7,-9.9999999999999995E-7,-9.9999999999999995E-7,-9.9999999999999995E-7,-9.9999999999999995E-7,-9.9999999999999995E-7,-9.9999999999999995E-7,-9.9999999999999995E-7,-9.9999999999999995E-7,-9.9999999999999995E-7,-9.9999999999999995E-7,-9.9999999999999995E-7,-9.9999999999999995E-7,{"$f":"IF(ISERROR(VLOOKUP(F148,ages!B$1:B$23,1,1)),\"\",VLOOKUP(F148,ages!B$1:B$23,1,1))","v":""},{"$f":"IF(ISERROR(VLOOKUP(F148,ages!B$1:D$23,3,1)),\"\",VLOOKUP(F148,ages!B$1:D$23,3,1))","v":""},0,0,0,0,0]
[null,null,null,null,null,"",null,null,null,null,null,null,"","","","","","","","","","",{"$f":"IF(ISNUMBER(F149),IF(AL149<0.85,\"\",VLOOKUP(M149,A!A$2:X$23,VLOOKUP(F149,ages!B$1:C$23,2,1),1)),\"\")","v":""},{"$f":"IF(ISNUMBER(F149),IF(AM149<0.85,\"\",VLOOKUP(N149,B!A$2:X$23,VLOOKUP(F149,ages!B$1:C$23,2,1),1)),\"\")","v":""},{"$f":"IF(ISNUMBER(F149),IF(AN149<0.85,\"\",VLOOKUP(O149,'C'!A$2:X$23,VLOOKUP(F149,ages!B$1:C$23,2,1),1)),\"\")","v":""},{"$f":"IF(ISNUMBER(F149),IF(AO149<0.85,\"\",VLOOKUP(P149,D!A$2:X$23,VLOOKUP(F149,ages!B$1:C$23,2,1),1)),\"\")","v":""},{"$f":"IF(ISNUMBER(F149),IF(AP149<0.85,\"\",VLOOKUP(Q149,E!A$2:X$23,VLOOKUP(F149,ages!B$1:C$23,2,1),1)),\"\")","v":""},{"$f":"IF(ISNUMBER(F149),IF(AQ149<0.85,\"\",VLOOKUP(R149,F!A$2:X$23,VLOOKUP(F149,ages!B$1:C$23,2,1),1)),\"\")","v":""},{"$f":"IF(ISNUMBER(F149),IF(AR149<0.85,\"\",VLOOKUP(S149,G!A$2:X$23,VLOOKUP(F149,ages!B$1:C$23,2,1),1)),\"\")","v":""},{"$f":"IF(ISNUMBER(F149),IF(AS149<0.85,\"\",VLOOKUP(T149,H!A$2:X$23,VLOOKUP(F149,ages!B$1:C$23,2,1),1)),\"\")","v":""},{"$f":"IF(ISNUMBER(F149),IF(AT149<0.85,\"\",VLOOKUP(U149,I!A$2:X$23,VLOOKUP(F149,ages!B$1:C$23,2,1),1)),\"\")","v":""},{"$f":"IF(ISNUMBER(F149),IF(AU149<0.85,\"\",VLOOKUP(V149,J!A$2:X$23,VLOOKUP(F149,ages!B$1:C$23,2,1),1)),\"\")","v":""},"","","","",-1.0000000000000002E-6,0,0,0,0,0,0,0,0,0,0,0,null,null,null,null,null,null,null,null,null,null,null,null,null,null,null,null,null,null,null,null,null,null,null,null,null,null,null,null,null,null,null,null,null,null,null,null,null,null,null,null,null,null,null,null,null,null,null,null,null,null,null,null,null,null,null,null,null,null,null,null,null,null,null,null,null,null,null,null,null,null,-9.9999999999999995E-7,-9.9999999999999995E-7,-9.9999999999999995E-7,-9.9999999999999995E-7,-9.9999999999999995E-7,-9.9999999999999995E-7,-9.9999999999999995E-7,-9.9999999999999995E-7,-9.9999999999999995E-7,-9.9999999999999995E-7,-9.9999999999999995E-7,-9.9999999999999995E-7,-9.9999999999999995E-7,-9.9999999999999995E-7,-9.9999999999999995E-7,-9.9999999999999995E-7,-9.9999999999999995E-7,-9.9999999999999995E-7,-9.9999999999999995E-7,-9.9999999999999995E-7,{"$f":"IF(ISERROR(VLOOKUP(F149,ages!B$1:B$23,1,1)),\"\",VLOOKUP(F149,ages!B$1:B$23,1,1))","v":""},{"$f":"IF(ISERROR(VLOOKUP(F149,ages!B$1:D$23,3,1)),\"\",VLOOKUP(F149,ages!B$1:D$23,3,1))","v":""},0,0,0,0,0]
[null,null,null,null,null,"",null,null,null,null,null,null,"","","","","","","","","","",{"$f":"IF(ISNUMBER(F150),IF(AL150<0.85,\"\",VLOOKUP(M150,A!A$2:X$23,VLOOKUP(F150,ages!B$1:C$23,2,1),1)),\"\")","v":""},{"$f":"IF(ISNUMBER(F150),IF(AM150<0.85,\"\",VLOOKUP(N150,B!A$2:X$23,VLOOKUP(F150,ages!B$1:C$23,2,1),1)),\"\")","v":""},{"$f":"IF(ISNUMBER(F150),IF(AN150<0.85,\"\",VLOOKUP(O150,'C'!A$2:X$23,VLOOKUP(F150,ages!B$1:C$23,2,1),1)),\"\")","v":""},{"$f":"IF(ISNUMBER(F150),IF(AO150<0.85,\"\",VLOOKUP(P150,D!A$2:X$23,VLOOKUP(F150,ages!B$1:C$23,2,1),1)),\"\")","v":""},{"$f":"IF(ISNUMBER(F150),IF(AP150<0.85,\"\",VLOOKUP(Q150,E!A$2:X$23,VLOOKUP(F150,ages!B$1:C$23,2,1),1)),\"\")","v":""},{"$f":"IF(ISNUMBER(F150),IF(AQ150<0.85,\"\",VLOOKUP(R150,F!A$2:X$23,VLOOKUP(F150,ages!B$1:C$23,2,1),1)),\"\")","v":""},{"$f":"IF(ISNUMBER(F150),IF(AR150<0.85,\"\",VLOOKUP(S150,G!A$2:X$23,VLOOKUP(F150,ages!B$1:C$23,2,1),1)),\"\")","v":""},{"$f":"IF(ISNUMBER(F150),IF(AS150<0.85,\"\",VLOOKUP(T150,H!A$2:X$23,VLOOKUP(F150,ages!B$1:C$23,2,1),1)),\"\")","v":""},{"$f":"IF(ISNUMBER(F150),IF(AT150<0.85,\"\",VLOOKUP(U150,I!A$2:X$23,VLOOKUP(F150,ages!B$1:C$23,2,1),1)),\"\")","v":""},{"$f":"IF(ISNUMBER(F150),IF(AU150<0.85,\"\",VLOOKUP(V150,J!A$2:X$23,VLOOKUP(F150,ages!B$1:C$23,2,1),1)),\"\")","v":""},"","","","",-1.0000000000000002E-6,0,0,0,0,0,0,0,0,0,0,0,null,null,null,null,null,null,null,null,null,null,null,null,null,null,null,null,null,null,null,null,null,null,null,null,null,null,null,null,null,null,null,null,null,null,null,null,null,null,null,null,null,null,null,null,null,null,null,null,null,null,null,null,null,null,null,null,null,null,null,null,null,null,null,null,null,null,null,null,null,null,-9.9999999999999995E-7,-9.9999999999999995E-7,-9.9999999999999995E-7,-9.9999999999999995E-7,-9.9999999999999995E-7,-9.9999999999999995E-7,-9.9999999999999995E-7,-9.9999999999999995E-7,-9.9999999999999995E-7,-9.9999999999999995E-7,-9.9999999999999995E-7,-9.9999999999999995E-7,-9.9999999999999995E-7,-9.9999999999999995E-7,-9.9999999999999995E-7,-9.9999999999999995E-7,-9.9999999999999995E-7,-9.9999999999999995E-7,-9.9999999999999995E-7,-9.9999999999999995E-7,{"$f":"IF(ISERROR(VLOOKUP(F150,ages!B$1:B$23,1,1)),\"\",VLOOKUP(F150,ages!B$1:B$23,1,1))","v":""},{"$f":"IF(ISERROR(VLOOKUP(F150,ages!B$1:D$23,3,1)),\"\",VLOOKUP(F150,ages!B$1:D$23,3,1))","v":""},0,0,0,0,0]
[null,null,null,null,null,"",null,null,null,null,null,null,"","","","","","","","","","",{"$f":"IF(ISNUMBER(F151),IF(AL151<0.85,\"\",VLOOKUP(M151,A!A$2:X$23,VLOOKUP(F151,ages!B$1:C$23,2,1),1)),\"\")","v":""},{"$f":"IF(ISNUMBER(F151),IF(AM151<0.85,\"\",VLOOKUP(N151,B!A$2:X$23,VLOOKUP(F151,ages!B$1:C$23,2,1),1)),\"\")","v":""},{"$f":"IF(ISNUMBER(F151),IF(AN151<0.85,\"\",VLOOKUP(O151,'C'!A$2:X$23,VLOOKUP(F151,ages!B$1:C$23,2,1),1)),\"\")","v":""},{"$f":"IF(ISNUMBER(F151),IF(AO151<0.85,\"\",VLOOKUP(P151,D!A$2:X$23,VLOOKUP(F151,ages!B$1:C$23,2,1),1)),\"\")","v":""},{"$f":"IF(ISNUMBER(F151),IF(AP151<0.85,\"\",VLOOKUP(Q151,E!A$2:X$23,VLOOKUP(F151,ages!B$1:C$23,2,1),1)),\"\")","v":""},{"$f":"IF(ISNUMBER(F151),IF(AQ151<0.85,\"\",VLOOKUP(R151,F!A$2:X$23,VLOOKUP(F151,ages!B$1:C$23,2,1),1)),\"\")","v":""},{"$f":"IF(ISNUMBER(F151),IF(AR151<0.85,\"\",VLOOKUP(S151,G!A$2:X$23,VLOOKUP(F151,ages!B$1:C$23,2,1),1)),\"\")","v":""},{"$f":"IF(ISNUMBER(F151),IF(AS151<0.85,\"\",VLOOKUP(T151,H!A$2:X$23,VLOOKUP(F151,ages!B$1:C$23,2,1),1)),\"\")","v":""},{"$f":"IF(ISNUMBER(F151),IF(AT151<0.85,\"\",VLOOKUP(U151,I!A$2:X$23,VLOOKUP(F151,ages!B$1:C$23,2,1),1)),\"\")","v":""},{"$f":"IF(ISNUMBER(F151),IF(AU151<0.85,\"\",VLOOKUP(V151,J!A$2:X$23,VLOOKUP(F151,ages!B$1:C$23,2,1),1)),\"\")","v":""},"","","","",-1.0000000000000002E-6,0,0,0,0,0,0,0,0,0,0,0,null,null,null,null,null,null,null,null,null,null,null,null,null,null,null,null,null,null,null,null,null,null,null,null,null,null,null,null,null,null,null,null,null,null,null,null,null,null,null,null,null,null,null,null,null,null,null,null,null,null,null,null,null,null,null,null,null,null,null,null,null,null,null,null,null,null,null,null,null,null,-9.9999999999999995E-7,-9.9999999999999995E-7,-9.9999999999999995E-7,-9.9999999999999995E-7,-9.9999999999999995E-7,-9.9999999999999995E-7,-9.9999999999999995E-7,-9.9999999999999995E-7,-9.9999999999999995E-7,-9.9999999999999995E-7,-9.9999999999999995E-7,-9.9999999999999995E-7,-9.9999999999999995E-7,-9.9999999999999995E-7,-9.9999999999999995E-7,-9.9999999999999995E-7,-9.9999999999999995E-7,-9.9999999999999995E-7,-9.9999999999999995E-7,-9.9999999999999995E-7,{"$f":"IF(ISERROR(VLOOKUP(F151,ages!B$1:B$23,1,1)),\"\",VLOOKUP(F151,ages!B$1:B$23,1,1))","v":""},{"$f":"IF(ISERROR(VLOOKUP(F151,ages!B$1:D$23,3,1)),\"\",VLOOKUP(F151,ages!B$1:D$23,3,1))","v":""},0,0,0,0,0]
[null,null,null,null,null,"",null,null,null,null,null,null,"","","","","","","","","","",{"$f":"IF(ISNUMBER(F152),IF(AL152<0.85,\"\",VLOOKUP(M152,A!A$2:X$23,VLOOKUP(F152,ages!B$1:C$23,2,1),1)),\"\")","v":""},{"$f":"IF(ISNUMBER(F152),IF(AM152<0.85,\"\",VLOOKUP(N152,B!A$2:X$23,VLOOKUP(F152,ages!B$1:C$23,2,1),1)),\"\")","v":""},{"$f":"IF(ISNUMBER(F152),IF(AN152<0.85,\"\",VLOOKUP(O152,'C'!A$2:X$23,VLOOKUP(F152,ages!B$1:C$23,2,1),1)),\"\")","v":""},{"$f":"IF(ISNUMBER(F152),IF(AO152<0.85,\"\",VLOOKUP(P152,D!A$2:X$23,VLOOKUP(F152,ages!B$1:C$23,2,1),1)),\"\")","v":""},{"$f":"IF(ISNUMBER(F152),IF(AP152<0.85,\"\",VLOOKUP(Q152,E!A$2:X$23,VLOOKUP(F152,ages!B$1:C$23,2,1),1)),\"\")","v":""},{"$f":"IF(ISNUMBER(F152),IF(AQ152<0.85,\"\",VLOOKUP(R152,F!A$2:X$23,VLOOKUP(F152,ages!B$1:C$23,2,1),1)),\"\")","v":""},{"$f":"IF(ISNUMBER(F152),IF(AR152<0.85,\"\",VLOOKUP(S152,G!A$2:X$23,VLOOKUP(F152,ages!B$1:C$23,2,1),1)),\"\")","v":""},{"$f":"IF(ISNUMBER(F152),IF(AS152<0.85,\"\",VLOOKUP(T152,H!A$2:X$23,VLOOKUP(F152,ages!B$1:C$23,2,1),1)),\"\")","v":""},{"$f":"IF(ISNUMBER(F152),IF(AT152<0.85,\"\",VLOOKUP(U152,I!A$2:X$23,VLOOKUP(F152,ages!B$1:C$23,2,1),1)),\"\")","v":""},{"$f":"IF(ISNUMBER(F152),IF(AU152<0.85,\"\",VLOOKUP(V152,J!A$2:X$23,VLOOKUP(F152,ages!B$1:C$23,2,1),1)),\"\")","v":""},"","","","",-1.0000000000000002E-6,0,0,0,0,0,0,0,0,0,0,0,null,null,null,null,null,null,null,null,null,null,null,null,null,null,null,null,null,null,null,null,null,null,null,null,null,null,null,null,null,null,null,null,null,null,null,null,null,null,null,null,null,null,null,null,null,null,null,null,null,null,null,null,null,null,null,null,null,null,null,null,null,null,null,null,null,null,null,null,null,null,-9.9999999999999995E-7,-9.9999999999999995E-7,-9.9999999999999995E-7,-9.9999999999999995E-7,-9.9999999999999995E-7,-9.9999999999999995E-7,-9.9999999999999995E-7,-9.9999999999999995E-7,-9.9999999999999995E-7,-9.9999999999999995E-7,-9.9999999999999995E-7,-9.9999999999999995E-7,-9.9999999999999995E-7,-9.9999999999999995E-7,-9.9999999999999995E-7,-9.9999999999999995E-7,-9.9999999999999995E-7,-9.9999999999999995E-7,-9.9999999999999995E-7,-9.9999999999999995E-7,{"$f":"IF(ISERROR(VLOOKUP(F152,ages!B$1:B$23,1,1)),\"\",VLOOKUP(F152,ages!B$1:B$23,1,1))","v":""},{"$f":"IF(ISERROR(VLOOKUP(F152,ages!B$1:D$23,3,1)),\"\",VLOOKUP(F152,ages!B$1:D$23,3,1))","v":""},0,0,0,0,0]
[null,null,null,null,null,"",null,null,null,null,null,null,"","","","","","","","","","",{"$f":"IF(ISNUMBER(F153),IF(AL153<0.85,\"\",VLOOKUP(M153,A!A$2:X$23,VLOOKUP(F153,ages!B$1:C$23,2,1),1)),\"\")","v":""},{"$f":"IF(ISNUMBER(F153),IF(AM153<0.85,\"\",VLOOKUP(N153,B!A$2:X$23,VLOOKUP(F153,ages!B$1:C$23,2,1),1)),\"\")","v":""},{"$f":"IF(ISNUMBER(F153),IF(AN153<0.85,\"\",VLOOKUP(O153,'C'!A$2:X$23,VLOOKUP(F153,ages!B$1:C$23,2,1),1)),\"\")","v":""},{"$f":"IF(ISNUMBER(F153),IF(AO153<0.85,\"\",VLOOKUP(P153,D!A$2:X$23,VLOOKUP(F153,ages!B$1:C$23,2,1),1)),\"\")","v":""},{"$f":"IF(ISNUMBER(F153),IF(AP153<0.85,\"\",VLOOKUP(Q153,E!A$2:X$23,VLOOKUP(F153,ages!B$1:C$23,2,1),1)),\"\")","v":""},{"$f":"IF(ISNUMBER(F153),IF(AQ153<0.85,\"\",VLOOKUP(R153,F!A$2:X$23,VLOOKUP(F153,ages!B$1:C$23,2,1),1)),\"\")","v":""},{"$f":"IF(ISNUMBER(F153),IF(AR153<0.85,\"\",VLOOKUP(S153,G!A$2:X$23,VLOOKUP(F153,ages!B$1:C$23,2,1),1)),\"\")","v":""},{"$f":"IF(ISNUMBER(F153),IF(AS153<0.85,\"\",VLOOKUP(T153,H!A$2:X$23,VLOOKUP(F153,ages!B$1:C$23,2,1),1)),\"\")","v":""},{"$f":"IF(ISNUMBER(F153),IF(AT153<0.85,\"\",VLOOKUP(U153,I!A$2:X$23,VLOOKUP(F153,ages!B$1:C$23,2,1),1)),\"\")","v":""},{"$f":"IF(ISNUMBER(F153),IF(AU153<0.85,\"\",VLOOKUP(V153,J!A$2:X$23,VLOOKUP(F153,ages!B$1:C$23,2,1),1)),\"\")","v":""},"","","","",-1.0000000000000002E-6,0,0,0,0,0,0,0,0,0,0,0,null,null,null,null,null,null,null,null,null,null,null,null,null,null,null,null,null,null,null,null,null,null,null,null,null,null,null,null,null,null,null,null,null,null,null,null,null,null,null,null,null,null,null,null,null,null,null,null,null,null,null,null,null,null,null,null,null,null,null,null,null,null,null,null,null,null,null,null,null,null,-9.9999999999999995E-7,-9.9999999999999995E-7,-9.9999999999999995E-7,-9.9999999999999995E-7,-9.9999999999999995E-7,-9.9999999999999995E-7,-9.9999999999999995E-7,-9.9999999999999995E-7,-9.9999999999999995E-7,-9.9999999999999995E-7,-9.9999999999999995E-7,-9.9999999999999995E-7,-9.9999999999999995E-7,-9.9999999999999995E-7,-9.9999999999999995E-7,-9.9999999999999995E-7,-9.9999999999999995E-7,-9.9999999999999995E-7,-9.9999999999999995E-7,-9.9999999999999995E-7,{"$f":"IF(ISERROR(VLOOKUP(F153,ages!B$1:B$23,1,1)),\"\",VLOOKUP(F153,ages!B$1:B$23,1,1))","v":""},{"$f":"IF(ISERROR(VLOOKUP(F153,ages!B$1:D$23,3,1)),\"\",VLOOKUP(F153,ages!B$1:D$23,3,1))","v":""},0,0,0,0,0]
[null,null,null,null,null,"",null,null,null,null,null,null,"","","","","","","","","","",{"$f":"IF(ISNUMBER(F154),IF(AL154<0.85,\"\",VLOOKUP(M154,A!A$2:X$23,VLOOKUP(F154,ages!B$1:C$23,2,1),1)),\"\")","v":""},{"$f":"IF(ISNUMBER(F154),IF(AM154<0.85,\"\",VLOOKUP(N154,B!A$2:X$23,VLOOKUP(F154,ages!B$1:C$23,2,1),1)),\"\")","v":""},{"$f":"IF(ISNUMBER(F154),IF(AN154<0.85,\"\",VLOOKUP(O154,'C'!A$2:X$23,VLOOKUP(F154,ages!B$1:C$23,2,1),1)),\"\")","v":""},{"$f":"IF(ISNUMBER(F154),IF(AO154<0.85,\"\",VLOOKUP(P154,D!A$2:X$23,VLOOKUP(F154,ages!B$1:C$23,2,1),1)),\"\")","v":""},{"$f":"IF(ISNUMBER(F154),IF(AP154<0.85,\"\",VLOOKUP(Q154,E!A$2:X$23,VLOOKUP(F154,ages!B$1:C$23,2,1),1)),\"\")","v":""},{"$f":"IF(ISNUMBER(F154),IF(AQ154<0.85,\"\",VLOOKUP(R154,F!A$2:X$23,VLOOKUP(F154,ages!B$1:C$23,2,1),1)),\"\")","v":""},{"$f":"IF(ISNUMBER(F154),IF(AR154<0.85,\"\",VLOOKUP(S154,G!A$2:X$23,VLOOKUP(F154,ages!B$1:C$23,2,1),1)),\"\")","v":""},{"$f":"IF(ISNUMBER(F154),IF(AS154<0.85,\"\",VLOOKUP(T154,H!A$2:X$23,VLOOKUP(F154,ages!B$1:C$23,2,1),1)),\"\")","v":""},{"$f":"IF(ISNUMBER(F154),IF(AT154<0.85,\"\",VLOOKUP(U154,I!A$2:X$23,VLOOKUP(F154,ages!B$1:C$23,2,1),1)),\"\")","v":""},{"$f":"IF(ISNUMBER(F154),IF(AU154<0.85,\"\",VLOOKUP(V154,J!A$2:X$23,VLOOKUP(F154,ages!B$1:C$23,2,1),1)),\"\")","v":""},"","","","",-1.0000000000000002E-6,0,0,0,0,0,0,0,0,0,0,0,null,null,null,null,null,null,null,null,null,null,null,null,null,null,null,null,null,null,null,null,null,null,null,null,null,null,null,null,null,null,null,null,null,null,null,null,null,null,null,null,null,null,null,null,null,null,null,null,null,null,null,null,null,null,null,null,null,null,null,null,null,null,null,null,null,null,null,null,null,null,-9.9999999999999995E-7,-9.9999999999999995E-7,-9.9999999999999995E-7,-9.9999999999999995E-7,-9.9999999999999995E-7,-9.9999999999999995E-7,-9.9999999999999995E-7,-9.9999999999999995E-7,-9.9999999999999995E-7,-9.9999999999999995E-7,-9.9999999999999995E-7,-9.9999999999999995E-7,-9.9999999999999995E-7,-9.9999999999999995E-7,-9.9999999999999995E-7,-9.9999999999999995E-7,-9.9999999999999995E-7,-9.9999999999999995E-7,-9.9999999999999995E-7,-9.9999999999999995E-7,{"$f":"IF(ISERROR(VLOOKUP(F154,ages!B$1:B$23,1,1)),\"\",VLOOKUP(F154,ages!B$1:B$23,1,1))","v":""},{"$f":"IF(ISERROR(VLOOKUP(F154,ages!B$1:D$23,3,1)),\"\",VLOOKUP(F154,ages!B$1:D$23,3,1))","v":""},0,0,0,0,0]
[null,null,null,null,null,"",null,null,null,null,null,null,"","","","","","","","","","",{"$f":"IF(ISNUMBER(F155),IF(AL155<0.85,\"\",VLOOKUP(M155,A!A$2:X$23,VLOOKUP(F155,ages!B$1:C$23,2,1),1)),\"\")","v":""},{"$f":"IF(ISNUMBER(F155),IF(AM155<0.85,\"\",VLOOKUP(N155,B!A$2:X$23,VLOOKUP(F155,ages!B$1:C$23,2,1),1)),\"\")","v":""},{"$f":"IF(ISNUMBER(F155),IF(AN155<0.85,\"\",VLOOKUP(O155,'C'!A$2:X$23,VLOOKUP(F155,ages!B$1:C$23,2,1),1)),\"\")","v":""},{"$f":"IF(ISNUMBER(F155),IF(AO155<0.85,\"\",VLOOKUP(P155,D!A$2:X$23,VLOOKUP(F155,ages!B$1:C$23,2,1),1)),\"\")","v":""},{"$f":"IF(ISNUMBER(F155),IF(AP155<0.85,\"\",VLOOKUP(Q155,E!A$2:X$23,VLOOKUP(F155,ages!B$1:C$23,2,1),1)),\"\")","v":""},{"$f":"IF(ISNUMBER(F155),IF(AQ155<0.85,\"\",VLOOKUP(R155,F!A$2:X$23,VLOOKUP(F155,ages!B$1:C$23,2,1),1)),\"\")","v":""},{"$f":"IF(ISNUMBER(F155),IF(AR155<0.85,\"\",VLOOKUP(S155,G!A$2:X$23,VLOOKUP(F155,ages!B$1:C$23,2,1),1)),\"\")","v":""},{"$f":"IF(ISNUMBER(F155),IF(AS155<0.85,\"\",VLOOKUP(T155,H!A$2:X$23,VLOOKUP(F155,ages!B$1:C$23,2,1),1)),\"\")","v":""},{"$f":"IF(ISNUMBER(F155),IF(AT155<0.85,\"\",VLOOKUP(U155,I!A$2:X$23,VLOOKUP(F155,ages!B$1:C$23,2,1),1)),\"\")","v":""},{"$f":"IF(ISNUMBER(F155),IF(AU155<0.85,\"\",VLOOKUP(V155,J!A$2:X$23,VLOOKUP(F155,ages!B$1:C$23,2,1),1)),\"\")","v":""},"","","","",-1.0000000000000002E-6,0,0,0,0,0,0,0,0,0,0,0,null,null,null,null,null,null,null,null,null,null,null,null,null,null,null,null,null,null,null,null,null,null,null,null,null,null,null,null,null,null,null,null,null,null,null,null,null,null,null,null,null,null,null,null,null,null,null,null,null,null,null,null,null,null,null,null,null,null,null,null,null,null,null,null,null,null,null,null,null,null,-9.9999999999999995E-7,-9.9999999999999995E-7,-9.9999999999999995E-7,-9.9999999999999995E-7,-9.9999999999999995E-7,-9.9999999999999995E-7,-9.9999999999999995E-7,-9.9999999999999995E-7,-9.9999999999999995E-7,-9.9999999999999995E-7,-9.9999999999999995E-7,-9.9999999999999995E-7,-9.9999999999999995E-7,-9.9999999999999995E-7,-9.9999999999999995E-7,-9.9999999999999995E-7,-9.9999999999999995E-7,-9.9999999999999995E-7,-9.9999999999999995E-7,-9.9999999999999995E-7,{"$f":"IF(ISERROR(VLOOKUP(F155,ages!B$1:B$23,1,1)),\"\",VLOOKUP(F155,ages!B$1:B$23,1,1))","v":""},{"$f":"IF(ISERROR(VLOOKUP(F155,ages!B$1:D$23,3,1)),\"\",VLOOKUP(F155,ages!B$1:D$23,3,1))","v":""},0,0,0,0,0]
[null,null,null,null,null,"",null,null,null,null,null,null,"","","","","","","","","","",{"$f":"IF(ISNUMBER(F156),IF(AL156<0.85,\"\",VLOOKUP(M156,A!A$2:X$23,VLOOKUP(F156,ages!B$1:C$23,2,1),1)),\"\")","v":""},{"$f":"IF(ISNUMBER(F156),IF(AM156<0.85,\"\",VLOOKUP(N156,B!A$2:X$23,VLOOKUP(F156,ages!B$1:C$23,2,1),1)),\"\")","v":""},{"$f":"IF(ISNUMBER(F156),IF(AN156<0.85,\"\",VLOOKUP(O156,'C'!A$2:X$23,VLOOKUP(F156,ages!B$1:C$23,2,1),1)),\"\")","v":""},{"$f":"IF(ISNUMBER(F156),IF(AO156<0.85,\"\",VLOOKUP(P156,D!A$2:X$23,VLOOKUP(F156,ages!B$1:C$23,2,1),1)),\"\")","v":""},{"$f":"IF(ISNUMBER(F156),IF(AP156<0.85,\"\",VLOOKUP(Q156,E!A$2:X$23,VLOOKUP(F156,ages!B$1:C$23,2,1),1)),\"\")","v":""},{"$f":"IF(ISNUMBER(F156),IF(AQ156<0.85,\"\",VLOOKUP(R156,F!A$2:X$23,VLOOKUP(F156,ages!B$1:C$23,2,1),1)),\"\")","v":""},{"$f":"IF(ISNUMBER(F156),IF(AR156<0.85,\"\",VLOOKUP(S156,G!A$2:X$23,VLOOKUP(F156,ages!B$1:C$23,2,1),1)),\"\")","v":""},{"$f":"IF(ISNUMBER(F156),IF(AS156<0.85,\"\",VLOOKUP(T156,H!A$2:X$23,VLOOKUP(F156,ages!B$1:C$23,2,1),1)),\"\")","v":""},{"$f":"IF(ISNUMBER(F156),IF(AT156<0.85,\"\",VLOOKUP(U156,I!A$2:X$23,VLOOKUP(F156,ages!B$1:C$23,2,1),1)),\"\")","v":""},{"$f":"IF(ISNUMBER(F156),IF(AU156<0.85,\"\",VLOOKUP(V156,J!A$2:X$23,VLOOKUP(F156,ages!B$1:C$23,2,1),1)),\"\")","v":""},"","","","",-1.0000000000000002E-6,0,0,0,0,0,0,0,0,0,0,0,null,null,null,null,null,null,null,null,null,null,null,null,null,null,null,null,null,null,null,null,null,null,null,null,null,null,null,null,null,null,null,null,null,null,null,null,null,null,null,null,null,null,null,null,null,null,null,null,null,null,null,null,null,null,null,null,null,null,null,null,null,null,null,null,null,null,null,null,null,null,-9.9999999999999995E-7,-9.9999999999999995E-7,-9.9999999999999995E-7,-9.9999999999999995E-7,-9.9999999999999995E-7,-9.9999999999999995E-7,-9.9999999999999995E-7,-9.9999999999999995E-7,-9.9999999999999995E-7,-9.9999999999999995E-7,-9.9999999999999995E-7,-9.9999999999999995E-7,-9.9999999999999995E-7,-9.9999999999999995E-7,-9.9999999999999995E-7,-9.9999999999999995E-7,-9.9999999999999995E-7,-9.9999999999999995E-7,-9.9999999999999995E-7,-9.9999999999999995E-7,{"$f":"IF(ISERROR(VLOOKUP(F156,ages!B$1:B$23,1,1)),\"\",VLOOKUP(F156,ages!B$1:B$23,1,1))","v":""},{"$f":"IF(ISERROR(VLOOKUP(F156,ages!B$1:D$23,3,1)),\"\",VLOOKUP(F156,ages!B$1:D$23,3,1))","v":""},0,0,0,0,0]
[null,null,null,null,null,"",null,null,null,null,null,null,"","","","","","","","","","",{"$f":"IF(ISNUMBER(F157),IF(AL157<0.85,\"\",VLOOKUP(M157,A!A$2:X$23,VLOOKUP(F157,ages!B$1:C$23,2,1),1)),\"\")","v":""},{"$f":"IF(ISNUMBER(F157),IF(AM157<0.85,\"\",VLOOKUP(N157,B!A$2:X$23,VLOOKUP(F157,ages!B$1:C$23,2,1),1)),\"\")","v":""},{"$f":"IF(ISNUMBER(F157),IF(AN157<0.85,\"\",VLOOKUP(O157,'C'!A$2:X$23,VLOOKUP(F157,ages!B$1:C$23,2,1),1)),\"\")","v":""},{"$f":"IF(ISNUMBER(F157),IF(AO157<0.85,\"\",VLOOKUP(P157,D!A$2:X$23,VLOOKUP(F157,ages!B$1:C$23,2,1),1)),\"\")","v":""},{"$f":"IF(ISNUMBER(F157),IF(AP157<0.85,\"\",VLOOKUP(Q157,E!A$2:X$23,VLOOKUP(F157,ages!B$1:C$23,2,1),1)),\"\")","v":""},{"$f":"IF(ISNUMBER(F157),IF(AQ157<0.85,\"\",VLOOKUP(R157,F!A$2:X$23,VLOOKUP(F157,ages!B$1:C$23,2,1),1)),\"\")","v":""},{"$f":"IF(ISNUMBER(F157),IF(AR157<0.85,\"\",VLOOKUP(S157,G!A$2:X$23,VLOOKUP(F157,ages!B$1:C$23,2,1),1)),\"\")","v":""},{"$f":"IF(ISNUMBER(F157),IF(AS157<0.85,\"\",VLOOKUP(T157,H!A$2:X$23,VLOOKUP(F157,ages!B$1:C$23,2,1),1)),\"\")","v":""},{"$f":"IF(ISNUMBER(F157),IF(AT157<0.85,\"\",VLOOKUP(U157,I!A$2:X$23,VLOOKUP(F157,ages!B$1:C$23,2,1),1)),\"\")","v":""},{"$f":"IF(ISNUMBER(F157),IF(AU157<0.85,\"\",VLOOKUP(V157,J!A$2:X$23,VLOOKUP(F157,ages!B$1:C$23,2,1),1)),\"\")","v":""},"","","","",-1.0000000000000002E-6,0,0,0,0,0,0,0,0,0,0,0,null,null,null,null,null,null,null,null,null,null,null,null,null,null,null,null,null,null,null,null,null,null,null,null,null,null,null,null,null,null,null,null,null,null,null,null,null,null,null,null,null,null,null,null,null,null,null,null,null,null,null,null,null,null,null,null,null,null,null,null,null,null,null,null,null,null,null,null,null,null,-9.9999999999999995E-7,-9.9999999999999995E-7,-9.9999999999999995E-7,-9.9999999999999995E-7,-9.9999999999999995E-7,-9.9999999999999995E-7,-9.9999999999999995E-7,-9.9999999999999995E-7,-9.9999999999999995E-7,-9.9999999999999995E-7,-9.9999999999999995E-7,-9.9999999999999995E-7,-9.9999999999999995E-7,-9.9999999999999995E-7,-9.9999999999999995E-7,-9.9999999999999995E-7,-9.9999999999999995E-7,-9.9999999999999995E-7,-9.9999999999999995E-7,-9.9999999999999995E-7,{"$f":"IF(ISERROR(VLOOKUP(F157,ages!B$1:B$23,1,1)),\"\",VLOOKUP(F157,ages!B$1:B$23,1,1))","v":""},{"$f":"IF(ISERROR(VLOOKUP(F157,ages!B$1:D$23,3,1)),\"\",VLOOKUP(F157,ages!B$1:D$23,3,1))","v":""},0,0,0,0,0]
[null,null,null,null,null,"",null,null,null,null,null,null,"","","","","","","","","","",{"$f":"IF(ISNUMBER(F158),IF(AL158<0.85,\"\",VLOOKUP(M158,A!A$2:X$23,VLOOKUP(F158,ages!B$1:C$23,2,1),1)),\"\")","v":""},{"$f":"IF(ISNUMBER(F158),IF(AM158<0.85,\"\",VLOOKUP(N158,B!A$2:X$23,VLOOKUP(F158,ages!B$1:C$23,2,1),1)),\"\")","v":""},{"$f":"IF(ISNUMBER(F158),IF(AN158<0.85,\"\",VLOOKUP(O158,'C'!A$2:X$23,VLOOKUP(F158,ages!B$1:C$23,2,1),1)),\"\")","v":""},{"$f":"IF(ISNUMBER(F158),IF(AO158<0.85,\"\",VLOOKUP(P158,D!A$2:X$23,VLOOKUP(F158,ages!B$1:C$23,2,1),1)),\"\")","v":""},{"$f":"IF(ISNUMBER(F158),IF(AP158<0.85,\"\",VLOOKUP(Q158,E!A$2:X$23,VLOOKUP(F158,ages!B$1:C$23,2,1),1)),\"\")","v":""},{"$f":"IF(ISNUMBER(F158),IF(AQ158<0.85,\"\",VLOOKUP(R158,F!A$2:X$23,VLOOKUP(F158,ages!B$1:C$23,2,1),1)),\"\")","v":""},{"$f":"IF(ISNUMBER(F158),IF(AR158<0.85,\"\",VLOOKUP(S158,G!A$2:X$23,VLOOKUP(F158,ages!B$1:C$23,2,1),1)),\"\")","v":""},{"$f":"IF(ISNUMBER(F158),IF(AS158<0.85,\"\",VLOOKUP(T158,H!A$2:X$23,VLOOKUP(F158,ages!B$1:C$23,2,1),1)),\"\")","v":""},{"$f":"IF(ISNUMBER(F158),IF(AT158<0.85,\"\",VLOOKUP(U158,I!A$2:X$23,VLOOKUP(F158,ages!B$1:C$23,2,1),1)),\"\")","v":""},{"$f":"IF(ISNUMBER(F158),IF(AU158<0.85,\"\",VLOOKUP(V158,J!A$2:X$23,VLOOKUP(F158,ages!B$1:C$23,2,1),1)),\"\")","v":""},"","","","",-1.0000000000000002E-6,0,0,0,0,0,0,0,0,0,0,0,null,null,null,null,null,null,null,null,null,null,null,null,null,null,null,null,null,null,null,null,null,null,null,null,null,null,null,null,null,null,null,null,null,null,null,null,null,null,null,null,null,null,null,null,null,null,null,null,null,null,null,null,null,null,null,null,null,null,null,null,null,null,null,null,null,null,null,null,null,null,-9.9999999999999995E-7,-9.9999999999999995E-7,-9.9999999999999995E-7,-9.9999999999999995E-7,-9.9999999999999995E-7,-9.9999999999999995E-7,-9.9999999999999995E-7,-9.9999999999999995E-7,-9.9999999999999995E-7,-9.9999999999999995E-7,-9.9999999999999995E-7,-9.9999999999999995E-7,-9.9999999999999995E-7,-9.9999999999999995E-7,-9.9999999999999995E-7,-9.9999999999999995E-7,-9.9999999999999995E-7,-9.9999999999999995E-7,-9.9999999999999995E-7,-9.9999999999999995E-7,{"$f":"IF(ISERROR(VLOOKUP(F158,ages!B$1:B$23,1,1)),\"\",VLOOKUP(F158,ages!B$1:B$23,1,1))","v":""},{"$f":"IF(ISERROR(VLOOKUP(F158,ages!B$1:D$23,3,1)),\"\",VLOOKUP(F158,ages!B$1:D$23,3,1))","v":""},0,0,0,0,0]
[null,null,null,null,null,"",null,null,null,null,null,null,"","","","","","","","","","",{"$f":"IF(ISNUMBER(F159),IF(AL159<0.85,\"\",VLOOKUP(M159,A!A$2:X$23,VLOOKUP(F159,ages!B$1:C$23,2,1),1)),\"\")","v":""},{"$f":"IF(ISNUMBER(F159),IF(AM159<0.85,\"\",VLOOKUP(N159,B!A$2:X$23,VLOOKUP(F159,ages!B$1:C$23,2,1),1)),\"\")","v":""},{"$f":"IF(ISNUMBER(F159),IF(AN159<0.85,\"\",VLOOKUP(O159,'C'!A$2:X$23,VLOOKUP(F159,ages!B$1:C$23,2,1),1)),\"\")","v":""},{"$f":"IF(ISNUMBER(F159),IF(AO159<0.85,\"\",VLOOKUP(P159,D!A$2:X$23,VLOOKUP(F159,ages!B$1:C$23,2,1),1)),\"\")","v":""},{"$f":"IF(ISNUMBER(F159),IF(AP159<0.85,\"\",VLOOKUP(Q159,E!A$2:X$23,VLOOKUP(F159,ages!B$1:C$23,2,1),1)),\"\")","v":""},{"$f":"IF(ISNUMBER(F159),IF(AQ159<0.85,\"\",VLOOKUP(R159,F!A$2:X$23,VLOOKUP(F159,ages!B$1:C$23,2,1),1)),\"\")","v":""},{"$f":"IF(ISNUMBER(F159),IF(AR159<0.85,\"\",VLOOKUP(S159,G!A$2:X$23,VLOOKUP(F159,ages!B$1:C$23,2,1),1)),\"\")","v":""},{"$f":"IF(ISNUMBER(F159),IF(AS159<0.85,\"\",VLOOKUP(T159,H!A$2:X$23,VLOOKUP(F159,ages!B$1:C$23,2,1),1)),\"\")","v":""},{"$f":"IF(ISNUMBER(F159),IF(AT159<0.85,\"\",VLOOKUP(U159,I!A$2:X$23,VLOOKUP(F159,ages!B$1:C$23,2,1),1)),\"\")","v":""},{"$f":"IF(ISNUMBER(F159),IF(AU159<0.85,\"\",VLOOKUP(V159,J!A$2:X$23,VLOOKUP(F159,ages!B$1:C$23,2,1),1)),\"\")","v":""},"","","","",-1.0000000000000002E-6,0,0,0,0,0,0,0,0,0,0,0,null,null,null,null,null,null,null,null,null,null,null,null,null,null,null,null,null,null,null,null,null,null,null,null,null,null,null,null,null,null,null,null,null,null,null,null,null,null,null,null,null,null,null,null,null,null,null,null,null,null,null,null,null,null,null,null,null,null,null,null,null,null,null,null,null,null,null,null,null,null,-9.9999999999999995E-7,-9.9999999999999995E-7,-9.9999999999999995E-7,-9.9999999999999995E-7,-9.9999999999999995E-7,-9.9999999999999995E-7,-9.9999999999999995E-7,-9.9999999999999995E-7,-9.9999999999999995E-7,-9.9999999999999995E-7,-9.9999999999999995E-7,-9.9999999999999995E-7,-9.9999999999999995E-7,-9.9999999999999995E-7,-9.9999999999999995E-7,-9.9999999999999995E-7,-9.9999999999999995E-7,-9.9999999999999995E-7,-9.9999999999999995E-7,-9.9999999999999995E-7,{"$f":"IF(ISERROR(VLOOKUP(F159,ages!B$1:B$23,1,1)),\"\",VLOOKUP(F159,ages!B$1:B$23,1,1))","v":""},{"$f":"IF(ISERROR(VLOOKUP(F159,ages!B$1:D$23,3,1)),\"\",VLOOKUP(F159,ages!B$1:D$23,3,1))","v":""},0,0,0,0,0]
[null,null,null,null,null,"",null,null,null,null,null,null,"","","","","","","","","","",{"$f":"IF(ISNUMBER(F160),IF(AL160<0.85,\"\",VLOOKUP(M160,A!A$2:X$23,VLOOKUP(F160,ages!B$1:C$23,2,1),1)),\"\")","v":""},{"$f":"IF(ISNUMBER(F160),IF(AM160<0.85,\"\",VLOOKUP(N160,B!A$2:X$23,VLOOKUP(F160,ages!B$1:C$23,2,1),1)),\"\")","v":""},{"$f":"IF(ISNUMBER(F160),IF(AN160<0.85,\"\",VLOOKUP(O160,'C'!A$2:X$23,VLOOKUP(F160,ages!B$1:C$23,2,1),1)),\"\")","v":""},{"$f":"IF(ISNUMBER(F160),IF(AO160<0.85,\"\",VLOOKUP(P160,D!A$2:X$23,VLOOKUP(F160,ages!B$1:C$23,2,1),1)),\"\")","v":""},{"$f":"IF(ISNUMBER(F160),IF(AP160<0.85,\"\",VLOOKUP(Q160,E!A$2:X$23,VLOOKUP(F160,ages!B$1:C$23,2,1),1)),\"\")","v":""},{"$f":"IF(ISNUMBER(F160),IF(AQ160<0.85,\"\",VLOOKUP(R160,F!A$2:X$23,VLOOKUP(F160,ages!B$1:C$23,2,1),1)),\"\")","v":""},{"$f":"IF(ISNUMBER(F160),IF(AR160<0.85,\"\",VLOOKUP(S160,G!A$2:X$23,VLOOKUP(F160,ages!B$1:C$23,2,1),1)),\"\")","v":""},{"$f":"IF(ISNUMBER(F160),IF(AS160<0.85,\"\",VLOOKUP(T160,H!A$2:X$23,VLOOKUP(F160,ages!B$1:C$23,2,1),1)),\"\")","v":""},{"$f":"IF(ISNUMBER(F160),IF(AT160<0.85,\"\",VLOOKUP(U160,I!A$2:X$23,VLOOKUP(F160,ages!B$1:C$23,2,1),1)),\"\")","v":""},{"$f":"IF(ISNUMBER(F160),IF(AU160<0.85,\"\",VLOOKUP(V160,J!A$2:X$23,VLOOKUP(F160,ages!B$1:C$23,2,1),1)),\"\")","v":""},"","","","",-1.0000000000000002E-6,0,0,0,0,0,0,0,0,0,0,0,null,null,null,null,null,null,null,null,null,null,null,null,null,null,null,null,null,null,null,null,null,null,null,null,null,null,null,null,null,null,null,null,null,null,null,null,null,null,null,null,null,null,null,null,null,null,null,null,null,null,null,null,null,null,null,null,null,null,null,null,null,null,null,null,null,null,null,null,null,null,-9.9999999999999995E-7,-9.9999999999999995E-7,-9.9999999999999995E-7,-9.9999999999999995E-7,-9.9999999999999995E-7,-9.9999999999999995E-7,-9.9999999999999995E-7,-9.9999999999999995E-7,-9.9999999999999995E-7,-9.9999999999999995E-7,-9.9999999999999995E-7,-9.9999999999999995E-7,-9.9999999999999995E-7,-9.9999999999999995E-7,-9.9999999999999995E-7,-9.9999999999999995E-7,-9.9999999999999995E-7,-9.9999999999999995E-7,-9.9999999999999995E-7,-9.9999999999999995E-7,{"$f":"IF(ISERROR(VLOOKUP(F160,ages!B$1:B$23,1,1)),\"\",VLOOKUP(F160,ages!B$1:B$23,1,1))","v":""},{"$f":"IF(ISERROR(VLOOKUP(F160,ages!B$1:D$23,3,1)),\"\",VLOOKUP(F160,ages!B$1:D$23,3,1))","v":""},0,0,0,0,0]
[null,null,null,null,null,"",null,null,null,null,null,null,"","","","","","","","","","",{"$f":"IF(ISNUMBER(F161),IF(AL161<0.85,\"\",VLOOKUP(M161,A!A$2:X$23,VLOOKUP(F161,ages!B$1:C$23,2,1),1)),\"\")","v":""},{"$f":"IF(ISNUMBER(F161),IF(AM161<0.85,\"\",VLOOKUP(N161,B!A$2:X$23,VLOOKUP(F161,ages!B$1:C$23,2,1),1)),\"\")","v":""},{"$f":"IF(ISNUMBER(F161),IF(AN161<0.85,\"\",VLOOKUP(O161,'C'!A$2:X$23,VLOOKUP(F161,ages!B$1:C$23,2,1),1)),\"\")","v":""},{"$f":"IF(ISNUMBER(F161),IF(AO161<0.85,\"\",VLOOKUP(P161,D!A$2:X$23,VLOOKUP(F161,ages!B$1:C$23,2,1),1)),\"\")","v":""},{"$f":"IF(ISNUMBER(F161),IF(AP161<0.85,\"\",VLOOKUP(Q161,E!A$2:X$23,VLOOKUP(F161,ages!B$1:C$23,2,1),1)),\"\")","v":""},{"$f":"IF(ISNUMBER(F161),IF(AQ161<0.85,\"\",VLOOKUP(R161,F!A$2:X$23,VLOOKUP(F161,ages!B$1:C$23,2,1),1)),\"\")","v":""},{"$f":"IF(ISNUMBER(F161),IF(AR161<0.85,\"\",VLOOKUP(S161,G!A$2:X$23,VLOOKUP(F161,ages!B$1:C$23,2,1),1)),\"\")","v":""},{"$f":"IF(ISNUMBER(F161),IF(AS161<0.85,\"\",VLOOKUP(T161,H!A$2:X$23,VLOOKUP(F161,ages!B$1:C$23,2,1),1)),\"\")","v":""},{"$f":"IF(ISNUMBER(F161),IF(AT161<0.85,\"\",VLOOKUP(U161,I!A$2:X$23,VLOOKUP(F161,ages!B$1:C$23,2,1),1)),\"\")","v":""},{"$f":"IF(ISNUMBER(F161),IF(AU161<0.85,\"\",VLOOKUP(V161,J!A$2:X$23,VLOOKUP(F161,ages!B$1:C$23,2,1),1)),\"\")","v":""},"","","","",-1.0000000000000002E-6,0,0,0,0,0,0,0,0,0,0,0,null,null,null,null,null,null,null,null,null,null,null,null,null,null,null,null,null,null,null,null,null,null,null,null,null,null,null,null,null,null,null,null,null,null,null,null,null,null,null,null,null,null,null,null,null,null,null,null,null,null,null,null,null,null,null,null,null,null,null,null,null,null,null,null,null,null,null,null,null,null,-9.9999999999999995E-7,-9.9999999999999995E-7,-9.9999999999999995E-7,-9.9999999999999995E-7,-9.9999999999999995E-7,-9.9999999999999995E-7,-9.9999999999999995E-7,-9.9999999999999995E-7,-9.9999999999999995E-7,-9.9999999999999995E-7,-9.9999999999999995E-7,-9.9999999999999995E-7,-9.9999999999999995E-7,-9.9999999999999995E-7,-9.9999999999999995E-7,-9.9999999999999995E-7,-9.9999999999999995E-7,-9.9999999999999995E-7,-9.9999999999999995E-7,-9.9999999999999995E-7,{"$f":"IF(ISERROR(VLOOKUP(F161,ages!B$1:B$23,1,1)),\"\",VLOOKUP(F161,ages!B$1:B$23,1,1))","v":""},{"$f":"IF(ISERROR(VLOOKUP(F161,ages!B$1:D$23,3,1)),\"\",VLOOKUP(F161,ages!B$1:D$23,3,1))","v":""},0,0,0,0,0]
[null,null,null,null,null,"",null,null,null,null,null,null,"","","","","","","","","","",{"$f":"IF(ISNUMBER(F162),IF(AL162<0.85,\"\",VLOOKUP(M162,A!A$2:X$23,VLOOKUP(F162,ages!B$1:C$23,2,1),1)),\"\")","v":""},{"$f":"IF(ISNUMBER(F162),IF(AM162<0.85,\"\",VLOOKUP(N162,B!A$2:X$23,VLOOKUP(F162,ages!B$1:C$23,2,1),1)),\"\")","v":""},{"$f":"IF(ISNUMBER(F162),IF(AN162<0.85,\"\",VLOOKUP(O162,'C'!A$2:X$23,VLOOKUP(F162,ages!B$1:C$23,2,1),1)),\"\")","v":""},{"$f":"IF(ISNUMBER(F162),IF(AO162<0.85,\"\",VLOOKUP(P162,D!A$2:X$23,VLOOKUP(F162,ages!B$1:C$23,2,1),1)),\"\")","v":""},{"$f":"IF(ISNUMBER(F162),IF(AP162<0.85,\"\",VLOOKUP(Q162,E!A$2:X$23,VLOOKUP(F162,ages!B$1:C$23,2,1),1)),\"\")","v":""},{"$f":"IF(ISNUMBER(F162),IF(AQ162<0.85,\"\",VLOOKUP(R162,F!A$2:X$23,VLOOKUP(F162,ages!B$1:C$23,2,1),1)),\"\")","v":""},{"$f":"IF(ISNUMBER(F162),IF(AR162<0.85,\"\",VLOOKUP(S162,G!A$2:X$23,VLOOKUP(F162,ages!B$1:C$23,2,1),1)),\"\")","v":""},{"$f":"IF(ISNUMBER(F162),IF(AS162<0.85,\"\",VLOOKUP(T162,H!A$2:X$23,VLOOKUP(F162,ages!B$1:C$23,2,1),1)),\"\")","v":""},{"$f":"IF(ISNUMBER(F162),IF(AT162<0.85,\"\",VLOOKUP(U162,I!A$2:X$23,VLOOKUP(F162,ages!B$1:C$23,2,1),1)),\"\")","v":""},{"$f":"IF(ISNUMBER(F162),IF(AU162<0.85,\"\",VLOOKUP(V162,J!A$2:X$23,VLOOKUP(F162,ages!B$1:C$23,2,1),1)),\"\")","v":""},"","","","",-1.0000000000000002E-6,0,0,0,0,0,0,0,0,0,0,0,null,null,null,null,null,null,null,null,null,null,null,null,null,null,null,null,null,null,null,null,null,null,null,null,null,null,null,null,null,null,null,null,null,null,null,null,null,null,null,null,null,null,null,null,null,null,null,null,null,null,null,null,null,null,null,null,null,null,null,null,null,null,null,null,null,null,null,null,null,null,-9.9999999999999995E-7,-9.9999999999999995E-7,-9.9999999999999995E-7,-9.9999999999999995E-7,-9.9999999999999995E-7,-9.9999999999999995E-7,-9.9999999999999995E-7,-9.9999999999999995E-7,-9.9999999999999995E-7,-9.9999999999999995E-7,-9.9999999999999995E-7,-9.9999999999999995E-7,-9.9999999999999995E-7,-9.9999999999999995E-7,-9.9999999999999995E-7,-9.9999999999999995E-7,-9.9999999999999995E-7,-9.9999999999999995E-7,-9.9999999999999995E-7,-9.9999999999999995E-7,{"$f":"IF(ISERROR(VLOOKUP(F162,ages!B$1:B$23,1,1)),\"\",VLOOKUP(F162,ages!B$1:B$23,1,1))","v":""},{"$f":"IF(ISERROR(VLOOKUP(F162,ages!B$1:D$23,3,1)),\"\",VLOOKUP(F162,ages!B$1:D$23,3,1))","v":""},0,0,0,0,0]
[null,null,null,null,null,"",null,null,null,null,null,null,"","","","","","","","","","",{"$f":"IF(ISNUMBER(F163),IF(AL163<0.85,\"\",VLOOKUP(M163,A!A$2:X$23,VLOOKUP(F163,ages!B$1:C$23,2,1),1)),\"\")","v":""},{"$f":"IF(ISNUMBER(F163),IF(AM163<0.85,\"\",VLOOKUP(N163,B!A$2:X$23,VLOOKUP(F163,ages!B$1:C$23,2,1),1)),\"\")","v":""},{"$f":"IF(ISNUMBER(F163),IF(AN163<0.85,\"\",VLOOKUP(O163,'C'!A$2:X$23,VLOOKUP(F163,ages!B$1:C$23,2,1),1)),\"\")","v":""},{"$f":"IF(ISNUMBER(F163),IF(AO163<0.85,\"\",VLOOKUP(P163,D!A$2:X$23,VLOOKUP(F163,ages!B$1:C$23,2,1),1)),\"\")","v":""},{"$f":"IF(ISNUMBER(F163),IF(AP163<0.85,\"\",VLOOKUP(Q163,E!A$2:X$23,VLOOKUP(F163,ages!B$1:C$23,2,1),1)),\"\")","v":""},{"$f":"IF(ISNUMBER(F163),IF(AQ163<0.85,\"\",VLOOKUP(R163,F!A$2:X$23,VLOOKUP(F163,ages!B$1:C$23,2,1),1)),\"\")","v":""},{"$f":"IF(ISNUMBER(F163),IF(AR163<0.85,\"\",VLOOKUP(S163,G!A$2:X$23,VLOOKUP(F163,ages!B$1:C$23,2,1),1)),\"\")","v":""},{"$f":"IF(ISNUMBER(F163),IF(AS163<0.85,\"\",VLOOKUP(T163,H!A$2:X$23,VLOOKUP(F163,ages!B$1:C$23,2,1),1)),\"\")","v":""},{"$f":"IF(ISNUMBER(F163),IF(AT163<0.85,\"\",VLOOKUP(U163,I!A$2:X$23,VLOOKUP(F163,ages!B$1:C$23,2,1),1)),\"\")","v":""},{"$f":"IF(ISNUMBER(F163),IF(AU163<0.85,\"\",VLOOKUP(V163,J!A$2:X$23,VLOOKUP(F163,ages!B$1:C$23,2,1),1)),\"\")","v":""},"","","","",-1.0000000000000002E-6,0,0,0,0,0,0,0,0,0,0,0,null,null,null,null,null,null,null,null,null,null,null,null,null,null,null,null,null,null,null,null,null,null,null,null,null,null,null,null,null,null,null,null,null,null,null,null,null,null,null,null,null,null,null,null,null,null,null,null,null,null,null,null,null,null,null,null,null,null,null,null,null,null,null,null,null,null,null,null,null,null,-9.9999999999999995E-7,-9.9999999999999995E-7,-9.9999999999999995E-7,-9.9999999999999995E-7,-9.9999999999999995E-7,-9.9999999999999995E-7,-9.9999999999999995E-7,-9.9999999999999995E-7,-9.9999999999999995E-7,-9.9999999999999995E-7,-9.9999999999999995E-7,-9.9999999999999995E-7,-9.9999999999999995E-7,-9.9999999999999995E-7,-9.9999999999999995E-7,-9.9999999999999995E-7,-9.9999999999999995E-7,-9.9999999999999995E-7,-9.9999999999999995E-7,-9.9999999999999995E-7,{"$f":"IF(ISERROR(VLOOKUP(F163,ages!B$1:B$23,1,1)),\"\",VLOOKUP(F163,ages!B$1:B$23,1,1))","v":""},{"$f":"IF(ISERROR(VLOOKUP(F163,ages!B$1:D$23,3,1)),\"\",VLOOKUP(F163,ages!B$1:D$23,3,1))","v":""},0,0,0,0,0]
[null,null,null,null,null,"",null,null,null,null,null,null,"","","","","","","","","","",{"$f":"IF(ISNUMBER(F164),IF(AL164<0.85,\"\",VLOOKUP(M164,A!A$2:X$23,VLOOKUP(F164,ages!B$1:C$23,2,1),1)),\"\")","v":""},{"$f":"IF(ISNUMBER(F164),IF(AM164<0.85,\"\",VLOOKUP(N164,B!A$2:X$23,VLOOKUP(F164,ages!B$1:C$23,2,1),1)),\"\")","v":""},{"$f":"IF(ISNUMBER(F164),IF(AN164<0.85,\"\",VLOOKUP(O164,'C'!A$2:X$23,VLOOKUP(F164,ages!B$1:C$23,2,1),1)),\"\")","v":""},{"$f":"IF(ISNUMBER(F164),IF(AO164<0.85,\"\",VLOOKUP(P164,D!A$2:X$23,VLOOKUP(F164,ages!B$1:C$23,2,1),1)),\"\")","v":""},{"$f":"IF(ISNUMBER(F164),IF(AP164<0.85,\"\",VLOOKUP(Q164,E!A$2:X$23,VLOOKUP(F164,ages!B$1:C$23,2,1),1)),\"\")","v":""},{"$f":"IF(ISNUMBER(F164),IF(AQ164<0.85,\"\",VLOOKUP(R164,F!A$2:X$23,VLOOKUP(F164,ages!B$1:C$23,2,1),1)),\"\")","v":""},{"$f":"IF(ISNUMBER(F164),IF(AR164<0.85,\"\",VLOOKUP(S164,G!A$2:X$23,VLOOKUP(F164,ages!B$1:C$23,2,1),1)),\"\")","v":""},{"$f":"IF(ISNUMBER(F164),IF(AS164<0.85,\"\",VLOOKUP(T164,H!A$2:X$23,VLOOKUP(F164,ages!B$1:C$23,2,1),1)),\"\")","v":""},{"$f":"IF(ISNUMBER(F164),IF(AT164<0.85,\"\",VLOOKUP(U164,I!A$2:X$23,VLOOKUP(F164,ages!B$1:C$23,2,1),1)),\"\")","v":""},{"$f":"IF(ISNUMBER(F164),IF(AU164<0.85,\"\",VLOOKUP(V164,J!A$2:X$23,VLOOKUP(F164,ages!B$1:C$23,2,1),1)),\"\")","v":""},"","","","",-1.0000000000000002E-6,0,0,0,0,0,0,0,0,0,0,0,null,null,null,null,null,null,null,null,null,null,null,null,null,null,null,null,null,null,null,null,null,null,null,null,null,null,null,null,null,null,null,null,null,null,null,null,null,null,null,null,null,null,null,null,null,null,null,null,null,null,null,null,null,null,null,null,null,null,null,null,null,null,null,null,null,null,null,null,null,null,-9.9999999999999995E-7,-9.9999999999999995E-7,-9.9999999999999995E-7,-9.9999999999999995E-7,-9.9999999999999995E-7,-9.9999999999999995E-7,-9.9999999999999995E-7,-9.9999999999999995E-7,-9.9999999999999995E-7,-9.9999999999999995E-7,-9.9999999999999995E-7,-9.9999999999999995E-7,-9.9999999999999995E-7,-9.9999999999999995E-7,-9.9999999999999995E-7,-9.9999999999999995E-7,-9.9999999999999995E-7,-9.9999999999999995E-7,-9.9999999999999995E-7,-9.9999999999999995E-7,{"$f":"IF(ISERROR(VLOOKUP(F164,ages!B$1:B$23,1,1)),\"\",VLOOKUP(F164,ages!B$1:B$23,1,1))","v":""},{"$f":"IF(ISERROR(VLOOKUP(F164,ages!B$1:D$23,3,1)),\"\",VLOOKUP(F164,ages!B$1:D$23,3,1))","v":""},0,0,0,0,0]
[null,null,null,null,null,"",null,null,null,null,null,null,"","","","","","","","","","",{"$f":"IF(ISNUMBER(F165),IF(AL165<0.85,\"\",VLOOKUP(M165,A!A$2:X$23,VLOOKUP(F165,ages!B$1:C$23,2,1),1)),\"\")","v":""},{"$f":"IF(ISNUMBER(F165),IF(AM165<0.85,\"\",VLOOKUP(N165,B!A$2:X$23,VLOOKUP(F165,ages!B$1:C$23,2,1),1)),\"\")","v":""},{"$f":"IF(ISNUMBER(F165),IF(AN165<0.85,\"\",VLOOKUP(O165,'C'!A$2:X$23,VLOOKUP(F165,ages!B$1:C$23,2,1),1)),\"\")","v":""},{"$f":"IF(ISNUMBER(F165),IF(AO165<0.85,\"\",VLOOKUP(P165,D!A$2:X$23,VLOOKUP(F165,ages!B$1:C$23,2,1),1)),\"\")","v":""},{"$f":"IF(ISNUMBER(F165),IF(AP165<0.85,\"\",VLOOKUP(Q165,E!A$2:X$23,VLOOKUP(F165,ages!B$1:C$23,2,1),1)),\"\")","v":""},{"$f":"IF(ISNUMBER(F165),IF(AQ165<0.85,\"\",VLOOKUP(R165,F!A$2:X$23,VLOOKUP(F165,ages!B$1:C$23,2,1),1)),\"\")","v":""},{"$f":"IF(ISNUMBER(F165),IF(AR165<0.85,\"\",VLOOKUP(S165,G!A$2:X$23,VLOOKUP(F165,ages!B$1:C$23,2,1),1)),\"\")","v":""},{"$f":"IF(ISNUMBER(F165),IF(AS165<0.85,\"\",VLOOKUP(T165,H!A$2:X$23,VLOOKUP(F165,ages!B$1:C$23,2,1),1)),\"\")","v":""},{"$f":"IF(ISNUMBER(F165),IF(AT165<0.85,\"\",VLOOKUP(U165,I!A$2:X$23,VLOOKUP(F165,ages!B$1:C$23,2,1),1)),\"\")","v":""},{"$f":"IF(ISNUMBER(F165),IF(AU165<0.85,\"\",VLOOKUP(V165,J!A$2:X$23,VLOOKUP(F165,ages!B$1:C$23,2,1),1)),\"\")","v":""},"","","","",-1.0000000000000002E-6,0,0,0,0,0,0,0,0,0,0,0,null,null,null,null,null,null,null,null,null,null,null,null,null,null,null,null,null,null,null,null,null,null,null,null,null,null,null,null,null,null,null,null,null,null,null,null,null,null,null,null,null,null,null,null,null,null,null,null,null,null,null,null,null,null,null,null,null,null,null,null,null,null,null,null,null,null,null,null,null,null,-9.9999999999999995E-7,-9.9999999999999995E-7,-9.9999999999999995E-7,-9.9999999999999995E-7,-9.9999999999999995E-7,-9.9999999999999995E-7,-9.9999999999999995E-7,-9.9999999999999995E-7,-9.9999999999999995E-7,-9.9999999999999995E-7,-9.9999999999999995E-7,-9.9999999999999995E-7,-9.9999999999999995E-7,-9.9999999999999995E-7,-9.9999999999999995E-7,-9.9999999999999995E-7,-9.9999999999999995E-7,-9.9999999999999995E-7,-9.9999999999999995E-7,-9.9999999999999995E-7,{"$f":"IF(ISERROR(VLOOKUP(F165,ages!B$1:B$23,1,1)),\"\",VLOOKUP(F165,ages!B$1:B$23,1,1))","v":""},{"$f":"IF(ISERROR(VLOOKUP(F165,ages!B$1:D$23,3,1)),\"\",VLOOKUP(F165,ages!B$1:D$23,3,1))","v":""},0,0,0,0,0]
[null,null,null,null,null,"",null,null,null,null,null,null,"","","","","","","","","","",{"$f":"IF(ISNUMBER(F166),IF(AL166<0.85,\"\",VLOOKUP(M166,A!A$2:X$23,VLOOKUP(F166,ages!B$1:C$23,2,1),1)),\"\")","v":""},{"$f":"IF(ISNUMBER(F166),IF(AM166<0.85,\"\",VLOOKUP(N166,B!A$2:X$23,VLOOKUP(F166,ages!B$1:C$23,2,1),1)),\"\")","v":""},{"$f":"IF(ISNUMBER(F166),IF(AN166<0.85,\"\",VLOOKUP(O166,'C'!A$2:X$23,VLOOKUP(F166,ages!B$1:C$23,2,1),1)),\"\")","v":""},{"$f":"IF(ISNUMBER(F166),IF(AO166<0.85,\"\",VLOOKUP(P166,D!A$2:X$23,VLOOKUP(F166,ages!B$1:C$23,2,1),1)),\"\")","v":""},{"$f":"IF(ISNUMBER(F166),IF(AP166<0.85,\"\",VLOOKUP(Q166,E!A$2:X$23,VLOOKUP(F166,ages!B$1:C$23,2,1),1)),\"\")","v":""},{"$f":"IF(ISNUMBER(F166),IF(AQ166<0.85,\"\",VLOOKUP(R166,F!A$2:X$23,VLOOKUP(F166,ages!B$1:C$23,2,1),1)),\"\")","v":""},{"$f":"IF(ISNUMBER(F166),IF(AR166<0.85,\"\",VLOOKUP(S166,G!A$2:X$23,VLOOKUP(F166,ages!B$1:C$23,2,1),1)),\"\")","v":""},{"$f":"IF(ISNUMBER(F166),IF(AS166<0.85,\"\",VLOOKUP(T166,H!A$2:X$23,VLOOKUP(F166,ages!B$1:C$23,2,1),1)),\"\")","v":""},{"$f":"IF(ISNUMBER(F166),IF(AT166<0.85,\"\",VLOOKUP(U166,I!A$2:X$23,VLOOKUP(F166,ages!B$1:C$23,2,1),1)),\"\")","v":""},{"$f":"IF(ISNUMBER(F166),IF(AU166<0.85,\"\",VLOOKUP(V166,J!A$2:X$23,VLOOKUP(F166,ages!B$1:C$23,2,1),1)),\"\")","v":""},"","","","",-1.0000000000000002E-6,0,0,0,0,0,0,0,0,0,0,0,null,null,null,null,null,null,null,null,null,null,null,null,null,null,null,null,null,null,null,null,null,null,null,null,null,null,null,null,null,null,null,null,null,null,null,null,null,null,null,null,null,null,null,null,null,null,null,null,null,null,null,null,null,null,null,null,null,null,null,null,null,null,null,null,null,null,null,null,null,null,-9.9999999999999995E-7,-9.9999999999999995E-7,-9.9999999999999995E-7,-9.9999999999999995E-7,-9.9999999999999995E-7,-9.9999999999999995E-7,-9.9999999999999995E-7,-9.9999999999999995E-7,-9.9999999999999995E-7,-9.9999999999999995E-7,-9.9999999999999995E-7,-9.9999999999999995E-7,-9.9999999999999995E-7,-9.9999999999999995E-7,-9.9999999999999995E-7,-9.9999999999999995E-7,-9.9999999999999995E-7,-9.9999999999999995E-7,-9.9999999999999995E-7,-9.9999999999999995E-7,{"$f":"IF(ISERROR(VLOOKUP(F166,ages!B$1:B$23,1,1)),\"\",VLOOKUP(F166,ages!B$1:B$23,1,1))","v":""},{"$f":"IF(ISERROR(VLOOKUP(F166,ages!B$1:D$23,3,1)),\"\",VLOOKUP(F166,ages!B$1:D$23,3,1))","v":""},0,0,0,0,0]
[null,null,null,null,null,"",null,null,null,null,null,null,"","","","","","","","","","",{"$f":"IF(ISNUMBER(F167),IF(AL167<0.85,\"\",VLOOKUP(M167,A!A$2:X$23,VLOOKUP(F167,ages!B$1:C$23,2,1),1)),\"\")","v":""},{"$f":"IF(ISNUMBER(F167),IF(AM167<0.85,\"\",VLOOKUP(N167,B!A$2:X$23,VLOOKUP(F167,ages!B$1:C$23,2,1),1)),\"\")","v":""},{"$f":"IF(ISNUMBER(F167),IF(AN167<0.85,\"\",VLOOKUP(O167,'C'!A$2:X$23,VLOOKUP(F167,ages!B$1:C$23,2,1),1)),\"\")","v":""},{"$f":"IF(ISNUMBER(F167),IF(AO167<0.85,\"\",VLOOKUP(P167,D!A$2:X$23,VLOOKUP(F167,ages!B$1:C$23,2,1),1)),\"\")","v":""},{"$f":"IF(ISNUMBER(F167),IF(AP167<0.85,\"\",VLOOKUP(Q167,E!A$2:X$23,VLOOKUP(F167,ages!B$1:C$23,2,1),1)),\"\")","v":""},{"$f":"IF(ISNUMBER(F167),IF(AQ167<0.85,\"\",VLOOKUP(R167,F!A$2:X$23,VLOOKUP(F167,ages!B$1:C$23,2,1),1)),\"\")","v":""},{"$f":"IF(ISNUMBER(F167),IF(AR167<0.85,\"\",VLOOKUP(S167,G!A$2:X$23,VLOOKUP(F167,ages!B$1:C$23,2,1),1)),\"\")","v":""},{"$f":"IF(ISNUMBER(F167),IF(AS167<0.85,\"\",VLOOKUP(T167,H!A$2:X$23,VLOOKUP(F167,ages!B$1:C$23,2,1),1)),\"\")","v":""},{"$f":"IF(ISNUMBER(F167),IF(AT167<0.85,\"\",VLOOKUP(U167,I!A$2:X$23,VLOOKUP(F167,ages!B$1:C$23,2,1),1)),\"\")","v":""},{"$f":"IF(ISNUMBER(F167),IF(AU167<0.85,\"\",VLOOKUP(V167,J!A$2:X$23,VLOOKUP(F167,ages!B$1:C$23,2,1),1)),\"\")","v":""},"","","","",-1.0000000000000002E-6,0,0,0,0,0,0,0,0,0,0,0,null,null,null,null,null,null,null,null,null,null,null,null,null,null,null,null,null,null,null,null,null,null,null,null,null,null,null,null,null,null,null,null,null,null,null,null,null,null,null,null,null,null,null,null,null,null,null,null,null,null,null,null,null,null,null,null,null,null,null,null,null,null,null,null,null,null,null,null,null,null,-9.9999999999999995E-7,-9.9999999999999995E-7,-9.9999999999999995E-7,-9.9999999999999995E-7,-9.9999999999999995E-7,-9.9999999999999995E-7,-9.9999999999999995E-7,-9.9999999999999995E-7,-9.9999999999999995E-7,-9.9999999999999995E-7,-9.9999999999999995E-7,-9.9999999999999995E-7,-9.9999999999999995E-7,-9.9999999999999995E-7,-9.9999999999999995E-7,-9.9999999999999995E-7,-9.9999999999999995E-7,-9.9999999999999995E-7,-9.9999999999999995E-7,-9.9999999999999995E-7,{"$f":"IF(ISERROR(VLOOKUP(F167,ages!B$1:B$23,1,1)),\"\",VLOOKUP(F167,ages!B$1:B$23,1,1))","v":""},{"$f":"IF(ISERROR(VLOOKUP(F167,ages!B$1:D$23,3,1)),\"\",VLOOKUP(F167,ages!B$1:D$23,3,1))","v":""},0,0,0,0,0]
[null,null,null,null,null,"",null,null,null,null,null,null,"","","","","","","","","","",{"$f":"IF(ISNUMBER(F168),IF(AL168<0.85,\"\",VLOOKUP(M168,A!A$2:X$23,VLOOKUP(F168,ages!B$1:C$23,2,1),1)),\"\")","v":""},{"$f":"IF(ISNUMBER(F168),IF(AM168<0.85,\"\",VLOOKUP(N168,B!A$2:X$23,VLOOKUP(F168,ages!B$1:C$23,2,1),1)),\"\")","v":""},{"$f":"IF(ISNUMBER(F168),IF(AN168<0.85,\"\",VLOOKUP(O168,'C'!A$2:X$23,VLOOKUP(F168,ages!B$1:C$23,2,1),1)),\"\")","v":""},{"$f":"IF(ISNUMBER(F168),IF(AO168<0.85,\"\",VLOOKUP(P168,D!A$2:X$23,VLOOKUP(F168,ages!B$1:C$23,2,1),1)),\"\")","v":""},{"$f":"IF(ISNUMBER(F168),IF(AP168<0.85,\"\",VLOOKUP(Q168,E!A$2:X$23,VLOOKUP(F168,ages!B$1:C$23,2,1),1)),\"\")","v":""},{"$f":"IF(ISNUMBER(F168),IF(AQ168<0.85,\"\",VLOOKUP(R168,F!A$2:X$23,VLOOKUP(F168,ages!B$1:C$23,2,1),1)),\"\")","v":""},{"$f":"IF(ISNUMBER(F168),IF(AR168<0.85,\"\",VLOOKUP(S168,G!A$2:X$23,VLOOKUP(F168,ages!B$1:C$23,2,1),1)),\"\")","v":""},{"$f":"IF(ISNUMBER(F168),IF(AS168<0.85,\"\",VLOOKUP(T168,H!A$2:X$23,VLOOKUP(F168,ages!B$1:C$23,2,1),1)),\"\")","v":""},{"$f":"IF(ISNUMBER(F168),IF(AT168<0.85,\"\",VLOOKUP(U168,I!A$2:X$23,VLOOKUP(F168,ages!B$1:C$23,2,1),1)),\"\")","v":""},{"$f":"IF(ISNUMBER(F168),IF(AU168<0.85,\"\",VLOOKUP(V168,J!A$2:X$23,VLOOKUP(F168,ages!B$1:C$23,2,1),1)),\"\")","v":""},"","","","",-1.0000000000000002E-6,0,0,0,0,0,0,0,0,0,0,0,null,null,null,null,null,null,null,null,null,null,null,null,null,null,null,null,null,null,null,null,null,null,null,null,null,null,null,null,null,null,null,null,null,null,null,null,null,null,null,null,null,null,null,null,null,null,null,null,null,null,null,null,null,null,null,null,null,null,null,null,null,null,null,null,null,null,null,null,null,null,-9.9999999999999995E-7,-9.9999999999999995E-7,-9.9999999999999995E-7,-9.9999999999999995E-7,-9.9999999999999995E-7,-9.9999999999999995E-7,-9.9999999999999995E-7,-9.9999999999999995E-7,-9.9999999999999995E-7,-9.9999999999999995E-7,-9.9999999999999995E-7,-9.9999999999999995E-7,-9.9999999999999995E-7,-9.9999999999999995E-7,-9.9999999999999995E-7,-9.9999999999999995E-7,-9.9999999999999995E-7,-9.9999999999999995E-7,-9.9999999999999995E-7,-9.9999999999999995E-7,{"$f":"IF(ISERROR(VLOOKUP(F168,ages!B$1:B$23,1,1)),\"\",VLOOKUP(F168,ages!B$1:B$23,1,1))","v":""},{"$f":"IF(ISERROR(VLOOKUP(F168,ages!B$1:D$23,3,1)),\"\",VLOOKUP(F168,ages!B$1:D$23,3,1))","v":""},0,0,0,0,0]
[null,null,null,null,null,"",null,null,null,null,null,null,"","","","","","","","","","",{"$f":"IF(ISNUMBER(F169),IF(AL169<0.85,\"\",VLOOKUP(M169,A!A$2:X$23,VLOOKUP(F169,ages!B$1:C$23,2,1),1)),\"\")","v":""},{"$f":"IF(ISNUMBER(F169),IF(AM169<0.85,\"\",VLOOKUP(N169,B!A$2:X$23,VLOOKUP(F169,ages!B$1:C$23,2,1),1)),\"\")","v":""},{"$f":"IF(ISNUMBER(F169),IF(AN169<0.85,\"\",VLOOKUP(O169,'C'!A$2:X$23,VLOOKUP(F169,ages!B$1:C$23,2,1),1)),\"\")","v":""},{"$f":"IF(ISNUMBER(F169),IF(AO169<0.85,\"\",VLOOKUP(P169,D!A$2:X$23,VLOOKUP(F169,ages!B$1:C$23,2,1),1)),\"\")","v":""},{"$f":"IF(ISNUMBER(F169),IF(AP169<0.85,\"\",VLOOKUP(Q169,E!A$2:X$23,VLOOKUP(F169,ages!B$1:C$23,2,1),1)),\"\")","v":""},{"$f":"IF(ISNUMBER(F169),IF(AQ169<0.85,\"\",VLOOKUP(R169,F!A$2:X$23,VLOOKUP(F169,ages!B$1:C$23,2,1),1)),\"\")","v":""},{"$f":"IF(ISNUMBER(F169),IF(AR169<0.85,\"\",VLOOKUP(S169,G!A$2:X$23,VLOOKUP(F169,ages!B$1:C$23,2,1),1)),\"\")","v":""},{"$f":"IF(ISNUMBER(F169),IF(AS169<0.85,\"\",VLOOKUP(T169,H!A$2:X$23,VLOOKUP(F169,ages!B$1:C$23,2,1),1)),\"\")","v":""},{"$f":"IF(ISNUMBER(F169),IF(AT169<0.85,\"\",VLOOKUP(U169,I!A$2:X$23,VLOOKUP(F169,ages!B$1:C$23,2,1),1)),\"\")","v":""},{"$f":"IF(ISNUMBER(F169),IF(AU169<0.85,\"\",VLOOKUP(V169,J!A$2:X$23,VLOOKUP(F169,ages!B$1:C$23,2,1),1)),\"\")","v":""},"","","","",-1.0000000000000002E-6,0,0,0,0,0,0,0,0,0,0,0,null,null,null,null,null,null,null,null,null,null,null,null,null,null,null,null,null,null,null,null,null,null,null,null,null,null,null,null,null,null,null,null,null,null,null,null,null,null,null,null,null,null,null,null,null,null,null,null,null,null,null,null,null,null,null,null,null,null,null,null,null,null,null,null,null,null,null,null,null,null,-9.9999999999999995E-7,-9.9999999999999995E-7,-9.9999999999999995E-7,-9.9999999999999995E-7,-9.9999999999999995E-7,-9.9999999999999995E-7,-9.9999999999999995E-7,-9.9999999999999995E-7,-9.9999999999999995E-7,-9.9999999999999995E-7,-9.9999999999999995E-7,-9.9999999999999995E-7,-9.9999999999999995E-7,-9.9999999999999995E-7,-9.9999999999999995E-7,-9.9999999999999995E-7,-9.9999999999999995E-7,-9.9999999999999995E-7,-9.9999999999999995E-7,-9.9999999999999995E-7,{"$f":"IF(ISERROR(VLOOKUP(F169,ages!B$1:B$23,1,1)),\"\",VLOOKUP(F169,ages!B$1:B$23,1,1))","v":""},{"$f":"IF(ISERROR(VLOOKUP(F169,ages!B$1:D$23,3,1)),\"\",VLOOKUP(F169,ages!B$1:D$23,3,1))","v":""},0,0,0,0,0]
[null,null,null,null,null,"",null,null,null,null,null,null,"","","","","","","","","","",{"$f":"IF(ISNUMBER(F170),IF(AL170<0.85,\"\",VLOOKUP(M170,A!A$2:X$23,VLOOKUP(F170,ages!B$1:C$23,2,1),1)),\"\")","v":""},{"$f":"IF(ISNUMBER(F170),IF(AM170<0.85,\"\",VLOOKUP(N170,B!A$2:X$23,VLOOKUP(F170,ages!B$1:C$23,2,1),1)),\"\")","v":""},{"$f":"IF(ISNUMBER(F170),IF(AN170<0.85,\"\",VLOOKUP(O170,'C'!A$2:X$23,VLOOKUP(F170,ages!B$1:C$23,2,1),1)),\"\")","v":""},{"$f":"IF(ISNUMBER(F170),IF(AO170<0.85,\"\",VLOOKUP(P170,D!A$2:X$23,VLOOKUP(F170,ages!B$1:C$23,2,1),1)),\"\")","v":""},{"$f":"IF(ISNUMBER(F170),IF(AP170<0.85,\"\",VLOOKUP(Q170,E!A$2:X$23,VLOOKUP(F170,ages!B$1:C$23,2,1),1)),\"\")","v":""},{"$f":"IF(ISNUMBER(F170),IF(AQ170<0.85,\"\",VLOOKUP(R170,F!A$2:X$23,VLOOKUP(F170,ages!B$1:C$23,2,1),1)),\"\")","v":""},{"$f":"IF(ISNUMBER(F170),IF(AR170<0.85,\"\",VLOOKUP(S170,G!A$2:X$23,VLOOKUP(F170,ages!B$1:C$23,2,1),1)),\"\")","v":""},{"$f":"IF(ISNUMBER(F170),IF(AS170<0.85,\"\",VLOOKUP(T170,H!A$2:X$23,VLOOKUP(F170,ages!B$1:C$23,2,1),1)),\"\")","v":""},{"$f":"IF(ISNUMBER(F170),IF(AT170<0.85,\"\",VLOOKUP(U170,I!A$2:X$23,VLOOKUP(F170,ages!B$1:C$23,2,1),1)),\"\")","v":""},{"$f":"IF(ISNUMBER(F170),IF(AU170<0.85,\"\",VLOOKUP(V170,J!A$2:X$23,VLOOKUP(F170,ages!B$1:C$23,2,1),1)),\"\")","v":""},"","","","",-1.0000000000000002E-6,0,0,0,0,0,0,0,0,0,0,0,null,null,null,null,null,null,null,null,null,null,null,null,null,null,null,null,null,null,null,null,null,null,null,null,null,null,null,null,null,null,null,null,null,null,null,null,null,null,null,null,null,null,null,null,null,null,null,null,null,null,null,null,null,null,null,null,null,null,null,null,null,null,null,null,null,null,null,null,null,null,-9.9999999999999995E-7,-9.9999999999999995E-7,-9.9999999999999995E-7,-9.9999999999999995E-7,-9.9999999999999995E-7,-9.9999999999999995E-7,-9.9999999999999995E-7,-9.9999999999999995E-7,-9.9999999999999995E-7,-9.9999999999999995E-7,-9.9999999999999995E-7,-9.9999999999999995E-7,-9.9999999999999995E-7,-9.9999999999999995E-7,-9.9999999999999995E-7,-9.9999999999999995E-7,-9.9999999999999995E-7,-9.9999999999999995E-7,-9.9999999999999995E-7,-9.9999999999999995E-7,{"$f":"IF(ISERROR(VLOOKUP(F170,ages!B$1:B$23,1,1)),\"\",VLOOKUP(F170,ages!B$1:B$23,1,1))","v":""},{"$f":"IF(ISERROR(VLOOKUP(F170,ages!B$1:D$23,3,1)),\"\",VLOOKUP(F170,ages!B$1:D$23,3,1))","v":""},0,0,0,0,0]
[null,null,null,null,null,"",null,null,null,null,null,null,"","","","","","","","","","",{"$f":"IF(ISNUMBER(F171),IF(AL171<0.85,\"\",VLOOKUP(M171,A!A$2:X$23,VLOOKUP(F171,ages!B$1:C$23,2,1),1)),\"\")","v":""},{"$f":"IF(ISNUMBER(F171),IF(AM171<0.85,\"\",VLOOKUP(N171,B!A$2:X$23,VLOOKUP(F171,ages!B$1:C$23,2,1),1)),\"\")","v":""},{"$f":"IF(ISNUMBER(F171),IF(AN171<0.85,\"\",VLOOKUP(O171,'C'!A$2:X$23,VLOOKUP(F171,ages!B$1:C$23,2,1),1)),\"\")","v":""},{"$f":"IF(ISNUMBER(F171),IF(AO171<0.85,\"\",VLOOKUP(P171,D!A$2:X$23,VLOOKUP(F171,ages!B$1:C$23,2,1),1)),\"\")","v":""},{"$f":"IF(ISNUMBER(F171),IF(AP171<0.85,\"\",VLOOKUP(Q171,E!A$2:X$23,VLOOKUP(F171,ages!B$1:C$23,2,1),1)),\"\")","v":""},{"$f":"IF(ISNUMBER(F171),IF(AQ171<0.85,\"\",VLOOKUP(R171,F!A$2:X$23,VLOOKUP(F171,ages!B$1:C$23,2,1),1)),\"\")","v":""},{"$f":"IF(ISNUMBER(F171),IF(AR171<0.85,\"\",VLOOKUP(S171,G!A$2:X$23,VLOOKUP(F171,ages!B$1:C$23,2,1),1)),\"\")","v":""},{"$f":"IF(ISNUMBER(F171),IF(AS171<0.85,\"\",VLOOKUP(T171,H!A$2:X$23,VLOOKUP(F171,ages!B$1:C$23,2,1),1)),\"\")","v":""},{"$f":"IF(ISNUMBER(F171),IF(AT171<0.85,\"\",VLOOKUP(U171,I!A$2:X$23,VLOOKUP(F171,ages!B$1:C$23,2,1),1)),\"\")","v":""},{"$f":"IF(ISNUMBER(F171),IF(AU171<0.85,\"\",VLOOKUP(V171,J!A$2:X$23,VLOOKUP(F171,ages!B$1:C$23,2,1),1)),\"\")","v":""},"","","","",-1.0000000000000002E-6,0,0,0,0,0,0,0,0,0,0,0,null,null,null,null,null,null,null,null,null,null,null,null,null,null,null,null,null,null,null,null,null,null,null,null,null,null,null,null,null,null,null,null,null,null,null,null,null,null,null,null,null,null,null,null,null,null,null,null,null,null,null,null,null,null,null,null,null,null,null,null,null,null,null,null,null,null,null,null,null,null,-9.9999999999999995E-7,-9.9999999999999995E-7,-9.9999999999999995E-7,-9.9999999999999995E-7,-9.9999999999999995E-7,-9.9999999999999995E-7,-9.9999999999999995E-7,-9.9999999999999995E-7,-9.9999999999999995E-7,-9.9999999999999995E-7,-9.9999999999999995E-7,-9.9999999999999995E-7,-9.9999999999999995E-7,-9.9999999999999995E-7,-9.9999999999999995E-7,-9.9999999999999995E-7,-9.9999999999999995E-7,-9.9999999999999995E-7,-9.9999999999999995E-7,-9.9999999999999995E-7,{"$f":"IF(ISERROR(VLOOKUP(F171,ages!B$1:B$23,1,1)),\"\",VLOOKUP(F171,ages!B$1:B$23,1,1))","v":""},{"$f":"IF(ISERROR(VLOOKUP(F171,ages!B$1:D$23,3,1)),\"\",VLOOKUP(F171,ages!B$1:D$23,3,1))","v":""},0,0,0,0,0]
[null,null,null,null,null,"",null,null,null,null,null,null,"","","","","","","","","","",{"$f":"IF(ISNUMBER(F172),IF(AL172<0.85,\"\",VLOOKUP(M172,A!A$2:X$23,VLOOKUP(F172,ages!B$1:C$23,2,1),1)),\"\")","v":""},{"$f":"IF(ISNUMBER(F172),IF(AM172<0.85,\"\",VLOOKUP(N172,B!A$2:X$23,VLOOKUP(F172,ages!B$1:C$23,2,1),1)),\"\")","v":""},{"$f":"IF(ISNUMBER(F172),IF(AN172<0.85,\"\",VLOOKUP(O172,'C'!A$2:X$23,VLOOKUP(F172,ages!B$1:C$23,2,1),1)),\"\")","v":""},{"$f":"IF(ISNUMBER(F172),IF(AO172<0.85,\"\",VLOOKUP(P172,D!A$2:X$23,VLOOKUP(F172,ages!B$1:C$23,2,1),1)),\"\")","v":""},{"$f":"IF(ISNUMBER(F172),IF(AP172<0.85,\"\",VLOOKUP(Q172,E!A$2:X$23,VLOOKUP(F172,ages!B$1:C$23,2,1),1)),\"\")","v":""},{"$f":"IF(ISNUMBER(F172),IF(AQ172<0.85,\"\",VLOOKUP(R172,F!A$2:X$23,VLOOKUP(F172,ages!B$1:C$23,2,1),1)),\"\")","v":""},{"$f":"IF(ISNUMBER(F172),IF(AR172<0.85,\"\",VLOOKUP(S172,G!A$2:X$23,VLOOKUP(F172,ages!B$1:C$23,2,1),1)),\"\")","v":""},{"$f":"IF(ISNUMBER(F172),IF(AS172<0.85,\"\",VLOOKUP(T172,H!A$2:X$23,VLOOKUP(F172,ages!B$1:C$23,2,1),1)),\"\")","v":""},{"$f":"IF(ISNUMBER(F172),IF(AT172<0.85,\"\",VLOOKUP(U172,I!A$2:X$23,VLOOKUP(F172,ages!B$1:C$23,2,1),1)),\"\")","v":""},{"$f":"IF(ISNUMBER(F172),IF(AU172<0.85,\"\",VLOOKUP(V172,J!A$2:X$23,VLOOKUP(F172,ages!B$1:C$23,2,1),1)),\"\")","v":""},"","","","",-1.0000000000000002E-6,0,0,0,0,0,0,0,0,0,0,0,null,null,null,null,null,null,null,null,null,null,null,null,null,null,null,null,null,null,null,null,null,null,null,null,null,null,null,null,null,null,null,null,null,null,null,null,null,null,null,null,null,null,null,null,null,null,null,null,null,null,null,null,null,null,null,null,null,null,null,null,null,null,null,null,null,null,null,null,null,null,-9.9999999999999995E-7,-9.9999999999999995E-7,-9.9999999999999995E-7,-9.9999999999999995E-7,-9.9999999999999995E-7,-9.9999999999999995E-7,-9.9999999999999995E-7,-9.9999999999999995E-7,-9.9999999999999995E-7,-9.9999999999999995E-7,-9.9999999999999995E-7,-9.9999999999999995E-7,-9.9999999999999995E-7,-9.9999999999999995E-7,-9.9999999999999995E-7,-9.9999999999999995E-7,-9.9999999999999995E-7,-9.9999999999999995E-7,-9.9999999999999995E-7,-9.9999999999999995E-7,{"$f":"IF(ISERROR(VLOOKUP(F172,ages!B$1:B$23,1,1)),\"\",VLOOKUP(F172,ages!B$1:B$23,1,1))","v":""},{"$f":"IF(ISERROR(VLOOKUP(F172,ages!B$1:D$23,3,1)),\"\",VLOOKUP(F172,ages!B$1:D$23,3,1))","v":""},0,0,0,0,0]
[null,null,null,null,null,"",null,null,null,null,null,null,"","","","","","","","","","",{"$f":"IF(ISNUMBER(F173),IF(AL173<0.85,\"\",VLOOKUP(M173,A!A$2:X$23,VLOOKUP(F173,ages!B$1:C$23,2,1),1)),\"\")","v":""},{"$f":"IF(ISNUMBER(F173),IF(AM173<0.85,\"\",VLOOKUP(N173,B!A$2:X$23,VLOOKUP(F173,ages!B$1:C$23,2,1),1)),\"\")","v":""},{"$f":"IF(ISNUMBER(F173),IF(AN173<0.85,\"\",VLOOKUP(O173,'C'!A$2:X$23,VLOOKUP(F173,ages!B$1:C$23,2,1),1)),\"\")","v":""},{"$f":"IF(ISNUMBER(F173),IF(AO173<0.85,\"\",VLOOKUP(P173,D!A$2:X$23,VLOOKUP(F173,ages!B$1:C$23,2,1),1)),\"\")","v":""},{"$f":"IF(ISNUMBER(F173),IF(AP173<0.85,\"\",VLOOKUP(Q173,E!A$2:X$23,VLOOKUP(F173,ages!B$1:C$23,2,1),1)),\"\")","v":""},{"$f":"IF(ISNUMBER(F173),IF(AQ173<0.85,\"\",VLOOKUP(R173,F!A$2:X$23,VLOOKUP(F173,ages!B$1:C$23,2,1),1)),\"\")","v":""},{"$f":"IF(ISNUMBER(F173),IF(AR173<0.85,\"\",VLOOKUP(S173,G!A$2:X$23,VLOOKUP(F173,ages!B$1:C$23,2,1),1)),\"\")","v":""},{"$f":"IF(ISNUMBER(F173),IF(AS173<0.85,\"\",VLOOKUP(T173,H!A$2:X$23,VLOOKUP(F173,ages!B$1:C$23,2,1),1)),\"\")","v":""},{"$f":"IF(ISNUMBER(F173),IF(AT173<0.85,\"\",VLOOKUP(U173,I!A$2:X$23,VLOOKUP(F173,ages!B$1:C$23,2,1),1)),\"\")","v":""},{"$f":"IF(ISNUMBER(F173),IF(AU173<0.85,\"\",VLOOKUP(V173,J!A$2:X$23,VLOOKUP(F173,ages!B$1:C$23,2,1),1)),\"\")","v":""},"","","","",-1.0000000000000002E-6,0,0,0,0,0,0,0,0,0,0,0,null,null,null,null,null,null,null,null,null,null,null,null,null,null,null,null,null,null,null,null,null,null,null,null,null,null,null,null,null,null,null,null,null,null,null,null,null,null,null,null,null,null,null,null,null,null,null,null,null,null,null,null,null,null,null,null,null,null,null,null,null,null,null,null,null,null,null,null,null,null,-9.9999999999999995E-7,-9.9999999999999995E-7,-9.9999999999999995E-7,-9.9999999999999995E-7,-9.9999999999999995E-7,-9.9999999999999995E-7,-9.9999999999999995E-7,-9.9999999999999995E-7,-9.9999999999999995E-7,-9.9999999999999995E-7,-9.9999999999999995E-7,-9.9999999999999995E-7,-9.9999999999999995E-7,-9.9999999999999995E-7,-9.9999999999999995E-7,-9.9999999999999995E-7,-9.9999999999999995E-7,-9.9999999999999995E-7,-9.9999999999999995E-7,-9.9999999999999995E-7,{"$f":"IF(ISERROR(VLOOKUP(F173,ages!B$1:B$23,1,1)),\"\",VLOOKUP(F173,ages!B$1:B$23,1,1))","v":""},{"$f":"IF(ISERROR(VLOOKUP(F173,ages!B$1:D$23,3,1)),\"\",VLOOKUP(F173,ages!B$1:D$23,3,1))","v":""},0,0,0,0,0]
[null,null,null,null,null,"",null,null,null,null,null,null,"","","","","","","","","","",{"$f":"IF(ISNUMBER(F174),IF(AL174<0.85,\"\",VLOOKUP(M174,A!A$2:X$23,VLOOKUP(F174,ages!B$1:C$23,2,1),1)),\"\")","v":""},{"$f":"IF(ISNUMBER(F174),IF(AM174<0.85,\"\",VLOOKUP(N174,B!A$2:X$23,VLOOKUP(F174,ages!B$1:C$23,2,1),1)),\"\")","v":""},{"$f":"IF(ISNUMBER(F174),IF(AN174<0.85,\"\",VLOOKUP(O174,'C'!A$2:X$23,VLOOKUP(F174,ages!B$1:C$23,2,1),1)),\"\")","v":""},{"$f":"IF(ISNUMBER(F174),IF(AO174<0.85,\"\",VLOOKUP(P174,D!A$2:X$23,VLOOKUP(F174,ages!B$1:C$23,2,1),1)),\"\")","v":""},{"$f":"IF(ISNUMBER(F174),IF(AP174<0.85,\"\",VLOOKUP(Q174,E!A$2:X$23,VLOOKUP(F174,ages!B$1:C$23,2,1),1)),\"\")","v":""},{"$f":"IF(ISNUMBER(F174),IF(AQ174<0.85,\"\",VLOOKUP(R174,F!A$2:X$23,VLOOKUP(F174,ages!B$1:C$23,2,1),1)),\"\")","v":""},{"$f":"IF(ISNUMBER(F174),IF(AR174<0.85,\"\",VLOOKUP(S174,G!A$2:X$23,VLOOKUP(F174,ages!B$1:C$23,2,1),1)),\"\")","v":""},{"$f":"IF(ISNUMBER(F174),IF(AS174<0.85,\"\",VLOOKUP(T174,H!A$2:X$23,VLOOKUP(F174,ages!B$1:C$23,2,1),1)),\"\")","v":""},{"$f":"IF(ISNUMBER(F174),IF(AT174<0.85,\"\",VLOOKUP(U174,I!A$2:X$23,VLOOKUP(F174,ages!B$1:C$23,2,1),1)),\"\")","v":""},{"$f":"IF(ISNUMBER(F174),IF(AU174<0.85,\"\",VLOOKUP(V174,J!A$2:X$23,VLOOKUP(F174,ages!B$1:C$23,2,1),1)),\"\")","v":""},"","","","",-1.0000000000000002E-6,0,0,0,0,0,0,0,0,0,0,0,null,null,null,null,null,null,null,null,null,null,null,null,null,null,null,null,null,null,null,null,null,null,null,null,null,null,null,null,null,null,null,null,null,null,null,null,null,null,null,null,null,null,null,null,null,null,null,null,null,null,null,null,null,null,null,null,null,null,null,null,null,null,null,null,null,null,null,null,null,null,-9.9999999999999995E-7,-9.9999999999999995E-7,-9.9999999999999995E-7,-9.9999999999999995E-7,-9.9999999999999995E-7,-9.9999999999999995E-7,-9.9999999999999995E-7,-9.9999999999999995E-7,-9.9999999999999995E-7,-9.9999999999999995E-7,-9.9999999999999995E-7,-9.9999999999999995E-7,-9.9999999999999995E-7,-9.9999999999999995E-7,-9.9999999999999995E-7,-9.9999999999999995E-7,-9.9999999999999995E-7,-9.9999999999999995E-7,-9.9999999999999995E-7,-9.9999999999999995E-7,{"$f":"IF(ISERROR(VLOOKUP(F174,ages!B$1:B$23,1,1)),\"\",VLOOKUP(F174,ages!B$1:B$23,1,1))","v":""},{"$f":"IF(ISERROR(VLOOKUP(F174,ages!B$1:D$23,3,1)),\"\",VLOOKUP(F174,ages!B$1:D$23,3,1))","v":""},0,0,0,0,0]
[null,null,null,null,null,"",null,null,null,null,null,null,"","","","","","","","","","",{"$f":"IF(ISNUMBER(F175),IF(AL175<0.85,\"\",VLOOKUP(M175,A!A$2:X$23,VLOOKUP(F175,ages!B$1:C$23,2,1),1)),\"\")","v":""},{"$f":"IF(ISNUMBER(F175),IF(AM175<0.85,\"\",VLOOKUP(N175,B!A$2:X$23,VLOOKUP(F175,ages!B$1:C$23,2,1),1)),\"\")","v":""},{"$f":"IF(ISNUMBER(F175),IF(AN175<0.85,\"\",VLOOKUP(O175,'C'!A$2:X$23,VLOOKUP(F175,ages!B$1:C$23,2,1),1)),\"\")","v":""},{"$f":"IF(ISNUMBER(F175),IF(AO175<0.85,\"\",VLOOKUP(P175,D!A$2:X$23,VLOOKUP(F175,ages!B$1:C$23,2,1),1)),\"\")","v":""},{"$f":"IF(ISNUMBER(F175),IF(AP175<0.85,\"\",VLOOKUP(Q175,E!A$2:X$23,VLOOKUP(F175,ages!B$1:C$23,2,1),1)),\"\")","v":""},{"$f":"IF(ISNUMBER(F175),IF(AQ175<0.85,\"\",VLOOKUP(R175,F!A$2:X$23,VLOOKUP(F175,ages!B$1:C$23,2,1),1)),\"\")","v":""},{"$f":"IF(ISNUMBER(F175),IF(AR175<0.85,\"\",VLOOKUP(S175,G!A$2:X$23,VLOOKUP(F175,ages!B$1:C$23,2,1),1)),\"\")","v":""},{"$f":"IF(ISNUMBER(F175),IF(AS175<0.85,\"\",VLOOKUP(T175,H!A$2:X$23,VLOOKUP(F175,ages!B$1:C$23,2,1),1)),\"\")","v":""},{"$f":"IF(ISNUMBER(F175),IF(AT175<0.85,\"\",VLOOKUP(U175,I!A$2:X$23,VLOOKUP(F175,ages!B$1:C$23,2,1),1)),\"\")","v":""},{"$f":"IF(ISNUMBER(F175),IF(AU175<0.85,\"\",VLOOKUP(V175,J!A$2:X$23,VLOOKUP(F175,ages!B$1:C$23,2,1),1)),\"\")","v":""},"","","","",-1.0000000000000002E-6,0,0,0,0,0,0,0,0,0,0,0,null,null,null,null,null,null,null,null,null,null,null,null,null,null,null,null,null,null,null,null,null,null,null,null,null,null,null,null,null,null,null,null,null,null,null,null,null,null,null,null,null,null,null,null,null,null,null,null,null,null,null,null,null,null,null,null,null,null,null,null,null,null,null,null,null,null,null,null,null,null,-9.9999999999999995E-7,-9.9999999999999995E-7,-9.9999999999999995E-7,-9.9999999999999995E-7,-9.9999999999999995E-7,-9.9999999999999995E-7,-9.9999999999999995E-7,-9.9999999999999995E-7,-9.9999999999999995E-7,-9.9999999999999995E-7,-9.9999999999999995E-7,-9.9999999999999995E-7,-9.9999999999999995E-7,-9.9999999999999995E-7,-9.9999999999999995E-7,-9.9999999999999995E-7,-9.9999999999999995E-7,-9.9999999999999995E-7,-9.9999999999999995E-7,-9.9999999999999995E-7,{"$f":"IF(ISERROR(VLOOKUP(F175,ages!B$1:B$23,1,1)),\"\",VLOOKUP(F175,ages!B$1:B$23,1,1))","v":""},{"$f":"IF(ISERROR(VLOOKUP(F175,ages!B$1:D$23,3,1)),\"\",VLOOKUP(F175,ages!B$1:D$23,3,1))","v":""},0,0,0,0,0]
[null,null,null,null,null,"",null,null,null,null,null,null,"","","","","","","","","","",{"$f":"IF(ISNUMBER(F176),IF(AL176<0.85,\"\",VLOOKUP(M176,A!A$2:X$23,VLOOKUP(F176,ages!B$1:C$23,2,1),1)),\"\")","v":""},{"$f":"IF(ISNUMBER(F176),IF(AM176<0.85,\"\",VLOOKUP(N176,B!A$2:X$23,VLOOKUP(F176,ages!B$1:C$23,2,1),1)),\"\")","v":""},{"$f":"IF(ISNUMBER(F176),IF(AN176<0.85,\"\",VLOOKUP(O176,'C'!A$2:X$23,VLOOKUP(F176,ages!B$1:C$23,2,1),1)),\"\")","v":""},{"$f":"IF(ISNUMBER(F176),IF(AO176<0.85,\"\",VLOOKUP(P176,D!A$2:X$23,VLOOKUP(F176,ages!B$1:C$23,2,1),1)),\"\")","v":""},{"$f":"IF(ISNUMBER(F176),IF(AP176<0.85,\"\",VLOOKUP(Q176,E!A$2:X$23,VLOOKUP(F176,ages!B$1:C$23,2,1),1)),\"\")","v":""},{"$f":"IF(ISNUMBER(F176),IF(AQ176<0.85,\"\",VLOOKUP(R176,F!A$2:X$23,VLOOKUP(F176,ages!B$1:C$23,2,1),1)),\"\")","v":""},{"$f":"IF(ISNUMBER(F176),IF(AR176<0.85,\"\",VLOOKUP(S176,G!A$2:X$23,VLOOKUP(F176,ages!B$1:C$23,2,1),1)),\"\")","v":""},{"$f":"IF(ISNUMBER(F176),IF(AS176<0.85,\"\",VLOOKUP(T176,H!A$2:X$23,VLOOKUP(F176,ages!B$1:C$23,2,1),1)),\"\")","v":""},{"$f":"IF(ISNUMBER(F176),IF(AT176<0.85,\"\",VLOOKUP(U176,I!A$2:X$23,VLOOKUP(F176,ages!B$1:C$23,2,1),1)),\"\")","v":""},{"$f":"IF(ISNUMBER(F176),IF(AU176<0.85,\"\",VLOOKUP(V176,J!A$2:X$23,VLOOKUP(F176,ages!B$1:C$23,2,1),1)),\"\")","v":""},"","","","",-1.0000000000000002E-6,0,0,0,0,0,0,0,0,0,0,0,null,null,null,null,null,null,null,null,null,null,null,null,null,null,null,null,null,null,null,null,null,null,null,null,null,null,null,null,null,null,null,null,null,null,null,null,null,null,null,null,null,null,null,null,null,null,null,null,null,null,null,null,null,null,null,null,null,null,null,null,null,null,null,null,null,null,null,null,null,null,-9.9999999999999995E-7,-9.9999999999999995E-7,-9.9999999999999995E-7,-9.9999999999999995E-7,-9.9999999999999995E-7,-9.9999999999999995E-7,-9.9999999999999995E-7,-9.9999999999999995E-7,-9.9999999999999995E-7,-9.9999999999999995E-7,-9.9999999999999995E-7,-9.9999999999999995E-7,-9.9999999999999995E-7,-9.9999999999999995E-7,-9.9999999999999995E-7,-9.9999999999999995E-7,-9.9999999999999995E-7,-9.9999999999999995E-7,-9.9999999999999995E-7,-9.9999999999999995E-7,{"$f":"IF(ISERROR(VLOOKUP(F176,ages!B$1:B$23,1,1)),\"\",VLOOKUP(F176,ages!B$1:B$23,1,1))","v":""},{"$f":"IF(ISERROR(VLOOKUP(F176,ages!B$1:D$23,3,1)),\"\",VLOOKUP(F176,ages!B$1:D$23,3,1))","v":""},0,0,0,0,0]
[null,null,null,null,null,"",null,null,null,null,null,null,"","","","","","","","","","",{"$f":"IF(ISNUMBER(F177),IF(AL177<0.85,\"\",VLOOKUP(M177,A!A$2:X$23,VLOOKUP(F177,ages!B$1:C$23,2,1),1)),\"\")","v":""},{"$f":"IF(ISNUMBER(F177),IF(AM177<0.85,\"\",VLOOKUP(N177,B!A$2:X$23,VLOOKUP(F177,ages!B$1:C$23,2,1),1)),\"\")","v":""},{"$f":"IF(ISNUMBER(F177),IF(AN177<0.85,\"\",VLOOKUP(O177,'C'!A$2:X$23,VLOOKUP(F177,ages!B$1:C$23,2,1),1)),\"\")","v":""},{"$f":"IF(ISNUMBER(F177),IF(AO177<0.85,\"\",VLOOKUP(P177,D!A$2:X$23,VLOOKUP(F177,ages!B$1:C$23,2,1),1)),\"\")","v":""},{"$f":"IF(ISNUMBER(F177),IF(AP177<0.85,\"\",VLOOKUP(Q177,E!A$2:X$23,VLOOKUP(F177,ages!B$1:C$23,2,1),1)),\"\")","v":""},{"$f":"IF(ISNUMBER(F177),IF(AQ177<0.85,\"\",VLOOKUP(R177,F!A$2:X$23,VLOOKUP(F177,ages!B$1:C$23,2,1),1)),\"\")","v":""},{"$f":"IF(ISNUMBER(F177),IF(AR177<0.85,\"\",VLOOKUP(S177,G!A$2:X$23,VLOOKUP(F177,ages!B$1:C$23,2,1),1)),\"\")","v":""},{"$f":"IF(ISNUMBER(F177),IF(AS177<0.85,\"\",VLOOKUP(T177,H!A$2:X$23,VLOOKUP(F177,ages!B$1:C$23,2,1),1)),\"\")","v":""},{"$f":"IF(ISNUMBER(F177),IF(AT177<0.85,\"\",VLOOKUP(U177,I!A$2:X$23,VLOOKUP(F177,ages!B$1:C$23,2,1),1)),\"\")","v":""},{"$f":"IF(ISNUMBER(F177),IF(AU177<0.85,\"\",VLOOKUP(V177,J!A$2:X$23,VLOOKUP(F177,ages!B$1:C$23,2,1),1)),\"\")","v":""},"","","","",-1.0000000000000002E-6,0,0,0,0,0,0,0,0,0,0,0,null,null,null,null,null,null,null,null,null,null,null,null,null,null,null,null,null,null,null,null,null,null,null,null,null,null,null,null,null,null,null,null,null,null,null,null,null,null,null,null,null,null,null,null,null,null,null,null,null,null,null,null,null,null,null,null,null,null,null,null,null,null,null,null,null,null,null,null,null,null,-9.9999999999999995E-7,-9.9999999999999995E-7,-9.9999999999999995E-7,-9.9999999999999995E-7,-9.9999999999999995E-7,-9.9999999999999995E-7,-9.9999999999999995E-7,-9.9999999999999995E-7,-9.9999999999999995E-7,-9.9999999999999995E-7,-9.9999999999999995E-7,-9.9999999999999995E-7,-9.9999999999999995E-7,-9.9999999999999995E-7,-9.9999999999999995E-7,-9.9999999999999995E-7,-9.9999999999999995E-7,-9.9999999999999995E-7,-9.9999999999999995E-7,-9.9999999999999995E-7,{"$f":"IF(ISERROR(VLOOKUP(F177,ages!B$1:B$23,1,1)),\"\",VLOOKUP(F177,ages!B$1:B$23,1,1))","v":""},{"$f":"IF(ISERROR(VLOOKUP(F177,ages!B$1:D$23,3,1)),\"\",VLOOKUP(F177,ages!B$1:D$23,3,1))","v":""},0,0,0,0,0]
[null,null,null,null,null,"",null,null,null,null,null,null,"","","","","","","","","","",{"$f":"IF(ISNUMBER(F178),IF(AL178<0.85,\"\",VLOOKUP(M178,A!A$2:X$23,VLOOKUP(F178,ages!B$1:C$23,2,1),1)),\"\")","v":""},{"$f":"IF(ISNUMBER(F178),IF(AM178<0.85,\"\",VLOOKUP(N178,B!A$2:X$23,VLOOKUP(F178,ages!B$1:C$23,2,1),1)),\"\")","v":""},{"$f":"IF(ISNUMBER(F178),IF(AN178<0.85,\"\",VLOOKUP(O178,'C'!A$2:X$23,VLOOKUP(F178,ages!B$1:C$23,2,1),1)),\"\")","v":""},{"$f":"IF(ISNUMBER(F178),IF(AO178<0.85,\"\",VLOOKUP(P178,D!A$2:X$23,VLOOKUP(F178,ages!B$1:C$23,2,1),1)),\"\")","v":""},{"$f":"IF(ISNUMBER(F178),IF(AP178<0.85,\"\",VLOOKUP(Q178,E!A$2:X$23,VLOOKUP(F178,ages!B$1:C$23,2,1),1)),\"\")","v":""},{"$f":"IF(ISNUMBER(F178),IF(AQ178<0.85,\"\",VLOOKUP(R178,F!A$2:X$23,VLOOKUP(F178,ages!B$1:C$23,2,1),1)),\"\")","v":""},{"$f":"IF(ISNUMBER(F178),IF(AR178<0.85,\"\",VLOOKUP(S178,G!A$2:X$23,VLOOKUP(F178,ages!B$1:C$23,2,1),1)),\"\")","v":""},{"$f":"IF(ISNUMBER(F178),IF(AS178<0.85,\"\",VLOOKUP(T178,H!A$2:X$23,VLOOKUP(F178,ages!B$1:C$23,2,1),1)),\"\")","v":""},{"$f":"IF(ISNUMBER(F178),IF(AT178<0.85,\"\",VLOOKUP(U178,I!A$2:X$23,VLOOKUP(F178,ages!B$1:C$23,2,1),1)),\"\")","v":""},{"$f":"IF(ISNUMBER(F178),IF(AU178<0.85,\"\",VLOOKUP(V178,J!A$2:X$23,VLOOKUP(F178,ages!B$1:C$23,2,1),1)),\"\")","v":""},"","","","",-1.0000000000000002E-6,0,0,0,0,0,0,0,0,0,0,0,null,null,null,null,null,null,null,null,null,null,null,null,null,null,null,null,null,null,null,null,null,null,null,null,null,null,null,null,null,null,null,null,null,null,null,null,null,null,null,null,null,null,null,null,null,null,null,null,null,null,null,null,null,null,null,null,null,null,null,null,null,null,null,null,null,null,null,null,null,null,-9.9999999999999995E-7,-9.9999999999999995E-7,-9.9999999999999995E-7,-9.9999999999999995E-7,-9.9999999999999995E-7,-9.9999999999999995E-7,-9.9999999999999995E-7,-9.9999999999999995E-7,-9.9999999999999995E-7,-9.9999999999999995E-7,-9.9999999999999995E-7,-9.9999999999999995E-7,-9.9999999999999995E-7,-9.9999999999999995E-7,-9.9999999999999995E-7,-9.9999999999999995E-7,-9.9999999999999995E-7,-9.9999999999999995E-7,-9.9999999999999995E-7,-9.9999999999999995E-7,{"$f":"IF(ISERROR(VLOOKUP(F178,ages!B$1:B$23,1,1)),\"\",VLOOKUP(F178,ages!B$1:B$23,1,1))","v":""},{"$f":"IF(ISERROR(VLOOKUP(F178,ages!B$1:D$23,3,1)),\"\",VLOOKUP(F178,ages!B$1:D$23,3,1))","v":""},0,0,0,0,0]
[null,null,null,null,null,"",null,null,null,null,null,null,"","","","","","","","","","",{"$f":"IF(ISNUMBER(F179),IF(AL179<0.85,\"\",VLOOKUP(M179,A!A$2:X$23,VLOOKUP(F179,ages!B$1:C$23,2,1),1)),\"\")","v":""},{"$f":"IF(ISNUMBER(F179),IF(AM179<0.85,\"\",VLOOKUP(N179,B!A$2:X$23,VLOOKUP(F179,ages!B$1:C$23,2,1),1)),\"\")","v":""},{"$f":"IF(ISNUMBER(F179),IF(AN179<0.85,\"\",VLOOKUP(O179,'C'!A$2:X$23,VLOOKUP(F179,ages!B$1:C$23,2,1),1)),\"\")","v":""},{"$f":"IF(ISNUMBER(F179),IF(AO179<0.85,\"\",VLOOKUP(P179,D!A$2:X$23,VLOOKUP(F179,ages!B$1:C$23,2,1),1)),\"\")","v":""},{"$f":"IF(ISNUMBER(F179),IF(AP179<0.85,\"\",VLOOKUP(Q179,E!A$2:X$23,VLOOKUP(F179,ages!B$1:C$23,2,1),1)),\"\")","v":""},{"$f":"IF(ISNUMBER(F179),IF(AQ179<0.85,\"\",VLOOKUP(R179,F!A$2:X$23,VLOOKUP(F179,ages!B$1:C$23,2,1),1)),\"\")","v":""},{"$f":"IF(ISNUMBER(F179),IF(AR179<0.85,\"\",VLOOKUP(S179,G!A$2:X$23,VLOOKUP(F179,ages!B$1:C$23,2,1),1)),\"\")","v":""},{"$f":"IF(ISNUMBER(F179),IF(AS179<0.85,\"\",VLOOKUP(T179,H!A$2:X$23,VLOOKUP(F179,ages!B$1:C$23,2,1),1)),\"\")","v":""},{"$f":"IF(ISNUMBER(F179),IF(AT179<0.85,\"\",VLOOKUP(U179,I!A$2:X$23,VLOOKUP(F179,ages!B$1:C$23,2,1),1)),\"\")","v":""},{"$f":"IF(ISNUMBER(F179),IF(AU179<0.85,\"\",VLOOKUP(V179,J!A$2:X$23,VLOOKUP(F179,ages!B$1:C$23,2,1),1)),\"\")","v":""},"","","","",-1.0000000000000002E-6,0,0,0,0,0,0,0,0,0,0,0,null,null,null,null,null,null,null,null,null,null,null,null,null,null,null,null,null,null,null,null,null,null,null,null,null,null,null,null,null,null,null,null,null,null,null,null,null,null,null,null,null,null,null,null,null,null,null,null,null,null,null,null,null,null,null,null,null,null,null,null,null,null,null,null,null,null,null,null,null,null,-9.9999999999999995E-7,-9.9999999999999995E-7,-9.9999999999999995E-7,-9.9999999999999995E-7,-9.9999999999999995E-7,-9.9999999999999995E-7,-9.9999999999999995E-7,-9.9999999999999995E-7,-9.9999999999999995E-7,-9.9999999999999995E-7,-9.9999999999999995E-7,-9.9999999999999995E-7,-9.9999999999999995E-7,-9.9999999999999995E-7,-9.9999999999999995E-7,-9.9999999999999995E-7,-9.9999999999999995E-7,-9.9999999999999995E-7,-9.9999999999999995E-7,-9.9999999999999995E-7,{"$f":"IF(ISERROR(VLOOKUP(F179,ages!B$1:B$23,1,1)),\"\",VLOOKUP(F179,ages!B$1:B$23,1,1))","v":""},{"$f":"IF(ISERROR(VLOOKUP(F179,ages!B$1:D$23,3,1)),\"\",VLOOKUP(F179,ages!B$1:D$23,3,1))","v":""},0,0,0,0,0]
[null,null,null,null,null,"",null,null,null,null,null,null,"","","","","","","","","","",{"$f":"IF(ISNUMBER(F180),IF(AL180<0.85,\"\",VLOOKUP(M180,A!A$2:X$23,VLOOKUP(F180,ages!B$1:C$23,2,1),1)),\"\")","v":""},{"$f":"IF(ISNUMBER(F180),IF(AM180<0.85,\"\",VLOOKUP(N180,B!A$2:X$23,VLOOKUP(F180,ages!B$1:C$23,2,1),1)),\"\")","v":""},{"$f":"IF(ISNUMBER(F180),IF(AN180<0.85,\"\",VLOOKUP(O180,'C'!A$2:X$23,VLOOKUP(F180,ages!B$1:C$23,2,1),1)),\"\")","v":""},{"$f":"IF(ISNUMBER(F180),IF(AO180<0.85,\"\",VLOOKUP(P180,D!A$2:X$23,VLOOKUP(F180,ages!B$1:C$23,2,1),1)),\"\")","v":""},{"$f":"IF(ISNUMBER(F180),IF(AP180<0.85,\"\",VLOOKUP(Q180,E!A$2:X$23,VLOOKUP(F180,ages!B$1:C$23,2,1),1)),\"\")","v":""},{"$f":"IF(ISNUMBER(F180),IF(AQ180<0.85,\"\",VLOOKUP(R180,F!A$2:X$23,VLOOKUP(F180,ages!B$1:C$23,2,1),1)),\"\")","v":""},{"$f":"IF(ISNUMBER(F180),IF(AR180<0.85,\"\",VLOOKUP(S180,G!A$2:X$23,VLOOKUP(F180,ages!B$1:C$23,2,1),1)),\"\")","v":""},{"$f":"IF(ISNUMBER(F180),IF(AS180<0.85,\"\",VLOOKUP(T180,H!A$2:X$23,VLOOKUP(F180,ages!B$1:C$23,2,1),1)),\"\")","v":""},{"$f":"IF(ISNUMBER(F180),IF(AT180<0.85,\"\",VLOOKUP(U180,I!A$2:X$23,VLOOKUP(F180,ages!B$1:C$23,2,1),1)),\"\")","v":""},{"$f":"IF(ISNUMBER(F180),IF(AU180<0.85,\"\",VLOOKUP(V180,J!A$2:X$23,VLOOKUP(F180,ages!B$1:C$23,2,1),1)),\"\")","v":""},"","","","",-1.0000000000000002E-6,0,0,0,0,0,0,0,0,0,0,0,null,null,null,null,null,null,null,null,null,null,null,null,null,null,null,null,null,null,null,null,null,null,null,null,null,null,null,null,null,null,null,null,null,null,null,null,null,null,null,null,null,null,null,null,null,null,null,null,null,null,null,null,null,null,null,null,null,null,null,null,null,null,null,null,null,null,null,null,null,null,-9.9999999999999995E-7,-9.9999999999999995E-7,-9.9999999999999995E-7,-9.9999999999999995E-7,-9.9999999999999995E-7,-9.9999999999999995E-7,-9.9999999999999995E-7,-9.9999999999999995E-7,-9.9999999999999995E-7,-9.9999999999999995E-7,-9.9999999999999995E-7,-9.9999999999999995E-7,-9.9999999999999995E-7,-9.9999999999999995E-7,-9.9999999999999995E-7,-9.9999999999999995E-7,-9.9999999999999995E-7,-9.9999999999999995E-7,-9.9999999999999995E-7,-9.9999999999999995E-7,{"$f":"IF(ISERROR(VLOOKUP(F180,ages!B$1:B$23,1,1)),\"\",VLOOKUP(F180,ages!B$1:B$23,1,1))","v":""},{"$f":"IF(ISERROR(VLOOKUP(F180,ages!B$1:D$23,3,1)),\"\",VLOOKUP(F180,ages!B$1:D$23,3,1))","v":""},0,0,0,0,0]
[null,null,null,null,null,"",null,null,null,null,null,null,"","","","","","","","","","",{"$f":"IF(ISNUMBER(F181),IF(AL181<0.85,\"\",VLOOKUP(M181,A!A$2:X$23,VLOOKUP(F181,ages!B$1:C$23,2,1),1)),\"\")","v":""},{"$f":"IF(ISNUMBER(F181),IF(AM181<0.85,\"\",VLOOKUP(N181,B!A$2:X$23,VLOOKUP(F181,ages!B$1:C$23,2,1),1)),\"\")","v":""},{"$f":"IF(ISNUMBER(F181),IF(AN181<0.85,\"\",VLOOKUP(O181,'C'!A$2:X$23,VLOOKUP(F181,ages!B$1:C$23,2,1),1)),\"\")","v":""},{"$f":"IF(ISNUMBER(F181),IF(AO181<0.85,\"\",VLOOKUP(P181,D!A$2:X$23,VLOOKUP(F181,ages!B$1:C$23,2,1),1)),\"\")","v":""},{"$f":"IF(ISNUMBER(F181),IF(AP181<0.85,\"\",VLOOKUP(Q181,E!A$2:X$23,VLOOKUP(F181,ages!B$1:C$23,2,1),1)),\"\")","v":""},{"$f":"IF(ISNUMBER(F181),IF(AQ181<0.85,\"\",VLOOKUP(R181,F!A$2:X$23,VLOOKUP(F181,ages!B$1:C$23,2,1),1)),\"\")","v":""},{"$f":"IF(ISNUMBER(F181),IF(AR181<0.85,\"\",VLOOKUP(S181,G!A$2:X$23,VLOOKUP(F181,ages!B$1:C$23,2,1),1)),\"\")","v":""},{"$f":"IF(ISNUMBER(F181),IF(AS181<0.85,\"\",VLOOKUP(T181,H!A$2:X$23,VLOOKUP(F181,ages!B$1:C$23,2,1),1)),\"\")","v":""},{"$f":"IF(ISNUMBER(F181),IF(AT181<0.85,\"\",VLOOKUP(U181,I!A$2:X$23,VLOOKUP(F181,ages!B$1:C$23,2,1),1)),\"\")","v":""},{"$f":"IF(ISNUMBER(F181),IF(AU181<0.85,\"\",VLOOKUP(V181,J!A$2:X$23,VLOOKUP(F181,ages!B$1:C$23,2,1),1)),\"\")","v":""},"","","","",-1.0000000000000002E-6,0,0,0,0,0,0,0,0,0,0,0,null,null,null,null,null,null,null,null,null,null,null,null,null,null,null,null,null,null,null,null,null,null,null,null,null,null,null,null,null,null,null,null,null,null,null,null,null,null,null,null,null,null,null,null,null,null,null,null,null,null,null,null,null,null,null,null,null,null,null,null,null,null,null,null,null,null,null,null,null,null,-9.9999999999999995E-7,-9.9999999999999995E-7,-9.9999999999999995E-7,-9.9999999999999995E-7,-9.9999999999999995E-7,-9.9999999999999995E-7,-9.9999999999999995E-7,-9.9999999999999995E-7,-9.9999999999999995E-7,-9.9999999999999995E-7,-9.9999999999999995E-7,-9.9999999999999995E-7,-9.9999999999999995E-7,-9.9999999999999995E-7,-9.9999999999999995E-7,-9.9999999999999995E-7,-9.9999999999999995E-7,-9.9999999999999995E-7,-9.9999999999999995E-7,-9.9999999999999995E-7,{"$f":"IF(ISERROR(VLOOKUP(F181,ages!B$1:B$23,1,1)),\"\",VLOOKUP(F181,ages!B$1:B$23,1,1))","v":""},{"$f":"IF(ISERROR(VLOOKUP(F181,ages!B$1:D$23,3,1)),\"\",VLOOKUP(F181,ages!B$1:D$23,3,1))","v":""},0,0,0,0,0]
[null,null,null,null,null,"",null,null,null,null,null,null,"","","","","","","","","","",{"$f":"IF(ISNUMBER(F182),IF(AL182<0.85,\"\",VLOOKUP(M182,A!A$2:X$23,VLOOKUP(F182,ages!B$1:C$23,2,1),1)),\"\")","v":""},{"$f":"IF(ISNUMBER(F182),IF(AM182<0.85,\"\",VLOOKUP(N182,B!A$2:X$23,VLOOKUP(F182,ages!B$1:C$23,2,1),1)),\"\")","v":""},{"$f":"IF(ISNUMBER(F182),IF(AN182<0.85,\"\",VLOOKUP(O182,'C'!A$2:X$23,VLOOKUP(F182,ages!B$1:C$23,2,1),1)),\"\")","v":""},{"$f":"IF(ISNUMBER(F182),IF(AO182<0.85,\"\",VLOOKUP(P182,D!A$2:X$23,VLOOKUP(F182,ages!B$1:C$23,2,1),1)),\"\")","v":""},{"$f":"IF(ISNUMBER(F182),IF(AP182<0.85,\"\",VLOOKUP(Q182,E!A$2:X$23,VLOOKUP(F182,ages!B$1:C$23,2,1),1)),\"\")","v":""},{"$f":"IF(ISNUMBER(F182),IF(AQ182<0.85,\"\",VLOOKUP(R182,F!A$2:X$23,VLOOKUP(F182,ages!B$1:C$23,2,1),1)),\"\")","v":""},{"$f":"IF(ISNUMBER(F182),IF(AR182<0.85,\"\",VLOOKUP(S182,G!A$2:X$23,VLOOKUP(F182,ages!B$1:C$23,2,1),1)),\"\")","v":""},{"$f":"IF(ISNUMBER(F182),IF(AS182<0.85,\"\",VLOOKUP(T182,H!A$2:X$23,VLOOKUP(F182,ages!B$1:C$23,2,1),1)),\"\")","v":""},{"$f":"IF(ISNUMBER(F182),IF(AT182<0.85,\"\",VLOOKUP(U182,I!A$2:X$23,VLOOKUP(F182,ages!B$1:C$23,2,1),1)),\"\")","v":""},{"$f":"IF(ISNUMBER(F182),IF(AU182<0.85,\"\",VLOOKUP(V182,J!A$2:X$23,VLOOKUP(F182,ages!B$1:C$23,2,1),1)),\"\")","v":""},"","","","",-1.0000000000000002E-6,0,0,0,0,0,0,0,0,0,0,0,null,null,null,null,null,null,null,null,null,null,null,null,null,null,null,null,null,null,null,null,null,null,null,null,null,null,null,null,null,null,null,null,null,null,null,null,null,null,null,null,null,null,null,null,null,null,null,null,null,null,null,null,null,null,null,null,null,null,null,null,null,null,null,null,null,null,null,null,null,null,-9.9999999999999995E-7,-9.9999999999999995E-7,-9.9999999999999995E-7,-9.9999999999999995E-7,-9.9999999999999995E-7,-9.9999999999999995E-7,-9.9999999999999995E-7,-9.9999999999999995E-7,-9.9999999999999995E-7,-9.9999999999999995E-7,-9.9999999999999995E-7,-9.9999999999999995E-7,-9.9999999999999995E-7,-9.9999999999999995E-7,-9.9999999999999995E-7,-9.9999999999999995E-7,-9.9999999999999995E-7,-9.9999999999999995E-7,-9.9999999999999995E-7,-9.9999999999999995E-7,{"$f":"IF(ISERROR(VLOOKUP(F182,ages!B$1:B$23,1,1)),\"\",VLOOKUP(F182,ages!B$1:B$23,1,1))","v":""},{"$f":"IF(ISERROR(VLOOKUP(F182,ages!B$1:D$23,3,1)),\"\",VLOOKUP(F182,ages!B$1:D$23,3,1))","v":""},0,0,0,0,0]
[null,null,null,null,null,"",null,null,null,null,null,null,"","","","","","","","","","",{"$f":"IF(ISNUMBER(F183),IF(AL183<0.85,\"\",VLOOKUP(M183,A!A$2:X$23,VLOOKUP(F183,ages!B$1:C$23,2,1),1)),\"\")","v":""},{"$f":"IF(ISNUMBER(F183),IF(AM183<0.85,\"\",VLOOKUP(N183,B!A$2:X$23,VLOOKUP(F183,ages!B$1:C$23,2,1),1)),\"\")","v":""},{"$f":"IF(ISNUMBER(F183),IF(AN183<0.85,\"\",VLOOKUP(O183,'C'!A$2:X$23,VLOOKUP(F183,ages!B$1:C$23,2,1),1)),\"\")","v":""},{"$f":"IF(ISNUMBER(F183),IF(AO183<0.85,\"\",VLOOKUP(P183,D!A$2:X$23,VLOOKUP(F183,ages!B$1:C$23,2,1),1)),\"\")","v":""},{"$f":"IF(ISNUMBER(F183),IF(AP183<0.85,\"\",VLOOKUP(Q183,E!A$2:X$23,VLOOKUP(F183,ages!B$1:C$23,2,1),1)),\"\")","v":""},{"$f":"IF(ISNUMBER(F183),IF(AQ183<0.85,\"\",VLOOKUP(R183,F!A$2:X$23,VLOOKUP(F183,ages!B$1:C$23,2,1),1)),\"\")","v":""},{"$f":"IF(ISNUMBER(F183),IF(AR183<0.85,\"\",VLOOKUP(S183,G!A$2:X$23,VLOOKUP(F183,ages!B$1:C$23,2,1),1)),\"\")","v":""},{"$f":"IF(ISNUMBER(F183),IF(AS183<0.85,\"\",VLOOKUP(T183,H!A$2:X$23,VLOOKUP(F183,ages!B$1:C$23,2,1),1)),\"\")","v":""},{"$f":"IF(ISNUMBER(F183),IF(AT183<0.85,\"\",VLOOKUP(U183,I!A$2:X$23,VLOOKUP(F183,ages!B$1:C$23,2,1),1)),\"\")","v":""},{"$f":"IF(ISNUMBER(F183),IF(AU183<0.85,\"\",VLOOKUP(V183,J!A$2:X$23,VLOOKUP(F183,ages!B$1:C$23,2,1),1)),\"\")","v":""},"","","","",-1.0000000000000002E-6,0,0,0,0,0,0,0,0,0,0,0,null,null,null,null,null,null,null,null,null,null,null,null,null,null,null,null,null,null,null,null,null,null,null,null,null,null,null,null,null,null,null,null,null,null,null,null,null,null,null,null,null,null,null,null,null,null,null,null,null,null,null,null,null,null,null,null,null,null,null,null,null,null,null,null,null,null,null,null,null,null,-9.9999999999999995E-7,-9.9999999999999995E-7,-9.9999999999999995E-7,-9.9999999999999995E-7,-9.9999999999999995E-7,-9.9999999999999995E-7,-9.9999999999999995E-7,-9.9999999999999995E-7,-9.9999999999999995E-7,-9.9999999999999995E-7,-9.9999999999999995E-7,-9.9999999999999995E-7,-9.9999999999999995E-7,-9.9999999999999995E-7,-9.9999999999999995E-7,-9.9999999999999995E-7,-9.9999999999999995E-7,-9.9999999999999995E-7,-9.9999999999999995E-7,-9.9999999999999995E-7,{"$f":"IF(ISERROR(VLOOKUP(F183,ages!B$1:B$23,1,1)),\"\",VLOOKUP(F183,ages!B$1:B$23,1,1))","v":""},{"$f":"IF(ISERROR(VLOOKUP(F183,ages!B$1:D$23,3,1)),\"\",VLOOKUP(F183,ages!B$1:D$23,3,1))","v":""},0,0,0,0,0]
[null,null,null,null,null,"",null,null,null,null,null,null,"","","","","","","","","","",{"$f":"IF(ISNUMBER(F184),IF(AL184<0.85,\"\",VLOOKUP(M184,A!A$2:X$23,VLOOKUP(F184,ages!B$1:C$23,2,1),1)),\"\")","v":""},{"$f":"IF(ISNUMBER(F184),IF(AM184<0.85,\"\",VLOOKUP(N184,B!A$2:X$23,VLOOKUP(F184,ages!B$1:C$23,2,1),1)),\"\")","v":""},{"$f":"IF(ISNUMBER(F184),IF(AN184<0.85,\"\",VLOOKUP(O184,'C'!A$2:X$23,VLOOKUP(F184,ages!B$1:C$23,2,1),1)),\"\")","v":""},{"$f":"IF(ISNUMBER(F184),IF(AO184<0.85,\"\",VLOOKUP(P184,D!A$2:X$23,VLOOKUP(F184,ages!B$1:C$23,2,1),1)),\"\")","v":""},{"$f":"IF(ISNUMBER(F184),IF(AP184<0.85,\"\",VLOOKUP(Q184,E!A$2:X$23,VLOOKUP(F184,ages!B$1:C$23,2,1),1)),\"\")","v":""},{"$f":"IF(ISNUMBER(F184),IF(AQ184<0.85,\"\",VLOOKUP(R184,F!A$2:X$23,VLOOKUP(F184,ages!B$1:C$23,2,1),1)),\"\")","v":""},{"$f":"IF(ISNUMBER(F184),IF(AR184<0.85,\"\",VLOOKUP(S184,G!A$2:X$23,VLOOKUP(F184,ages!B$1:C$23,2,1),1)),\"\")","v":""},{"$f":"IF(ISNUMBER(F184),IF(AS184<0.85,\"\",VLOOKUP(T184,H!A$2:X$23,VLOOKUP(F184,ages!B$1:C$23,2,1),1)),\"\")","v":""},{"$f":"IF(ISNUMBER(F184),IF(AT184<0.85,\"\",VLOOKUP(U184,I!A$2:X$23,VLOOKUP(F184,ages!B$1:C$23,2,1),1)),\"\")","v":""},{"$f":"IF(ISNUMBER(F184),IF(AU184<0.85,\"\",VLOOKUP(V184,J!A$2:X$23,VLOOKUP(F184,ages!B$1:C$23,2,1),1)),\"\")","v":""},"","","","",-1.0000000000000002E-6,0,0,0,0,0,0,0,0,0,0,0,null,null,null,null,null,null,null,null,null,null,null,null,null,null,null,null,null,null,null,null,null,null,null,null,null,null,null,null,null,null,null,null,null,null,null,null,null,null,null,null,null,null,null,null,null,null,null,null,null,null,null,null,null,null,null,null,null,null,null,null,null,null,null,null,null,null,null,null,null,null,-9.9999999999999995E-7,-9.9999999999999995E-7,-9.9999999999999995E-7,-9.9999999999999995E-7,-9.9999999999999995E-7,-9.9999999999999995E-7,-9.9999999999999995E-7,-9.9999999999999995E-7,-9.9999999999999995E-7,-9.9999999999999995E-7,-9.9999999999999995E-7,-9.9999999999999995E-7,-9.9999999999999995E-7,-9.9999999999999995E-7,-9.9999999999999995E-7,-9.9999999999999995E-7,-9.9999999999999995E-7,-9.9999999999999995E-7,-9.9999999999999995E-7,-9.9999999999999995E-7,{"$f":"IF(ISERROR(VLOOKUP(F184,ages!B$1:B$23,1,1)),\"\",VLOOKUP(F184,ages!B$1:B$23,1,1))","v":""},{"$f":"IF(ISERROR(VLOOKUP(F184,ages!B$1:D$23,3,1)),\"\",VLOOKUP(F184,ages!B$1:D$23,3,1))","v":""},0,0,0,0,0]
[null,null,null,null,null,"",null,null,null,null,null,null,"","","","","","","","","","",{"$f":"IF(ISNUMBER(F185),IF(AL185<0.85,\"\",VLOOKUP(M185,A!A$2:X$23,VLOOKUP(F185,ages!B$1:C$23,2,1),1)),\"\")","v":""},{"$f":"IF(ISNUMBER(F185),IF(AM185<0.85,\"\",VLOOKUP(N185,B!A$2:X$23,VLOOKUP(F185,ages!B$1:C$23,2,1),1)),\"\")","v":""},{"$f":"IF(ISNUMBER(F185),IF(AN185<0.85,\"\",VLOOKUP(O185,'C'!A$2:X$23,VLOOKUP(F185,ages!B$1:C$23,2,1),1)),\"\")","v":""},{"$f":"IF(ISNUMBER(F185),IF(AO185<0.85,\"\",VLOOKUP(P185,D!A$2:X$23,VLOOKUP(F185,ages!B$1:C$23,2,1),1)),\"\")","v":""},{"$f":"IF(ISNUMBER(F185),IF(AP185<0.85,\"\",VLOOKUP(Q185,E!A$2:X$23,VLOOKUP(F185,ages!B$1:C$23,2,1),1)),\"\")","v":""},{"$f":"IF(ISNUMBER(F185),IF(AQ185<0.85,\"\",VLOOKUP(R185,F!A$2:X$23,VLOOKUP(F185,ages!B$1:C$23,2,1),1)),\"\")","v":""},{"$f":"IF(ISNUMBER(F185),IF(AR185<0.85,\"\",VLOOKUP(S185,G!A$2:X$23,VLOOKUP(F185,ages!B$1:C$23,2,1),1)),\"\")","v":""},{"$f":"IF(ISNUMBER(F185),IF(AS185<0.85,\"\",VLOOKUP(T185,H!A$2:X$23,VLOOKUP(F185,ages!B$1:C$23,2,1),1)),\"\")","v":""},{"$f":"IF(ISNUMBER(F185),IF(AT185<0.85,\"\",VLOOKUP(U185,I!A$2:X$23,VLOOKUP(F185,ages!B$1:C$23,2,1),1)),\"\")","v":""},{"$f":"IF(ISNUMBER(F185),IF(AU185<0.85,\"\",VLOOKUP(V185,J!A$2:X$23,VLOOKUP(F185,ages!B$1:C$23,2,1),1)),\"\")","v":""},"","","","",-1.0000000000000002E-6,0,0,0,0,0,0,0,0,0,0,0,null,null,null,null,null,null,null,null,null,null,null,null,null,null,null,null,null,null,null,null,null,null,null,null,null,null,null,null,null,null,null,null,null,null,null,null,null,null,null,null,null,null,null,null,null,null,null,null,null,null,null,null,null,null,null,null,null,null,null,null,null,null,null,null,null,null,null,null,null,null,-9.9999999999999995E-7,-9.9999999999999995E-7,-9.9999999999999995E-7,-9.9999999999999995E-7,-9.9999999999999995E-7,-9.9999999999999995E-7,-9.9999999999999995E-7,-9.9999999999999995E-7,-9.9999999999999995E-7,-9.9999999999999995E-7,-9.9999999999999995E-7,-9.9999999999999995E-7,-9.9999999999999995E-7,-9.9999999999999995E-7,-9.9999999999999995E-7,-9.9999999999999995E-7,-9.9999999999999995E-7,-9.9999999999999995E-7,-9.9999999999999995E-7,-9.9999999999999995E-7,{"$f":"IF(ISERROR(VLOOKUP(F185,ages!B$1:B$23,1,1)),\"\",VLOOKUP(F185,ages!B$1:B$23,1,1))","v":""},{"$f":"IF(ISERROR(VLOOKUP(F185,ages!B$1:D$23,3,1)),\"\",VLOOKUP(F185,ages!B$1:D$23,3,1))","v":""},0,0,0,0,0]
[null,null,null,null,null,"",null,null,null,null,null,null,"","","","","","","","","","",{"$f":"IF(ISNUMBER(F186),IF(AL186<0.85,\"\",VLOOKUP(M186,A!A$2:X$23,VLOOKUP(F186,ages!B$1:C$23,2,1),1)),\"\")","v":""},{"$f":"IF(ISNUMBER(F186),IF(AM186<0.85,\"\",VLOOKUP(N186,B!A$2:X$23,VLOOKUP(F186,ages!B$1:C$23,2,1),1)),\"\")","v":""},{"$f":"IF(ISNUMBER(F186),IF(AN186<0.85,\"\",VLOOKUP(O186,'C'!A$2:X$23,VLOOKUP(F186,ages!B$1:C$23,2,1),1)),\"\")","v":""},{"$f":"IF(ISNUMBER(F186),IF(AO186<0.85,\"\",VLOOKUP(P186,D!A$2:X$23,VLOOKUP(F186,ages!B$1:C$23,2,1),1)),\"\")","v":""},{"$f":"IF(ISNUMBER(F186),IF(AP186<0.85,\"\",VLOOKUP(Q186,E!A$2:X$23,VLOOKUP(F186,ages!B$1:C$23,2,1),1)),\"\")","v":""},{"$f":"IF(ISNUMBER(F186),IF(AQ186<0.85,\"\",VLOOKUP(R186,F!A$2:X$23,VLOOKUP(F186,ages!B$1:C$23,2,1),1)),\"\")","v":""},{"$f":"IF(ISNUMBER(F186),IF(AR186<0.85,\"\",VLOOKUP(S186,G!A$2:X$23,VLOOKUP(F186,ages!B$1:C$23,2,1),1)),\"\")","v":""},{"$f":"IF(ISNUMBER(F186),IF(AS186<0.85,\"\",VLOOKUP(T186,H!A$2:X$23,VLOOKUP(F186,ages!B$1:C$23,2,1),1)),\"\")","v":""},{"$f":"IF(ISNUMBER(F186),IF(AT186<0.85,\"\",VLOOKUP(U186,I!A$2:X$23,VLOOKUP(F186,ages!B$1:C$23,2,1),1)),\"\")","v":""},{"$f":"IF(ISNUMBER(F186),IF(AU186<0.85,\"\",VLOOKUP(V186,J!A$2:X$23,VLOOKUP(F186,ages!B$1:C$23,2,1),1)),\"\")","v":""},"","","","",-1.0000000000000002E-6,0,0,0,0,0,0,0,0,0,0,0,null,null,null,null,null,null,null,null,null,null,null,null,null,null,null,null,null,null,null,null,null,null,null,null,null,null,null,null,null,null,null,null,null,null,null,null,null,null,null,null,null,null,null,null,null,null,null,null,null,null,null,null,null,null,null,null,null,null,null,null,null,null,null,null,null,null,null,null,null,null,-9.9999999999999995E-7,-9.9999999999999995E-7,-9.9999999999999995E-7,-9.9999999999999995E-7,-9.9999999999999995E-7,-9.9999999999999995E-7,-9.9999999999999995E-7,-9.9999999999999995E-7,-9.9999999999999995E-7,-9.9999999999999995E-7,-9.9999999999999995E-7,-9.9999999999999995E-7,-9.9999999999999995E-7,-9.9999999999999995E-7,-9.9999999999999995E-7,-9.9999999999999995E-7,-9.9999999999999995E-7,-9.9999999999999995E-7,-9.9999999999999995E-7,-9.9999999999999995E-7,{"$f":"IF(ISERROR(VLOOKUP(F186,ages!B$1:B$23,1,1)),\"\",VLOOKUP(F186,ages!B$1:B$23,1,1))","v":""},{"$f":"IF(ISERROR(VLOOKUP(F186,ages!B$1:D$23,3,1)),\"\",VLOOKUP(F186,ages!B$1:D$23,3,1))","v":""},0,0,0,0,0]
[null,null,null,null,null,"",null,null,null,null,null,null,"","","","","","","","","","",{"$f":"IF(ISNUMBER(F187),IF(AL187<0.85,\"\",VLOOKUP(M187,A!A$2:X$23,VLOOKUP(F187,ages!B$1:C$23,2,1),1)),\"\")","v":""},{"$f":"IF(ISNUMBER(F187),IF(AM187<0.85,\"\",VLOOKUP(N187,B!A$2:X$23,VLOOKUP(F187,ages!B$1:C$23,2,1),1)),\"\")","v":""},{"$f":"IF(ISNUMBER(F187),IF(AN187<0.85,\"\",VLOOKUP(O187,'C'!A$2:X$23,VLOOKUP(F187,ages!B$1:C$23,2,1),1)),\"\")","v":""},{"$f":"IF(ISNUMBER(F187),IF(AO187<0.85,\"\",VLOOKUP(P187,D!A$2:X$23,VLOOKUP(F187,ages!B$1:C$23,2,1),1)),\"\")","v":""},{"$f":"IF(ISNUMBER(F187),IF(AP187<0.85,\"\",VLOOKUP(Q187,E!A$2:X$23,VLOOKUP(F187,ages!B$1:C$23,2,1),1)),\"\")","v":""},{"$f":"IF(ISNUMBER(F187),IF(AQ187<0.85,\"\",VLOOKUP(R187,F!A$2:X$23,VLOOKUP(F187,ages!B$1:C$23,2,1),1)),\"\")","v":""},{"$f":"IF(ISNUMBER(F187),IF(AR187<0.85,\"\",VLOOKUP(S187,G!A$2:X$23,VLOOKUP(F187,ages!B$1:C$23,2,1),1)),\"\")","v":""},{"$f":"IF(ISNUMBER(F187),IF(AS187<0.85,\"\",VLOOKUP(T187,H!A$2:X$23,VLOOKUP(F187,ages!B$1:C$23,2,1),1)),\"\")","v":""},{"$f":"IF(ISNUMBER(F187),IF(AT187<0.85,\"\",VLOOKUP(U187,I!A$2:X$23,VLOOKUP(F187,ages!B$1:C$23,2,1),1)),\"\")","v":""},{"$f":"IF(ISNUMBER(F187),IF(AU187<0.85,\"\",VLOOKUP(V187,J!A$2:X$23,VLOOKUP(F187,ages!B$1:C$23,2,1),1)),\"\")","v":""},"","","","",-1.0000000000000002E-6,0,0,0,0,0,0,0,0,0,0,0,null,null,null,null,null,null,null,null,null,null,null,null,null,null,null,null,null,null,null,null,null,null,null,null,null,null,null,null,null,null,null,null,null,null,null,null,null,null,null,null,null,null,null,null,null,null,null,null,null,null,null,null,null,null,null,null,null,null,null,null,null,null,null,null,null,null,null,null,null,null,-9.9999999999999995E-7,-9.9999999999999995E-7,-9.9999999999999995E-7,-9.9999999999999995E-7,-9.9999999999999995E-7,-9.9999999999999995E-7,-9.9999999999999995E-7,-9.9999999999999995E-7,-9.9999999999999995E-7,-9.9999999999999995E-7,-9.9999999999999995E-7,-9.9999999999999995E-7,-9.9999999999999995E-7,-9.9999999999999995E-7,-9.9999999999999995E-7,-9.9999999999999995E-7,-9.9999999999999995E-7,-9.9999999999999995E-7,-9.9999999999999995E-7,-9.9999999999999995E-7,{"$f":"IF(ISERROR(VLOOKUP(F187,ages!B$1:B$23,1,1)),\"\",VLOOKUP(F187,ages!B$1:B$23,1,1))","v":""},{"$f":"IF(ISERROR(VLOOKUP(F187,ages!B$1:D$23,3,1)),\"\",VLOOKUP(F187,ages!B$1:D$23,3,1))","v":""},0,0,0,0,0]
[null,null,null,null,null,"",null,null,null,null,null,null,"","","","","","","","","","",{"$f":"IF(ISNUMBER(F188),IF(AL188<0.85,\"\",VLOOKUP(M188,A!A$2:X$23,VLOOKUP(F188,ages!B$1:C$23,2,1),1)),\"\")","v":""},{"$f":"IF(ISNUMBER(F188),IF(AM188<0.85,\"\",VLOOKUP(N188,B!A$2:X$23,VLOOKUP(F188,ages!B$1:C$23,2,1),1)),\"\")","v":""},{"$f":"IF(ISNUMBER(F188),IF(AN188<0.85,\"\",VLOOKUP(O188,'C'!A$2:X$23,VLOOKUP(F188,ages!B$1:C$23,2,1),1)),\"\")","v":""},{"$f":"IF(ISNUMBER(F188),IF(AO188<0.85,\"\",VLOOKUP(P188,D!A$2:X$23,VLOOKUP(F188,ages!B$1:C$23,2,1),1)),\"\")","v":""},{"$f":"IF(ISNUMBER(F188),IF(AP188<0.85,\"\",VLOOKUP(Q188,E!A$2:X$23,VLOOKUP(F188,ages!B$1:C$23,2,1),1)),\"\")","v":""},{"$f":"IF(ISNUMBER(F188),IF(AQ188<0.85,\"\",VLOOKUP(R188,F!A$2:X$23,VLOOKUP(F188,ages!B$1:C$23,2,1),1)),\"\")","v":""},{"$f":"IF(ISNUMBER(F188),IF(AR188<0.85,\"\",VLOOKUP(S188,G!A$2:X$23,VLOOKUP(F188,ages!B$1:C$23,2,1),1)),\"\")","v":""},{"$f":"IF(ISNUMBER(F188),IF(AS188<0.85,\"\",VLOOKUP(T188,H!A$2:X$23,VLOOKUP(F188,ages!B$1:C$23,2,1),1)),\"\")","v":""},{"$f":"IF(ISNUMBER(F188),IF(AT188<0.85,\"\",VLOOKUP(U188,I!A$2:X$23,VLOOKUP(F188,ages!B$1:C$23,2,1),1)),\"\")","v":""},{"$f":"IF(ISNUMBER(F188),IF(AU188<0.85,\"\",VLOOKUP(V188,J!A$2:X$23,VLOOKUP(F188,ages!B$1:C$23,2,1),1)),\"\")","v":""},"","","","",-1.0000000000000002E-6,0,0,0,0,0,0,0,0,0,0,0,null,null,null,null,null,null,null,null,null,null,null,null,null,null,null,null,null,null,null,null,null,null,null,null,null,null,null,null,null,null,null,null,null,null,null,null,null,null,null,null,null,null,null,null,null,null,null,null,null,null,null,null,null,null,null,null,null,null,null,null,null,null,null,null,null,null,null,null,null,null,-9.9999999999999995E-7,-9.9999999999999995E-7,-9.9999999999999995E-7,-9.9999999999999995E-7,-9.9999999999999995E-7,-9.9999999999999995E-7,-9.9999999999999995E-7,-9.9999999999999995E-7,-9.9999999999999995E-7,-9.9999999999999995E-7,-9.9999999999999995E-7,-9.9999999999999995E-7,-9.9999999999999995E-7,-9.9999999999999995E-7,-9.9999999999999995E-7,-9.9999999999999995E-7,-9.9999999999999995E-7,-9.9999999999999995E-7,-9.9999999999999995E-7,-9.9999999999999995E-7,{"$f":"IF(ISERROR(VLOOKUP(F188,ages!B$1:B$23,1,1)),\"\",VLOOKUP(F188,ages!B$1:B$23,1,1))","v":""},{"$f":"IF(ISERROR(VLOOKUP(F188,ages!B$1:D$23,3,1)),\"\",VLOOKUP(F188,ages!B$1:D$23,3,1))","v":""},0,0,0,0,0]
[null,null,null,null,null,"",null,null,null,null,null,null,"","","","","","","","","","",{"$f":"IF(ISNUMBER(F189),IF(AL189<0.85,\"\",VLOOKUP(M189,A!A$2:X$23,VLOOKUP(F189,ages!B$1:C$23,2,1),1)),\"\")","v":""},{"$f":"IF(ISNUMBER(F189),IF(AM189<0.85,\"\",VLOOKUP(N189,B!A$2:X$23,VLOOKUP(F189,ages!B$1:C$23,2,1),1)),\"\")","v":""},{"$f":"IF(ISNUMBER(F189),IF(AN189<0.85,\"\",VLOOKUP(O189,'C'!A$2:X$23,VLOOKUP(F189,ages!B$1:C$23,2,1),1)),\"\")","v":""},{"$f":"IF(ISNUMBER(F189),IF(AO189<0.85,\"\",VLOOKUP(P189,D!A$2:X$23,VLOOKUP(F189,ages!B$1:C$23,2,1),1)),\"\")","v":""},{"$f":"IF(ISNUMBER(F189),IF(AP189<0.85,\"\",VLOOKUP(Q189,E!A$2:X$23,VLOOKUP(F189,ages!B$1:C$23,2,1),1)),\"\")","v":""},{"$f":"IF(ISNUMBER(F189),IF(AQ189<0.85,\"\",VLOOKUP(R189,F!A$2:X$23,VLOOKUP(F189,ages!B$1:C$23,2,1),1)),\"\")","v":""},{"$f":"IF(ISNUMBER(F189),IF(AR189<0.85,\"\",VLOOKUP(S189,G!A$2:X$23,VLOOKUP(F189,ages!B$1:C$23,2,1),1)),\"\")","v":""},{"$f":"IF(ISNUMBER(F189),IF(AS189<0.85,\"\",VLOOKUP(T189,H!A$2:X$23,VLOOKUP(F189,ages!B$1:C$23,2,1),1)),\"\")","v":""},{"$f":"IF(ISNUMBER(F189),IF(AT189<0.85,\"\",VLOOKUP(U189,I!A$2:X$23,VLOOKUP(F189,ages!B$1:C$23,2,1),1)),\"\")","v":""},{"$f":"IF(ISNUMBER(F189),IF(AU189<0.85,\"\",VLOOKUP(V189,J!A$2:X$23,VLOOKUP(F189,ages!B$1:C$23,2,1),1)),\"\")","v":""},"","","","",-1.0000000000000002E-6,0,0,0,0,0,0,0,0,0,0,0,null,null,null,null,null,null,null,null,null,null,null,null,null,null,null,null,null,null,null,null,null,null,null,null,null,null,null,null,null,null,null,null,null,null,null,null,null,null,null,null,null,null,null,null,null,null,null,null,null,null,null,null,null,null,null,null,null,null,null,null,null,null,null,null,null,null,null,null,null,null,-9.9999999999999995E-7,-9.9999999999999995E-7,-9.9999999999999995E-7,-9.9999999999999995E-7,-9.9999999999999995E-7,-9.9999999999999995E-7,-9.9999999999999995E-7,-9.9999999999999995E-7,-9.9999999999999995E-7,-9.9999999999999995E-7,-9.9999999999999995E-7,-9.9999999999999995E-7,-9.9999999999999995E-7,-9.9999999999999995E-7,-9.9999999999999995E-7,-9.9999999999999995E-7,-9.9999999999999995E-7,-9.9999999999999995E-7,-9.9999999999999995E-7,-9.9999999999999995E-7,{"$f":"IF(ISERROR(VLOOKUP(F189,ages!B$1:B$23,1,1)),\"\",VLOOKUP(F189,ages!B$1:B$23,1,1))","v":""},{"$f":"IF(ISERROR(VLOOKUP(F189,ages!B$1:D$23,3,1)),\"\",VLOOKUP(F189,ages!B$1:D$23,3,1))","v":""},0,0,0,0,0]
[null,null,null,null,null,"",null,null,null,null,null,null,"","","","","","","","","","",{"$f":"IF(ISNUMBER(F190),IF(AL190<0.85,\"\",VLOOKUP(M190,A!A$2:X$23,VLOOKUP(F190,ages!B$1:C$23,2,1),1)),\"\")","v":""},{"$f":"IF(ISNUMBER(F190),IF(AM190<0.85,\"\",VLOOKUP(N190,B!A$2:X$23,VLOOKUP(F190,ages!B$1:C$23,2,1),1)),\"\")","v":""},{"$f":"IF(ISNUMBER(F190),IF(AN190<0.85,\"\",VLOOKUP(O190,'C'!A$2:X$23,VLOOKUP(F190,ages!B$1:C$23,2,1),1)),\"\")","v":""},{"$f":"IF(ISNUMBER(F190),IF(AO190<0.85,\"\",VLOOKUP(P190,D!A$2:X$23,VLOOKUP(F190,ages!B$1:C$23,2,1),1)),\"\")","v":""},{"$f":"IF(ISNUMBER(F190),IF(AP190<0.85,\"\",VLOOKUP(Q190,E!A$2:X$23,VLOOKUP(F190,ages!B$1:C$23,2,1),1)),\"\")","v":""},{"$f":"IF(ISNUMBER(F190),IF(AQ190<0.85,\"\",VLOOKUP(R190,F!A$2:X$23,VLOOKUP(F190,ages!B$1:C$23,2,1),1)),\"\")","v":""},{"$f":"IF(ISNUMBER(F190),IF(AR190<0.85,\"\",VLOOKUP(S190,G!A$2:X$23,VLOOKUP(F190,ages!B$1:C$23,2,1),1)),\"\")","v":""},{"$f":"IF(ISNUMBER(F190),IF(AS190<0.85,\"\",VLOOKUP(T190,H!A$2:X$23,VLOOKUP(F190,ages!B$1:C$23,2,1),1)),\"\")","v":""},{"$f":"IF(ISNUMBER(F190),IF(AT190<0.85,\"\",VLOOKUP(U190,I!A$2:X$23,VLOOKUP(F190,ages!B$1:C$23,2,1),1)),\"\")","v":""},{"$f":"IF(ISNUMBER(F190),IF(AU190<0.85,\"\",VLOOKUP(V190,J!A$2:X$23,VLOOKUP(F190,ages!B$1:C$23,2,1),1)),\"\")","v":""},"","","","",-1.0000000000000002E-6,0,0,0,0,0,0,0,0,0,0,0,null,null,null,null,null,null,null,null,null,null,null,null,null,null,null,null,null,null,null,null,null,null,null,null,null,null,null,null,null,null,null,null,null,null,null,null,null,null,null,null,null,null,null,null,null,null,null,null,null,null,null,null,null,null,null,null,null,null,null,null,null,null,null,null,null,null,null,null,null,null,-9.9999999999999995E-7,-9.9999999999999995E-7,-9.9999999999999995E-7,-9.9999999999999995E-7,-9.9999999999999995E-7,-9.9999999999999995E-7,-9.9999999999999995E-7,-9.9999999999999995E-7,-9.9999999999999995E-7,-9.9999999999999995E-7,-9.9999999999999995E-7,-9.9999999999999995E-7,-9.9999999999999995E-7,-9.9999999999999995E-7,-9.9999999999999995E-7,-9.9999999999999995E-7,-9.9999999999999995E-7,-9.9999999999999995E-7,-9.9999999999999995E-7,-9.9999999999999995E-7,{"$f":"IF(ISERROR(VLOOKUP(F190,ages!B$1:B$23,1,1)),\"\",VLOOKUP(F190,ages!B$1:B$23,1,1))","v":""},{"$f":"IF(ISERROR(VLOOKUP(F190,ages!B$1:D$23,3,1)),\"\",VLOOKUP(F190,ages!B$1:D$23,3,1))","v":""},0,0,0,0,0]
[null,null,null,null,null,"",null,null,null,null,null,null,"","","","","","","","","","",{"$f":"IF(ISNUMBER(F191),IF(AL191<0.85,\"\",VLOOKUP(M191,A!A$2:X$23,VLOOKUP(F191,ages!B$1:C$23,2,1),1)),\"\")","v":""},{"$f":"IF(ISNUMBER(F191),IF(AM191<0.85,\"\",VLOOKUP(N191,B!A$2:X$23,VLOOKUP(F191,ages!B$1:C$23,2,1),1)),\"\")","v":""},{"$f":"IF(ISNUMBER(F191),IF(AN191<0.85,\"\",VLOOKUP(O191,'C'!A$2:X$23,VLOOKUP(F191,ages!B$1:C$23,2,1),1)),\"\")","v":""},{"$f":"IF(ISNUMBER(F191),IF(AO191<0.85,\"\",VLOOKUP(P191,D!A$2:X$23,VLOOKUP(F191,ages!B$1:C$23,2,1),1)),\"\")","v":""},{"$f":"IF(ISNUMBER(F191),IF(AP191<0.85,\"\",VLOOKUP(Q191,E!A$2:X$23,VLOOKUP(F191,ages!B$1:C$23,2,1),1)),\"\")","v":""},{"$f":"IF(ISNUMBER(F191),IF(AQ191<0.85,\"\",VLOOKUP(R191,F!A$2:X$23,VLOOKUP(F191,ages!B$1:C$23,2,1),1)),\"\")","v":""},{"$f":"IF(ISNUMBER(F191),IF(AR191<0.85,\"\",VLOOKUP(S191,G!A$2:X$23,VLOOKUP(F191,ages!B$1:C$23,2,1),1)),\"\")","v":""},{"$f":"IF(ISNUMBER(F191),IF(AS191<0.85,\"\",VLOOKUP(T191,H!A$2:X$23,VLOOKUP(F191,ages!B$1:C$23,2,1),1)),\"\")","v":""},{"$f":"IF(ISNUMBER(F191),IF(AT191<0.85,\"\",VLOOKUP(U191,I!A$2:X$23,VLOOKUP(F191,ages!B$1:C$23,2,1),1)),\"\")","v":""},{"$f":"IF(ISNUMBER(F191),IF(AU191<0.85,\"\",VLOOKUP(V191,J!A$2:X$23,VLOOKUP(F191,ages!B$1:C$23,2,1),1)),\"\")","v":""},"","","","",-1.0000000000000002E-6,0,0,0,0,0,0,0,0,0,0,0,null,null,null,null,null,null,null,null,null,null,null,null,null,null,null,null,null,null,null,null,null,null,null,null,null,null,null,null,null,null,null,null,null,null,null,null,null,null,null,null,null,null,null,null,null,null,null,null,null,null,null,null,null,null,null,null,null,null,null,null,null,null,null,null,null,null,null,null,null,null,-9.9999999999999995E-7,-9.9999999999999995E-7,-9.9999999999999995E-7,-9.9999999999999995E-7,-9.9999999999999995E-7,-9.9999999999999995E-7,-9.9999999999999995E-7,-9.9999999999999995E-7,-9.9999999999999995E-7,-9.9999999999999995E-7,-9.9999999999999995E-7,-9.9999999999999995E-7,-9.9999999999999995E-7,-9.9999999999999995E-7,-9.9999999999999995E-7,-9.9999999999999995E-7,-9.9999999999999995E-7,-9.9999999999999995E-7,-9.9999999999999995E-7,-9.9999999999999995E-7,{"$f":"IF(ISERROR(VLOOKUP(F191,ages!B$1:B$23,1,1)),\"\",VLOOKUP(F191,ages!B$1:B$23,1,1))","v":""},{"$f":"IF(ISERROR(VLOOKUP(F191,ages!B$1:D$23,3,1)),\"\",VLOOKUP(F191,ages!B$1:D$23,3,1))","v":""},0,0,0,0,0]
[null,null,null,null,null,"",null,null,null,null,null,null,"","","","","","","","","","",{"$f":"IF(ISNUMBER(F192),IF(AL192<0.85,\"\",VLOOKUP(M192,A!A$2:X$23,VLOOKUP(F192,ages!B$1:C$23,2,1),1)),\"\")","v":""},{"$f":"IF(ISNUMBER(F192),IF(AM192<0.85,\"\",VLOOKUP(N192,B!A$2:X$23,VLOOKUP(F192,ages!B$1:C$23,2,1),1)),\"\")","v":""},{"$f":"IF(ISNUMBER(F192),IF(AN192<0.85,\"\",VLOOKUP(O192,'C'!A$2:X$23,VLOOKUP(F192,ages!B$1:C$23,2,1),1)),\"\")","v":""},{"$f":"IF(ISNUMBER(F192),IF(AO192<0.85,\"\",VLOOKUP(P192,D!A$2:X$23,VLOOKUP(F192,ages!B$1:C$23,2,1),1)),\"\")","v":""},{"$f":"IF(ISNUMBER(F192),IF(AP192<0.85,\"\",VLOOKUP(Q192,E!A$2:X$23,VLOOKUP(F192,ages!B$1:C$23,2,1),1)),\"\")","v":""},{"$f":"IF(ISNUMBER(F192),IF(AQ192<0.85,\"\",VLOOKUP(R192,F!A$2:X$23,VLOOKUP(F192,ages!B$1:C$23,2,1),1)),\"\")","v":""},{"$f":"IF(ISNUMBER(F192),IF(AR192<0.85,\"\",VLOOKUP(S192,G!A$2:X$23,VLOOKUP(F192,ages!B$1:C$23,2,1),1)),\"\")","v":""},{"$f":"IF(ISNUMBER(F192),IF(AS192<0.85,\"\",VLOOKUP(T192,H!A$2:X$23,VLOOKUP(F192,ages!B$1:C$23,2,1),1)),\"\")","v":""},{"$f":"IF(ISNUMBER(F192),IF(AT192<0.85,\"\",VLOOKUP(U192,I!A$2:X$23,VLOOKUP(F192,ages!B$1:C$23,2,1),1)),\"\")","v":""},{"$f":"IF(ISNUMBER(F192),IF(AU192<0.85,\"\",VLOOKUP(V192,J!A$2:X$23,VLOOKUP(F192,ages!B$1:C$23,2,1),1)),\"\")","v":""},"","","","",-1.0000000000000002E-6,0,0,0,0,0,0,0,0,0,0,0,null,null,null,null,null,null,null,null,null,null,null,null,null,null,null,null,null,null,null,null,null,null,null,null,null,null,null,null,null,null,null,null,null,null,null,null,null,null,null,null,null,null,null,null,null,null,null,null,null,null,null,null,null,null,null,null,null,null,null,null,null,null,null,null,null,null,null,null,null,null,-9.9999999999999995E-7,-9.9999999999999995E-7,-9.9999999999999995E-7,-9.9999999999999995E-7,-9.9999999999999995E-7,-9.9999999999999995E-7,-9.9999999999999995E-7,-9.9999999999999995E-7,-9.9999999999999995E-7,-9.9999999999999995E-7,-9.9999999999999995E-7,-9.9999999999999995E-7,-9.9999999999999995E-7,-9.9999999999999995E-7,-9.9999999999999995E-7,-9.9999999999999995E-7,-9.9999999999999995E-7,-9.9999999999999995E-7,-9.9999999999999995E-7,-9.9999999999999995E-7,{"$f":"IF(ISERROR(VLOOKUP(F192,ages!B$1:B$23,1,1)),\"\",VLOOKUP(F192,ages!B$1:B$23,1,1))","v":""},{"$f":"IF(ISERROR(VLOOKUP(F192,ages!B$1:D$23,3,1)),\"\",VLOOKUP(F192,ages!B$1:D$23,3,1))","v":""},0,0,0,0,0]
[null,null,null,null,null,"",null,null,null,null,null,null,"","","","","","","","","","",{"$f":"IF(ISNUMBER(F193),IF(AL193<0.85,\"\",VLOOKUP(M193,A!A$2:X$23,VLOOKUP(F193,ages!B$1:C$23,2,1),1)),\"\")","v":""},{"$f":"IF(ISNUMBER(F193),IF(AM193<0.85,\"\",VLOOKUP(N193,B!A$2:X$23,VLOOKUP(F193,ages!B$1:C$23,2,1),1)),\"\")","v":""},{"$f":"IF(ISNUMBER(F193),IF(AN193<0.85,\"\",VLOOKUP(O193,'C'!A$2:X$23,VLOOKUP(F193,ages!B$1:C$23,2,1),1)),\"\")","v":""},{"$f":"IF(ISNUMBER(F193),IF(AO193<0.85,\"\",VLOOKUP(P193,D!A$2:X$23,VLOOKUP(F193,ages!B$1:C$23,2,1),1)),\"\")","v":""},{"$f":"IF(ISNUMBER(F193),IF(AP193<0.85,\"\",VLOOKUP(Q193,E!A$2:X$23,VLOOKUP(F193,ages!B$1:C$23,2,1),1)),\"\")","v":""},{"$f":"IF(ISNUMBER(F193),IF(AQ193<0.85,\"\",VLOOKUP(R193,F!A$2:X$23,VLOOKUP(F193,ages!B$1:C$23,2,1),1)),\"\")","v":""},{"$f":"IF(ISNUMBER(F193),IF(AR193<0.85,\"\",VLOOKUP(S193,G!A$2:X$23,VLOOKUP(F193,ages!B$1:C$23,2,1),1)),\"\")","v":""},{"$f":"IF(ISNUMBER(F193),IF(AS193<0.85,\"\",VLOOKUP(T193,H!A$2:X$23,VLOOKUP(F193,ages!B$1:C$23,2,1),1)),\"\")","v":""},{"$f":"IF(ISNUMBER(F193),IF(AT193<0.85,\"\",VLOOKUP(U193,I!A$2:X$23,VLOOKUP(F193,ages!B$1:C$23,2,1),1)),\"\")","v":""},{"$f":"IF(ISNUMBER(F193),IF(AU193<0.85,\"\",VLOOKUP(V193,J!A$2:X$23,VLOOKUP(F193,ages!B$1:C$23,2,1),1)),\"\")","v":""},"","","","",-1.0000000000000002E-6,0,0,0,0,0,0,0,0,0,0,0,null,null,null,null,null,null,null,null,null,null,null,null,null,null,null,null,null,null,null,null,null,null,null,null,null,null,null,null,null,null,null,null,null,null,null,null,null,null,null,null,null,null,null,null,null,null,null,null,null,null,null,null,null,null,null,null,null,null,null,null,null,null,null,null,null,null,null,null,null,null,-9.9999999999999995E-7,-9.9999999999999995E-7,-9.9999999999999995E-7,-9.9999999999999995E-7,-9.9999999999999995E-7,-9.9999999999999995E-7,-9.9999999999999995E-7,-9.9999999999999995E-7,-9.9999999999999995E-7,-9.9999999999999995E-7,-9.9999999999999995E-7,-9.9999999999999995E-7,-9.9999999999999995E-7,-9.9999999999999995E-7,-9.9999999999999995E-7,-9.9999999999999995E-7,-9.9999999999999995E-7,-9.9999999999999995E-7,-9.9999999999999995E-7,-9.9999999999999995E-7,{"$f":"IF(ISERROR(VLOOKUP(F193,ages!B$1:B$23,1,1)),\"\",VLOOKUP(F193,ages!B$1:B$23,1,1))","v":""},{"$f":"IF(ISERROR(VLOOKUP(F193,ages!B$1:D$23,3,1)),\"\",VLOOKUP(F193,ages!B$1:D$23,3,1))","v":""},0,0,0,0,0]
[null,null,null,null,null,"",null,null,null,null,null,null,"","","","","","","","","","",{"$f":"IF(ISNUMBER(F194),IF(AL194<0.85,\"\",VLOOKUP(M194,A!A$2:X$23,VLOOKUP(F194,ages!B$1:C$23,2,1),1)),\"\")","v":""},{"$f":"IF(ISNUMBER(F194),IF(AM194<0.85,\"\",VLOOKUP(N194,B!A$2:X$23,VLOOKUP(F194,ages!B$1:C$23,2,1),1)),\"\")","v":""},{"$f":"IF(ISNUMBER(F194),IF(AN194<0.85,\"\",VLOOKUP(O194,'C'!A$2:X$23,VLOOKUP(F194,ages!B$1:C$23,2,1),1)),\"\")","v":""},{"$f":"IF(ISNUMBER(F194),IF(AO194<0.85,\"\",VLOOKUP(P194,D!A$2:X$23,VLOOKUP(F194,ages!B$1:C$23,2,1),1)),\"\")","v":""},{"$f":"IF(ISNUMBER(F194),IF(AP194<0.85,\"\",VLOOKUP(Q194,E!A$2:X$23,VLOOKUP(F194,ages!B$1:C$23,2,1),1)),\"\")","v":""},{"$f":"IF(ISNUMBER(F194),IF(AQ194<0.85,\"\",VLOOKUP(R194,F!A$2:X$23,VLOOKUP(F194,ages!B$1:C$23,2,1),1)),\"\")","v":""},{"$f":"IF(ISNUMBER(F194),IF(AR194<0.85,\"\",VLOOKUP(S194,G!A$2:X$23,VLOOKUP(F194,ages!B$1:C$23,2,1),1)),\"\")","v":""},{"$f":"IF(ISNUMBER(F194),IF(AS194<0.85,\"\",VLOOKUP(T194,H!A$2:X$23,VLOOKUP(F194,ages!B$1:C$23,2,1),1)),\"\")","v":""},{"$f":"IF(ISNUMBER(F194),IF(AT194<0.85,\"\",VLOOKUP(U194,I!A$2:X$23,VLOOKUP(F194,ages!B$1:C$23,2,1),1)),\"\")","v":""},{"$f":"IF(ISNUMBER(F194),IF(AU194<0.85,\"\",VLOOKUP(V194,J!A$2:X$23,VLOOKUP(F194,ages!B$1:C$23,2,1),1)),\"\")","v":""},"","","","",-1.0000000000000002E-6,0,0,0,0,0,0,0,0,0,0,0,null,null,null,null,null,null,null,null,null,null,null,null,null,null,null,null,null,null,null,null,null,null,null,null,null,null,null,null,null,null,null,null,null,null,null,null,null,null,null,null,null,null,null,null,null,null,null,null,null,null,null,null,null,null,null,null,null,null,null,null,null,null,null,null,null,null,null,null,null,null,-9.9999999999999995E-7,-9.9999999999999995E-7,-9.9999999999999995E-7,-9.9999999999999995E-7,-9.9999999999999995E-7,-9.9999999999999995E-7,-9.9999999999999995E-7,-9.9999999999999995E-7,-9.9999999999999995E-7,-9.9999999999999995E-7,-9.9999999999999995E-7,-9.9999999999999995E-7,-9.9999999999999995E-7,-9.9999999999999995E-7,-9.9999999999999995E-7,-9.9999999999999995E-7,-9.9999999999999995E-7,-9.9999999999999995E-7,-9.9999999999999995E-7,-9.9999999999999995E-7,{"$f":"IF(ISERROR(VLOOKUP(F194,ages!B$1:B$23,1,1)),\"\",VLOOKUP(F194,ages!B$1:B$23,1,1))","v":""},{"$f":"IF(ISERROR(VLOOKUP(F194,ages!B$1:D$23,3,1)),\"\",VLOOKUP(F194,ages!B$1:D$23,3,1))","v":""},0,0,0,0,0]
[null,null,null,null,null,"",null,null,null,null,null,null,"","","","","","","","","","",{"$f":"IF(ISNUMBER(F195),IF(AL195<0.85,\"\",VLOOKUP(M195,A!A$2:X$23,VLOOKUP(F195,ages!B$1:C$23,2,1),1)),\"\")","v":""},{"$f":"IF(ISNUMBER(F195),IF(AM195<0.85,\"\",VLOOKUP(N195,B!A$2:X$23,VLOOKUP(F195,ages!B$1:C$23,2,1),1)),\"\")","v":""},{"$f":"IF(ISNUMBER(F195),IF(AN195<0.85,\"\",VLOOKUP(O195,'C'!A$2:X$23,VLOOKUP(F195,ages!B$1:C$23,2,1),1)),\"\")","v":""},{"$f":"IF(ISNUMBER(F195),IF(AO195<0.85,\"\",VLOOKUP(P195,D!A$2:X$23,VLOOKUP(F195,ages!B$1:C$23,2,1),1)),\"\")","v":""},{"$f":"IF(ISNUMBER(F195),IF(AP195<0.85,\"\",VLOOKUP(Q195,E!A$2:X$23,VLOOKUP(F195,ages!B$1:C$23,2,1),1)),\"\")","v":""},{"$f":"IF(ISNUMBER(F195),IF(AQ195<0.85,\"\",VLOOKUP(R195,F!A$2:X$23,VLOOKUP(F195,ages!B$1:C$23,2,1),1)),\"\")","v":""},{"$f":"IF(ISNUMBER(F195),IF(AR195<0.85,\"\",VLOOKUP(S195,G!A$2:X$23,VLOOKUP(F195,ages!B$1:C$23,2,1),1)),\"\")","v":""},{"$f":"IF(ISNUMBER(F195),IF(AS195<0.85,\"\",VLOOKUP(T195,H!A$2:X$23,VLOOKUP(F195,ages!B$1:C$23,2,1),1)),\"\")","v":""},{"$f":"IF(ISNUMBER(F195),IF(AT195<0.85,\"\",VLOOKUP(U195,I!A$2:X$23,VLOOKUP(F195,ages!B$1:C$23,2,1),1)),\"\")","v":""},{"$f":"IF(ISNUMBER(F195),IF(AU195<0.85,\"\",VLOOKUP(V195,J!A$2:X$23,VLOOKUP(F195,ages!B$1:C$23,2,1),1)),\"\")","v":""},"","","","",-1.0000000000000002E-6,0,0,0,0,0,0,0,0,0,0,0,null,null,null,null,null,null,null,null,null,null,null,null,null,null,null,null,null,null,null,null,null,null,null,null,null,null,null,null,null,null,null,null,null,null,null,null,null,null,null,null,null,null,null,null,null,null,null,null,null,null,null,null,null,null,null,null,null,null,null,null,null,null,null,null,null,null,null,null,null,null,-9.9999999999999995E-7,-9.9999999999999995E-7,-9.9999999999999995E-7,-9.9999999999999995E-7,-9.9999999999999995E-7,-9.9999999999999995E-7,-9.9999999999999995E-7,-9.9999999999999995E-7,-9.9999999999999995E-7,-9.9999999999999995E-7,-9.9999999999999995E-7,-9.9999999999999995E-7,-9.9999999999999995E-7,-9.9999999999999995E-7,-9.9999999999999995E-7,-9.9999999999999995E-7,-9.9999999999999995E-7,-9.9999999999999995E-7,-9.9999999999999995E-7,-9.9999999999999995E-7,{"$f":"IF(ISERROR(VLOOKUP(F195,ages!B$1:B$23,1,1)),\"\",VLOOKUP(F195,ages!B$1:B$23,1,1))","v":""},{"$f":"IF(ISERROR(VLOOKUP(F195,ages!B$1:D$23,3,1)),\"\",VLOOKUP(F195,ages!B$1:D$23,3,1))","v":""},0,0,0,0,0]
[null,null,null,null,null,"",null,null,null,null,null,null,"","","","","","","","","","",{"$f":"IF(ISNUMBER(F196),IF(AL196<0.85,\"\",VLOOKUP(M196,A!A$2:X$23,VLOOKUP(F196,ages!B$1:C$23,2,1),1)),\"\")","v":""},{"$f":"IF(ISNUMBER(F196),IF(AM196<0.85,\"\",VLOOKUP(N196,B!A$2:X$23,VLOOKUP(F196,ages!B$1:C$23,2,1),1)),\"\")","v":""},{"$f":"IF(ISNUMBER(F196),IF(AN196<0.85,\"\",VLOOKUP(O196,'C'!A$2:X$23,VLOOKUP(F196,ages!B$1:C$23,2,1),1)),\"\")","v":""},{"$f":"IF(ISNUMBER(F196),IF(AO196<0.85,\"\",VLOOKUP(P196,D!A$2:X$23,VLOOKUP(F196,ages!B$1:C$23,2,1),1)),\"\")","v":""},{"$f":"IF(ISNUMBER(F196),IF(AP196<0.85,\"\",VLOOKUP(Q196,E!A$2:X$23,VLOOKUP(F196,ages!B$1:C$23,2,1),1)),\"\")","v":""},{"$f":"IF(ISNUMBER(F196),IF(AQ196<0.85,\"\",VLOOKUP(R196,F!A$2:X$23,VLOOKUP(F196,ages!B$1:C$23,2,1),1)),\"\")","v":""},{"$f":"IF(ISNUMBER(F196),IF(AR196<0.85,\"\",VLOOKUP(S196,G!A$2:X$23,VLOOKUP(F196,ages!B$1:C$23,2,1),1)),\"\")","v":""},{"$f":"IF(ISNUMBER(F196),IF(AS196<0.85,\"\",VLOOKUP(T196,H!A$2:X$23,VLOOKUP(F196,ages!B$1:C$23,2,1),1)),\"\")","v":""},{"$f":"IF(ISNUMBER(F196),IF(AT196<0.85,\"\",VLOOKUP(U196,I!A$2:X$23,VLOOKUP(F196,ages!B$1:C$23,2,1),1)),\"\")","v":""},{"$f":"IF(ISNUMBER(F196),IF(AU196<0.85,\"\",VLOOKUP(V196,J!A$2:X$23,VLOOKUP(F196,ages!B$1:C$23,2,1),1)),\"\")","v":""},"","","","",-1.0000000000000002E-6,0,0,0,0,0,0,0,0,0,0,0,null,null,null,null,null,null,null,null,null,null,null,null,null,null,null,null,null,null,null,null,null,null,null,null,null,null,null,null,null,null,null,null,null,null,null,null,null,null,null,null,null,null,null,null,null,null,null,null,null,null,null,null,null,null,null,null,null,null,null,null,null,null,null,null,null,null,null,null,null,null,-9.9999999999999995E-7,-9.9999999999999995E-7,-9.9999999999999995E-7,-9.9999999999999995E-7,-9.9999999999999995E-7,-9.9999999999999995E-7,-9.9999999999999995E-7,-9.9999999999999995E-7,-9.9999999999999995E-7,-9.9999999999999995E-7,-9.9999999999999995E-7,-9.9999999999999995E-7,-9.9999999999999995E-7,-9.9999999999999995E-7,-9.9999999999999995E-7,-9.9999999999999995E-7,-9.9999999999999995E-7,-9.9999999999999995E-7,-9.9999999999999995E-7,-9.9999999999999995E-7,{"$f":"IF(ISERROR(VLOOKUP(F196,ages!B$1:B$23,1,1)),\"\",VLOOKUP(F196,ages!B$1:B$23,1,1))","v":""},{"$f":"IF(ISERROR(VLOOKUP(F196,ages!B$1:D$23,3,1)),\"\",VLOOKUP(F196,ages!B$1:D$23,3,1))","v":""},0,0,0,0,0]
[null,null,null,null,null,"",null,null,null,null,null,null,"","","","","","","","","","",{"$f":"IF(ISNUMBER(F197),IF(AL197<0.85,\"\",VLOOKUP(M197,A!A$2:X$23,VLOOKUP(F197,ages!B$1:C$23,2,1),1)),\"\")","v":""},{"$f":"IF(ISNUMBER(F197),IF(AM197<0.85,\"\",VLOOKUP(N197,B!A$2:X$23,VLOOKUP(F197,ages!B$1:C$23,2,1),1)),\"\")","v":""},{"$f":"IF(ISNUMBER(F197),IF(AN197<0.85,\"\",VLOOKUP(O197,'C'!A$2:X$23,VLOOKUP(F197,ages!B$1:C$23,2,1),1)),\"\")","v":""},{"$f":"IF(ISNUMBER(F197),IF(AO197<0.85,\"\",VLOOKUP(P197,D!A$2:X$23,VLOOKUP(F197,ages!B$1:C$23,2,1),1)),\"\")","v":""},{"$f":"IF(ISNUMBER(F197),IF(AP197<0.85,\"\",VLOOKUP(Q197,E!A$2:X$23,VLOOKUP(F197,ages!B$1:C$23,2,1),1)),\"\")","v":""},{"$f":"IF(ISNUMBER(F197),IF(AQ197<0.85,\"\",VLOOKUP(R197,F!A$2:X$23,VLOOKUP(F197,ages!B$1:C$23,2,1),1)),\"\")","v":""},{"$f":"IF(ISNUMBER(F197),IF(AR197<0.85,\"\",VLOOKUP(S197,G!A$2:X$23,VLOOKUP(F197,ages!B$1:C$23,2,1),1)),\"\")","v":""},{"$f":"IF(ISNUMBER(F197),IF(AS197<0.85,\"\",VLOOKUP(T197,H!A$2:X$23,VLOOKUP(F197,ages!B$1:C$23,2,1),1)),\"\")","v":""},{"$f":"IF(ISNUMBER(F197),IF(AT197<0.85,\"\",VLOOKUP(U197,I!A$2:X$23,VLOOKUP(F197,ages!B$1:C$23,2,1),1)),\"\")","v":""},{"$f":"IF(ISNUMBER(F197),IF(AU197<0.85,\"\",VLOOKUP(V197,J!A$2:X$23,VLOOKUP(F197,ages!B$1:C$23,2,1),1)),\"\")","v":""},"","","","",-1.0000000000000002E-6,0,0,0,0,0,0,0,0,0,0,0,null,null,null,null,null,null,null,null,null,null,null,null,null,null,null,null,null,null,null,null,null,null,null,null,null,null,null,null,null,null,null,null,null,null,null,null,null,null,null,null,null,null,null,null,null,null,null,null,null,null,null,null,null,null,null,null,null,null,null,null,null,null,null,null,null,null,null,null,null,null,-9.9999999999999995E-7,-9.9999999999999995E-7,-9.9999999999999995E-7,-9.9999999999999995E-7,-9.9999999999999995E-7,-9.9999999999999995E-7,-9.9999999999999995E-7,-9.9999999999999995E-7,-9.9999999999999995E-7,-9.9999999999999995E-7,-9.9999999999999995E-7,-9.9999999999999995E-7,-9.9999999999999995E-7,-9.9999999999999995E-7,-9.9999999999999995E-7,-9.9999999999999995E-7,-9.9999999999999995E-7,-9.9999999999999995E-7,-9.9999999999999995E-7,-9.9999999999999995E-7,{"$f":"IF(ISERROR(VLOOKUP(F197,ages!B$1:B$23,1,1)),\"\",VLOOKUP(F197,ages!B$1:B$23,1,1))","v":""},{"$f":"IF(ISERROR(VLOOKUP(F197,ages!B$1:D$23,3,1)),\"\",VLOOKUP(F197,ages!B$1:D$23,3,1))","v":""},0,0,0,0,0]
[null,null,null,null,null,"",null,null,null,null,null,null,"","","","","","","","","","",{"$f":"IF(ISNUMBER(F198),IF(AL198<0.85,\"\",VLOOKUP(M198,A!A$2:X$23,VLOOKUP(F198,ages!B$1:C$23,2,1),1)),\"\")","v":""},{"$f":"IF(ISNUMBER(F198),IF(AM198<0.85,\"\",VLOOKUP(N198,B!A$2:X$23,VLOOKUP(F198,ages!B$1:C$23,2,1),1)),\"\")","v":""},{"$f":"IF(ISNUMBER(F198),IF(AN198<0.85,\"\",VLOOKUP(O198,'C'!A$2:X$23,VLOOKUP(F198,ages!B$1:C$23,2,1),1)),\"\")","v":""},{"$f":"IF(ISNUMBER(F198),IF(AO198<0.85,\"\",VLOOKUP(P198,D!A$2:X$23,VLOOKUP(F198,ages!B$1:C$23,2,1),1)),\"\")","v":""},{"$f":"IF(ISNUMBER(F198),IF(AP198<0.85,\"\",VLOOKUP(Q198,E!A$2:X$23,VLOOKUP(F198,ages!B$1:C$23,2,1),1)),\"\")","v":""},{"$f":"IF(ISNUMBER(F198),IF(AQ198<0.85,\"\",VLOOKUP(R198,F!A$2:X$23,VLOOKUP(F198,ages!B$1:C$23,2,1),1)),\"\")","v":""},{"$f":"IF(ISNUMBER(F198),IF(AR198<0.85,\"\",VLOOKUP(S198,G!A$2:X$23,VLOOKUP(F198,ages!B$1:C$23,2,1),1)),\"\")","v":""},{"$f":"IF(ISNUMBER(F198),IF(AS198<0.85,\"\",VLOOKUP(T198,H!A$2:X$23,VLOOKUP(F198,ages!B$1:C$23,2,1),1)),\"\")","v":""},{"$f":"IF(ISNUMBER(F198),IF(AT198<0.85,\"\",VLOOKUP(U198,I!A$2:X$23,VLOOKUP(F198,ages!B$1:C$23,2,1),1)),\"\")","v":""},{"$f":"IF(ISNUMBER(F198),IF(AU198<0.85,\"\",VLOOKUP(V198,J!A$2:X$23,VLOOKUP(F198,ages!B$1:C$23,2,1),1)),\"\")","v":""},"","","","",-1.0000000000000002E-6,0,0,0,0,0,0,0,0,0,0,0,null,null,null,null,null,null,null,null,null,null,null,null,null,null,null,null,null,null,null,null,null,null,null,null,null,null,null,null,null,null,null,null,null,null,null,null,null,null,null,null,null,null,null,null,null,null,null,null,null,null,null,null,null,null,null,null,null,null,null,null,null,null,null,null,null,null,null,null,null,null,-9.9999999999999995E-7,-9.9999999999999995E-7,-9.9999999999999995E-7,-9.9999999999999995E-7,-9.9999999999999995E-7,-9.9999999999999995E-7,-9.9999999999999995E-7,-9.9999999999999995E-7,-9.9999999999999995E-7,-9.9999999999999995E-7,-9.9999999999999995E-7,-9.9999999999999995E-7,-9.9999999999999995E-7,-9.9999999999999995E-7,-9.9999999999999995E-7,-9.9999999999999995E-7,-9.9999999999999995E-7,-9.9999999999999995E-7,-9.9999999999999995E-7,-9.9999999999999995E-7,{"$f":"IF(ISERROR(VLOOKUP(F198,ages!B$1:B$23,1,1)),\"\",VLOOKUP(F198,ages!B$1:B$23,1,1))","v":""},{"$f":"IF(ISERROR(VLOOKUP(F198,ages!B$1:D$23,3,1)),\"\",VLOOKUP(F198,ages!B$1:D$23,3,1))","v":""},0,0,0,0,0]
[null,null,null,null,null,"",null,null,null,null,null,null,"","","","","","","","","","",{"$f":"IF(ISNUMBER(F199),IF(AL199<0.85,\"\",VLOOKUP(M199,A!A$2:X$23,VLOOKUP(F199,ages!B$1:C$23,2,1),1)),\"\")","v":""},{"$f":"IF(ISNUMBER(F199),IF(AM199<0.85,\"\",VLOOKUP(N199,B!A$2:X$23,VLOOKUP(F199,ages!B$1:C$23,2,1),1)),\"\")","v":""},{"$f":"IF(ISNUMBER(F199),IF(AN199<0.85,\"\",VLOOKUP(O199,'C'!A$2:X$23,VLOOKUP(F199,ages!B$1:C$23,2,1),1)),\"\")","v":""},{"$f":"IF(ISNUMBER(F199),IF(AO199<0.85,\"\",VLOOKUP(P199,D!A$2:X$23,VLOOKUP(F199,ages!B$1:C$23,2,1),1)),\"\")","v":""},{"$f":"IF(ISNUMBER(F199),IF(AP199<0.85,\"\",VLOOKUP(Q199,E!A$2:X$23,VLOOKUP(F199,ages!B$1:C$23,2,1),1)),\"\")","v":""},{"$f":"IF(ISNUMBER(F199),IF(AQ199<0.85,\"\",VLOOKUP(R199,F!A$2:X$23,VLOOKUP(F199,ages!B$1:C$23,2,1),1)),\"\")","v":""},{"$f":"IF(ISNUMBER(F199),IF(AR199<0.85,\"\",VLOOKUP(S199,G!A$2:X$23,VLOOKUP(F199,ages!B$1:C$23,2,1),1)),\"\")","v":""},{"$f":"IF(ISNUMBER(F199),IF(AS199<0.85,\"\",VLOOKUP(T199,H!A$2:X$23,VLOOKUP(F199,ages!B$1:C$23,2,1),1)),\"\")","v":""},{"$f":"IF(ISNUMBER(F199),IF(AT199<0.85,\"\",VLOOKUP(U199,I!A$2:X$23,VLOOKUP(F199,ages!B$1:C$23,2,1),1)),\"\")","v":""},{"$f":"IF(ISNUMBER(F199),IF(AU199<0.85,\"\",VLOOKUP(V199,J!A$2:X$23,VLOOKUP(F199,ages!B$1:C$23,2,1),1)),\"\")","v":""},"","","","",-1.0000000000000002E-6,0,0,0,0,0,0,0,0,0,0,0,null,null,null,null,null,null,null,null,null,null,null,null,null,null,null,null,null,null,null,null,null,null,null,null,null,null,null,null,null,null,null,null,null,null,null,null,null,null,null,null,null,null,null,null,null,null,null,null,null,null,null,null,null,null,null,null,null,null,null,null,null,null,null,null,null,null,null,null,null,null,-9.9999999999999995E-7,-9.9999999999999995E-7,-9.9999999999999995E-7,-9.9999999999999995E-7,-9.9999999999999995E-7,-9.9999999999999995E-7,-9.9999999999999995E-7,-9.9999999999999995E-7,-9.9999999999999995E-7,-9.9999999999999995E-7,-9.9999999999999995E-7,-9.9999999999999995E-7,-9.9999999999999995E-7,-9.9999999999999995E-7,-9.9999999999999995E-7,-9.9999999999999995E-7,-9.9999999999999995E-7,-9.9999999999999995E-7,-9.9999999999999995E-7,-9.9999999999999995E-7,{"$f":"IF(ISERROR(VLOOKUP(F199,ages!B$1:B$23,1,1)),\"\",VLOOKUP(F199,ages!B$1:B$23,1,1))","v":""},{"$f":"IF(ISERROR(VLOOKUP(F199,ages!B$1:D$23,3,1)),\"\",VLOOKUP(F199,ages!B$1:D$23,3,1))","v":""},0,0,0,0,0]
[null,null,null,null,null,"",null,null,null,null,null,null,"","","","","","","","","","",{"$f":"IF(ISNUMBER(F200),IF(AL200<0.85,\"\",VLOOKUP(M200,A!A$2:X$23,VLOOKUP(F200,ages!B$1:C$23,2,1),1)),\"\")","v":""},{"$f":"IF(ISNUMBER(F200),IF(AM200<0.85,\"\",VLOOKUP(N200,B!A$2:X$23,VLOOKUP(F200,ages!B$1:C$23,2,1),1)),\"\")","v":""},{"$f":"IF(ISNUMBER(F200),IF(AN200<0.85,\"\",VLOOKUP(O200,'C'!A$2:X$23,VLOOKUP(F200,ages!B$1:C$23,2,1),1)),\"\")","v":""},{"$f":"IF(ISNUMBER(F200),IF(AO200<0.85,\"\",VLOOKUP(P200,D!A$2:X$23,VLOOKUP(F200,ages!B$1:C$23,2,1),1)),\"\")","v":""},{"$f":"IF(ISNUMBER(F200),IF(AP200<0.85,\"\",VLOOKUP(Q200,E!A$2:X$23,VLOOKUP(F200,ages!B$1:C$23,2,1),1)),\"\")","v":""},{"$f":"IF(ISNUMBER(F200),IF(AQ200<0.85,\"\",VLOOKUP(R200,F!A$2:X$23,VLOOKUP(F200,ages!B$1:C$23,2,1),1)),\"\")","v":""},{"$f":"IF(ISNUMBER(F200),IF(AR200<0.85,\"\",VLOOKUP(S200,G!A$2:X$23,VLOOKUP(F200,ages!B$1:C$23,2,1),1)),\"\")","v":""},{"$f":"IF(ISNUMBER(F200),IF(AS200<0.85,\"\",VLOOKUP(T200,H!A$2:X$23,VLOOKUP(F200,ages!B$1:C$23,2,1),1)),\"\")","v":""},{"$f":"IF(ISNUMBER(F200),IF(AT200<0.85,\"\",VLOOKUP(U200,I!A$2:X$23,VLOOKUP(F200,ages!B$1:C$23,2,1),1)),\"\")","v":""},{"$f":"IF(ISNUMBER(F200),IF(AU200<0.85,\"\",VLOOKUP(V200,J!A$2:X$23,VLOOKUP(F200,ages!B$1:C$23,2,1),1)),\"\")","v":""},"","","","",{"$f":"IF(COUNT(DO200:EH200)>15,SUM(DO200:EH200)/COUNT(DO200:EH200),\"\")","v":-1.0000000000000002E-6},0,0,0,0,0,0,0,0,0,0,0,null,null,null,null,null,null,null,null,null,null,null,null,null,null,null,null,null,null,null,null,null,null,null,null,null,null,null,null,null,null,null,null,null,null,null,null,null,null,null,null,null,null,null,null,null,null,null,null,null,null,null,null,null,null,null,null,null,null,null,null,null,null,null,null,null,null,null,null,null,null,-9.9999999999999995E-7,{"$f":"IF(ISNUMBER(CV200),3-CV200,-0.000001)","v":-9.9999999999999995E-7},{"$f":"IF(ISNUMBER(CW200),3-CW200,-0.000001)","v":-9.9999999999999995E-7},{"$f":"IF(ISNUMBER(CX200),3-CX200,-0.000001)","v":-9.9999999999999995E-7},{"$f":"IF(ISNUMBER(CY200),3-CY200,-0.000001)","v":-9.9999999999999995E-7},{"$f":"IF(ISNUMBER(CZ200),3-CZ200,-0.000001)","v":-9.9999999999999995E-7},{"$f":"IF(ISNUMBER(DA200),3-DA200,-0.000001)","v":-9.9999999999999995E-7},{"$f":"IF(ISNUMBER(DB200),3-DB200,-0.000001)","v":-9.9999999999999995E-7},{"$f":"IF(ISNUMBER(DC200),3-DC200,-0.000001)","v":-9.9999999999999995E-7},{"$f":"IF(ISNUMBER(DD200),3-DD200,-0.000001)","v":-9.9999999999999995E-7},{"$f":"IF(ISNUMBER(DE200),3-DE200,-0.000001)","v":-9.9999999999999995E-7},{"$f":"IF(ISNUMBER(DF200),3-DF200,-0.000001)","v":-9.9999999999999995E-7},{"$f":"IF(ISNUMBER(DG200),3-DG200,-0.000001)","v":-9.9999999999999995E-7},{"$f":"IF(ISNUMBER(DH200),3-DH200,-0.000001)","v":-9.9999999999999995E-7},{"$f":"IF(ISNUMBER(DI200),3-DI200,-0.000001)","v":-9.9999999999999995E-7},{"$f":"IF(ISNUMBER(DJ200),3-DJ200,-0.000001)","v":-9.9999999999999995E-7},{"$f":"IF(ISNUMBER(DK200),3-DK200,-0.000001)","v":-9.9999999999999995E-7},{"$f":"IF(ISNUMBER(DL200),3-DL200,-0.000001)","v":-9.9999999999999995E-7},{"$f":"IF(ISNUMBER(DM200),3-DM200,-0.000001)","v":-9.9999999999999995E-7},{"$f":"IF(ISNUMBER(DN200),3-DN200,-0.000001)","v":-9.9999999999999995E-7},{"$f":"IF(ISERROR(VLOOKUP(F200,ages!B$1:B$23,1,1)),\"\",VLOOKUP(F200,ages!B$1:B$23,1,1))","v":""},{"$f":"IF(ISERROR(VLOOKUP(F200,ages!B$1:D$23,3,1)),\"\",VLOOKUP(F200,ages!B$1:D$23,3,1))","v":""},0,0,0,0,0]
[null,null,null,null,null,{"$f":"IF(OR(D201=\"\",E201=\"\"),\"\",IF((EK201*12+EL201)<48,\"ald<4:0\",IF((EK201*12+EL201)>203,\"ald>16:11\",EK201*12+EL201)))","v":""},null,null,null,null,null,null,{"$f":"IF(AL201>0.79,ROUND(($DO201+$DV201+$AX201+$BT201+$BY201+$CH201+$CN201)/AL201,0),\"\")","v":""},{"$f":"IF(AM201>0.79,ROUND(($DS201+$EG201+$AW201+$BM201+$BW201+$CF201+$CM201)/AM201,0),\"\")","v":""},{"$f":"IF(AN201>0.79,ROUND(($EB201+$ED201+$AZ201+$BB201+$BH201+$CB201+$CP201)/AN201,0),\"\")","v":""},{"$f":"IF(AO201>0.79,ROUND(($DQ201+$EF201+$BF201+$BU201+$CJ201+$CR201+$CT201)/AO201,0),\"\")","v":""},{"$f":"IF(AP201>0.79,ROUND(($DW201+$EH201+$BA201+$BQ201+$CE201+$CG201+$CO201)/AP201,0),\"\")","v":""},{"$f":"IF(AQ201>0.79,ROUND(($DY201+$DZ201+$BG201+$BN201+$BS201+$BZ201+$CL201)/AQ201,0),\"\")","v":""},{"$f":"IF(AR201>0.79,ROUND(($DR201+$DX201+$BK201+$BO201+$BX201+$CD201+$CK201)/AR201,0),\"\")","v":""},{"$f":"IF(AS201>0.79,ROUND(($DT201+$EC201+$BD201+$BJ201+$BP201+$CA201+$CI201)/AS201,0),\"\")","v":""},{"$f":"IF(AT201>0.79,ROUND(($DU201+$EE201+$AY201+$BC201+$BI201+$BL201+$CC201)/AT201,0),\"\")","v":""},{"$f":"IF(AU201>0.79,ROUND(($DP201+$EA201+$BE201+$BR201+$BV201+$CQ201+$CS201)/AU201,0),\"\")","v":""},{"$f":"IF(ISNUMBER(F201),IF(AL201<0.85,\"\",VLOOKUP(M201,A!A$2:X$23,VLOOKUP(F201,ages!B$1:C$23,2,1),1)),\"\")","v":""},{"$f":"IF(ISNUMBER(F201),IF(AM201<0.85,\"\",VLOOKUP(N201,B!A$2:X$23,VLOOKUP(F201,ages!B$1:C$23,2,1),1)),\"\")","v":""},{"$f":"IF(ISNUMBER(F201),IF(AN201<0.85,\"\",VLOOKUP(O201,'C'!A$2:X$23,VLOOKUP(F201,ages!B$1:C$23,2,1),1)),\"\")","v":""},{"$f":"IF(ISNUMBER(F201),IF(AO201<0.85,\"\",VLOOKUP(P201,D!A$2:X$23,VLOOKUP(F201,ages!B$1:C$23,2,1),1)),\"\")","v":""},{"$f":"IF(ISNUMBER(F201),IF(AP201<0.85,\"\",VLOOKUP(Q201,E!A$2:X$23,VLOOKUP(F201,ages!B$1:C$23,2,1),1)),\"\")","v":""},{"$f":"IF(ISNUMBER(F201),IF(AQ201<0.85,\"\",VLOOKUP(R201,F!A$2:X$23,VLOOKUP(F201,ages!B$1:C$23,2,1),1)),\"\")","v":""},{"$f":"IF(ISNUMBER(F201),IF(AR201<0.85,\"\",VLOOKUP(S201,G!A$2:X$23,VLOOKUP(F201,ages!B$1:C$23,2,1),1)),\"\")","v":""},{"$f":"IF(ISNUMBER(F201),IF(AS201<0.85,\"\",VLOOKUP(T201,H!A$2:X$23,VLOOKUP(F201,ages!B$1:C$23,2,1),1)),\"\")","v":""},{"$f":"IF(ISNUMBER(F201),IF(AT201<0.85,\"\",VLOOKUP(U201,I!A$2:X$23,VLOOKUP(F201,ages!B$1:C$23,2,1),1)),\"\")","v":""},{"$f":"IF(ISNUMBER(F201),IF(AU201<0.85,\"\",VLOOKUP(V201,J!A$2:X$23,VLOOKUP(F201,ages!B$1:C$23,2,1),1)),\"\")","v":""},"","",{"$f":"IF(AG201=\"\",\"\",IF(ISNUMBER(AJ201),IF(AND(AK201>1.5,(AK201-AJ201)>1.3),0,1),\"\"))","v":""},{"$f":"IF(COUNT(AW201:CT201)>45,SUM(AW201:CT201)/COUNT(AW201:CT201),\"\")","v":""},-1.0000000000000002E-6,{"$f":"COUNT($AX201,$BT201,$BY201,$CH201,$CN201,$CU201,$DB201)/7","v":0},{"$f":"COUNT($AW201,$BM201,$BW201,$CF201,$CM201,$CY201,$DM201)/7","v":0},{"$f":"COUNT($AZ201,$BB201,$BH201,$CB201,$CP201,$DH201,$DJ201)/7","v":0},{"$f":"COUNT($BF201,$BU201,$CJ201,$CR201,$CT201,$CW201,$DL201)/7","v":0},{"$f":"COUNT($BA201,$BQ201,$CE201,$CG201,$CO201,$DC201,$DN201)/7","v":0},{"$f":"COUNT($BG201,$BN201,$BS201,$BZ201,$CL201,$DE201,$DF201)/7","v":0},{"$f":"COUNT($BK201,$BO201,$BX201,$CD201,$CK201,$CX201,$DD201)/7","v":0},{"$f":"COUNT($BD201,$BJ201,$BP201,$CA201,$CI201,$CZ201,$DI201)/7","v":0},{"$f":"COUNT($AY201,$BC201,$BI201,$BL201,$CC201,$DA201,$DK201)/7","v":0},{"$f":"COUNT($BE201,$BR201,$BV201,$CQ201,$CS201,$CV201,$DG201)/7","v":0},{"$f":"COUNT(AW201:DN201)/70","v":0},null,null,null,null,null,null,null,null,null,null,null,null,null,null,null,null,null,null,null,null,null,null,null,null,null,null,null,null,null,null,null,null,null,null,null,null,null,null,null,null,null,null,null,null,null,null,null,null,null,null,null,null,null,null,null,null,null,null,null,null,null,null,null,null,null,null,null,null,null,null,{"$f":"IF(ISNUMBER(CU201),3-CU201,-0.000001)","v":-9.9999999999999995E-7},-9.9999999999999995E-7,-9.9999999999999995E-7,-9.9999999999999995E-7,-9.9999999999999995E-7,-9.9999999999999995E-7,-9.9999999999999995E-7,-9.9999999999999995E-7,-9.9999999999999995E-7,-9.9999999999999995E-7,-9.9999999999999995E-7,-9.9999999999999995E-7,-9.9999999999999995E-7,-9.9999999999999995E-7,-9.9999999999999995E-7,-9.9999999999999995E-7,-9.9999999999999995E-7,-9.9999999999999995E-7,-9.9999999999999995E-7,-9.9999999999999995E-7,{"$f":"IF(ISERROR(VLOOKUP(F201,ages!B$1:B$23,1,1)),\"\",VLOOKUP(F201,ages!B$1:B$23,1,1))","v":""},{"$f":"IF(ISERROR(VLOOKUP(F201,ages!B$1:D$23,3,1)),\"\",VLOOKUP(F201,ages!B$1:D$23,3,1))","v":""},{"$f":"YEAR(E201)-YEAR(D201)-EN201","v":0},{"$f":"IF(MONTH(E201)-MONTH(D201)-EO201<0,12+MONTH(E201)-MONTH(D201)-EO201,MONTH(E201)-MONTH(D201)-EO201)","v":0},{"$f":"IF(DAY(E201)-DAY(D201)<0,30+DAY(E201)-DAY(D201),DAY(E201)-DAY(D201))","v":0},{"$f":"IF(MONTH(E201)-MONTH(D201)-EO201<0,1,0)","v":0},{"$f":"IF(DAY(E201)-DAY(D201)<0,1,0)","v":0}]
[null,null,null,null,null,"",null,null,null,null,null,null,"","","","","","","","","","",{"$f":"IF(ISNUMBER(F202),IF(AL202<0.85,\"\",VLOOKUP(M202,A!A$2:X$23,VLOOKUP(F202,ages!B$1:C$23,2,1),1)),\"\")","v":""},{"$f":"IF(ISNUMBER(F202),IF(AM202<0.85,\"\",VLOOKUP(N202,B!A$2:X$23,VLOOKUP(F202,ages!B$1:C$23,2,1),1)),\"\")","v":""},{"$f":"IF(ISNUMBER(F202),IF(AN202<0.85,\"\",VLOOKUP(O202,'C'!A$2:X$23,VLOOKUP(F202,ages!B$1:C$23,2,1),1)),\"\")","v":""},{"$f":"IF(ISNUMBER(F202),IF(AO202<0.85,\"\",VLOOKUP(P202,D!A$2:X$23,VLOOKUP(F202,ages!B$1:C$23,2,1),1)),\"\")","v":""},{"$f":"IF(ISNUMBER(F202),IF(AP202<0.85,\"\",VLOOKUP(Q202,E!A$2:X$23,VLOOKUP(F202,ages!B$1:C$23,2,1),1)),\"\")","v":""},{"$f":"IF(ISNUMBER(F202),IF(AQ202<0.85,\"\",VLOOKUP(R202,F!A$2:X$23,VLOOKUP(F202,ages!B$1:C$23,2,1),1)),\"\")","v":""},{"$f":"IF(ISNUMBER(F202),IF(AR202<0.85,\"\",VLOOKUP(S202,G!A$2:X$23,VLOOKUP(F202,ages!B$1:C$23,2,1),1)),\"\")","v":""},{"$f":"IF(ISNUMBER(F202),IF(AS202<0.85,\"\",VLOOKUP(T202,H!A$2:X$23,VLOOKUP(F202,ages!B$1:C$23,2,1),1)),\"\")","v":""},{"$f":"IF(ISNUMBER(F202),IF(AT202<0.85,\"\",VLOOKUP(U202,I!A$2:X$23,VLOOKUP(F202,ages!B$1:C$23,2,1),1)),\"\")","v":""},{"$f":"IF(ISNUMBER(F202),IF(AU202<0.85,\"\",VLOOKUP(V202,J!A$2:X$23,VLOOKUP(F202,ages!B$1:C$23,2,1),1)),\"\")","v":""},{"$f":"IF(ISNUMBER(F202),IF((COUNT(W202:AD202)=8),SUM(W202:AD202),\"\"),\"\")","v":""},{"$f":"IF(ISNUMBER(F202),IF((COUNT(W202:AF202)=10),SUM(AA202,AD202:AF202)-SUM(W202:Z202),\"\"),\"\")","v":""},"","",-1.0000000000000002E-6,0,0,0,0,0,0,0,0,0,0,0,null,null,null,null,null,null,null,null,null,null,null,null,null,null,null,null,null,null,null,null,null,null,null,null,null,null,null,null,null,null,null,null,null,null,null,null,null,null,null,null,null,null,null,null,null,null,null,null,null,null,null,null,null,null,null,null,null,null,null,null,null,null,null,null,null,null,null,null,null,null,-9.9999999999999995E-7,-9.9999999999999995E-7,-9.9999999999999995E-7,-9.9999999999999995E-7,-9.9999999999999995E-7,-9.9999999999999995E-7,-9.9999999999999995E-7,-9.9999999999999995E-7,-9.9999999999999995E-7,-9.9999999999999995E-7,-9.9999999999999995E-7,-9.9999999999999995E-7,-9.9999999999999995E-7,-9.9999999999999995E-7,-9.9999999999999995E-7,-9.9999999999999995E-7,-9.9999999999999995E-7,-9.9999999999999995E-7,-9.9999999999999995E-7,-9.9999999999999995E-7,{"$f":"IF(ISERROR(VLOOKUP(F202,ages!B$1:B$23,1,1)),\"\",VLOOKUP(F202,ages!B$1:B$23,1,1))","v":""},{"$f":"IF(ISERROR(VLOOKUP(F202,ages!B$1:D$23,3,1)),\"\",VLOOKUP(F202,ages!B$1:D$23,3,1))","v":""},0,0,0,0,0]
[null,null,null,null,null,"",null,null,null,null,null,null,"","","","","","","","","","",{"$f":"IF(ISNUMBER(F203),IF(AL203<0.85,\"\",VLOOKUP(M203,A!A$2:X$23,VLOOKUP(F203,ages!B$1:C$23,2,1),1)),\"\")","v":""},{"$f":"IF(ISNUMBER(F203),IF(AM203<0.85,\"\",VLOOKUP(N203,B!A$2:X$23,VLOOKUP(F203,ages!B$1:C$23,2,1),1)),\"\")","v":""},{"$f":"IF(ISNUMBER(F203),IF(AN203<0.85,\"\",VLOOKUP(O203,'C'!A$2:X$23,VLOOKUP(F203,ages!B$1:C$23,2,1),1)),\"\")","v":""},{"$f":"IF(ISNUMBER(F203),IF(AO203<0.85,\"\",VLOOKUP(P203,D!A$2:X$23,VLOOKUP(F203,ages!B$1:C$23,2,1),1)),\"\")","v":""},{"$f":"IF(ISNUMBER(F203),IF(AP203<0.85,\"\",VLOOKUP(Q203,E!A$2:X$23,VLOOKUP(F203,ages!B$1:C$23,2,1),1)),\"\")","v":""},{"$f":"IF(ISNUMBER(F203),IF(AQ203<0.85,\"\",VLOOKUP(R203,F!A$2:X$23,VLOOKUP(F203,ages!B$1:C$23,2,1),1)),\"\")","v":""},{"$f":"IF(ISNUMBER(F203),IF(AR203<0.85,\"\",VLOOKUP(S203,G!A$2:X$23,VLOOKUP(F203,ages!B$1:C$23,2,1),1)),\"\")","v":""},{"$f":"IF(ISNUMBER(F203),IF(AS203<0.85,\"\",VLOOKUP(T203,H!A$2:X$23,VLOOKUP(F203,ages!B$1:C$23,2,1),1)),\"\")","v":""},{"$f":"IF(ISNUMBER(F203),IF(AT203<0.85,\"\",VLOOKUP(U203,I!A$2:X$23,VLOOKUP(F203,ages!B$1:C$23,2,1),1)),\"\")","v":""},{"$f":"IF(ISNUMBER(F203),IF(AU203<0.85,\"\",VLOOKUP(V203,J!A$2:X$23,VLOOKUP(F203,ages!B$1:C$23,2,1),1)),\"\")","v":""},"","","","",-1.0000000000000002E-6,0,0,0,0,0,0,0,0,0,0,0,null,null,null,null,null,null,null,null,null,null,null,null,null,null,null,null,null,null,null,null,null,null,null,null,null,null,null,null,null,null,null,null,null,null,null,null,null,null,null,null,null,null,null,null,null,null,null,null,null,null,null,null,null,null,null,null,null,null,null,null,null,null,null,null,null,null,null,null,null,null,-9.9999999999999995E-7,-9.9999999999999995E-7,-9.9999999999999995E-7,-9.9999999999999995E-7,-9.9999999999999995E-7,-9.9999999999999995E-7,-9.9999999999999995E-7,-9.9999999999999995E-7,-9.9999999999999995E-7,-9.9999999999999995E-7,-9.9999999999999995E-7,-9.9999999999999995E-7,-9.9999999999999995E-7,-9.9999999999999995E-7,-9.9999999999999995E-7,-9.9999999999999995E-7,-9.9999999999999995E-7,-9.9999999999999995E-7,-9.9999999999999995E-7,-9.9999999999999995E-7,{"$f":"IF(ISERROR(VLOOKUP(F203,ages!B$1:B$23,1,1)),\"\",VLOOKUP(F203,ages!B$1:B$23,1,1))","v":""},{"$f":"IF(ISERROR(VLOOKUP(F203,ages!B$1:D$23,3,1)),\"\",VLOOKUP(F203,ages!B$1:D$23,3,1))","v":""},0,0,0,0,0]
[null,null,null,null,null,"",null,null,null,null,null,null,"","","","","","","","","","",{"$f":"IF(ISNUMBER(F204),IF(AL204<0.85,\"\",VLOOKUP(M204,A!A$2:X$23,VLOOKUP(F204,ages!B$1:C$23,2,1),1)),\"\")","v":""},{"$f":"IF(ISNUMBER(F204),IF(AM204<0.85,\"\",VLOOKUP(N204,B!A$2:X$23,VLOOKUP(F204,ages!B$1:C$23,2,1),1)),\"\")","v":""},{"$f":"IF(ISNUMBER(F204),IF(AN204<0.85,\"\",VLOOKUP(O204,'C'!A$2:X$23,VLOOKUP(F204,ages!B$1:C$23,2,1),1)),\"\")","v":""},{"$f":"IF(ISNUMBER(F204),IF(AO204<0.85,\"\",VLOOKUP(P204,D!A$2:X$23,VLOOKUP(F204,ages!B$1:C$23,2,1),1)),\"\")","v":""},{"$f":"IF(ISNUMBER(F204),IF(AP204<0.85,\"\",VLOOKUP(Q204,E!A$2:X$23,VLOOKUP(F204,ages!B$1:C$23,2,1),1)),\"\")","v":""},{"$f":"IF(ISNUMBER(F204),IF(AQ204<0.85,\"\",VLOOKUP(R204,F!A$2:X$23,VLOOKUP(F204,ages!B$1:C$23,2,1),1)),\"\")","v":""},{"$f":"IF(ISNUMBER(F204),IF(AR204<0.85,\"\",VLOOKUP(S204,G!A$2:X$23,VLOOKUP(F204,ages!B$1:C$23,2,1),1)),\"\")","v":""},{"$f":"IF(ISNUMBER(F204),IF(AS204<0.85,\"\",VLOOKUP(T204,H!A$2:X$23,VLOOKUP(F204,ages!B$1:C$23,2,1),1)),\"\")","v":""},{"$f":"IF(ISNUMBER(F204),IF(AT204<0.85,\"\",VLOOKUP(U204,I!A$2:X$23,VLOOKUP(F204,ages!B$1:C$23,2,1),1)),\"\")","v":""},{"$f":"IF(ISNUMBER(F204),IF(AU204<0.85,\"\",VLOOKUP(V204,J!A$2:X$23,VLOOKUP(F204,ages!B$1:C$23,2,1),1)),\"\")","v":""},"","","","",-1.0000000000000002E-6,0,0,0,0,0,0,0,0,0,0,0,null,null,null,null,null,null,null,null,null,null,null,null,null,null,null,null,null,null,null,null,null,null,null,null,null,null,null,null,null,null,null,null,null,null,null,null,null,null,null,null,null,null,null,null,null,null,null,null,null,null,null,null,null,null,null,null,null,null,null,null,null,null,null,null,null,null,null,null,null,null,-9.9999999999999995E-7,-9.9999999999999995E-7,-9.9999999999999995E-7,-9.9999999999999995E-7,-9.9999999999999995E-7,-9.9999999999999995E-7,-9.9999999999999995E-7,-9.9999999999999995E-7,-9.9999999999999995E-7,-9.9999999999999995E-7,-9.9999999999999995E-7,-9.9999999999999995E-7,-9.9999999999999995E-7,-9.9999999999999995E-7,-9.9999999999999995E-7,-9.9999999999999995E-7,-9.9999999999999995E-7,-9.9999999999999995E-7,-9.9999999999999995E-7,-9.9999999999999995E-7,{"$f":"IF(ISERROR(VLOOKUP(F204,ages!B$1:B$23,1,1)),\"\",VLOOKUP(F204,ages!B$1:B$23,1,1))","v":""},{"$f":"IF(ISERROR(VLOOKUP(F204,ages!B$1:D$23,3,1)),\"\",VLOOKUP(F204,ages!B$1:D$23,3,1))","v":""},0,0,0,0,0]
[null,null,null,null,null,"",null,null,null,null,null,null,"","","","","","","","","","",{"$f":"IF(ISNUMBER(F205),IF(AL205<0.85,\"\",VLOOKUP(M205,A!A$2:X$23,VLOOKUP(F205,ages!B$1:C$23,2,1),1)),\"\")","v":""},{"$f":"IF(ISNUMBER(F205),IF(AM205<0.85,\"\",VLOOKUP(N205,B!A$2:X$23,VLOOKUP(F205,ages!B$1:C$23,2,1),1)),\"\")","v":""},{"$f":"IF(ISNUMBER(F205),IF(AN205<0.85,\"\",VLOOKUP(O205,'C'!A$2:X$23,VLOOKUP(F205,ages!B$1:C$23,2,1),1)),\"\")","v":""},{"$f":"IF(ISNUMBER(F205),IF(AO205<0.85,\"\",VLOOKUP(P205,D!A$2:X$23,VLOOKUP(F205,ages!B$1:C$23,2,1),1)),\"\")","v":""},{"$f":"IF(ISNUMBER(F205),IF(AP205<0.85,\"\",VLOOKUP(Q205,E!A$2:X$23,VLOOKUP(F205,ages!B$1:C$23,2,1),1)),\"\")","v":""},{"$f":"IF(ISNUMBER(F205),IF(AQ205<0.85,\"\",VLOOKUP(R205,F!A$2:X$23,VLOOKUP(F205,ages!B$1:C$23,2,1),1)),\"\")","v":""},{"$f":"IF(ISNUMBER(F205),IF(AR205<0.85,\"\",VLOOKUP(S205,G!A$2:X$23,VLOOKUP(F205,ages!B$1:C$23,2,1),1)),\"\")","v":""},{"$f":"IF(ISNUMBER(F205),IF(AS205<0.85,\"\",VLOOKUP(T205,H!A$2:X$23,VLOOKUP(F205,ages!B$1:C$23,2,1),1)),\"\")","v":""},{"$f":"IF(ISNUMBER(F205),IF(AT205<0.85,\"\",VLOOKUP(U205,I!A$2:X$23,VLOOKUP(F205,ages!B$1:C$23,2,1),1)),\"\")","v":""},{"$f":"IF(ISNUMBER(F205),IF(AU205<0.85,\"\",VLOOKUP(V205,J!A$2:X$23,VLOOKUP(F205,ages!B$1:C$23,2,1),1)),\"\")","v":""},"","","","",-1.0000000000000002E-6,0,0,0,0,0,0,0,0,0,0,0,null,null,null,null,null,null,null,null,null,null,null,null,null,null,null,null,null,null,null,null,null,null,null,null,null,null,null,null,null,null,null,null,null,null,null,null,null,null,null,null,null,null,null,null,null,null,null,null,null,null,null,null,null,null,null,null,null,null,null,null,null,null,null,null,null,null,null,null,null,null,-9.9999999999999995E-7,-9.9999999999999995E-7,-9.9999999999999995E-7,-9.9999999999999995E-7,-9.9999999999999995E-7,-9.9999999999999995E-7,-9.9999999999999995E-7,-9.9999999999999995E-7,-9.9999999999999995E-7,-9.9999999999999995E-7,-9.9999999999999995E-7,-9.9999999999999995E-7,-9.9999999999999995E-7,-9.9999999999999995E-7,-9.9999999999999995E-7,-9.9999999999999995E-7,-9.9999999999999995E-7,-9.9999999999999995E-7,-9.9999999999999995E-7,-9.9999999999999995E-7,{"$f":"IF(ISERROR(VLOOKUP(F205,ages!B$1:B$23,1,1)),\"\",VLOOKUP(F205,ages!B$1:B$23,1,1))","v":""},{"$f":"IF(ISERROR(VLOOKUP(F205,ages!B$1:D$23,3,1)),\"\",VLOOKUP(F205,ages!B$1:D$23,3,1))","v":""},0,0,0,0,0]
[null,null,null,null,null,"",null,null,null,null,null,null,"","","","","","","","","","",{"$f":"IF(ISNUMBER(F206),IF(AL206<0.85,\"\",VLOOKUP(M206,A!A$2:X$23,VLOOKUP(F206,ages!B$1:C$23,2,1),1)),\"\")","v":""},{"$f":"IF(ISNUMBER(F206),IF(AM206<0.85,\"\",VLOOKUP(N206,B!A$2:X$23,VLOOKUP(F206,ages!B$1:C$23,2,1),1)),\"\")","v":""},{"$f":"IF(ISNUMBER(F206),IF(AN206<0.85,\"\",VLOOKUP(O206,'C'!A$2:X$23,VLOOKUP(F206,ages!B$1:C$23,2,1),1)),\"\")","v":""},{"$f":"IF(ISNUMBER(F206),IF(AO206<0.85,\"\",VLOOKUP(P206,D!A$2:X$23,VLOOKUP(F206,ages!B$1:C$23,2,1),1)),\"\")","v":""},{"$f":"IF(ISNUMBER(F206),IF(AP206<0.85,\"\",VLOOKUP(Q206,E!A$2:X$23,VLOOKUP(F206,ages!B$1:C$23,2,1),1)),\"\")","v":""},{"$f":"IF(ISNUMBER(F206),IF(AQ206<0.85,\"\",VLOOKUP(R206,F!A$2:X$23,VLOOKUP(F206,ages!B$1:C$23,2,1),1)),\"\")","v":""},{"$f":"IF(ISNUMBER(F206),IF(AR206<0.85,\"\",VLOOKUP(S206,G!A$2:X$23,VLOOKUP(F206,ages!B$1:C$23,2,1),1)),\"\")","v":""},{"$f":"IF(ISNUMBER(F206),IF(AS206<0.85,\"\",VLOOKUP(T206,H!A$2:X$23,VLOOKUP(F206,ages!B$1:C$23,2,1),1)),\"\")","v":""},{"$f":"IF(ISNUMBER(F206),IF(AT206<0.85,\"\",VLOOKUP(U206,I!A$2:X$23,VLOOKUP(F206,ages!B$1:C$23,2,1),1)),\"\")","v":""},{"$f":"IF(ISNUMBER(F206),IF(AU206<0.85,\"\",VLOOKUP(V206,J!A$2:X$23,VLOOKUP(F206,ages!B$1:C$23,2,1),1)),\"\")","v":""},"","","","",-1.0000000000000002E-6,0,0,0,0,0,0,0,0,0,0,0,null,null,null,null,null,null,null,null,null,null,null,null,null,null,null,null,null,null,null,null,null,null,null,null,null,null,null,null,null,null,null,null,null,null,null,null,null,null,null,null,null,null,null,null,null,null,null,null,null,null,null,null,null,null,null,null,null,null,null,null,null,null,null,null,null,null,null,null,null,null,-9.9999999999999995E-7,-9.9999999999999995E-7,-9.9999999999999995E-7,-9.9999999999999995E-7,-9.9999999999999995E-7,-9.9999999999999995E-7,-9.9999999999999995E-7,-9.9999999999999995E-7,-9.9999999999999995E-7,-9.9999999999999995E-7,-9.9999999999999995E-7,-9.9999999999999995E-7,-9.9999999999999995E-7,-9.9999999999999995E-7,-9.9999999999999995E-7,-9.9999999999999995E-7,-9.9999999999999995E-7,-9.9999999999999995E-7,-9.9999999999999995E-7,-9.9999999999999995E-7,{"$f":"IF(ISERROR(VLOOKUP(F206,ages!B$1:B$23,1,1)),\"\",VLOOKUP(F206,ages!B$1:B$23,1,1))","v":""},{"$f":"IF(ISERROR(VLOOKUP(F206,ages!B$1:D$23,3,1)),\"\",VLOOKUP(F206,ages!B$1:D$23,3,1))","v":""},0,0,0,0,0]
[null,null,null,null,null,"",null,null,null,null,null,null,"","","","","","","","","","",{"$f":"IF(ISNUMBER(F207),IF(AL207<0.85,\"\",VLOOKUP(M207,A!A$2:X$23,VLOOKUP(F207,ages!B$1:C$23,2,1),1)),\"\")","v":""},{"$f":"IF(ISNUMBER(F207),IF(AM207<0.85,\"\",VLOOKUP(N207,B!A$2:X$23,VLOOKUP(F207,ages!B$1:C$23,2,1),1)),\"\")","v":""},{"$f":"IF(ISNUMBER(F207),IF(AN207<0.85,\"\",VLOOKUP(O207,'C'!A$2:X$23,VLOOKUP(F207,ages!B$1:C$23,2,1),1)),\"\")","v":""},{"$f":"IF(ISNUMBER(F207),IF(AO207<0.85,\"\",VLOOKUP(P207,D!A$2:X$23,VLOOKUP(F207,ages!B$1:C$23,2,1),1)),\"\")","v":""},{"$f":"IF(ISNUMBER(F207),IF(AP207<0.85,\"\",VLOOKUP(Q207,E!A$2:X$23,VLOOKUP(F207,ages!B$1:C$23,2,1),1)),\"\")","v":""},{"$f":"IF(ISNUMBER(F207),IF(AQ207<0.85,\"\",VLOOKUP(R207,F!A$2:X$23,VLOOKUP(F207,ages!B$1:C$23,2,1),1)),\"\")","v":""},{"$f":"IF(ISNUMBER(F207),IF(AR207<0.85,\"\",VLOOKUP(S207,G!A$2:X$23,VLOOKUP(F207,ages!B$1:C$23,2,1),1)),\"\")","v":""},{"$f":"IF(ISNUMBER(F207),IF(AS207<0.85,\"\",VLOOKUP(T207,H!A$2:X$23,VLOOKUP(F207,ages!B$1:C$23,2,1),1)),\"\")","v":""},{"$f":"IF(ISNUMBER(F207),IF(AT207<0.85,\"\",VLOOKUP(U207,I!A$2:X$23,VLOOKUP(F207,ages!B$1:C$23,2,1),1)),\"\")","v":""},{"$f":"IF(ISNUMBER(F207),IF(AU207<0.85,\"\",VLOOKUP(V207,J!A$2:X$23,VLOOKUP(F207,ages!B$1:C$23,2,1),1)),\"\")","v":""},"","","","",-1.0000000000000002E-6,0,0,0,0,0,0,0,0,0,0,0,null,null,null,null,null,null,null,null,null,null,null,null,null,null,null,null,null,null,null,null,null,null,null,null,null,null,null,null,null,null,null,null,null,null,null,null,null,null,null,null,null,null,null,null,null,null,null,null,null,null,null,null,null,null,null,null,null,null,null,null,null,null,null,null,null,null,null,null,null,null,-9.9999999999999995E-7,-9.9999999999999995E-7,-9.9999999999999995E-7,-9.9999999999999995E-7,-9.9999999999999995E-7,-9.9999999999999995E-7,-9.9999999999999995E-7,-9.9999999999999995E-7,-9.9999999999999995E-7,-9.9999999999999995E-7,-9.9999999999999995E-7,-9.9999999999999995E-7,-9.9999999999999995E-7,-9.9999999999999995E-7,-9.9999999999999995E-7,-9.9999999999999995E-7,-9.9999999999999995E-7,-9.9999999999999995E-7,-9.9999999999999995E-7,-9.9999999999999995E-7,{"$f":"IF(ISERROR(VLOOKUP(F207,ages!B$1:B$23,1,1)),\"\",VLOOKUP(F207,ages!B$1:B$23,1,1))","v":""},{"$f":"IF(ISERROR(VLOOKUP(F207,ages!B$1:D$23,3,1)),\"\",VLOOKUP(F207,ages!B$1:D$23,3,1))","v":""},0,0,0,0,0]
[null,null,null,null,null,"",null,null,null,null,null,null,"","","","","","","","","","",{"$f":"IF(ISNUMBER(F208),IF(AL208<0.85,\"\",VLOOKUP(M208,A!A$2:X$23,VLOOKUP(F208,ages!B$1:C$23,2,1),1)),\"\")","v":""},{"$f":"IF(ISNUMBER(F208),IF(AM208<0.85,\"\",VLOOKUP(N208,B!A$2:X$23,VLOOKUP(F208,ages!B$1:C$23,2,1),1)),\"\")","v":""},{"$f":"IF(ISNUMBER(F208),IF(AN208<0.85,\"\",VLOOKUP(O208,'C'!A$2:X$23,VLOOKUP(F208,ages!B$1:C$23,2,1),1)),\"\")","v":""},{"$f":"IF(ISNUMBER(F208),IF(AO208<0.85,\"\",VLOOKUP(P208,D!A$2:X$23,VLOOKUP(F208,ages!B$1:C$23,2,1),1)),\"\")","v":""},{"$f":"IF(ISNUMBER(F208),IF(AP208<0.85,\"\",VLOOKUP(Q208,E!A$2:X$23,VLOOKUP(F208,ages!B$1:C$23,2,1),1)),\"\")","v":""},{"$f":"IF(ISNUMBER(F208),IF(AQ208<0.85,\"\",VLOOKUP(R208,F!A$2:X$23,VLOOKUP(F208,ages!B$1:C$23,2,1),1)),\"\")","v":""},{"$f":"IF(ISNUMBER(F208),IF(AR208<0.85,\"\",VLOOKUP(S208,G!A$2:X$23,VLOOKUP(F208,ages!B$1:C$23,2,1),1)),\"\")","v":""},{"$f":"IF(ISNUMBER(F208),IF(AS208<0.85,\"\",VLOOKUP(T208,H!A$2:X$23,VLOOKUP(F208,ages!B$1:C$23,2,1),1)),\"\")","v":""},{"$f":"IF(ISNUMBER(F208),IF(AT208<0.85,\"\",VLOOKUP(U208,I!A$2:X$23,VLOOKUP(F208,ages!B$1:C$23,2,1),1)),\"\")","v":""},{"$f":"IF(ISNUMBER(F208),IF(AU208<0.85,\"\",VLOOKUP(V208,J!A$2:X$23,VLOOKUP(F208,ages!B$1:C$23,2,1),1)),\"\")","v":""},"","","","",-1.0000000000000002E-6,0,0,0,0,0,0,0,0,0,0,0,null,null,null,null,null,null,null,null,null,null,null,null,null,null,null,null,null,null,null,null,null,null,null,null,null,null,null,null,null,null,null,null,null,null,null,null,null,null,null,null,null,null,null,null,null,null,null,null,null,null,null,null,null,null,null,null,null,null,null,null,null,null,null,null,null,null,null,null,null,null,-9.9999999999999995E-7,-9.9999999999999995E-7,-9.9999999999999995E-7,-9.9999999999999995E-7,-9.9999999999999995E-7,-9.9999999999999995E-7,-9.9999999999999995E-7,-9.9999999999999995E-7,-9.9999999999999995E-7,-9.9999999999999995E-7,-9.9999999999999995E-7,-9.9999999999999995E-7,-9.9999999999999995E-7,-9.9999999999999995E-7,-9.9999999999999995E-7,-9.9999999999999995E-7,-9.9999999999999995E-7,-9.9999999999999995E-7,-9.9999999999999995E-7,-9.9999999999999995E-7,{"$f":"IF(ISERROR(VLOOKUP(F208,ages!B$1:B$23,1,1)),\"\",VLOOKUP(F208,ages!B$1:B$23,1,1))","v":""},{"$f":"IF(ISERROR(VLOOKUP(F208,ages!B$1:D$23,3,1)),\"\",VLOOKUP(F208,ages!B$1:D$23,3,1))","v":""},0,0,0,0,0]
[null,null,null,null,null,"",null,null,null,null,null,null,"","","","","","","","","","",{"$f":"IF(ISNUMBER(F209),IF(AL209<0.85,\"\",VLOOKUP(M209,A!A$2:X$23,VLOOKUP(F209,ages!B$1:C$23,2,1),1)),\"\")","v":""},{"$f":"IF(ISNUMBER(F209),IF(AM209<0.85,\"\",VLOOKUP(N209,B!A$2:X$23,VLOOKUP(F209,ages!B$1:C$23,2,1),1)),\"\")","v":""},{"$f":"IF(ISNUMBER(F209),IF(AN209<0.85,\"\",VLOOKUP(O209,'C'!A$2:X$23,VLOOKUP(F209,ages!B$1:C$23,2,1),1)),\"\")","v":""},{"$f":"IF(ISNUMBER(F209),IF(AO209<0.85,\"\",VLOOKUP(P209,D!A$2:X$23,VLOOKUP(F209,ages!B$1:C$23,2,1),1)),\"\")","v":""},{"$f":"IF(ISNUMBER(F209),IF(AP209<0.85,\"\",VLOOKUP(Q209,E!A$2:X$23,VLOOKUP(F209,ages!B$1:C$23,2,1),1)),\"\")","v":""},{"$f":"IF(ISNUMBER(F209),IF(AQ209<0.85,\"\",VLOOKUP(R209,F!A$2:X$23,VLOOKUP(F209,ages!B$1:C$23,2,1),1)),\"\")","v":""},{"$f":"IF(ISNUMBER(F209),IF(AR209<0.85,\"\",VLOOKUP(S209,G!A$2:X$23,VLOOKUP(F209,ages!B$1:C$23,2,1),1)),\"\")","v":""},{"$f":"IF(ISNUMBER(F209),IF(AS209<0.85,\"\",VLOOKUP(T209,H!A$2:X$23,VLOOKUP(F209,ages!B$1:C$23,2,1),1)),\"\")","v":""},{"$f":"IF(ISNUMBER(F209),IF(AT209<0.85,\"\",VLOOKUP(U209,I!A$2:X$23,VLOOKUP(F209,ages!B$1:C$23,2,1),1)),\"\")","v":""},{"$f":"IF(ISNUMBER(F209),IF(AU209<0.85,\"\",VLOOKUP(V209,J!A$2:X$23,VLOOKUP(F209,ages!B$1:C$23,2,1),1)),\"\")","v":""},"","","","",-1.0000000000000002E-6,0,0,0,0,0,0,0,0,0,0,0,null,null,null,null,null,null,null,null,null,null,null,null,null,null,null,null,null,null,null,null,null,null,null,null,null,null,null,null,null,null,null,null,null,null,null,null,null,null,null,null,null,null,null,null,null,null,null,null,null,null,null,null,null,null,null,null,null,null,null,null,null,null,null,null,null,null,null,null,null,null,-9.9999999999999995E-7,-9.9999999999999995E-7,-9.9999999999999995E-7,-9.9999999999999995E-7,-9.9999999999999995E-7,-9.9999999999999995E-7,-9.9999999999999995E-7,-9.9999999999999995E-7,-9.9999999999999995E-7,-9.9999999999999995E-7,-9.9999999999999995E-7,-9.9999999999999995E-7,-9.9999999999999995E-7,-9.9999999999999995E-7,-9.9999999999999995E-7,-9.9999999999999995E-7,-9.9999999999999995E-7,-9.9999999999999995E-7,-9.9999999999999995E-7,-9.9999999999999995E-7,{"$f":"IF(ISERROR(VLOOKUP(F209,ages!B$1:B$23,1,1)),\"\",VLOOKUP(F209,ages!B$1:B$23,1,1))","v":""},{"$f":"IF(ISERROR(VLOOKUP(F209,ages!B$1:D$23,3,1)),\"\",VLOOKUP(F209,ages!B$1:D$23,3,1))","v":""},0,0,0,0,0]
[null,null,null,null,null,"",null,null,null,null,null,null,"","","","","","","","","","",{"$f":"IF(ISNUMBER(F210),IF(AL210<0.85,\"\",VLOOKUP(M210,A!A$2:X$23,VLOOKUP(F210,ages!B$1:C$23,2,1),1)),\"\")","v":""},{"$f":"IF(ISNUMBER(F210),IF(AM210<0.85,\"\",VLOOKUP(N210,B!A$2:X$23,VLOOKUP(F210,ages!B$1:C$23,2,1),1)),\"\")","v":""},{"$f":"IF(ISNUMBER(F210),IF(AN210<0.85,\"\",VLOOKUP(O210,'C'!A$2:X$23,VLOOKUP(F210,ages!B$1:C$23,2,1),1)),\"\")","v":""},{"$f":"IF(ISNUMBER(F210),IF(AO210<0.85,\"\",VLOOKUP(P210,D!A$2:X$23,VLOOKUP(F210,ages!B$1:C$23,2,1),1)),\"\")","v":""},{"$f":"IF(ISNUMBER(F210),IF(AP210<0.85,\"\",VLOOKUP(Q210,E!A$2:X$23,VLOOKUP(F210,ages!B$1:C$23,2,1),1)),\"\")","v":""},{"$f":"IF(ISNUMBER(F210),IF(AQ210<0.85,\"\",VLOOKUP(R210,F!A$2:X$23,VLOOKUP(F210,ages!B$1:C$23,2,1),1)),\"\")","v":""},{"$f":"IF(ISNUMBER(F210),IF(AR210<0.85,\"\",VLOOKUP(S210,G!A$2:X$23,VLOOKUP(F210,ages!B$1:C$23,2,1),1)),\"\")","v":""},{"$f":"IF(ISNUMBER(F210),IF(AS210<0.85,\"\",VLOOKUP(T210,H!A$2:X$23,VLOOKUP(F210,ages!B$1:C$23,2,1),1)),\"\")","v":""},{"$f":"IF(ISNUMBER(F210),IF(AT210<0.85,\"\",VLOOKUP(U210,I!A$2:X$23,VLOOKUP(F210,ages!B$1:C$23,2,1),1)),\"\")","v":""},{"$f":"IF(ISNUMBER(F210),IF(AU210<0.85,\"\",VLOOKUP(V210,J!A$2:X$23,VLOOKUP(F210,ages!B$1:C$23,2,1),1)),\"\")","v":""},"","","","",-1.0000000000000002E-6,0,0,0,0,0,0,0,0,0,0,0,null,null,null,null,null,null,null,null,null,null,null,null,null,null,null,null,null,null,null,null,null,null,null,null,null,null,null,null,null,null,null,null,null,null,null,null,null,null,null,null,null,null,null,null,null,null,null,null,null,null,null,null,null,null,null,null,null,null,null,null,null,null,null,null,null,null,null,null,null,null,-9.9999999999999995E-7,-9.9999999999999995E-7,-9.9999999999999995E-7,-9.9999999999999995E-7,-9.9999999999999995E-7,-9.9999999999999995E-7,-9.9999999999999995E-7,-9.9999999999999995E-7,-9.9999999999999995E-7,-9.9999999999999995E-7,-9.9999999999999995E-7,-9.9999999999999995E-7,-9.9999999999999995E-7,-9.9999999999999995E-7,-9.9999999999999995E-7,-9.9999999999999995E-7,-9.9999999999999995E-7,-9.9999999999999995E-7,-9.9999999999999995E-7,-9.9999999999999995E-7,{"$f":"IF(ISERROR(VLOOKUP(F210,ages!B$1:B$23,1,1)),\"\",VLOOKUP(F210,ages!B$1:B$23,1,1))","v":""},{"$f":"IF(ISERROR(VLOOKUP(F210,ages!B$1:D$23,3,1)),\"\",VLOOKUP(F210,ages!B$1:D$23,3,1))","v":""},0,0,0,0,0]
[null,null,null,null,null,"",null,null,null,null,null,null,"","","","","","","","","","",{"$f":"IF(ISNUMBER(F211),IF(AL211<0.85,\"\",VLOOKUP(M211,A!A$2:X$23,VLOOKUP(F211,ages!B$1:C$23,2,1),1)),\"\")","v":""},{"$f":"IF(ISNUMBER(F211),IF(AM211<0.85,\"\",VLOOKUP(N211,B!A$2:X$23,VLOOKUP(F211,ages!B$1:C$23,2,1),1)),\"\")","v":""},{"$f":"IF(ISNUMBER(F211),IF(AN211<0.85,\"\",VLOOKUP(O211,'C'!A$2:X$23,VLOOKUP(F211,ages!B$1:C$23,2,1),1)),\"\")","v":""},{"$f":"IF(ISNUMBER(F211),IF(AO211<0.85,\"\",VLOOKUP(P211,D!A$2:X$23,VLOOKUP(F211,ages!B$1:C$23,2,1),1)),\"\")","v":""},{"$f":"IF(ISNUMBER(F211),IF(AP211<0.85,\"\",VLOOKUP(Q211,E!A$2:X$23,VLOOKUP(F211,ages!B$1:C$23,2,1),1)),\"\")","v":""},{"$f":"IF(ISNUMBER(F211),IF(AQ211<0.85,\"\",VLOOKUP(R211,F!A$2:X$23,VLOOKUP(F211,ages!B$1:C$23,2,1),1)),\"\")","v":""},{"$f":"IF(ISNUMBER(F211),IF(AR211<0.85,\"\",VLOOKUP(S211,G!A$2:X$23,VLOOKUP(F211,ages!B$1:C$23,2,1),1)),\"\")","v":""},{"$f":"IF(ISNUMBER(F211),IF(AS211<0.85,\"\",VLOOKUP(T211,H!A$2:X$23,VLOOKUP(F211,ages!B$1:C$23,2,1),1)),\"\")","v":""},{"$f":"IF(ISNUMBER(F211),IF(AT211<0.85,\"\",VLOOKUP(U211,I!A$2:X$23,VLOOKUP(F211,ages!B$1:C$23,2,1),1)),\"\")","v":""},{"$f":"IF(ISNUMBER(F211),IF(AU211<0.85,\"\",VLOOKUP(V211,J!A$2:X$23,VLOOKUP(F211,ages!B$1:C$23,2,1),1)),\"\")","v":""},"","","","",-1.0000000000000002E-6,0,0,0,0,0,0,0,0,0,0,0,null,null,null,null,null,null,null,null,null,null,null,null,null,null,null,null,null,null,null,null,null,null,null,null,null,null,null,null,null,null,null,null,null,null,null,null,null,null,null,null,null,null,null,null,null,null,null,null,null,null,null,null,null,null,null,null,null,null,null,null,null,null,null,null,null,null,null,null,null,null,-9.9999999999999995E-7,-9.9999999999999995E-7,-9.9999999999999995E-7,-9.9999999999999995E-7,-9.9999999999999995E-7,-9.9999999999999995E-7,-9.9999999999999995E-7,-9.9999999999999995E-7,-9.9999999999999995E-7,-9.9999999999999995E-7,-9.9999999999999995E-7,-9.9999999999999995E-7,-9.9999999999999995E-7,-9.9999999999999995E-7,-9.9999999999999995E-7,-9.9999999999999995E-7,-9.9999999999999995E-7,-9.9999999999999995E-7,-9.9999999999999995E-7,-9.9999999999999995E-7,{"$f":"IF(ISERROR(VLOOKUP(F211,ages!B$1:B$23,1,1)),\"\",VLOOKUP(F211,ages!B$1:B$23,1,1))","v":""},{"$f":"IF(ISERROR(VLOOKUP(F211,ages!B$1:D$23,3,1)),\"\",VLOOKUP(F211,ages!B$1:D$23,3,1))","v":""},0,0,0,0,0]
[null,null,null,null,null,"",null,null,null,null,null,null,"","","","","","","","","","",{"$f":"IF(ISNUMBER(F212),IF(AL212<0.85,\"\",VLOOKUP(M212,A!A$2:X$23,VLOOKUP(F212,ages!B$1:C$23,2,1),1)),\"\")","v":""},{"$f":"IF(ISNUMBER(F212),IF(AM212<0.85,\"\",VLOOKUP(N212,B!A$2:X$23,VLOOKUP(F212,ages!B$1:C$23,2,1),1)),\"\")","v":""},{"$f":"IF(ISNUMBER(F212),IF(AN212<0.85,\"\",VLOOKUP(O212,'C'!A$2:X$23,VLOOKUP(F212,ages!B$1:C$23,2,1),1)),\"\")","v":""},{"$f":"IF(ISNUMBER(F212),IF(AO212<0.85,\"\",VLOOKUP(P212,D!A$2:X$23,VLOOKUP(F212,ages!B$1:C$23,2,1),1)),\"\")","v":""},{"$f":"IF(ISNUMBER(F212),IF(AP212<0.85,\"\",VLOOKUP(Q212,E!A$2:X$23,VLOOKUP(F212,ages!B$1:C$23,2,1),1)),\"\")","v":""},{"$f":"IF(ISNUMBER(F212),IF(AQ212<0.85,\"\",VLOOKUP(R212,F!A$2:X$23,VLOOKUP(F212,ages!B$1:C$23,2,1),1)),\"\")","v":""},{"$f":"IF(ISNUMBER(F212),IF(AR212<0.85,\"\",VLOOKUP(S212,G!A$2:X$23,VLOOKUP(F212,ages!B$1:C$23,2,1),1)),\"\")","v":""},{"$f":"IF(ISNUMBER(F212),IF(AS212<0.85,\"\",VLOOKUP(T212,H!A$2:X$23,VLOOKUP(F212,ages!B$1:C$23,2,1),1)),\"\")","v":""},{"$f":"IF(ISNUMBER(F212),IF(AT212<0.85,\"\",VLOOKUP(U212,I!A$2:X$23,VLOOKUP(F212,ages!B$1:C$23,2,1),1)),\"\")","v":""},{"$f":"IF(ISNUMBER(F212),IF(AU212<0.85,\"\",VLOOKUP(V212,J!A$2:X$23,VLOOKUP(F212,ages!B$1:C$23,2,1),1)),\"\")","v":""},"","","","",-1.0000000000000002E-6,0,0,0,0,0,0,0,0,0,0,0,null,null,null,null,null,null,null,null,null,null,null,null,null,null,null,null,null,null,null,null,null,null,null,null,null,null,null,null,null,null,null,null,null,null,null,null,null,null,null,null,null,null,null,null,null,null,null,null,null,null,null,null,null,null,null,null,null,null,null,null,null,null,null,null,null,null,null,null,null,null,-9.9999999999999995E-7,-9.9999999999999995E-7,-9.9999999999999995E-7,-9.9999999999999995E-7,-9.9999999999999995E-7,-9.9999999999999995E-7,-9.9999999999999995E-7,-9.9999999999999995E-7,-9.9999999999999995E-7,-9.9999999999999995E-7,-9.9999999999999995E-7,-9.9999999999999995E-7,-9.9999999999999995E-7,-9.9999999999999995E-7,-9.9999999999999995E-7,-9.9999999999999995E-7,-9.9999999999999995E-7,-9.9999999999999995E-7,-9.9999999999999995E-7,-9.9999999999999995E-7,{"$f":"IF(ISERROR(VLOOKUP(F212,ages!B$1:B$23,1,1)),\"\",VLOOKUP(F212,ages!B$1:B$23,1,1))","v":""},{"$f":"IF(ISERROR(VLOOKUP(F212,ages!B$1:D$23,3,1)),\"\",VLOOKUP(F212,ages!B$1:D$23,3,1))","v":""},0,0,0,0,0]
[null,null,null,null,null,"",null,null,null,null,null,null,"","","","","","","","","","",{"$f":"IF(ISNUMBER(F213),IF(AL213<0.85,\"\",VLOOKUP(M213,A!A$2:X$23,VLOOKUP(F213,ages!B$1:C$23,2,1),1)),\"\")","v":""},{"$f":"IF(ISNUMBER(F213),IF(AM213<0.85,\"\",VLOOKUP(N213,B!A$2:X$23,VLOOKUP(F213,ages!B$1:C$23,2,1),1)),\"\")","v":""},{"$f":"IF(ISNUMBER(F213),IF(AN213<0.85,\"\",VLOOKUP(O213,'C'!A$2:X$23,VLOOKUP(F213,ages!B$1:C$23,2,1),1)),\"\")","v":""},{"$f":"IF(ISNUMBER(F213),IF(AO213<0.85,\"\",VLOOKUP(P213,D!A$2:X$23,VLOOKUP(F213,ages!B$1:C$23,2,1),1)),\"\")","v":""},{"$f":"IF(ISNUMBER(F213),IF(AP213<0.85,\"\",VLOOKUP(Q213,E!A$2:X$23,VLOOKUP(F213,ages!B$1:C$23,2,1),1)),\"\")","v":""},{"$f":"IF(ISNUMBER(F213),IF(AQ213<0.85,\"\",VLOOKUP(R213,F!A$2:X$23,VLOOKUP(F213,ages!B$1:C$23,2,1),1)),\"\")","v":""},{"$f":"IF(ISNUMBER(F213),IF(AR213<0.85,\"\",VLOOKUP(S213,G!A$2:X$23,VLOOKUP(F213,ages!B$1:C$23,2,1),1)),\"\")","v":""},{"$f":"IF(ISNUMBER(F213),IF(AS213<0.85,\"\",VLOOKUP(T213,H!A$2:X$23,VLOOKUP(F213,ages!B$1:C$23,2,1),1)),\"\")","v":""},{"$f":"IF(ISNUMBER(F213),IF(AT213<0.85,\"\",VLOOKUP(U213,I!A$2:X$23,VLOOKUP(F213,ages!B$1:C$23,2,1),1)),\"\")","v":""},{"$f":"IF(ISNUMBER(F213),IF(AU213<0.85,\"\",VLOOKUP(V213,J!A$2:X$23,VLOOKUP(F213,ages!B$1:C$23,2,1),1)),\"\")","v":""},"","","","",-1.0000000000000002E-6,0,0,0,0,0,0,0,0,0,0,0,null,null,null,null,null,null,null,null,null,null,null,null,null,null,null,null,null,null,null,null,null,null,null,null,null,null,null,null,null,null,null,null,null,null,null,null,null,null,null,null,null,null,null,null,null,null,null,null,null,null,null,null,null,null,null,null,null,null,null,null,null,null,null,null,null,null,null,null,null,null,-9.9999999999999995E-7,-9.9999999999999995E-7,-9.9999999999999995E-7,-9.9999999999999995E-7,-9.9999999999999995E-7,-9.9999999999999995E-7,-9.9999999999999995E-7,-9.9999999999999995E-7,-9.9999999999999995E-7,-9.9999999999999995E-7,-9.9999999999999995E-7,-9.9999999999999995E-7,-9.9999999999999995E-7,-9.9999999999999995E-7,-9.9999999999999995E-7,-9.9999999999999995E-7,-9.9999999999999995E-7,-9.9999999999999995E-7,-9.9999999999999995E-7,-9.9999999999999995E-7,{"$f":"IF(ISERROR(VLOOKUP(F213,ages!B$1:B$23,1,1)),\"\",VLOOKUP(F213,ages!B$1:B$23,1,1))","v":""},{"$f":"IF(ISERROR(VLOOKUP(F213,ages!B$1:D$23,3,1)),\"\",VLOOKUP(F213,ages!B$1:D$23,3,1))","v":""},0,0,0,0,0]
[null,null,null,null,null,"",null,null,null,null,null,null,"","","","","","","","","","",{"$f":"IF(ISNUMBER(F214),IF(AL214<0.85,\"\",VLOOKUP(M214,A!A$2:X$23,VLOOKUP(F214,ages!B$1:C$23,2,1),1)),\"\")","v":""},{"$f":"IF(ISNUMBER(F214),IF(AM214<0.85,\"\",VLOOKUP(N214,B!A$2:X$23,VLOOKUP(F214,ages!B$1:C$23,2,1),1)),\"\")","v":""},{"$f":"IF(ISNUMBER(F214),IF(AN214<0.85,\"\",VLOOKUP(O214,'C'!A$2:X$23,VLOOKUP(F214,ages!B$1:C$23,2,1),1)),\"\")","v":""},{"$f":"IF(ISNUMBER(F214),IF(AO214<0.85,\"\",VLOOKUP(P214,D!A$2:X$23,VLOOKUP(F214,ages!B$1:C$23,2,1),1)),\"\")","v":""},{"$f":"IF(ISNUMBER(F214),IF(AP214<0.85,\"\",VLOOKUP(Q214,E!A$2:X$23,VLOOKUP(F214,ages!B$1:C$23,2,1),1)),\"\")","v":""},{"$f":"IF(ISNUMBER(F214),IF(AQ214<0.85,\"\",VLOOKUP(R214,F!A$2:X$23,VLOOKUP(F214,ages!B$1:C$23,2,1),1)),\"\")","v":""},{"$f":"IF(ISNUMBER(F214),IF(AR214<0.85,\"\",VLOOKUP(S214,G!A$2:X$23,VLOOKUP(F214,ages!B$1:C$23,2,1),1)),\"\")","v":""},{"$f":"IF(ISNUMBER(F214),IF(AS214<0.85,\"\",VLOOKUP(T214,H!A$2:X$23,VLOOKUP(F214,ages!B$1:C$23,2,1),1)),\"\")","v":""},{"$f":"IF(ISNUMBER(F214),IF(AT214<0.85,\"\",VLOOKUP(U214,I!A$2:X$23,VLOOKUP(F214,ages!B$1:C$23,2,1),1)),\"\")","v":""},{"$f":"IF(ISNUMBER(F214),IF(AU214<0.85,\"\",VLOOKUP(V214,J!A$2:X$23,VLOOKUP(F214,ages!B$1:C$23,2,1),1)),\"\")","v":""},"","","","",-1.0000000000000002E-6,0,0,0,0,0,0,0,0,0,0,0,null,null,null,null,null,null,null,null,null,null,null,null,null,null,null,null,null,null,null,null,null,null,null,null,null,null,null,null,null,null,null,null,null,null,null,null,null,null,null,null,null,null,null,null,null,null,null,null,null,null,null,null,null,null,null,null,null,null,null,null,null,null,null,null,null,null,null,null,null,null,-9.9999999999999995E-7,-9.9999999999999995E-7,-9.9999999999999995E-7,-9.9999999999999995E-7,-9.9999999999999995E-7,-9.9999999999999995E-7,-9.9999999999999995E-7,-9.9999999999999995E-7,-9.9999999999999995E-7,-9.9999999999999995E-7,-9.9999999999999995E-7,-9.9999999999999995E-7,-9.9999999999999995E-7,-9.9999999999999995E-7,-9.9999999999999995E-7,-9.9999999999999995E-7,-9.9999999999999995E-7,-9.9999999999999995E-7,-9.9999999999999995E-7,-9.9999999999999995E-7,{"$f":"IF(ISERROR(VLOOKUP(F214,ages!B$1:B$23,1,1)),\"\",VLOOKUP(F214,ages!B$1:B$23,1,1))","v":""},{"$f":"IF(ISERROR(VLOOKUP(F214,ages!B$1:D$23,3,1)),\"\",VLOOKUP(F214,ages!B$1:D$23,3,1))","v":""},0,0,0,0,0]
[null,null,null,null,null,"",null,null,null,null,null,null,"","","","","","","","","","",{"$f":"IF(ISNUMBER(F215),IF(AL215<0.85,\"\",VLOOKUP(M215,A!A$2:X$23,VLOOKUP(F215,ages!B$1:C$23,2,1),1)),\"\")","v":""},{"$f":"IF(ISNUMBER(F215),IF(AM215<0.85,\"\",VLOOKUP(N215,B!A$2:X$23,VLOOKUP(F215,ages!B$1:C$23,2,1),1)),\"\")","v":""},{"$f":"IF(ISNUMBER(F215),IF(AN215<0.85,\"\",VLOOKUP(O215,'C'!A$2:X$23,VLOOKUP(F215,ages!B$1:C$23,2,1),1)),\"\")","v":""},{"$f":"IF(ISNUMBER(F215),IF(AO215<0.85,\"\",VLOOKUP(P215,D!A$2:X$23,VLOOKUP(F215,ages!B$1:C$23,2,1),1)),\"\")","v":""},{"$f":"IF(ISNUMBER(F215),IF(AP215<0.85,\"\",VLOOKUP(Q215,E!A$2:X$23,VLOOKUP(F215,ages!B$1:C$23,2,1),1)),\"\")","v":""},{"$f":"IF(ISNUMBER(F215),IF(AQ215<0.85,\"\",VLOOKUP(R215,F!A$2:X$23,VLOOKUP(F215,ages!B$1:C$23,2,1),1)),\"\")","v":""},{"$f":"IF(ISNUMBER(F215),IF(AR215<0.85,\"\",VLOOKUP(S215,G!A$2:X$23,VLOOKUP(F215,ages!B$1:C$23,2,1),1)),\"\")","v":""},{"$f":"IF(ISNUMBER(F215),IF(AS215<0.85,\"\",VLOOKUP(T215,H!A$2:X$23,VLOOKUP(F215,ages!B$1:C$23,2,1),1)),\"\")","v":""},{"$f":"IF(ISNUMBER(F215),IF(AT215<0.85,\"\",VLOOKUP(U215,I!A$2:X$23,VLOOKUP(F215,ages!B$1:C$23,2,1),1)),\"\")","v":""},{"$f":"IF(ISNUMBER(F215),IF(AU215<0.85,\"\",VLOOKUP(V215,J!A$2:X$23,VLOOKUP(F215,ages!B$1:C$23,2,1),1)),\"\")","v":""},"","","","",-1.0000000000000002E-6,0,0,0,0,0,0,0,0,0,0,0,null,null,null,null,null,null,null,null,null,null,null,null,null,null,null,null,null,null,null,null,null,null,null,null,null,null,null,null,null,null,null,null,null,null,null,null,null,null,null,null,null,null,null,null,null,null,null,null,null,null,null,null,null,null,null,null,null,null,null,null,null,null,null,null,null,null,null,null,null,null,-9.9999999999999995E-7,-9.9999999999999995E-7,-9.9999999999999995E-7,-9.9999999999999995E-7,-9.9999999999999995E-7,-9.9999999999999995E-7,-9.9999999999999995E-7,-9.9999999999999995E-7,-9.9999999999999995E-7,-9.9999999999999995E-7,-9.9999999999999995E-7,-9.9999999999999995E-7,-9.9999999999999995E-7,-9.9999999999999995E-7,-9.9999999999999995E-7,-9.9999999999999995E-7,-9.9999999999999995E-7,-9.9999999999999995E-7,-9.9999999999999995E-7,-9.9999999999999995E-7,{"$f":"IF(ISERROR(VLOOKUP(F215,ages!B$1:B$23,1,1)),\"\",VLOOKUP(F215,ages!B$1:B$23,1,1))","v":""},{"$f":"IF(ISERROR(VLOOKUP(F215,ages!B$1:D$23,3,1)),\"\",VLOOKUP(F215,ages!B$1:D$23,3,1))","v":""},0,0,0,0,0]
[null,null,null,null,null,"",null,null,null,null,null,null,"","","","","","","","","","",{"$f":"IF(ISNUMBER(F216),IF(AL216<0.85,\"\",VLOOKUP(M216,A!A$2:X$23,VLOOKUP(F216,ages!B$1:C$23,2,1),1)),\"\")","v":""},{"$f":"IF(ISNUMBER(F216),IF(AM216<0.85,\"\",VLOOKUP(N216,B!A$2:X$23,VLOOKUP(F216,ages!B$1:C$23,2,1),1)),\"\")","v":""},{"$f":"IF(ISNUMBER(F216),IF(AN216<0.85,\"\",VLOOKUP(O216,'C'!A$2:X$23,VLOOKUP(F216,ages!B$1:C$23,2,1),1)),\"\")","v":""},{"$f":"IF(ISNUMBER(F216),IF(AO216<0.85,\"\",VLOOKUP(P216,D!A$2:X$23,VLOOKUP(F216,ages!B$1:C$23,2,1),1)),\"\")","v":""},{"$f":"IF(ISNUMBER(F216),IF(AP216<0.85,\"\",VLOOKUP(Q216,E!A$2:X$23,VLOOKUP(F216,ages!B$1:C$23,2,1),1)),\"\")","v":""},{"$f":"IF(ISNUMBER(F216),IF(AQ216<0.85,\"\",VLOOKUP(R216,F!A$2:X$23,VLOOKUP(F216,ages!B$1:C$23,2,1),1)),\"\")","v":""},{"$f":"IF(ISNUMBER(F216),IF(AR216<0.85,\"\",VLOOKUP(S216,G!A$2:X$23,VLOOKUP(F216,ages!B$1:C$23,2,1),1)),\"\")","v":""},{"$f":"IF(ISNUMBER(F216),IF(AS216<0.85,\"\",VLOOKUP(T216,H!A$2:X$23,VLOOKUP(F216,ages!B$1:C$23,2,1),1)),\"\")","v":""},{"$f":"IF(ISNUMBER(F216),IF(AT216<0.85,\"\",VLOOKUP(U216,I!A$2:X$23,VLOOKUP(F216,ages!B$1:C$23,2,1),1)),\"\")","v":""},{"$f":"IF(ISNUMBER(F216),IF(AU216<0.85,\"\",VLOOKUP(V216,J!A$2:X$23,VLOOKUP(F216,ages!B$1:C$23,2,1),1)),\"\")","v":""},"","","","",-1.0000000000000002E-6,0,0,0,0,0,0,0,0,0,0,0,null,null,null,null,null,null,null,null,null,null,null,null,null,null,null,null,null,null,null,null,null,null,null,null,null,null,null,null,null,null,null,null,null,null,null,null,null,null,null,null,null,null,null,null,null,null,null,null,null,null,null,null,null,null,null,null,null,null,null,null,null,null,null,null,null,null,null,null,null,null,-9.9999999999999995E-7,-9.9999999999999995E-7,-9.9999999999999995E-7,-9.9999999999999995E-7,-9.9999999999999995E-7,-9.9999999999999995E-7,-9.9999999999999995E-7,-9.9999999999999995E-7,-9.9999999999999995E-7,-9.9999999999999995E-7,-9.9999999999999995E-7,-9.9999999999999995E-7,-9.9999999999999995E-7,-9.9999999999999995E-7,-9.9999999999999995E-7,-9.9999999999999995E-7,-9.9999999999999995E-7,-9.9999999999999995E-7,-9.9999999999999995E-7,-9.9999999999999995E-7,{"$f":"IF(ISERROR(VLOOKUP(F216,ages!B$1:B$23,1,1)),\"\",VLOOKUP(F216,ages!B$1:B$23,1,1))","v":""},{"$f":"IF(ISERROR(VLOOKUP(F216,ages!B$1:D$23,3,1)),\"\",VLOOKUP(F216,ages!B$1:D$23,3,1))","v":""},0,0,0,0,0]
[null,null,null,null,null,"",null,null,null,null,null,null,"","","","","","","","","","",{"$f":"IF(ISNUMBER(F217),IF(AL217<0.85,\"\",VLOOKUP(M217,A!A$2:X$23,VLOOKUP(F217,ages!B$1:C$23,2,1),1)),\"\")","v":""},{"$f":"IF(ISNUMBER(F217),IF(AM217<0.85,\"\",VLOOKUP(N217,B!A$2:X$23,VLOOKUP(F217,ages!B$1:C$23,2,1),1)),\"\")","v":""},{"$f":"IF(ISNUMBER(F217),IF(AN217<0.85,\"\",VLOOKUP(O217,'C'!A$2:X$23,VLOOKUP(F217,ages!B$1:C$23,2,1),1)),\"\")","v":""},{"$f":"IF(ISNUMBER(F217),IF(AO217<0.85,\"\",VLOOKUP(P217,D!A$2:X$23,VLOOKUP(F217,ages!B$1:C$23,2,1),1)),\"\")","v":""},{"$f":"IF(ISNUMBER(F217),IF(AP217<0.85,\"\",VLOOKUP(Q217,E!A$2:X$23,VLOOKUP(F217,ages!B$1:C$23,2,1),1)),\"\")","v":""},{"$f":"IF(ISNUMBER(F217),IF(AQ217<0.85,\"\",VLOOKUP(R217,F!A$2:X$23,VLOOKUP(F217,ages!B$1:C$23,2,1),1)),\"\")","v":""},{"$f":"IF(ISNUMBER(F217),IF(AR217<0.85,\"\",VLOOKUP(S217,G!A$2:X$23,VLOOKUP(F217,ages!B$1:C$23,2,1),1)),\"\")","v":""},{"$f":"IF(ISNUMBER(F217),IF(AS217<0.85,\"\",VLOOKUP(T217,H!A$2:X$23,VLOOKUP(F217,ages!B$1:C$23,2,1),1)),\"\")","v":""},{"$f":"IF(ISNUMBER(F217),IF(AT217<0.85,\"\",VLOOKUP(U217,I!A$2:X$23,VLOOKUP(F217,ages!B$1:C$23,2,1),1)),\"\")","v":""},{"$f":"IF(ISNUMBER(F217),IF(AU217<0.85,\"\",VLOOKUP(V217,J!A$2:X$23,VLOOKUP(F217,ages!B$1:C$23,2,1),1)),\"\")","v":""},"","","","",-1.0000000000000002E-6,0,0,0,0,0,0,0,0,0,0,0,null,null,null,null,null,null,null,null,null,null,null,null,null,null,null,null,null,null,null,null,null,null,null,null,null,null,null,null,null,null,null,null,null,null,null,null,null,null,null,null,null,null,null,null,null,null,null,null,null,null,null,null,null,null,null,null,null,null,null,null,null,null,null,null,null,null,null,null,null,null,-9.9999999999999995E-7,-9.9999999999999995E-7,-9.9999999999999995E-7,-9.9999999999999995E-7,-9.9999999999999995E-7,-9.9999999999999995E-7,-9.9999999999999995E-7,-9.9999999999999995E-7,-9.9999999999999995E-7,-9.9999999999999995E-7,-9.9999999999999995E-7,-9.9999999999999995E-7,-9.9999999999999995E-7,-9.9999999999999995E-7,-9.9999999999999995E-7,-9.9999999999999995E-7,-9.9999999999999995E-7,-9.9999999999999995E-7,-9.9999999999999995E-7,-9.9999999999999995E-7,{"$f":"IF(ISERROR(VLOOKUP(F217,ages!B$1:B$23,1,1)),\"\",VLOOKUP(F217,ages!B$1:B$23,1,1))","v":""},{"$f":"IF(ISERROR(VLOOKUP(F217,ages!B$1:D$23,3,1)),\"\",VLOOKUP(F217,ages!B$1:D$23,3,1))","v":""},0,0,0,0,0]
[null,null,null,null,null,"",null,null,null,null,null,null,"","","","","","","","","","",{"$f":"IF(ISNUMBER(F218),IF(AL218<0.85,\"\",VLOOKUP(M218,A!A$2:X$23,VLOOKUP(F218,ages!B$1:C$23,2,1),1)),\"\")","v":""},{"$f":"IF(ISNUMBER(F218),IF(AM218<0.85,\"\",VLOOKUP(N218,B!A$2:X$23,VLOOKUP(F218,ages!B$1:C$23,2,1),1)),\"\")","v":""},{"$f":"IF(ISNUMBER(F218),IF(AN218<0.85,\"\",VLOOKUP(O218,'C'!A$2:X$23,VLOOKUP(F218,ages!B$1:C$23,2,1),1)),\"\")","v":""},{"$f":"IF(ISNUMBER(F218),IF(AO218<0.85,\"\",VLOOKUP(P218,D!A$2:X$23,VLOOKUP(F218,ages!B$1:C$23,2,1),1)),\"\")","v":""},{"$f":"IF(ISNUMBER(F218),IF(AP218<0.85,\"\",VLOOKUP(Q218,E!A$2:X$23,VLOOKUP(F218,ages!B$1:C$23,2,1),1)),\"\")","v":""},{"$f":"IF(ISNUMBER(F218),IF(AQ218<0.85,\"\",VLOOKUP(R218,F!A$2:X$23,VLOOKUP(F218,ages!B$1:C$23,2,1),1)),\"\")","v":""},{"$f":"IF(ISNUMBER(F218),IF(AR218<0.85,\"\",VLOOKUP(S218,G!A$2:X$23,VLOOKUP(F218,ages!B$1:C$23,2,1),1)),\"\")","v":""},{"$f":"IF(ISNUMBER(F218),IF(AS218<0.85,\"\",VLOOKUP(T218,H!A$2:X$23,VLOOKUP(F218,ages!B$1:C$23,2,1),1)),\"\")","v":""},{"$f":"IF(ISNUMBER(F218),IF(AT218<0.85,\"\",VLOOKUP(U218,I!A$2:X$23,VLOOKUP(F218,ages!B$1:C$23,2,1),1)),\"\")","v":""},{"$f":"IF(ISNUMBER(F218),IF(AU218<0.85,\"\",VLOOKUP(V218,J!A$2:X$23,VLOOKUP(F218,ages!B$1:C$23,2,1),1)),\"\")","v":""},"","","","",-1.0000000000000002E-6,0,0,0,0,0,0,0,0,0,0,0,null,null,null,null,null,null,null,null,null,null,null,null,null,null,null,null,null,null,null,null,null,null,null,null,null,null,null,null,null,null,null,null,null,null,null,null,null,null,null,null,null,null,null,null,null,null,null,null,null,null,null,null,null,null,null,null,null,null,null,null,null,null,null,null,null,null,null,null,null,null,-9.9999999999999995E-7,-9.9999999999999995E-7,-9.9999999999999995E-7,-9.9999999999999995E-7,-9.9999999999999995E-7,-9.9999999999999995E-7,-9.9999999999999995E-7,-9.9999999999999995E-7,-9.9999999999999995E-7,-9.9999999999999995E-7,-9.9999999999999995E-7,-9.9999999999999995E-7,-9.9999999999999995E-7,-9.9999999999999995E-7,-9.9999999999999995E-7,-9.9999999999999995E-7,-9.9999999999999995E-7,-9.9999999999999995E-7,-9.9999999999999995E-7,-9.9999999999999995E-7,{"$f":"IF(ISERROR(VLOOKUP(F218,ages!B$1:B$23,1,1)),\"\",VLOOKUP(F218,ages!B$1:B$23,1,1))","v":""},{"$f":"IF(ISERROR(VLOOKUP(F218,ages!B$1:D$23,3,1)),\"\",VLOOKUP(F218,ages!B$1:D$23,3,1))","v":""},0,0,0,0,0]
[null,null,null,null,null,"",null,null,null,null,null,null,"","","","","","","","","","",{"$f":"IF(ISNUMBER(F219),IF(AL219<0.85,\"\",VLOOKUP(M219,A!A$2:X$23,VLOOKUP(F219,ages!B$1:C$23,2,1),1)),\"\")","v":""},{"$f":"IF(ISNUMBER(F219),IF(AM219<0.85,\"\",VLOOKUP(N219,B!A$2:X$23,VLOOKUP(F219,ages!B$1:C$23,2,1),1)),\"\")","v":""},{"$f":"IF(ISNUMBER(F219),IF(AN219<0.85,\"\",VLOOKUP(O219,'C'!A$2:X$23,VLOOKUP(F219,ages!B$1:C$23,2,1),1)),\"\")","v":""},{"$f":"IF(ISNUMBER(F219),IF(AO219<0.85,\"\",VLOOKUP(P219,D!A$2:X$23,VLOOKUP(F219,ages!B$1:C$23,2,1),1)),\"\")","v":""},{"$f":"IF(ISNUMBER(F219),IF(AP219<0.85,\"\",VLOOKUP(Q219,E!A$2:X$23,VLOOKUP(F219,ages!B$1:C$23,2,1),1)),\"\")","v":""},{"$f":"IF(ISNUMBER(F219),IF(AQ219<0.85,\"\",VLOOKUP(R219,F!A$2:X$23,VLOOKUP(F219,ages!B$1:C$23,2,1),1)),\"\")","v":""},{"$f":"IF(ISNUMBER(F219),IF(AR219<0.85,\"\",VLOOKUP(S219,G!A$2:X$23,VLOOKUP(F219,ages!B$1:C$23,2,1),1)),\"\")","v":""},{"$f":"IF(ISNUMBER(F219),IF(AS219<0.85,\"\",VLOOKUP(T219,H!A$2:X$23,VLOOKUP(F219,ages!B$1:C$23,2,1),1)),\"\")","v":""},{"$f":"IF(ISNUMBER(F219),IF(AT219<0.85,\"\",VLOOKUP(U219,I!A$2:X$23,VLOOKUP(F219,ages!B$1:C$23,2,1),1)),\"\")","v":""},{"$f":"IF(ISNUMBER(F219),IF(AU219<0.85,\"\",VLOOKUP(V219,J!A$2:X$23,VLOOKUP(F219,ages!B$1:C$23,2,1),1)),\"\")","v":""},"","","","",-1.0000000000000002E-6,0,0,0,0,0,0,0,0,0,0,0,null,null,null,null,null,null,null,null,null,null,null,null,null,null,null,null,null,null,null,null,null,null,null,null,null,null,null,null,null,null,null,null,null,null,null,null,null,null,null,null,null,null,null,null,null,null,null,null,null,null,null,null,null,null,null,null,null,null,null,null,null,null,null,null,null,null,null,null,null,null,-9.9999999999999995E-7,-9.9999999999999995E-7,-9.9999999999999995E-7,-9.9999999999999995E-7,-9.9999999999999995E-7,-9.9999999999999995E-7,-9.9999999999999995E-7,-9.9999999999999995E-7,-9.9999999999999995E-7,-9.9999999999999995E-7,-9.9999999999999995E-7,-9.9999999999999995E-7,-9.9999999999999995E-7,-9.9999999999999995E-7,-9.9999999999999995E-7,-9.9999999999999995E-7,-9.9999999999999995E-7,-9.9999999999999995E-7,-9.9999999999999995E-7,-9.9999999999999995E-7,{"$f":"IF(ISERROR(VLOOKUP(F219,ages!B$1:B$23,1,1)),\"\",VLOOKUP(F219,ages!B$1:B$23,1,1))","v":""},{"$f":"IF(ISERROR(VLOOKUP(F219,ages!B$1:D$23,3,1)),\"\",VLOOKUP(F219,ages!B$1:D$23,3,1))","v":""},0,0,0,0,0]
[null,null,null,null,null,"",null,null,null,null,null,null,"","","","","","","","","","",{"$f":"IF(ISNUMBER(F220),IF(AL220<0.85,\"\",VLOOKUP(M220,A!A$2:X$23,VLOOKUP(F220,ages!B$1:C$23,2,1),1)),\"\")","v":""},{"$f":"IF(ISNUMBER(F220),IF(AM220<0.85,\"\",VLOOKUP(N220,B!A$2:X$23,VLOOKUP(F220,ages!B$1:C$23,2,1),1)),\"\")","v":""},{"$f":"IF(ISNUMBER(F220),IF(AN220<0.85,\"\",VLOOKUP(O220,'C'!A$2:X$23,VLOOKUP(F220,ages!B$1:C$23,2,1),1)),\"\")","v":""},{"$f":"IF(ISNUMBER(F220),IF(AO220<0.85,\"\",VLOOKUP(P220,D!A$2:X$23,VLOOKUP(F220,ages!B$1:C$23,2,1),1)),\"\")","v":""},{"$f":"IF(ISNUMBER(F220),IF(AP220<0.85,\"\",VLOOKUP(Q220,E!A$2:X$23,VLOOKUP(F220,ages!B$1:C$23,2,1),1)),\"\")","v":""},{"$f":"IF(ISNUMBER(F220),IF(AQ220<0.85,\"\",VLOOKUP(R220,F!A$2:X$23,VLOOKUP(F220,ages!B$1:C$23,2,1),1)),\"\")","v":""},{"$f":"IF(ISNUMBER(F220),IF(AR220<0.85,\"\",VLOOKUP(S220,G!A$2:X$23,VLOOKUP(F220,ages!B$1:C$23,2,1),1)),\"\")","v":""},{"$f":"IF(ISNUMBER(F220),IF(AS220<0.85,\"\",VLOOKUP(T220,H!A$2:X$23,VLOOKUP(F220,ages!B$1:C$23,2,1),1)),\"\")","v":""},{"$f":"IF(ISNUMBER(F220),IF(AT220<0.85,\"\",VLOOKUP(U220,I!A$2:X$23,VLOOKUP(F220,ages!B$1:C$23,2,1),1)),\"\")","v":""},{"$f":"IF(ISNUMBER(F220),IF(AU220<0.85,\"\",VLOOKUP(V220,J!A$2:X$23,VLOOKUP(F220,ages!B$1:C$23,2,1),1)),\"\")","v":""},"","","","",-1.0000000000000002E-6,0,0,0,0,0,0,0,0,0,0,0,null,null,null,null,null,null,null,null,null,null,null,null,null,null,null,null,null,null,null,null,null,null,null,null,null,null,null,null,null,null,null,null,null,null,null,null,null,null,null,null,null,null,null,null,null,null,null,null,null,null,null,null,null,null,null,null,null,null,null,null,null,null,null,null,null,null,null,null,null,null,-9.9999999999999995E-7,-9.9999999999999995E-7,-9.9999999999999995E-7,-9.9999999999999995E-7,-9.9999999999999995E-7,-9.9999999999999995E-7,-9.9999999999999995E-7,-9.9999999999999995E-7,-9.9999999999999995E-7,-9.9999999999999995E-7,-9.9999999999999995E-7,-9.9999999999999995E-7,-9.9999999999999995E-7,-9.9999999999999995E-7,-9.9999999999999995E-7,-9.9999999999999995E-7,-9.9999999999999995E-7,-9.9999999999999995E-7,-9.9999999999999995E-7,-9.9999999999999995E-7,{"$f":"IF(ISERROR(VLOOKUP(F220,ages!B$1:B$23,1,1)),\"\",VLOOKUP(F220,ages!B$1:B$23,1,1))","v":""},{"$f":"IF(ISERROR(VLOOKUP(F220,ages!B$1:D$23,3,1)),\"\",VLOOKUP(F220,ages!B$1:D$23,3,1))","v":""},0,0,0,0,0]
[null,null,null,null,null,"",null,null,null,null,null,null,"","","","","","","","","","",{"$f":"IF(ISNUMBER(F221),IF(AL221<0.85,\"\",VLOOKUP(M221,A!A$2:X$23,VLOOKUP(F221,ages!B$1:C$23,2,1),1)),\"\")","v":""},{"$f":"IF(ISNUMBER(F221),IF(AM221<0.85,\"\",VLOOKUP(N221,B!A$2:X$23,VLOOKUP(F221,ages!B$1:C$23,2,1),1)),\"\")","v":""},{"$f":"IF(ISNUMBER(F221),IF(AN221<0.85,\"\",VLOOKUP(O221,'C'!A$2:X$23,VLOOKUP(F221,ages!B$1:C$23,2,1),1)),\"\")","v":""},{"$f":"IF(ISNUMBER(F221),IF(AO221<0.85,\"\",VLOOKUP(P221,D!A$2:X$23,VLOOKUP(F221,ages!B$1:C$23,2,1),1)),\"\")","v":""},{"$f":"IF(ISNUMBER(F221),IF(AP221<0.85,\"\",VLOOKUP(Q221,E!A$2:X$23,VLOOKUP(F221,ages!B$1:C$23,2,1),1)),\"\")","v":""},{"$f":"IF(ISNUMBER(F221),IF(AQ221<0.85,\"\",VLOOKUP(R221,F!A$2:X$23,VLOOKUP(F221,ages!B$1:C$23,2,1),1)),\"\")","v":""},{"$f":"IF(ISNUMBER(F221),IF(AR221<0.85,\"\",VLOOKUP(S221,G!A$2:X$23,VLOOKUP(F221,ages!B$1:C$23,2,1),1)),\"\")","v":""},{"$f":"IF(ISNUMBER(F221),IF(AS221<0.85,\"\",VLOOKUP(T221,H!A$2:X$23,VLOOKUP(F221,ages!B$1:C$23,2,1),1)),\"\")","v":""},{"$f":"IF(ISNUMBER(F221),IF(AT221<0.85,\"\",VLOOKUP(U221,I!A$2:X$23,VLOOKUP(F221,ages!B$1:C$23,2,1),1)),\"\")","v":""},{"$f":"IF(ISNUMBER(F221),IF(AU221<0.85,\"\",VLOOKUP(V221,J!A$2:X$23,VLOOKUP(F221,ages!B$1:C$23,2,1),1)),\"\")","v":""},"","","","",-1.0000000000000002E-6,0,0,0,0,0,0,0,0,0,0,0,null,null,null,null,null,null,null,null,null,null,null,null,null,null,null,null,null,null,null,null,null,null,null,null,null,null,null,null,null,null,null,null,null,null,null,null,null,null,null,null,null,null,null,null,null,null,null,null,null,null,null,null,null,null,null,null,null,null,null,null,null,null,null,null,null,null,null,null,null,null,-9.9999999999999995E-7,-9.9999999999999995E-7,-9.9999999999999995E-7,-9.9999999999999995E-7,-9.9999999999999995E-7,-9.9999999999999995E-7,-9.9999999999999995E-7,-9.9999999999999995E-7,-9.9999999999999995E-7,-9.9999999999999995E-7,-9.9999999999999995E-7,-9.9999999999999995E-7,-9.9999999999999995E-7,-9.9999999999999995E-7,-9.9999999999999995E-7,-9.9999999999999995E-7,-9.9999999999999995E-7,-9.9999999999999995E-7,-9.9999999999999995E-7,-9.9999999999999995E-7,{"$f":"IF(ISERROR(VLOOKUP(F221,ages!B$1:B$23,1,1)),\"\",VLOOKUP(F221,ages!B$1:B$23,1,1))","v":""},{"$f":"IF(ISERROR(VLOOKUP(F221,ages!B$1:D$23,3,1)),\"\",VLOOKUP(F221,ages!B$1:D$23,3,1))","v":""},0,0,0,0,0]
[null,null,null,null,null,"",null,null,null,null,null,null,"","","","","","","","","","",{"$f":"IF(ISNUMBER(F222),IF(AL222<0.85,\"\",VLOOKUP(M222,A!A$2:X$23,VLOOKUP(F222,ages!B$1:C$23,2,1),1)),\"\")","v":""},{"$f":"IF(ISNUMBER(F222),IF(AM222<0.85,\"\",VLOOKUP(N222,B!A$2:X$23,VLOOKUP(F222,ages!B$1:C$23,2,1),1)),\"\")","v":""},{"$f":"IF(ISNUMBER(F222),IF(AN222<0.85,\"\",VLOOKUP(O222,'C'!A$2:X$23,VLOOKUP(F222,ages!B$1:C$23,2,1),1)),\"\")","v":""},{"$f":"IF(ISNUMBER(F222),IF(AO222<0.85,\"\",VLOOKUP(P222,D!A$2:X$23,VLOOKUP(F222,ages!B$1:C$23,2,1),1)),\"\")","v":""},{"$f":"IF(ISNUMBER(F222),IF(AP222<0.85,\"\",VLOOKUP(Q222,E!A$2:X$23,VLOOKUP(F222,ages!B$1:C$23,2,1),1)),\"\")","v":""},{"$f":"IF(ISNUMBER(F222),IF(AQ222<0.85,\"\",VLOOKUP(R222,F!A$2:X$23,VLOOKUP(F222,ages!B$1:C$23,2,1),1)),\"\")","v":""},{"$f":"IF(ISNUMBER(F222),IF(AR222<0.85,\"\",VLOOKUP(S222,G!A$2:X$23,VLOOKUP(F222,ages!B$1:C$23,2,1),1)),\"\")","v":""},{"$f":"IF(ISNUMBER(F222),IF(AS222<0.85,\"\",VLOOKUP(T222,H!A$2:X$23,VLOOKUP(F222,ages!B$1:C$23,2,1),1)),\"\")","v":""},{"$f":"IF(ISNUMBER(F222),IF(AT222<0.85,\"\",VLOOKUP(U222,I!A$2:X$23,VLOOKUP(F222,ages!B$1:C$23,2,1),1)),\"\")","v":""},{"$f":"IF(ISNUMBER(F222),IF(AU222<0.85,\"\",VLOOKUP(V222,J!A$2:X$23,VLOOKUP(F222,ages!B$1:C$23,2,1),1)),\"\")","v":""},"","","","",-1.0000000000000002E-6,0,0,0,0,0,0,0,0,0,0,0,null,null,null,null,null,null,null,null,null,null,null,null,null,null,null,null,null,null,null,null,null,null,null,null,null,null,null,null,null,null,null,null,null,null,null,null,null,null,null,null,null,null,null,null,null,null,null,null,null,null,null,null,null,null,null,null,null,null,null,null,null,null,null,null,null,null,null,null,null,null,-9.9999999999999995E-7,-9.9999999999999995E-7,-9.9999999999999995E-7,-9.9999999999999995E-7,-9.9999999999999995E-7,-9.9999999999999995E-7,-9.9999999999999995E-7,-9.9999999999999995E-7,-9.9999999999999995E-7,-9.9999999999999995E-7,-9.9999999999999995E-7,-9.9999999999999995E-7,-9.9999999999999995E-7,-9.9999999999999995E-7,-9.9999999999999995E-7,-9.9999999999999995E-7,-9.9999999999999995E-7,-9.9999999999999995E-7,-9.9999999999999995E-7,-9.9999999999999995E-7,{"$f":"IF(ISERROR(VLOOKUP(F222,ages!B$1:B$23,1,1)),\"\",VLOOKUP(F222,ages!B$1:B$23,1,1))","v":""},{"$f":"IF(ISERROR(VLOOKUP(F222,ages!B$1:D$23,3,1)),\"\",VLOOKUP(F222,ages!B$1:D$23,3,1))","v":""},0,0,0,0,0]
[null,null,null,null,null,"",null,null,null,null,null,null,"","","","","","","","","","",{"$f":"IF(ISNUMBER(F223),IF(AL223<0.85,\"\",VLOOKUP(M223,A!A$2:X$23,VLOOKUP(F223,ages!B$1:C$23,2,1),1)),\"\")","v":""},{"$f":"IF(ISNUMBER(F223),IF(AM223<0.85,\"\",VLOOKUP(N223,B!A$2:X$23,VLOOKUP(F223,ages!B$1:C$23,2,1),1)),\"\")","v":""},{"$f":"IF(ISNUMBER(F223),IF(AN223<0.85,\"\",VLOOKUP(O223,'C'!A$2:X$23,VLOOKUP(F223,ages!B$1:C$23,2,1),1)),\"\")","v":""},{"$f":"IF(ISNUMBER(F223),IF(AO223<0.85,\"\",VLOOKUP(P223,D!A$2:X$23,VLOOKUP(F223,ages!B$1:C$23,2,1),1)),\"\")","v":""},{"$f":"IF(ISNUMBER(F223),IF(AP223<0.85,\"\",VLOOKUP(Q223,E!A$2:X$23,VLOOKUP(F223,ages!B$1:C$23,2,1),1)),\"\")","v":""},{"$f":"IF(ISNUMBER(F223),IF(AQ223<0.85,\"\",VLOOKUP(R223,F!A$2:X$23,VLOOKUP(F223,ages!B$1:C$23,2,1),1)),\"\")","v":""},{"$f":"IF(ISNUMBER(F223),IF(AR223<0.85,\"\",VLOOKUP(S223,G!A$2:X$23,VLOOKUP(F223,ages!B$1:C$23,2,1),1)),\"\")","v":""},{"$f":"IF(ISNUMBER(F223),IF(AS223<0.85,\"\",VLOOKUP(T223,H!A$2:X$23,VLOOKUP(F223,ages!B$1:C$23,2,1),1)),\"\")","v":""},{"$f":"IF(ISNUMBER(F223),IF(AT223<0.85,\"\",VLOOKUP(U223,I!A$2:X$23,VLOOKUP(F223,ages!B$1:C$23,2,1),1)),\"\")","v":""},{"$f":"IF(ISNUMBER(F223),IF(AU223<0.85,\"\",VLOOKUP(V223,J!A$2:X$23,VLOOKUP(F223,ages!B$1:C$23,2,1),1)),\"\")","v":""},"","","","",-1.0000000000000002E-6,0,0,0,0,0,0,0,0,0,0,0,null,null,null,null,null,null,null,null,null,null,null,null,null,null,null,null,null,null,null,null,null,null,null,null,null,null,null,null,null,null,null,null,null,null,null,null,null,null,null,null,null,null,null,null,null,null,null,null,null,null,null,null,null,null,null,null,null,null,null,null,null,null,null,null,null,null,null,null,null,null,-9.9999999999999995E-7,-9.9999999999999995E-7,-9.9999999999999995E-7,-9.9999999999999995E-7,-9.9999999999999995E-7,-9.9999999999999995E-7,-9.9999999999999995E-7,-9.9999999999999995E-7,-9.9999999999999995E-7,-9.9999999999999995E-7,-9.9999999999999995E-7,-9.9999999999999995E-7,-9.9999999999999995E-7,-9.9999999999999995E-7,-9.9999999999999995E-7,-9.9999999999999995E-7,-9.9999999999999995E-7,-9.9999999999999995E-7,-9.9999999999999995E-7,-9.9999999999999995E-7,{"$f":"IF(ISERROR(VLOOKUP(F223,ages!B$1:B$23,1,1)),\"\",VLOOKUP(F223,ages!B$1:B$23,1,1))","v":""},{"$f":"IF(ISERROR(VLOOKUP(F223,ages!B$1:D$23,3,1)),\"\",VLOOKUP(F223,ages!B$1:D$23,3,1))","v":""},0,0,0,0,0]
[null,null,null,null,null,"",null,null,null,null,null,null,"","","","","","","","","","",{"$f":"IF(ISNUMBER(F224),IF(AL224<0.85,\"\",VLOOKUP(M224,A!A$2:X$23,VLOOKUP(F224,ages!B$1:C$23,2,1),1)),\"\")","v":""},{"$f":"IF(ISNUMBER(F224),IF(AM224<0.85,\"\",VLOOKUP(N224,B!A$2:X$23,VLOOKUP(F224,ages!B$1:C$23,2,1),1)),\"\")","v":""},{"$f":"IF(ISNUMBER(F224),IF(AN224<0.85,\"\",VLOOKUP(O224,'C'!A$2:X$23,VLOOKUP(F224,ages!B$1:C$23,2,1),1)),\"\")","v":""},{"$f":"IF(ISNUMBER(F224),IF(AO224<0.85,\"\",VLOOKUP(P224,D!A$2:X$23,VLOOKUP(F224,ages!B$1:C$23,2,1),1)),\"\")","v":""},{"$f":"IF(ISNUMBER(F224),IF(AP224<0.85,\"\",VLOOKUP(Q224,E!A$2:X$23,VLOOKUP(F224,ages!B$1:C$23,2,1),1)),\"\")","v":""},{"$f":"IF(ISNUMBER(F224),IF(AQ224<0.85,\"\",VLOOKUP(R224,F!A$2:X$23,VLOOKUP(F224,ages!B$1:C$23,2,1),1)),\"\")","v":""},{"$f":"IF(ISNUMBER(F224),IF(AR224<0.85,\"\",VLOOKUP(S224,G!A$2:X$23,VLOOKUP(F224,ages!B$1:C$23,2,1),1)),\"\")","v":""},{"$f":"IF(ISNUMBER(F224),IF(AS224<0.85,\"\",VLOOKUP(T224,H!A$2:X$23,VLOOKUP(F224,ages!B$1:C$23,2,1),1)),\"\")","v":""},{"$f":"IF(ISNUMBER(F224),IF(AT224<0.85,\"\",VLOOKUP(U224,I!A$2:X$23,VLOOKUP(F224,ages!B$1:C$23,2,1),1)),\"\")","v":""},{"$f":"IF(ISNUMBER(F224),IF(AU224<0.85,\"\",VLOOKUP(V224,J!A$2:X$23,VLOOKUP(F224,ages!B$1:C$23,2,1),1)),\"\")","v":""},"","","","",-1.0000000000000002E-6,0,0,0,0,0,0,0,0,0,0,0,null,null,null,null,null,null,null,null,null,null,null,null,null,null,null,null,null,null,null,null,null,null,null,null,null,null,null,null,null,null,null,null,null,null,null,null,null,null,null,null,null,null,null,null,null,null,null,null,null,null,null,null,null,null,null,null,null,null,null,null,null,null,null,null,null,null,null,null,null,null,-9.9999999999999995E-7,-9.9999999999999995E-7,-9.9999999999999995E-7,-9.9999999999999995E-7,-9.9999999999999995E-7,-9.9999999999999995E-7,-9.9999999999999995E-7,-9.9999999999999995E-7,-9.9999999999999995E-7,-9.9999999999999995E-7,-9.9999999999999995E-7,-9.9999999999999995E-7,-9.9999999999999995E-7,-9.9999999999999995E-7,-9.9999999999999995E-7,-9.9999999999999995E-7,-9.9999999999999995E-7,-9.9999999999999995E-7,-9.9999999999999995E-7,-9.9999999999999995E-7,{"$f":"IF(ISERROR(VLOOKUP(F224,ages!B$1:B$23,1,1)),\"\",VLOOKUP(F224,ages!B$1:B$23,1,1))","v":""},{"$f":"IF(ISERROR(VLOOKUP(F224,ages!B$1:D$23,3,1)),\"\",VLOOKUP(F224,ages!B$1:D$23,3,1))","v":""},0,0,0,0,0]
[null,null,null,null,null,"",null,null,null,null,null,null,"","","","","","","","","","",{"$f":"IF(ISNUMBER(F225),IF(AL225<0.85,\"\",VLOOKUP(M225,A!A$2:X$23,VLOOKUP(F225,ages!B$1:C$23,2,1),1)),\"\")","v":""},{"$f":"IF(ISNUMBER(F225),IF(AM225<0.85,\"\",VLOOKUP(N225,B!A$2:X$23,VLOOKUP(F225,ages!B$1:C$23,2,1),1)),\"\")","v":""},{"$f":"IF(ISNUMBER(F225),IF(AN225<0.85,\"\",VLOOKUP(O225,'C'!A$2:X$23,VLOOKUP(F225,ages!B$1:C$23,2,1),1)),\"\")","v":""},{"$f":"IF(ISNUMBER(F225),IF(AO225<0.85,\"\",VLOOKUP(P225,D!A$2:X$23,VLOOKUP(F225,ages!B$1:C$23,2,1),1)),\"\")","v":""},{"$f":"IF(ISNUMBER(F225),IF(AP225<0.85,\"\",VLOOKUP(Q225,E!A$2:X$23,VLOOKUP(F225,ages!B$1:C$23,2,1),1)),\"\")","v":""},{"$f":"IF(ISNUMBER(F225),IF(AQ225<0.85,\"\",VLOOKUP(R225,F!A$2:X$23,VLOOKUP(F225,ages!B$1:C$23,2,1),1)),\"\")","v":""},{"$f":"IF(ISNUMBER(F225),IF(AR225<0.85,\"\",VLOOKUP(S225,G!A$2:X$23,VLOOKUP(F225,ages!B$1:C$23,2,1),1)),\"\")","v":""},{"$f":"IF(ISNUMBER(F225),IF(AS225<0.85,\"\",VLOOKUP(T225,H!A$2:X$23,VLOOKUP(F225,ages!B$1:C$23,2,1),1)),\"\")","v":""},{"$f":"IF(ISNUMBER(F225),IF(AT225<0.85,\"\",VLOOKUP(U225,I!A$2:X$23,VLOOKUP(F225,ages!B$1:C$23,2,1),1)),\"\")","v":""},{"$f":"IF(ISNUMBER(F225),IF(AU225<0.85,\"\",VLOOKUP(V225,J!A$2:X$23,VLOOKUP(F225,ages!B$1:C$23,2,1),1)),\"\")","v":""},"","","","",-1.0000000000000002E-6,0,0,0,0,0,0,0,0,0,0,0,null,null,null,null,null,null,null,null,null,null,null,null,null,null,null,null,null,null,null,null,null,null,null,null,null,null,null,null,null,null,null,null,null,null,null,null,null,null,null,null,null,null,null,null,null,null,null,null,null,null,null,null,null,null,null,null,null,null,null,null,null,null,null,null,null,null,null,null,null,null,-9.9999999999999995E-7,-9.9999999999999995E-7,-9.9999999999999995E-7,-9.9999999999999995E-7,-9.9999999999999995E-7,-9.9999999999999995E-7,-9.9999999999999995E-7,-9.9999999999999995E-7,-9.9999999999999995E-7,-9.9999999999999995E-7,-9.9999999999999995E-7,-9.9999999999999995E-7,-9.9999999999999995E-7,-9.9999999999999995E-7,-9.9999999999999995E-7,-9.9999999999999995E-7,-9.9999999999999995E-7,-9.9999999999999995E-7,-9.9999999999999995E-7,-9.9999999999999995E-7,{"$f":"IF(ISERROR(VLOOKUP(F225,ages!B$1:B$23,1,1)),\"\",VLOOKUP(F225,ages!B$1:B$23,1,1))","v":""},{"$f":"IF(ISERROR(VLOOKUP(F225,ages!B$1:D$23,3,1)),\"\",VLOOKUP(F225,ages!B$1:D$23,3,1))","v":""},0,0,0,0,0]
[null,null,null,null,null,"",null,null,null,null,null,null,"","","","","","","","","","",{"$f":"IF(ISNUMBER(F226),IF(AL226<0.85,\"\",VLOOKUP(M226,A!A$2:X$23,VLOOKUP(F226,ages!B$1:C$23,2,1),1)),\"\")","v":""},{"$f":"IF(ISNUMBER(F226),IF(AM226<0.85,\"\",VLOOKUP(N226,B!A$2:X$23,VLOOKUP(F226,ages!B$1:C$23,2,1),1)),\"\")","v":""},{"$f":"IF(ISNUMBER(F226),IF(AN226<0.85,\"\",VLOOKUP(O226,'C'!A$2:X$23,VLOOKUP(F226,ages!B$1:C$23,2,1),1)),\"\")","v":""},{"$f":"IF(ISNUMBER(F226),IF(AO226<0.85,\"\",VLOOKUP(P226,D!A$2:X$23,VLOOKUP(F226,ages!B$1:C$23,2,1),1)),\"\")","v":""},{"$f":"IF(ISNUMBER(F226),IF(AP226<0.85,\"\",VLOOKUP(Q226,E!A$2:X$23,VLOOKUP(F226,ages!B$1:C$23,2,1),1)),\"\")","v":""},{"$f":"IF(ISNUMBER(F226),IF(AQ226<0.85,\"\",VLOOKUP(R226,F!A$2:X$23,VLOOKUP(F226,ages!B$1:C$23,2,1),1)),\"\")","v":""},{"$f":"IF(ISNUMBER(F226),IF(AR226<0.85,\"\",VLOOKUP(S226,G!A$2:X$23,VLOOKUP(F226,ages!B$1:C$23,2,1),1)),\"\")","v":""},{"$f":"IF(ISNUMBER(F226),IF(AS226<0.85,\"\",VLOOKUP(T226,H!A$2:X$23,VLOOKUP(F226,ages!B$1:C$23,2,1),1)),\"\")","v":""},{"$f":"IF(ISNUMBER(F226),IF(AT226<0.85,\"\",VLOOKUP(U226,I!A$2:X$23,VLOOKUP(F226,ages!B$1:C$23,2,1),1)),\"\")","v":""},{"$f":"IF(ISNUMBER(F226),IF(AU226<0.85,\"\",VLOOKUP(V226,J!A$2:X$23,VLOOKUP(F226,ages!B$1:C$23,2,1),1)),\"\")","v":""},"","","","",-1.0000000000000002E-6,0,0,0,0,0,0,0,0,0,0,0,null,null,null,null,null,null,null,null,null,null,null,null,null,null,null,null,null,null,null,null,null,null,null,null,null,null,null,null,null,null,null,null,null,null,null,null,null,null,null,null,null,null,null,null,null,null,null,null,null,null,null,null,null,null,null,null,null,null,null,null,null,null,null,null,null,null,null,null,null,null,-9.9999999999999995E-7,-9.9999999999999995E-7,-9.9999999999999995E-7,-9.9999999999999995E-7,-9.9999999999999995E-7,-9.9999999999999995E-7,-9.9999999999999995E-7,-9.9999999999999995E-7,-9.9999999999999995E-7,-9.9999999999999995E-7,-9.9999999999999995E-7,-9.9999999999999995E-7,-9.9999999999999995E-7,-9.9999999999999995E-7,-9.9999999999999995E-7,-9.9999999999999995E-7,-9.9999999999999995E-7,-9.9999999999999995E-7,-9.9999999999999995E-7,-9.9999999999999995E-7,{"$f":"IF(ISERROR(VLOOKUP(F226,ages!B$1:B$23,1,1)),\"\",VLOOKUP(F226,ages!B$1:B$23,1,1))","v":""},{"$f":"IF(ISERROR(VLOOKUP(F226,ages!B$1:D$23,3,1)),\"\",VLOOKUP(F226,ages!B$1:D$23,3,1))","v":""},0,0,0,0,0]
[null,null,null,null,null,"",null,null,null,null,null,null,"","","","","","","","","","",{"$f":"IF(ISNUMBER(F227),IF(AL227<0.85,\"\",VLOOKUP(M227,A!A$2:X$23,VLOOKUP(F227,ages!B$1:C$23,2,1),1)),\"\")","v":""},{"$f":"IF(ISNUMBER(F227),IF(AM227<0.85,\"\",VLOOKUP(N227,B!A$2:X$23,VLOOKUP(F227,ages!B$1:C$23,2,1),1)),\"\")","v":""},{"$f":"IF(ISNUMBER(F227),IF(AN227<0.85,\"\",VLOOKUP(O227,'C'!A$2:X$23,VLOOKUP(F227,ages!B$1:C$23,2,1),1)),\"\")","v":""},{"$f":"IF(ISNUMBER(F227),IF(AO227<0.85,\"\",VLOOKUP(P227,D!A$2:X$23,VLOOKUP(F227,ages!B$1:C$23,2,1),1)),\"\")","v":""},{"$f":"IF(ISNUMBER(F227),IF(AP227<0.85,\"\",VLOOKUP(Q227,E!A$2:X$23,VLOOKUP(F227,ages!B$1:C$23,2,1),1)),\"\")","v":""},{"$f":"IF(ISNUMBER(F227),IF(AQ227<0.85,\"\",VLOOKUP(R227,F!A$2:X$23,VLOOKUP(F227,ages!B$1:C$23,2,1),1)),\"\")","v":""},{"$f":"IF(ISNUMBER(F227),IF(AR227<0.85,\"\",VLOOKUP(S227,G!A$2:X$23,VLOOKUP(F227,ages!B$1:C$23,2,1),1)),\"\")","v":""},{"$f":"IF(ISNUMBER(F227),IF(AS227<0.85,\"\",VLOOKUP(T227,H!A$2:X$23,VLOOKUP(F227,ages!B$1:C$23,2,1),1)),\"\")","v":""},{"$f":"IF(ISNUMBER(F227),IF(AT227<0.85,\"\",VLOOKUP(U227,I!A$2:X$23,VLOOKUP(F227,ages!B$1:C$23,2,1),1)),\"\")","v":""},{"$f":"IF(ISNUMBER(F227),IF(AU227<0.85,\"\",VLOOKUP(V227,J!A$2:X$23,VLOOKUP(F227,ages!B$1:C$23,2,1),1)),\"\")","v":""},"","","","",-1.0000000000000002E-6,0,0,0,0,0,0,0,0,0,0,0,null,null,null,null,null,null,null,null,null,null,null,null,null,null,null,null,null,null,null,null,null,null,null,null,null,null,null,null,null,null,null,null,null,null,null,null,null,null,null,null,null,null,null,null,null,null,null,null,null,null,null,null,null,null,null,null,null,null,null,null,null,null,null,null,null,null,null,null,null,null,-9.9999999999999995E-7,-9.9999999999999995E-7,-9.9999999999999995E-7,-9.9999999999999995E-7,-9.9999999999999995E-7,-9.9999999999999995E-7,-9.9999999999999995E-7,-9.9999999999999995E-7,-9.9999999999999995E-7,-9.9999999999999995E-7,-9.9999999999999995E-7,-9.9999999999999995E-7,-9.9999999999999995E-7,-9.9999999999999995E-7,-9.9999999999999995E-7,-9.9999999999999995E-7,-9.9999999999999995E-7,-9.9999999999999995E-7,-9.9999999999999995E-7,-9.9999999999999995E-7,{"$f":"IF(ISERROR(VLOOKUP(F227,ages!B$1:B$23,1,1)),\"\",VLOOKUP(F227,ages!B$1:B$23,1,1))","v":""},{"$f":"IF(ISERROR(VLOOKUP(F227,ages!B$1:D$23,3,1)),\"\",VLOOKUP(F227,ages!B$1:D$23,3,1))","v":""},0,0,0,0,0]
[null,null,null,null,null,"",null,null,null,null,null,null,"","","","","","","","","","",{"$f":"IF(ISNUMBER(F228),IF(AL228<0.85,\"\",VLOOKUP(M228,A!A$2:X$23,VLOOKUP(F228,ages!B$1:C$23,2,1),1)),\"\")","v":""},{"$f":"IF(ISNUMBER(F228),IF(AM228<0.85,\"\",VLOOKUP(N228,B!A$2:X$23,VLOOKUP(F228,ages!B$1:C$23,2,1),1)),\"\")","v":""},{"$f":"IF(ISNUMBER(F228),IF(AN228<0.85,\"\",VLOOKUP(O228,'C'!A$2:X$23,VLOOKUP(F228,ages!B$1:C$23,2,1),1)),\"\")","v":""},{"$f":"IF(ISNUMBER(F228),IF(AO228<0.85,\"\",VLOOKUP(P228,D!A$2:X$23,VLOOKUP(F228,ages!B$1:C$23,2,1),1)),\"\")","v":""},{"$f":"IF(ISNUMBER(F228),IF(AP228<0.85,\"\",VLOOKUP(Q228,E!A$2:X$23,VLOOKUP(F228,ages!B$1:C$23,2,1),1)),\"\")","v":""},{"$f":"IF(ISNUMBER(F228),IF(AQ228<0.85,\"\",VLOOKUP(R228,F!A$2:X$23,VLOOKUP(F228,ages!B$1:C$23,2,1),1)),\"\")","v":""},{"$f":"IF(ISNUMBER(F228),IF(AR228<0.85,\"\",VLOOKUP(S228,G!A$2:X$23,VLOOKUP(F228,ages!B$1:C$23,2,1),1)),\"\")","v":""},{"$f":"IF(ISNUMBER(F228),IF(AS228<0.85,\"\",VLOOKUP(T228,H!A$2:X$23,VLOOKUP(F228,ages!B$1:C$23,2,1),1)),\"\")","v":""},{"$f":"IF(ISNUMBER(F228),IF(AT228<0.85,\"\",VLOOKUP(U228,I!A$2:X$23,VLOOKUP(F228,ages!B$1:C$23,2,1),1)),\"\")","v":""},{"$f":"IF(ISNUMBER(F228),IF(AU228<0.85,\"\",VLOOKUP(V228,J!A$2:X$23,VLOOKUP(F228,ages!B$1:C$23,2,1),1)),\"\")","v":""},"","","","",-1.0000000000000002E-6,0,0,0,0,0,0,0,0,0,0,0,null,null,null,null,null,null,null,null,null,null,null,null,null,null,null,null,null,null,null,null,null,null,null,null,null,null,null,null,null,null,null,null,null,null,null,null,null,null,null,null,null,null,null,null,null,null,null,null,null,null,null,null,null,null,null,null,null,null,null,null,null,null,null,null,null,null,null,null,null,null,-9.9999999999999995E-7,-9.9999999999999995E-7,-9.9999999999999995E-7,-9.9999999999999995E-7,-9.9999999999999995E-7,-9.9999999999999995E-7,-9.9999999999999995E-7,-9.9999999999999995E-7,-9.9999999999999995E-7,-9.9999999999999995E-7,-9.9999999999999995E-7,-9.9999999999999995E-7,-9.9999999999999995E-7,-9.9999999999999995E-7,-9.9999999999999995E-7,-9.9999999999999995E-7,-9.9999999999999995E-7,-9.9999999999999995E-7,-9.9999999999999995E-7,-9.9999999999999995E-7,{"$f":"IF(ISERROR(VLOOKUP(F228,ages!B$1:B$23,1,1)),\"\",VLOOKUP(F228,ages!B$1:B$23,1,1))","v":""},{"$f":"IF(ISERROR(VLOOKUP(F228,ages!B$1:D$23,3,1)),\"\",VLOOKUP(F228,ages!B$1:D$23,3,1))","v":""},0,0,0,0,0]
[null,null,null,null,null,"",null,null,null,null,null,null,"","","","","","","","","","",{"$f":"IF(ISNUMBER(F229),IF(AL229<0.85,\"\",VLOOKUP(M229,A!A$2:X$23,VLOOKUP(F229,ages!B$1:C$23,2,1),1)),\"\")","v":""},{"$f":"IF(ISNUMBER(F229),IF(AM229<0.85,\"\",VLOOKUP(N229,B!A$2:X$23,VLOOKUP(F229,ages!B$1:C$23,2,1),1)),\"\")","v":""},{"$f":"IF(ISNUMBER(F229),IF(AN229<0.85,\"\",VLOOKUP(O229,'C'!A$2:X$23,VLOOKUP(F229,ages!B$1:C$23,2,1),1)),\"\")","v":""},{"$f":"IF(ISNUMBER(F229),IF(AO229<0.85,\"\",VLOOKUP(P229,D!A$2:X$23,VLOOKUP(F229,ages!B$1:C$23,2,1),1)),\"\")","v":""},{"$f":"IF(ISNUMBER(F229),IF(AP229<0.85,\"\",VLOOKUP(Q229,E!A$2:X$23,VLOOKUP(F229,ages!B$1:C$23,2,1),1)),\"\")","v":""},{"$f":"IF(ISNUMBER(F229),IF(AQ229<0.85,\"\",VLOOKUP(R229,F!A$2:X$23,VLOOKUP(F229,ages!B$1:C$23,2,1),1)),\"\")","v":""},{"$f":"IF(ISNUMBER(F229),IF(AR229<0.85,\"\",VLOOKUP(S229,G!A$2:X$23,VLOOKUP(F229,ages!B$1:C$23,2,1),1)),\"\")","v":""},{"$f":"IF(ISNUMBER(F229),IF(AS229<0.85,\"\",VLOOKUP(T229,H!A$2:X$23,VLOOKUP(F229,ages!B$1:C$23,2,1),1)),\"\")","v":""},{"$f":"IF(ISNUMBER(F229),IF(AT229<0.85,\"\",VLOOKUP(U229,I!A$2:X$23,VLOOKUP(F229,ages!B$1:C$23,2,1),1)),\"\")","v":""},{"$f":"IF(ISNUMBER(F229),IF(AU229<0.85,\"\",VLOOKUP(V229,J!A$2:X$23,VLOOKUP(F229,ages!B$1:C$23,2,1),1)),\"\")","v":""},"","","","",-1.0000000000000002E-6,0,0,0,0,0,0,0,0,0,0,0,null,null,null,null,null,null,null,null,null,null,null,null,null,null,null,null,null,null,null,null,null,null,null,null,null,null,null,null,null,null,null,null,null,null,null,null,null,null,null,null,null,null,null,null,null,null,null,null,null,null,null,null,null,null,null,null,null,null,null,null,null,null,null,null,null,null,null,null,null,null,-9.9999999999999995E-7,-9.9999999999999995E-7,-9.9999999999999995E-7,-9.9999999999999995E-7,-9.9999999999999995E-7,-9.9999999999999995E-7,-9.9999999999999995E-7,-9.9999999999999995E-7,-9.9999999999999995E-7,-9.9999999999999995E-7,-9.9999999999999995E-7,-9.9999999999999995E-7,-9.9999999999999995E-7,-9.9999999999999995E-7,-9.9999999999999995E-7,-9.9999999999999995E-7,-9.9999999999999995E-7,-9.9999999999999995E-7,-9.9999999999999995E-7,-9.9999999999999995E-7,{"$f":"IF(ISERROR(VLOOKUP(F229,ages!B$1:B$23,1,1)),\"\",VLOOKUP(F229,ages!B$1:B$23,1,1))","v":""},{"$f":"IF(ISERROR(VLOOKUP(F229,ages!B$1:D$23,3,1)),\"\",VLOOKUP(F229,ages!B$1:D$23,3,1))","v":""},0,0,0,0,0]
[null,null,null,null,null,"",null,null,null,null,null,null,"","","","","","","","","","",{"$f":"IF(ISNUMBER(F230),IF(AL230<0.85,\"\",VLOOKUP(M230,A!A$2:X$23,VLOOKUP(F230,ages!B$1:C$23,2,1),1)),\"\")","v":""},{"$f":"IF(ISNUMBER(F230),IF(AM230<0.85,\"\",VLOOKUP(N230,B!A$2:X$23,VLOOKUP(F230,ages!B$1:C$23,2,1),1)),\"\")","v":""},{"$f":"IF(ISNUMBER(F230),IF(AN230<0.85,\"\",VLOOKUP(O230,'C'!A$2:X$23,VLOOKUP(F230,ages!B$1:C$23,2,1),1)),\"\")","v":""},{"$f":"IF(ISNUMBER(F230),IF(AO230<0.85,\"\",VLOOKUP(P230,D!A$2:X$23,VLOOKUP(F230,ages!B$1:C$23,2,1),1)),\"\")","v":""},{"$f":"IF(ISNUMBER(F230),IF(AP230<0.85,\"\",VLOOKUP(Q230,E!A$2:X$23,VLOOKUP(F230,ages!B$1:C$23,2,1),1)),\"\")","v":""},{"$f":"IF(ISNUMBER(F230),IF(AQ230<0.85,\"\",VLOOKUP(R230,F!A$2:X$23,VLOOKUP(F230,ages!B$1:C$23,2,1),1)),\"\")","v":""},{"$f":"IF(ISNUMBER(F230),IF(AR230<0.85,\"\",VLOOKUP(S230,G!A$2:X$23,VLOOKUP(F230,ages!B$1:C$23,2,1),1)),\"\")","v":""},{"$f":"IF(ISNUMBER(F230),IF(AS230<0.85,\"\",VLOOKUP(T230,H!A$2:X$23,VLOOKUP(F230,ages!B$1:C$23,2,1),1)),\"\")","v":""},{"$f":"IF(ISNUMBER(F230),IF(AT230<0.85,\"\",VLOOKUP(U230,I!A$2:X$23,VLOOKUP(F230,ages!B$1:C$23,2,1),1)),\"\")","v":""},{"$f":"IF(ISNUMBER(F230),IF(AU230<0.85,\"\",VLOOKUP(V230,J!A$2:X$23,VLOOKUP(F230,ages!B$1:C$23,2,1),1)),\"\")","v":""},"","","","",-1.0000000000000002E-6,0,0,0,0,0,0,0,0,0,0,0,null,null,null,null,null,null,null,null,null,null,null,null,null,null,null,null,null,null,null,null,null,null,null,null,null,null,null,null,null,null,null,null,null,null,null,null,null,null,null,null,null,null,null,null,null,null,null,null,null,null,null,null,null,null,null,null,null,null,null,null,null,null,null,null,null,null,null,null,null,null,-9.9999999999999995E-7,-9.9999999999999995E-7,-9.9999999999999995E-7,-9.9999999999999995E-7,-9.9999999999999995E-7,-9.9999999999999995E-7,-9.9999999999999995E-7,-9.9999999999999995E-7,-9.9999999999999995E-7,-9.9999999999999995E-7,-9.9999999999999995E-7,-9.9999999999999995E-7,-9.9999999999999995E-7,-9.9999999999999995E-7,-9.9999999999999995E-7,-9.9999999999999995E-7,-9.9999999999999995E-7,-9.9999999999999995E-7,-9.9999999999999995E-7,-9.9999999999999995E-7,{"$f":"IF(ISERROR(VLOOKUP(F230,ages!B$1:B$23,1,1)),\"\",VLOOKUP(F230,ages!B$1:B$23,1,1))","v":""},{"$f":"IF(ISERROR(VLOOKUP(F230,ages!B$1:D$23,3,1)),\"\",VLOOKUP(F230,ages!B$1:D$23,3,1))","v":""},0,0,0,0,0]
[null,null,null,null,null,"",null,null,null,null,null,null,"","","","","","","","","","",{"$f":"IF(ISNUMBER(F231),IF(AL231<0.85,\"\",VLOOKUP(M231,A!A$2:X$23,VLOOKUP(F231,ages!B$1:C$23,2,1),1)),\"\")","v":""},{"$f":"IF(ISNUMBER(F231),IF(AM231<0.85,\"\",VLOOKUP(N231,B!A$2:X$23,VLOOKUP(F231,ages!B$1:C$23,2,1),1)),\"\")","v":""},{"$f":"IF(ISNUMBER(F231),IF(AN231<0.85,\"\",VLOOKUP(O231,'C'!A$2:X$23,VLOOKUP(F231,ages!B$1:C$23,2,1),1)),\"\")","v":""},{"$f":"IF(ISNUMBER(F231),IF(AO231<0.85,\"\",VLOOKUP(P231,D!A$2:X$23,VLOOKUP(F231,ages!B$1:C$23,2,1),1)),\"\")","v":""},{"$f":"IF(ISNUMBER(F231),IF(AP231<0.85,\"\",VLOOKUP(Q231,E!A$2:X$23,VLOOKUP(F231,ages!B$1:C$23,2,1),1)),\"\")","v":""},{"$f":"IF(ISNUMBER(F231),IF(AQ231<0.85,\"\",VLOOKUP(R231,F!A$2:X$23,VLOOKUP(F231,ages!B$1:C$23,2,1),1)),\"\")","v":""},{"$f":"IF(ISNUMBER(F231),IF(AR231<0.85,\"\",VLOOKUP(S231,G!A$2:X$23,VLOOKUP(F231,ages!B$1:C$23,2,1),1)),\"\")","v":""},{"$f":"IF(ISNUMBER(F231),IF(AS231<0.85,\"\",VLOOKUP(T231,H!A$2:X$23,VLOOKUP(F231,ages!B$1:C$23,2,1),1)),\"\")","v":""},{"$f":"IF(ISNUMBER(F231),IF(AT231<0.85,\"\",VLOOKUP(U231,I!A$2:X$23,VLOOKUP(F231,ages!B$1:C$23,2,1),1)),\"\")","v":""},{"$f":"IF(ISNUMBER(F231),IF(AU231<0.85,\"\",VLOOKUP(V231,J!A$2:X$23,VLOOKUP(F231,ages!B$1:C$23,2,1),1)),\"\")","v":""},"","","","",-1.0000000000000002E-6,0,0,0,0,0,0,0,0,0,0,0,null,null,null,null,null,null,null,null,null,null,null,null,null,null,null,null,null,null,null,null,null,null,null,null,null,null,null,null,null,null,null,null,null,null,null,null,null,null,null,null,null,null,null,null,null,null,null,null,null,null,null,null,null,null,null,null,null,null,null,null,null,null,null,null,null,null,null,null,null,null,-9.9999999999999995E-7,-9.9999999999999995E-7,-9.9999999999999995E-7,-9.9999999999999995E-7,-9.9999999999999995E-7,-9.9999999999999995E-7,-9.9999999999999995E-7,-9.9999999999999995E-7,-9.9999999999999995E-7,-9.9999999999999995E-7,-9.9999999999999995E-7,-9.9999999999999995E-7,-9.9999999999999995E-7,-9.9999999999999995E-7,-9.9999999999999995E-7,-9.9999999999999995E-7,-9.9999999999999995E-7,-9.9999999999999995E-7,-9.9999999999999995E-7,-9.9999999999999995E-7,{"$f":"IF(ISERROR(VLOOKUP(F231,ages!B$1:B$23,1,1)),\"\",VLOOKUP(F231,ages!B$1:B$23,1,1))","v":""},{"$f":"IF(ISERROR(VLOOKUP(F231,ages!B$1:D$23,3,1)),\"\",VLOOKUP(F231,ages!B$1:D$23,3,1))","v":""},0,0,0,0,0]
[null,null,null,null,null,"",null,null,null,null,null,null,"","","","","","","","","","",{"$f":"IF(ISNUMBER(F232),IF(AL232<0.85,\"\",VLOOKUP(M232,A!A$2:X$23,VLOOKUP(F232,ages!B$1:C$23,2,1),1)),\"\")","v":""},{"$f":"IF(ISNUMBER(F232),IF(AM232<0.85,\"\",VLOOKUP(N232,B!A$2:X$23,VLOOKUP(F232,ages!B$1:C$23,2,1),1)),\"\")","v":""},{"$f":"IF(ISNUMBER(F232),IF(AN232<0.85,\"\",VLOOKUP(O232,'C'!A$2:X$23,VLOOKUP(F232,ages!B$1:C$23,2,1),1)),\"\")","v":""},{"$f":"IF(ISNUMBER(F232),IF(AO232<0.85,\"\",VLOOKUP(P232,D!A$2:X$23,VLOOKUP(F232,ages!B$1:C$23,2,1),1)),\"\")","v":""},{"$f":"IF(ISNUMBER(F232),IF(AP232<0.85,\"\",VLOOKUP(Q232,E!A$2:X$23,VLOOKUP(F232,ages!B$1:C$23,2,1),1)),\"\")","v":""},{"$f":"IF(ISNUMBER(F232),IF(AQ232<0.85,\"\",VLOOKUP(R232,F!A$2:X$23,VLOOKUP(F232,ages!B$1:C$23,2,1),1)),\"\")","v":""},{"$f":"IF(ISNUMBER(F232),IF(AR232<0.85,\"\",VLOOKUP(S232,G!A$2:X$23,VLOOKUP(F232,ages!B$1:C$23,2,1),1)),\"\")","v":""},{"$f":"IF(ISNUMBER(F232),IF(AS232<0.85,\"\",VLOOKUP(T232,H!A$2:X$23,VLOOKUP(F232,ages!B$1:C$23,2,1),1)),\"\")","v":""},{"$f":"IF(ISNUMBER(F232),IF(AT232<0.85,\"\",VLOOKUP(U232,I!A$2:X$23,VLOOKUP(F232,ages!B$1:C$23,2,1),1)),\"\")","v":""},{"$f":"IF(ISNUMBER(F232),IF(AU232<0.85,\"\",VLOOKUP(V232,J!A$2:X$23,VLOOKUP(F232,ages!B$1:C$23,2,1),1)),\"\")","v":""},"","","","",-1.0000000000000002E-6,0,0,0,0,0,0,0,0,0,0,0,null,null,null,null,null,null,null,null,null,null,null,null,null,null,null,null,null,null,null,null,null,null,null,null,null,null,null,null,null,null,null,null,null,null,null,null,null,null,null,null,null,null,null,null,null,null,null,null,null,null,null,null,null,null,null,null,null,null,null,null,null,null,null,null,null,null,null,null,null,null,-9.9999999999999995E-7,-9.9999999999999995E-7,-9.9999999999999995E-7,-9.9999999999999995E-7,-9.9999999999999995E-7,-9.9999999999999995E-7,-9.9999999999999995E-7,-9.9999999999999995E-7,-9.9999999999999995E-7,-9.9999999999999995E-7,-9.9999999999999995E-7,-9.9999999999999995E-7,-9.9999999999999995E-7,-9.9999999999999995E-7,-9.9999999999999995E-7,-9.9999999999999995E-7,-9.9999999999999995E-7,-9.9999999999999995E-7,-9.9999999999999995E-7,-9.9999999999999995E-7,{"$f":"IF(ISERROR(VLOOKUP(F232,ages!B$1:B$23,1,1)),\"\",VLOOKUP(F232,ages!B$1:B$23,1,1))","v":""},{"$f":"IF(ISERROR(VLOOKUP(F232,ages!B$1:D$23,3,1)),\"\",VLOOKUP(F232,ages!B$1:D$23,3,1))","v":""},0,0,0,0,0]
[null,null,null,null,null,"",null,null,null,null,null,null,"","","","","","","","","","",{"$f":"IF(ISNUMBER(F233),IF(AL233<0.85,\"\",VLOOKUP(M233,A!A$2:X$23,VLOOKUP(F233,ages!B$1:C$23,2,1),1)),\"\")","v":""},{"$f":"IF(ISNUMBER(F233),IF(AM233<0.85,\"\",VLOOKUP(N233,B!A$2:X$23,VLOOKUP(F233,ages!B$1:C$23,2,1),1)),\"\")","v":""},{"$f":"IF(ISNUMBER(F233),IF(AN233<0.85,\"\",VLOOKUP(O233,'C'!A$2:X$23,VLOOKUP(F233,ages!B$1:C$23,2,1),1)),\"\")","v":""},{"$f":"IF(ISNUMBER(F233),IF(AO233<0.85,\"\",VLOOKUP(P233,D!A$2:X$23,VLOOKUP(F233,ages!B$1:C$23,2,1),1)),\"\")","v":""},{"$f":"IF(ISNUMBER(F233),IF(AP233<0.85,\"\",VLOOKUP(Q233,E!A$2:X$23,VLOOKUP(F233,ages!B$1:C$23,2,1),1)),\"\")","v":""},{"$f":"IF(ISNUMBER(F233),IF(AQ233<0.85,\"\",VLOOKUP(R233,F!A$2:X$23,VLOOKUP(F233,ages!B$1:C$23,2,1),1)),\"\")","v":""},{"$f":"IF(ISNUMBER(F233),IF(AR233<0.85,\"\",VLOOKUP(S233,G!A$2:X$23,VLOOKUP(F233,ages!B$1:C$23,2,1),1)),\"\")","v":""},{"$f":"IF(ISNUMBER(F233),IF(AS233<0.85,\"\",VLOOKUP(T233,H!A$2:X$23,VLOOKUP(F233,ages!B$1:C$23,2,1),1)),\"\")","v":""},{"$f":"IF(ISNUMBER(F233),IF(AT233<0.85,\"\",VLOOKUP(U233,I!A$2:X$23,VLOOKUP(F233,ages!B$1:C$23,2,1),1)),\"\")","v":""},{"$f":"IF(ISNUMBER(F233),IF(AU233<0.85,\"\",VLOOKUP(V233,J!A$2:X$23,VLOOKUP(F233,ages!B$1:C$23,2,1),1)),\"\")","v":""},"","","","",-1.0000000000000002E-6,0,0,0,0,0,0,0,0,0,0,0,null,null,null,null,null,null,null,null,null,null,null,null,null,null,null,null,null,null,null,null,null,null,null,null,null,null,null,null,null,null,null,null,null,null,null,null,null,null,null,null,null,null,null,null,null,null,null,null,null,null,null,null,null,null,null,null,null,null,null,null,null,null,null,null,null,null,null,null,null,null,-9.9999999999999995E-7,-9.9999999999999995E-7,-9.9999999999999995E-7,-9.9999999999999995E-7,-9.9999999999999995E-7,-9.9999999999999995E-7,-9.9999999999999995E-7,-9.9999999999999995E-7,-9.9999999999999995E-7,-9.9999999999999995E-7,-9.9999999999999995E-7,-9.9999999999999995E-7,-9.9999999999999995E-7,-9.9999999999999995E-7,-9.9999999999999995E-7,-9.9999999999999995E-7,-9.9999999999999995E-7,-9.9999999999999995E-7,-9.9999999999999995E-7,-9.9999999999999995E-7,{"$f":"IF(ISERROR(VLOOKUP(F233,ages!B$1:B$23,1,1)),\"\",VLOOKUP(F233,ages!B$1:B$23,1,1))","v":""},{"$f":"IF(ISERROR(VLOOKUP(F233,ages!B$1:D$23,3,1)),\"\",VLOOKUP(F233,ages!B$1:D$23,3,1))","v":""},0,0,0,0,0]
[null,null,null,null,null,"",null,null,null,null,null,null,"","","","","","","","","","",{"$f":"IF(ISNUMBER(F234),IF(AL234<0.85,\"\",VLOOKUP(M234,A!A$2:X$23,VLOOKUP(F234,ages!B$1:C$23,2,1),1)),\"\")","v":""},{"$f":"IF(ISNUMBER(F234),IF(AM234<0.85,\"\",VLOOKUP(N234,B!A$2:X$23,VLOOKUP(F234,ages!B$1:C$23,2,1),1)),\"\")","v":""},{"$f":"IF(ISNUMBER(F234),IF(AN234<0.85,\"\",VLOOKUP(O234,'C'!A$2:X$23,VLOOKUP(F234,ages!B$1:C$23,2,1),1)),\"\")","v":""},{"$f":"IF(ISNUMBER(F234),IF(AO234<0.85,\"\",VLOOKUP(P234,D!A$2:X$23,VLOOKUP(F234,ages!B$1:C$23,2,1),1)),\"\")","v":""},{"$f":"IF(ISNUMBER(F234),IF(AP234<0.85,\"\",VLOOKUP(Q234,E!A$2:X$23,VLOOKUP(F234,ages!B$1:C$23,2,1),1)),\"\")","v":""},{"$f":"IF(ISNUMBER(F234),IF(AQ234<0.85,\"\",VLOOKUP(R234,F!A$2:X$23,VLOOKUP(F234,ages!B$1:C$23,2,1),1)),\"\")","v":""},{"$f":"IF(ISNUMBER(F234),IF(AR234<0.85,\"\",VLOOKUP(S234,G!A$2:X$23,VLOOKUP(F234,ages!B$1:C$23,2,1),1)),\"\")","v":""},{"$f":"IF(ISNUMBER(F234),IF(AS234<0.85,\"\",VLOOKUP(T234,H!A$2:X$23,VLOOKUP(F234,ages!B$1:C$23,2,1),1)),\"\")","v":""},{"$f":"IF(ISNUMBER(F234),IF(AT234<0.85,\"\",VLOOKUP(U234,I!A$2:X$23,VLOOKUP(F234,ages!B$1:C$23,2,1),1)),\"\")","v":""},{"$f":"IF(ISNUMBER(F234),IF(AU234<0.85,\"\",VLOOKUP(V234,J!A$2:X$23,VLOOKUP(F234,ages!B$1:C$23,2,1),1)),\"\")","v":""},"","","","",-1.0000000000000002E-6,0,0,0,0,0,0,0,0,0,0,0,null,null,null,null,null,null,null,null,null,null,null,null,null,null,null,null,null,null,null,null,null,null,null,null,null,null,null,null,null,null,null,null,null,null,null,null,null,null,null,null,null,null,null,null,null,null,null,null,null,null,null,null,null,null,null,null,null,null,null,null,null,null,null,null,null,null,null,null,null,null,-9.9999999999999995E-7,-9.9999999999999995E-7,-9.9999999999999995E-7,-9.9999999999999995E-7,-9.9999999999999995E-7,-9.9999999999999995E-7,-9.9999999999999995E-7,-9.9999999999999995E-7,-9.9999999999999995E-7,-9.9999999999999995E-7,-9.9999999999999995E-7,-9.9999999999999995E-7,-9.9999999999999995E-7,-9.9999999999999995E-7,-9.9999999999999995E-7,-9.9999999999999995E-7,-9.9999999999999995E-7,-9.9999999999999995E-7,-9.9999999999999995E-7,-9.9999999999999995E-7,{"$f":"IF(ISERROR(VLOOKUP(F234,ages!B$1:B$23,1,1)),\"\",VLOOKUP(F234,ages!B$1:B$23,1,1))","v":""},{"$f":"IF(ISERROR(VLOOKUP(F234,ages!B$1:D$23,3,1)),\"\",VLOOKUP(F234,ages!B$1:D$23,3,1))","v":""},0,0,0,0,0]
[null,null,null,null,null,"",null,null,null,null,null,null,"","","","","","","","","","",{"$f":"IF(ISNUMBER(F235),IF(AL235<0.85,\"\",VLOOKUP(M235,A!A$2:X$23,VLOOKUP(F235,ages!B$1:C$23,2,1),1)),\"\")","v":""},{"$f":"IF(ISNUMBER(F235),IF(AM235<0.85,\"\",VLOOKUP(N235,B!A$2:X$23,VLOOKUP(F235,ages!B$1:C$23,2,1),1)),\"\")","v":""},{"$f":"IF(ISNUMBER(F235),IF(AN235<0.85,\"\",VLOOKUP(O235,'C'!A$2:X$23,VLOOKUP(F235,ages!B$1:C$23,2,1),1)),\"\")","v":""},{"$f":"IF(ISNUMBER(F235),IF(AO235<0.85,\"\",VLOOKUP(P235,D!A$2:X$23,VLOOKUP(F235,ages!B$1:C$23,2,1),1)),\"\")","v":""},{"$f":"IF(ISNUMBER(F235),IF(AP235<0.85,\"\",VLOOKUP(Q235,E!A$2:X$23,VLOOKUP(F235,ages!B$1:C$23,2,1),1)),\"\")","v":""},{"$f":"IF(ISNUMBER(F235),IF(AQ235<0.85,\"\",VLOOKUP(R235,F!A$2:X$23,VLOOKUP(F235,ages!B$1:C$23,2,1),1)),\"\")","v":""},{"$f":"IF(ISNUMBER(F235),IF(AR235<0.85,\"\",VLOOKUP(S235,G!A$2:X$23,VLOOKUP(F235,ages!B$1:C$23,2,1),1)),\"\")","v":""},{"$f":"IF(ISNUMBER(F235),IF(AS235<0.85,\"\",VLOOKUP(T235,H!A$2:X$23,VLOOKUP(F235,ages!B$1:C$23,2,1),1)),\"\")","v":""},{"$f":"IF(ISNUMBER(F235),IF(AT235<0.85,\"\",VLOOKUP(U235,I!A$2:X$23,VLOOKUP(F235,ages!B$1:C$23,2,1),1)),\"\")","v":""},{"$f":"IF(ISNUMBER(F235),IF(AU235<0.85,\"\",VLOOKUP(V235,J!A$2:X$23,VLOOKUP(F235,ages!B$1:C$23,2,1),1)),\"\")","v":""},"","","","",-1.0000000000000002E-6,0,0,0,0,0,0,0,0,0,0,0,null,null,null,null,null,null,null,null,null,null,null,null,null,null,null,null,null,null,null,null,null,null,null,null,null,null,null,null,null,null,null,null,null,null,null,null,null,null,null,null,null,null,null,null,null,null,null,null,null,null,null,null,null,null,null,null,null,null,null,null,null,null,null,null,null,null,null,null,null,null,-9.9999999999999995E-7,-9.9999999999999995E-7,-9.9999999999999995E-7,-9.9999999999999995E-7,-9.9999999999999995E-7,-9.9999999999999995E-7,-9.9999999999999995E-7,-9.9999999999999995E-7,-9.9999999999999995E-7,-9.9999999999999995E-7,-9.9999999999999995E-7,-9.9999999999999995E-7,-9.9999999999999995E-7,-9.9999999999999995E-7,-9.9999999999999995E-7,-9.9999999999999995E-7,-9.9999999999999995E-7,-9.9999999999999995E-7,-9.9999999999999995E-7,-9.9999999999999995E-7,{"$f":"IF(ISERROR(VLOOKUP(F235,ages!B$1:B$23,1,1)),\"\",VLOOKUP(F235,ages!B$1:B$23,1,1))","v":""},{"$f":"IF(ISERROR(VLOOKUP(F235,ages!B$1:D$23,3,1)),\"\",VLOOKUP(F235,ages!B$1:D$23,3,1))","v":""},0,0,0,0,0]
[null,null,null,null,null,"",null,null,null,null,null,null,"","","","","","","","","","",{"$f":"IF(ISNUMBER(F236),IF(AL236<0.85,\"\",VLOOKUP(M236,A!A$2:X$23,VLOOKUP(F236,ages!B$1:C$23,2,1),1)),\"\")","v":""},{"$f":"IF(ISNUMBER(F236),IF(AM236<0.85,\"\",VLOOKUP(N236,B!A$2:X$23,VLOOKUP(F236,ages!B$1:C$23,2,1),1)),\"\")","v":""},{"$f":"IF(ISNUMBER(F236),IF(AN236<0.85,\"\",VLOOKUP(O236,'C'!A$2:X$23,VLOOKUP(F236,ages!B$1:C$23,2,1),1)),\"\")","v":""},{"$f":"IF(ISNUMBER(F236),IF(AO236<0.85,\"\",VLOOKUP(P236,D!A$2:X$23,VLOOKUP(F236,ages!B$1:C$23,2,1),1)),\"\")","v":""},{"$f":"IF(ISNUMBER(F236),IF(AP236<0.85,\"\",VLOOKUP(Q236,E!A$2:X$23,VLOOKUP(F236,ages!B$1:C$23,2,1),1)),\"\")","v":""},{"$f":"IF(ISNUMBER(F236),IF(AQ236<0.85,\"\",VLOOKUP(R236,F!A$2:X$23,VLOOKUP(F236,ages!B$1:C$23,2,1),1)),\"\")","v":""},{"$f":"IF(ISNUMBER(F236),IF(AR236<0.85,\"\",VLOOKUP(S236,G!A$2:X$23,VLOOKUP(F236,ages!B$1:C$23,2,1),1)),\"\")","v":""},{"$f":"IF(ISNUMBER(F236),IF(AS236<0.85,\"\",VLOOKUP(T236,H!A$2:X$23,VLOOKUP(F236,ages!B$1:C$23,2,1),1)),\"\")","v":""},{"$f":"IF(ISNUMBER(F236),IF(AT236<0.85,\"\",VLOOKUP(U236,I!A$2:X$23,VLOOKUP(F236,ages!B$1:C$23,2,1),1)),\"\")","v":""},{"$f":"IF(ISNUMBER(F236),IF(AU236<0.85,\"\",VLOOKUP(V236,J!A$2:X$23,VLOOKUP(F236,ages!B$1:C$23,2,1),1)),\"\")","v":""},"","","","",-1.0000000000000002E-6,0,0,0,0,0,0,0,0,0,0,0,null,null,null,null,null,null,null,null,null,null,null,null,null,null,null,null,null,null,null,null,null,null,null,null,null,null,null,null,null,null,null,null,null,null,null,null,null,null,null,null,null,null,null,null,null,null,null,null,null,null,null,null,null,null,null,null,null,null,null,null,null,null,null,null,null,null,null,null,null,null,-9.9999999999999995E-7,-9.9999999999999995E-7,-9.9999999999999995E-7,-9.9999999999999995E-7,-9.9999999999999995E-7,-9.9999999999999995E-7,-9.9999999999999995E-7,-9.9999999999999995E-7,-9.9999999999999995E-7,-9.9999999999999995E-7,-9.9999999999999995E-7,-9.9999999999999995E-7,-9.9999999999999995E-7,-9.9999999999999995E-7,-9.9999999999999995E-7,-9.9999999999999995E-7,-9.9999999999999995E-7,-9.9999999999999995E-7,-9.9999999999999995E-7,-9.9999999999999995E-7,{"$f":"IF(ISERROR(VLOOKUP(F236,ages!B$1:B$23,1,1)),\"\",VLOOKUP(F236,ages!B$1:B$23,1,1))","v":""},{"$f":"IF(ISERROR(VLOOKUP(F236,ages!B$1:D$23,3,1)),\"\",VLOOKUP(F236,ages!B$1:D$23,3,1))","v":""},0,0,0,0,0]
[null,null,null,null,null,"",null,null,null,null,null,null,"","","","","","","","","","",{"$f":"IF(ISNUMBER(F237),IF(AL237<0.85,\"\",VLOOKUP(M237,A!A$2:X$23,VLOOKUP(F237,ages!B$1:C$23,2,1),1)),\"\")","v":""},{"$f":"IF(ISNUMBER(F237),IF(AM237<0.85,\"\",VLOOKUP(N237,B!A$2:X$23,VLOOKUP(F237,ages!B$1:C$23,2,1),1)),\"\")","v":""},{"$f":"IF(ISNUMBER(F237),IF(AN237<0.85,\"\",VLOOKUP(O237,'C'!A$2:X$23,VLOOKUP(F237,ages!B$1:C$23,2,1),1)),\"\")","v":""},{"$f":"IF(ISNUMBER(F237),IF(AO237<0.85,\"\",VLOOKUP(P237,D!A$2:X$23,VLOOKUP(F237,ages!B$1:C$23,2,1),1)),\"\")","v":""},{"$f":"IF(ISNUMBER(F237),IF(AP237<0.85,\"\",VLOOKUP(Q237,E!A$2:X$23,VLOOKUP(F237,ages!B$1:C$23,2,1),1)),\"\")","v":""},{"$f":"IF(ISNUMBER(F237),IF(AQ237<0.85,\"\",VLOOKUP(R237,F!A$2:X$23,VLOOKUP(F237,ages!B$1:C$23,2,1),1)),\"\")","v":""},{"$f":"IF(ISNUMBER(F237),IF(AR237<0.85,\"\",VLOOKUP(S237,G!A$2:X$23,VLOOKUP(F237,ages!B$1:C$23,2,1),1)),\"\")","v":""},{"$f":"IF(ISNUMBER(F237),IF(AS237<0.85,\"\",VLOOKUP(T237,H!A$2:X$23,VLOOKUP(F237,ages!B$1:C$23,2,1),1)),\"\")","v":""},{"$f":"IF(ISNUMBER(F237),IF(AT237<0.85,\"\",VLOOKUP(U237,I!A$2:X$23,VLOOKUP(F237,ages!B$1:C$23,2,1),1)),\"\")","v":""},{"$f":"IF(ISNUMBER(F237),IF(AU237<0.85,\"\",VLOOKUP(V237,J!A$2:X$23,VLOOKUP(F237,ages!B$1:C$23,2,1),1)),\"\")","v":""},"","","","",-1.0000000000000002E-6,0,0,0,0,0,0,0,0,0,0,0,null,null,null,null,null,null,null,null,null,null,null,null,null,null,null,null,null,null,null,null,null,null,null,null,null,null,null,null,null,null,null,null,null,null,null,null,null,null,null,null,null,null,null,null,null,null,null,null,null,null,null,null,null,null,null,null,null,null,null,null,null,null,null,null,null,null,null,null,null,null,-9.9999999999999995E-7,-9.9999999999999995E-7,-9.9999999999999995E-7,-9.9999999999999995E-7,-9.9999999999999995E-7,-9.9999999999999995E-7,-9.9999999999999995E-7,-9.9999999999999995E-7,-9.9999999999999995E-7,-9.9999999999999995E-7,-9.9999999999999995E-7,-9.9999999999999995E-7,-9.9999999999999995E-7,-9.9999999999999995E-7,-9.9999999999999995E-7,-9.9999999999999995E-7,-9.9999999999999995E-7,-9.9999999999999995E-7,-9.9999999999999995E-7,-9.9999999999999995E-7,{"$f":"IF(ISERROR(VLOOKUP(F237,ages!B$1:B$23,1,1)),\"\",VLOOKUP(F237,ages!B$1:B$23,1,1))","v":""},{"$f":"IF(ISERROR(VLOOKUP(F237,ages!B$1:D$23,3,1)),\"\",VLOOKUP(F237,ages!B$1:D$23,3,1))","v":""},0,0,0,0,0]
[null,null,null,null,null,"",null,null,null,null,null,null,"","","","","","","","","","",{"$f":"IF(ISNUMBER(F238),IF(AL238<0.85,\"\",VLOOKUP(M238,A!A$2:X$23,VLOOKUP(F238,ages!B$1:C$23,2,1),1)),\"\")","v":""},{"$f":"IF(ISNUMBER(F238),IF(AM238<0.85,\"\",VLOOKUP(N238,B!A$2:X$23,VLOOKUP(F238,ages!B$1:C$23,2,1),1)),\"\")","v":""},{"$f":"IF(ISNUMBER(F238),IF(AN238<0.85,\"\",VLOOKUP(O238,'C'!A$2:X$23,VLOOKUP(F238,ages!B$1:C$23,2,1),1)),\"\")","v":""},{"$f":"IF(ISNUMBER(F238),IF(AO238<0.85,\"\",VLOOKUP(P238,D!A$2:X$23,VLOOKUP(F238,ages!B$1:C$23,2,1),1)),\"\")","v":""},{"$f":"IF(ISNUMBER(F238),IF(AP238<0.85,\"\",VLOOKUP(Q238,E!A$2:X$23,VLOOKUP(F238,ages!B$1:C$23,2,1),1)),\"\")","v":""},{"$f":"IF(ISNUMBER(F238),IF(AQ238<0.85,\"\",VLOOKUP(R238,F!A$2:X$23,VLOOKUP(F238,ages!B$1:C$23,2,1),1)),\"\")","v":""},{"$f":"IF(ISNUMBER(F238),IF(AR238<0.85,\"\",VLOOKUP(S238,G!A$2:X$23,VLOOKUP(F238,ages!B$1:C$23,2,1),1)),\"\")","v":""},{"$f":"IF(ISNUMBER(F238),IF(AS238<0.85,\"\",VLOOKUP(T238,H!A$2:X$23,VLOOKUP(F238,ages!B$1:C$23,2,1),1)),\"\")","v":""},{"$f":"IF(ISNUMBER(F238),IF(AT238<0.85,\"\",VLOOKUP(U238,I!A$2:X$23,VLOOKUP(F238,ages!B$1:C$23,2,1),1)),\"\")","v":""},{"$f":"IF(ISNUMBER(F238),IF(AU238<0.85,\"\",VLOOKUP(V238,J!A$2:X$23,VLOOKUP(F238,ages!B$1:C$23,2,1),1)),\"\")","v":""},"","","","",-1.0000000000000002E-6,0,0,0,0,0,0,0,0,0,0,0,null,null,null,null,null,null,null,null,null,null,null,null,null,null,null,null,null,null,null,null,null,null,null,null,null,null,null,null,null,null,null,null,null,null,null,null,null,null,null,null,null,null,null,null,null,null,null,null,null,null,null,null,null,null,null,null,null,null,null,null,null,null,null,null,null,null,null,null,null,null,-9.9999999999999995E-7,-9.9999999999999995E-7,-9.9999999999999995E-7,-9.9999999999999995E-7,-9.9999999999999995E-7,-9.9999999999999995E-7,-9.9999999999999995E-7,-9.9999999999999995E-7,-9.9999999999999995E-7,-9.9999999999999995E-7,-9.9999999999999995E-7,-9.9999999999999995E-7,-9.9999999999999995E-7,-9.9999999999999995E-7,-9.9999999999999995E-7,-9.9999999999999995E-7,-9.9999999999999995E-7,-9.9999999999999995E-7,-9.9999999999999995E-7,-9.9999999999999995E-7,{"$f":"IF(ISERROR(VLOOKUP(F238,ages!B$1:B$23,1,1)),\"\",VLOOKUP(F238,ages!B$1:B$23,1,1))","v":""},{"$f":"IF(ISERROR(VLOOKUP(F238,ages!B$1:D$23,3,1)),\"\",VLOOKUP(F238,ages!B$1:D$23,3,1))","v":""},0,0,0,0,0]
[null,null,null,null,null,"",null,null,null,null,null,null,"","","","","","","","","","",{"$f":"IF(ISNUMBER(F239),IF(AL239<0.85,\"\",VLOOKUP(M239,A!A$2:X$23,VLOOKUP(F239,ages!B$1:C$23,2,1),1)),\"\")","v":""},{"$f":"IF(ISNUMBER(F239),IF(AM239<0.85,\"\",VLOOKUP(N239,B!A$2:X$23,VLOOKUP(F239,ages!B$1:C$23,2,1),1)),\"\")","v":""},{"$f":"IF(ISNUMBER(F239),IF(AN239<0.85,\"\",VLOOKUP(O239,'C'!A$2:X$23,VLOOKUP(F239,ages!B$1:C$23,2,1),1)),\"\")","v":""},{"$f":"IF(ISNUMBER(F239),IF(AO239<0.85,\"\",VLOOKUP(P239,D!A$2:X$23,VLOOKUP(F239,ages!B$1:C$23,2,1),1)),\"\")","v":""},{"$f":"IF(ISNUMBER(F239),IF(AP239<0.85,\"\",VLOOKUP(Q239,E!A$2:X$23,VLOOKUP(F239,ages!B$1:C$23,2,1),1)),\"\")","v":""},{"$f":"IF(ISNUMBER(F239),IF(AQ239<0.85,\"\",VLOOKUP(R239,F!A$2:X$23,VLOOKUP(F239,ages!B$1:C$23,2,1),1)),\"\")","v":""},{"$f":"IF(ISNUMBER(F239),IF(AR239<0.85,\"\",VLOOKUP(S239,G!A$2:X$23,VLOOKUP(F239,ages!B$1:C$23,2,1),1)),\"\")","v":""},{"$f":"IF(ISNUMBER(F239),IF(AS239<0.85,\"\",VLOOKUP(T239,H!A$2:X$23,VLOOKUP(F239,ages!B$1:C$23,2,1),1)),\"\")","v":""},{"$f":"IF(ISNUMBER(F239),IF(AT239<0.85,\"\",VLOOKUP(U239,I!A$2:X$23,VLOOKUP(F239,ages!B$1:C$23,2,1),1)),\"\")","v":""},{"$f":"IF(ISNUMBER(F239),IF(AU239<0.85,\"\",VLOOKUP(V239,J!A$2:X$23,VLOOKUP(F239,ages!B$1:C$23,2,1),1)),\"\")","v":""},"","","","",-1.0000000000000002E-6,0,0,0,0,0,0,0,0,0,0,0,null,null,null,null,null,null,null,null,null,null,null,null,null,null,null,null,null,null,null,null,null,null,null,null,null,null,null,null,null,null,null,null,null,null,null,null,null,null,null,null,null,null,null,null,null,null,null,null,null,null,null,null,null,null,null,null,null,null,null,null,null,null,null,null,null,null,null,null,null,null,-9.9999999999999995E-7,-9.9999999999999995E-7,-9.9999999999999995E-7,-9.9999999999999995E-7,-9.9999999999999995E-7,-9.9999999999999995E-7,-9.9999999999999995E-7,-9.9999999999999995E-7,-9.9999999999999995E-7,-9.9999999999999995E-7,-9.9999999999999995E-7,-9.9999999999999995E-7,-9.9999999999999995E-7,-9.9999999999999995E-7,-9.9999999999999995E-7,-9.9999999999999995E-7,-9.9999999999999995E-7,-9.9999999999999995E-7,-9.9999999999999995E-7,-9.9999999999999995E-7,{"$f":"IF(ISERROR(VLOOKUP(F239,ages!B$1:B$23,1,1)),\"\",VLOOKUP(F239,ages!B$1:B$23,1,1))","v":""},{"$f":"IF(ISERROR(VLOOKUP(F239,ages!B$1:D$23,3,1)),\"\",VLOOKUP(F239,ages!B$1:D$23,3,1))","v":""},0,0,0,0,0]
[null,null,null,null,null,"",null,null,null,null,null,null,"","","","","","","","","","",{"$f":"IF(ISNUMBER(F240),IF(AL240<0.85,\"\",VLOOKUP(M240,A!A$2:X$23,VLOOKUP(F240,ages!B$1:C$23,2,1),1)),\"\")","v":""},{"$f":"IF(ISNUMBER(F240),IF(AM240<0.85,\"\",VLOOKUP(N240,B!A$2:X$23,VLOOKUP(F240,ages!B$1:C$23,2,1),1)),\"\")","v":""},{"$f":"IF(ISNUMBER(F240),IF(AN240<0.85,\"\",VLOOKUP(O240,'C'!A$2:X$23,VLOOKUP(F240,ages!B$1:C$23,2,1),1)),\"\")","v":""},{"$f":"IF(ISNUMBER(F240),IF(AO240<0.85,\"\",VLOOKUP(P240,D!A$2:X$23,VLOOKUP(F240,ages!B$1:C$23,2,1),1)),\"\")","v":""},{"$f":"IF(ISNUMBER(F240),IF(AP240<0.85,\"\",VLOOKUP(Q240,E!A$2:X$23,VLOOKUP(F240,ages!B$1:C$23,2,1),1)),\"\")","v":""},{"$f":"IF(ISNUMBER(F240),IF(AQ240<0.85,\"\",VLOOKUP(R240,F!A$2:X$23,VLOOKUP(F240,ages!B$1:C$23,2,1),1)),\"\")","v":""},{"$f":"IF(ISNUMBER(F240),IF(AR240<0.85,\"\",VLOOKUP(S240,G!A$2:X$23,VLOOKUP(F240,ages!B$1:C$23,2,1),1)),\"\")","v":""},{"$f":"IF(ISNUMBER(F240),IF(AS240<0.85,\"\",VLOOKUP(T240,H!A$2:X$23,VLOOKUP(F240,ages!B$1:C$23,2,1),1)),\"\")","v":""},{"$f":"IF(ISNUMBER(F240),IF(AT240<0.85,\"\",VLOOKUP(U240,I!A$2:X$23,VLOOKUP(F240,ages!B$1:C$23,2,1),1)),\"\")","v":""},{"$f":"IF(ISNUMBER(F240),IF(AU240<0.85,\"\",VLOOKUP(V240,J!A$2:X$23,VLOOKUP(F240,ages!B$1:C$23,2,1),1)),\"\")","v":""},"","","","",-1.0000000000000002E-6,0,0,0,0,0,0,0,0,0,0,0,null,null,null,null,null,null,null,null,null,null,null,null,null,null,null,null,null,null,null,null,null,null,null,null,null,null,null,null,null,null,null,null,null,null,null,null,null,null,null,null,null,null,null,null,null,null,null,null,null,null,null,null,null,null,null,null,null,null,null,null,null,null,null,null,null,null,null,null,null,null,-9.9999999999999995E-7,-9.9999999999999995E-7,-9.9999999999999995E-7,-9.9999999999999995E-7,-9.9999999999999995E-7,-9.9999999999999995E-7,-9.9999999999999995E-7,-9.9999999999999995E-7,-9.9999999999999995E-7,-9.9999999999999995E-7,-9.9999999999999995E-7,-9.9999999999999995E-7,-9.9999999999999995E-7,-9.9999999999999995E-7,-9.9999999999999995E-7,-9.9999999999999995E-7,-9.9999999999999995E-7,-9.9999999999999995E-7,-9.9999999999999995E-7,-9.9999999999999995E-7,{"$f":"IF(ISERROR(VLOOKUP(F240,ages!B$1:B$23,1,1)),\"\",VLOOKUP(F240,ages!B$1:B$23,1,1))","v":""},{"$f":"IF(ISERROR(VLOOKUP(F240,ages!B$1:D$23,3,1)),\"\",VLOOKUP(F240,ages!B$1:D$23,3,1))","v":""},0,0,0,0,0]
[null,null,null,null,null,"",null,null,null,null,null,null,"","","","","","","","","","",{"$f":"IF(ISNUMBER(F241),IF(AL241<0.85,\"\",VLOOKUP(M241,A!A$2:X$23,VLOOKUP(F241,ages!B$1:C$23,2,1),1)),\"\")","v":""},{"$f":"IF(ISNUMBER(F241),IF(AM241<0.85,\"\",VLOOKUP(N241,B!A$2:X$23,VLOOKUP(F241,ages!B$1:C$23,2,1),1)),\"\")","v":""},{"$f":"IF(ISNUMBER(F241),IF(AN241<0.85,\"\",VLOOKUP(O241,'C'!A$2:X$23,VLOOKUP(F241,ages!B$1:C$23,2,1),1)),\"\")","v":""},{"$f":"IF(ISNUMBER(F241),IF(AO241<0.85,\"\",VLOOKUP(P241,D!A$2:X$23,VLOOKUP(F241,ages!B$1:C$23,2,1),1)),\"\")","v":""},{"$f":"IF(ISNUMBER(F241),IF(AP241<0.85,\"\",VLOOKUP(Q241,E!A$2:X$23,VLOOKUP(F241,ages!B$1:C$23,2,1),1)),\"\")","v":""},{"$f":"IF(ISNUMBER(F241),IF(AQ241<0.85,\"\",VLOOKUP(R241,F!A$2:X$23,VLOOKUP(F241,ages!B$1:C$23,2,1),1)),\"\")","v":""},{"$f":"IF(ISNUMBER(F241),IF(AR241<0.85,\"\",VLOOKUP(S241,G!A$2:X$23,VLOOKUP(F241,ages!B$1:C$23,2,1),1)),\"\")","v":""},{"$f":"IF(ISNUMBER(F241),IF(AS241<0.85,\"\",VLOOKUP(T241,H!A$2:X$23,VLOOKUP(F241,ages!B$1:C$23,2,1),1)),\"\")","v":""},{"$f":"IF(ISNUMBER(F241),IF(AT241<0.85,\"\",VLOOKUP(U241,I!A$2:X$23,VLOOKUP(F241,ages!B$1:C$23,2,1),1)),\"\")","v":""},{"$f":"IF(ISNUMBER(F241),IF(AU241<0.85,\"\",VLOOKUP(V241,J!A$2:X$23,VLOOKUP(F241,ages!B$1:C$23,2,1),1)),\"\")","v":""},"","","","",-1.0000000000000002E-6,0,0,0,0,0,0,0,0,0,0,0,null,null,null,null,null,null,null,null,null,null,null,null,null,null,null,null,null,null,null,null,null,null,null,null,null,null,null,null,null,null,null,null,null,null,null,null,null,null,null,null,null,null,null,null,null,null,null,null,null,null,null,null,null,null,null,null,null,null,null,null,null,null,null,null,null,null,null,null,null,null,-9.9999999999999995E-7,-9.9999999999999995E-7,-9.9999999999999995E-7,-9.9999999999999995E-7,-9.9999999999999995E-7,-9.9999999999999995E-7,-9.9999999999999995E-7,-9.9999999999999995E-7,-9.9999999999999995E-7,-9.9999999999999995E-7,-9.9999999999999995E-7,-9.9999999999999995E-7,-9.9999999999999995E-7,-9.9999999999999995E-7,-9.9999999999999995E-7,-9.9999999999999995E-7,-9.9999999999999995E-7,-9.9999999999999995E-7,-9.9999999999999995E-7,-9.9999999999999995E-7,{"$f":"IF(ISERROR(VLOOKUP(F241,ages!B$1:B$23,1,1)),\"\",VLOOKUP(F241,ages!B$1:B$23,1,1))","v":""},{"$f":"IF(ISERROR(VLOOKUP(F241,ages!B$1:D$23,3,1)),\"\",VLOOKUP(F241,ages!B$1:D$23,3,1))","v":""},0,0,0,0,0]
[null,null,null,null,null,"",null,null,null,null,null,null,"","","","","","","","","","",{"$f":"IF(ISNUMBER(F242),IF(AL242<0.85,\"\",VLOOKUP(M242,A!A$2:X$23,VLOOKUP(F242,ages!B$1:C$23,2,1),1)),\"\")","v":""},{"$f":"IF(ISNUMBER(F242),IF(AM242<0.85,\"\",VLOOKUP(N242,B!A$2:X$23,VLOOKUP(F242,ages!B$1:C$23,2,1),1)),\"\")","v":""},{"$f":"IF(ISNUMBER(F242),IF(AN242<0.85,\"\",VLOOKUP(O242,'C'!A$2:X$23,VLOOKUP(F242,ages!B$1:C$23,2,1),1)),\"\")","v":""},{"$f":"IF(ISNUMBER(F242),IF(AO242<0.85,\"\",VLOOKUP(P242,D!A$2:X$23,VLOOKUP(F242,ages!B$1:C$23,2,1),1)),\"\")","v":""},{"$f":"IF(ISNUMBER(F242),IF(AP242<0.85,\"\",VLOOKUP(Q242,E!A$2:X$23,VLOOKUP(F242,ages!B$1:C$23,2,1),1)),\"\")","v":""},{"$f":"IF(ISNUMBER(F242),IF(AQ242<0.85,\"\",VLOOKUP(R242,F!A$2:X$23,VLOOKUP(F242,ages!B$1:C$23,2,1),1)),\"\")","v":""},{"$f":"IF(ISNUMBER(F242),IF(AR242<0.85,\"\",VLOOKUP(S242,G!A$2:X$23,VLOOKUP(F242,ages!B$1:C$23,2,1),1)),\"\")","v":""},{"$f":"IF(ISNUMBER(F242),IF(AS242<0.85,\"\",VLOOKUP(T242,H!A$2:X$23,VLOOKUP(F242,ages!B$1:C$23,2,1),1)),\"\")","v":""},{"$f":"IF(ISNUMBER(F242),IF(AT242<0.85,\"\",VLOOKUP(U242,I!A$2:X$23,VLOOKUP(F242,ages!B$1:C$23,2,1),1)),\"\")","v":""},{"$f":"IF(ISNUMBER(F242),IF(AU242<0.85,\"\",VLOOKUP(V242,J!A$2:X$23,VLOOKUP(F242,ages!B$1:C$23,2,1),1)),\"\")","v":""},"","","","",-1.0000000000000002E-6,0,0,0,0,0,0,0,0,0,0,0,null,null,null,null,null,null,null,null,null,null,null,null,null,null,null,null,null,null,null,null,null,null,null,null,null,null,null,null,null,null,null,null,null,null,null,null,null,null,null,null,null,null,null,null,null,null,null,null,null,null,null,null,null,null,null,null,null,null,null,null,null,null,null,null,null,null,null,null,null,null,-9.9999999999999995E-7,-9.9999999999999995E-7,-9.9999999999999995E-7,-9.9999999999999995E-7,-9.9999999999999995E-7,-9.9999999999999995E-7,-9.9999999999999995E-7,-9.9999999999999995E-7,-9.9999999999999995E-7,-9.9999999999999995E-7,-9.9999999999999995E-7,-9.9999999999999995E-7,-9.9999999999999995E-7,-9.9999999999999995E-7,-9.9999999999999995E-7,-9.9999999999999995E-7,-9.9999999999999995E-7,-9.9999999999999995E-7,-9.9999999999999995E-7,-9.9999999999999995E-7,{"$f":"IF(ISERROR(VLOOKUP(F242,ages!B$1:B$23,1,1)),\"\",VLOOKUP(F242,ages!B$1:B$23,1,1))","v":""},{"$f":"IF(ISERROR(VLOOKUP(F242,ages!B$1:D$23,3,1)),\"\",VLOOKUP(F242,ages!B$1:D$23,3,1))","v":""},0,0,0,0,0]
[null,null,null,null,null,"",null,null,null,null,null,null,"","","","","","","","","","",{"$f":"IF(ISNUMBER(F243),IF(AL243<0.85,\"\",VLOOKUP(M243,A!A$2:X$23,VLOOKUP(F243,ages!B$1:C$23,2,1),1)),\"\")","v":""},{"$f":"IF(ISNUMBER(F243),IF(AM243<0.85,\"\",VLOOKUP(N243,B!A$2:X$23,VLOOKUP(F243,ages!B$1:C$23,2,1),1)),\"\")","v":""},{"$f":"IF(ISNUMBER(F243),IF(AN243<0.85,\"\",VLOOKUP(O243,'C'!A$2:X$23,VLOOKUP(F243,ages!B$1:C$23,2,1),1)),\"\")","v":""},{"$f":"IF(ISNUMBER(F243),IF(AO243<0.85,\"\",VLOOKUP(P243,D!A$2:X$23,VLOOKUP(F243,ages!B$1:C$23,2,1),1)),\"\")","v":""},{"$f":"IF(ISNUMBER(F243),IF(AP243<0.85,\"\",VLOOKUP(Q243,E!A$2:X$23,VLOOKUP(F243,ages!B$1:C$23,2,1),1)),\"\")","v":""},{"$f":"IF(ISNUMBER(F243),IF(AQ243<0.85,\"\",VLOOKUP(R243,F!A$2:X$23,VLOOKUP(F243,ages!B$1:C$23,2,1),1)),\"\")","v":""},{"$f":"IF(ISNUMBER(F243),IF(AR243<0.85,\"\",VLOOKUP(S243,G!A$2:X$23,VLOOKUP(F243,ages!B$1:C$23,2,1),1)),\"\")","v":""},{"$f":"IF(ISNUMBER(F243),IF(AS243<0.85,\"\",VLOOKUP(T243,H!A$2:X$23,VLOOKUP(F243,ages!B$1:C$23,2,1),1)),\"\")","v":""},{"$f":"IF(ISNUMBER(F243),IF(AT243<0.85,\"\",VLOOKUP(U243,I!A$2:X$23,VLOOKUP(F243,ages!B$1:C$23,2,1),1)),\"\")","v":""},{"$f":"IF(ISNUMBER(F243),IF(AU243<0.85,\"\",VLOOKUP(V243,J!A$2:X$23,VLOOKUP(F243,ages!B$1:C$23,2,1),1)),\"\")","v":""},"","","","",-1.0000000000000002E-6,0,0,0,0,0,0,0,0,0,0,0,null,null,null,null,null,null,null,null,null,null,null,null,null,null,null,null,null,null,null,null,null,null,null,null,null,null,null,null,null,null,null,null,null,null,null,null,null,null,null,null,null,null,null,null,null,null,null,null,null,null,null,null,null,null,null,null,null,null,null,null,null,null,null,null,null,null,null,null,null,null,-9.9999999999999995E-7,-9.9999999999999995E-7,-9.9999999999999995E-7,-9.9999999999999995E-7,-9.9999999999999995E-7,-9.9999999999999995E-7,-9.9999999999999995E-7,-9.9999999999999995E-7,-9.9999999999999995E-7,-9.9999999999999995E-7,-9.9999999999999995E-7,-9.9999999999999995E-7,-9.9999999999999995E-7,-9.9999999999999995E-7,-9.9999999999999995E-7,-9.9999999999999995E-7,-9.9999999999999995E-7,-9.9999999999999995E-7,-9.9999999999999995E-7,-9.9999999999999995E-7,{"$f":"IF(ISERROR(VLOOKUP(F243,ages!B$1:B$23,1,1)),\"\",VLOOKUP(F243,ages!B$1:B$23,1,1))","v":""},{"$f":"IF(ISERROR(VLOOKUP(F243,ages!B$1:D$23,3,1)),\"\",VLOOKUP(F243,ages!B$1:D$23,3,1))","v":""},0,0,0,0,0]
[null,null,null,null,null,"",null,null,null,null,null,null,"","","","","","","","","","",{"$f":"IF(ISNUMBER(F244),IF(AL244<0.85,\"\",VLOOKUP(M244,A!A$2:X$23,VLOOKUP(F244,ages!B$1:C$23,2,1),1)),\"\")","v":""},{"$f":"IF(ISNUMBER(F244),IF(AM244<0.85,\"\",VLOOKUP(N244,B!A$2:X$23,VLOOKUP(F244,ages!B$1:C$23,2,1),1)),\"\")","v":""},{"$f":"IF(ISNUMBER(F244),IF(AN244<0.85,\"\",VLOOKUP(O244,'C'!A$2:X$23,VLOOKUP(F244,ages!B$1:C$23,2,1),1)),\"\")","v":""},{"$f":"IF(ISNUMBER(F244),IF(AO244<0.85,\"\",VLOOKUP(P244,D!A$2:X$23,VLOOKUP(F244,ages!B$1:C$23,2,1),1)),\"\")","v":""},{"$f":"IF(ISNUMBER(F244),IF(AP244<0.85,\"\",VLOOKUP(Q244,E!A$2:X$23,VLOOKUP(F244,ages!B$1:C$23,2,1),1)),\"\")","v":""},{"$f":"IF(ISNUMBER(F244),IF(AQ244<0.85,\"\",VLOOKUP(R244,F!A$2:X$23,VLOOKUP(F244,ages!B$1:C$23,2,1),1)),\"\")","v":""},{"$f":"IF(ISNUMBER(F244),IF(AR244<0.85,\"\",VLOOKUP(S244,G!A$2:X$23,VLOOKUP(F244,ages!B$1:C$23,2,1),1)),\"\")","v":""},{"$f":"IF(ISNUMBER(F244),IF(AS244<0.85,\"\",VLOOKUP(T244,H!A$2:X$23,VLOOKUP(F244,ages!B$1:C$23,2,1),1)),\"\")","v":""},{"$f":"IF(ISNUMBER(F244),IF(AT244<0.85,\"\",VLOOKUP(U244,I!A$2:X$23,VLOOKUP(F244,ages!B$1:C$23,2,1),1)),\"\")","v":""},{"$f":"IF(ISNUMBER(F244),IF(AU244<0.85,\"\",VLOOKUP(V244,J!A$2:X$23,VLOOKUP(F244,ages!B$1:C$23,2,1),1)),\"\")","v":""},"","","","",-1.0000000000000002E-6,0,0,0,0,0,0,0,0,0,0,0,null,null,null,null,null,null,null,null,null,null,null,null,null,null,null,null,null,null,null,null,null,null,null,null,null,null,null,null,null,null,null,null,null,null,null,null,null,null,null,null,null,null,null,null,null,null,null,null,null,null,null,null,null,null,null,null,null,null,null,null,null,null,null,null,null,null,null,null,null,null,-9.9999999999999995E-7,-9.9999999999999995E-7,-9.9999999999999995E-7,-9.9999999999999995E-7,-9.9999999999999995E-7,-9.9999999999999995E-7,-9.9999999999999995E-7,-9.9999999999999995E-7,-9.9999999999999995E-7,-9.9999999999999995E-7,-9.9999999999999995E-7,-9.9999999999999995E-7,-9.9999999999999995E-7,-9.9999999999999995E-7,-9.9999999999999995E-7,-9.9999999999999995E-7,-9.9999999999999995E-7,-9.9999999999999995E-7,-9.9999999999999995E-7,-9.9999999999999995E-7,{"$f":"IF(ISERROR(VLOOKUP(F244,ages!B$1:B$23,1,1)),\"\",VLOOKUP(F244,ages!B$1:B$23,1,1))","v":""},{"$f":"IF(ISERROR(VLOOKUP(F244,ages!B$1:D$23,3,1)),\"\",VLOOKUP(F244,ages!B$1:D$23,3,1))","v":""},0,0,0,0,0]
[null,null,null,null,null,"",null,null,null,null,null,null,"","","","","","","","","","",{"$f":"IF(ISNUMBER(F245),IF(AL245<0.85,\"\",VLOOKUP(M245,A!A$2:X$23,VLOOKUP(F245,ages!B$1:C$23,2,1),1)),\"\")","v":""},{"$f":"IF(ISNUMBER(F245),IF(AM245<0.85,\"\",VLOOKUP(N245,B!A$2:X$23,VLOOKUP(F245,ages!B$1:C$23,2,1),1)),\"\")","v":""},{"$f":"IF(ISNUMBER(F245),IF(AN245<0.85,\"\",VLOOKUP(O245,'C'!A$2:X$23,VLOOKUP(F245,ages!B$1:C$23,2,1),1)),\"\")","v":""},{"$f":"IF(ISNUMBER(F245),IF(AO245<0.85,\"\",VLOOKUP(P245,D!A$2:X$23,VLOOKUP(F245,ages!B$1:C$23,2,1),1)),\"\")","v":""},{"$f":"IF(ISNUMBER(F245),IF(AP245<0.85,\"\",VLOOKUP(Q245,E!A$2:X$23,VLOOKUP(F245,ages!B$1:C$23,2,1),1)),\"\")","v":""},{"$f":"IF(ISNUMBER(F245),IF(AQ245<0.85,\"\",VLOOKUP(R245,F!A$2:X$23,VLOOKUP(F245,ages!B$1:C$23,2,1),1)),\"\")","v":""},{"$f":"IF(ISNUMBER(F245),IF(AR245<0.85,\"\",VLOOKUP(S245,G!A$2:X$23,VLOOKUP(F245,ages!B$1:C$23,2,1),1)),\"\")","v":""},{"$f":"IF(ISNUMBER(F245),IF(AS245<0.85,\"\",VLOOKUP(T245,H!A$2:X$23,VLOOKUP(F245,ages!B$1:C$23,2,1),1)),\"\")","v":""},{"$f":"IF(ISNUMBER(F245),IF(AT245<0.85,\"\",VLOOKUP(U245,I!A$2:X$23,VLOOKUP(F245,ages!B$1:C$23,2,1),1)),\"\")","v":""},{"$f":"IF(ISNUMBER(F245),IF(AU245<0.85,\"\",VLOOKUP(V245,J!A$2:X$23,VLOOKUP(F245,ages!B$1:C$23,2,1),1)),\"\")","v":""},"","","","",-1.0000000000000002E-6,0,0,0,0,0,0,0,0,0,0,0,null,null,null,null,null,null,null,null,null,null,null,null,null,null,null,null,null,null,null,null,null,null,null,null,null,null,null,null,null,null,null,null,null,null,null,null,null,null,null,null,null,null,null,null,null,null,null,null,null,null,null,null,null,null,null,null,null,null,null,null,null,null,null,null,null,null,null,null,null,null,-9.9999999999999995E-7,-9.9999999999999995E-7,-9.9999999999999995E-7,-9.9999999999999995E-7,-9.9999999999999995E-7,-9.9999999999999995E-7,-9.9999999999999995E-7,-9.9999999999999995E-7,-9.9999999999999995E-7,-9.9999999999999995E-7,-9.9999999999999995E-7,-9.9999999999999995E-7,-9.9999999999999995E-7,-9.9999999999999995E-7,-9.9999999999999995E-7,-9.9999999999999995E-7,-9.9999999999999995E-7,-9.9999999999999995E-7,-9.9999999999999995E-7,-9.9999999999999995E-7,{"$f":"IF(ISERROR(VLOOKUP(F245,ages!B$1:B$23,1,1)),\"\",VLOOKUP(F245,ages!B$1:B$23,1,1))","v":""},{"$f":"IF(ISERROR(VLOOKUP(F245,ages!B$1:D$23,3,1)),\"\",VLOOKUP(F245,ages!B$1:D$23,3,1))","v":""},0,0,0,0,0]
[null,null,null,null,null,"",null,null,null,null,null,null,"","","","","","","","","","",{"$f":"IF(ISNUMBER(F246),IF(AL246<0.85,\"\",VLOOKUP(M246,A!A$2:X$23,VLOOKUP(F246,ages!B$1:C$23,2,1),1)),\"\")","v":""},{"$f":"IF(ISNUMBER(F246),IF(AM246<0.85,\"\",VLOOKUP(N246,B!A$2:X$23,VLOOKUP(F246,ages!B$1:C$23,2,1),1)),\"\")","v":""},{"$f":"IF(ISNUMBER(F246),IF(AN246<0.85,\"\",VLOOKUP(O246,'C'!A$2:X$23,VLOOKUP(F246,ages!B$1:C$23,2,1),1)),\"\")","v":""},{"$f":"IF(ISNUMBER(F246),IF(AO246<0.85,\"\",VLOOKUP(P246,D!A$2:X$23,VLOOKUP(F246,ages!B$1:C$23,2,1),1)),\"\")","v":""},{"$f":"IF(ISNUMBER(F246),IF(AP246<0.85,\"\",VLOOKUP(Q246,E!A$2:X$23,VLOOKUP(F246,ages!B$1:C$23,2,1),1)),\"\")","v":""},{"$f":"IF(ISNUMBER(F246),IF(AQ246<0.85,\"\",VLOOKUP(R246,F!A$2:X$23,VLOOKUP(F246,ages!B$1:C$23,2,1),1)),\"\")","v":""},{"$f":"IF(ISNUMBER(F246),IF(AR246<0.85,\"\",VLOOKUP(S246,G!A$2:X$23,VLOOKUP(F246,ages!B$1:C$23,2,1),1)),\"\")","v":""},{"$f":"IF(ISNUMBER(F246),IF(AS246<0.85,\"\",VLOOKUP(T246,H!A$2:X$23,VLOOKUP(F246,ages!B$1:C$23,2,1),1)),\"\")","v":""},{"$f":"IF(ISNUMBER(F246),IF(AT246<0.85,\"\",VLOOKUP(U246,I!A$2:X$23,VLOOKUP(F246,ages!B$1:C$23,2,1),1)),\"\")","v":""},{"$f":"IF(ISNUMBER(F246),IF(AU246<0.85,\"\",VLOOKUP(V246,J!A$2:X$23,VLOOKUP(F246,ages!B$1:C$23,2,1),1)),\"\")","v":""},"","","","",-1.0000000000000002E-6,0,0,0,0,0,0,0,0,0,0,0,null,null,null,null,null,null,null,null,null,null,null,null,null,null,null,null,null,null,null,null,null,null,null,null,null,null,null,null,null,null,null,null,null,null,null,null,null,null,null,null,null,null,null,null,null,null,null,null,null,null,null,null,null,null,null,null,null,null,null,null,null,null,null,null,null,null,null,null,null,null,-9.9999999999999995E-7,-9.9999999999999995E-7,-9.9999999999999995E-7,-9.9999999999999995E-7,-9.9999999999999995E-7,-9.9999999999999995E-7,-9.9999999999999995E-7,-9.9999999999999995E-7,-9.9999999999999995E-7,-9.9999999999999995E-7,-9.9999999999999995E-7,-9.9999999999999995E-7,-9.9999999999999995E-7,-9.9999999999999995E-7,-9.9999999999999995E-7,-9.9999999999999995E-7,-9.9999999999999995E-7,-9.9999999999999995E-7,-9.9999999999999995E-7,-9.9999999999999995E-7,{"$f":"IF(ISERROR(VLOOKUP(F246,ages!B$1:B$23,1,1)),\"\",VLOOKUP(F246,ages!B$1:B$23,1,1))","v":""},{"$f":"IF(ISERROR(VLOOKUP(F246,ages!B$1:D$23,3,1)),\"\",VLOOKUP(F246,ages!B$1:D$23,3,1))","v":""},0,0,0,0,0]
[null,null,null,null,null,"",null,null,null,null,null,null,"","","","","","","","","","",{"$f":"IF(ISNUMBER(F247),IF(AL247<0.85,\"\",VLOOKUP(M247,A!A$2:X$23,VLOOKUP(F247,ages!B$1:C$23,2,1),1)),\"\")","v":""},{"$f":"IF(ISNUMBER(F247),IF(AM247<0.85,\"\",VLOOKUP(N247,B!A$2:X$23,VLOOKUP(F247,ages!B$1:C$23,2,1),1)),\"\")","v":""},{"$f":"IF(ISNUMBER(F247),IF(AN247<0.85,\"\",VLOOKUP(O247,'C'!A$2:X$23,VLOOKUP(F247,ages!B$1:C$23,2,1),1)),\"\")","v":""},{"$f":"IF(ISNUMBER(F247),IF(AO247<0.85,\"\",VLOOKUP(P247,D!A$2:X$23,VLOOKUP(F247,ages!B$1:C$23,2,1),1)),\"\")","v":""},{"$f":"IF(ISNUMBER(F247),IF(AP247<0.85,\"\",VLOOKUP(Q247,E!A$2:X$23,VLOOKUP(F247,ages!B$1:C$23,2,1),1)),\"\")","v":""},{"$f":"IF(ISNUMBER(F247),IF(AQ247<0.85,\"\",VLOOKUP(R247,F!A$2:X$23,VLOOKUP(F247,ages!B$1:C$23,2,1),1)),\"\")","v":""},{"$f":"IF(ISNUMBER(F247),IF(AR247<0.85,\"\",VLOOKUP(S247,G!A$2:X$23,VLOOKUP(F247,ages!B$1:C$23,2,1),1)),\"\")","v":""},{"$f":"IF(ISNUMBER(F247),IF(AS247<0.85,\"\",VLOOKUP(T247,H!A$2:X$23,VLOOKUP(F247,ages!B$1:C$23,2,1),1)),\"\")","v":""},{"$f":"IF(ISNUMBER(F247),IF(AT247<0.85,\"\",VLOOKUP(U247,I!A$2:X$23,VLOOKUP(F247,ages!B$1:C$23,2,1),1)),\"\")","v":""},{"$f":"IF(ISNUMBER(F247),IF(AU247<0.85,\"\",VLOOKUP(V247,J!A$2:X$23,VLOOKUP(F247,ages!B$1:C$23,2,1),1)),\"\")","v":""},"","","","",-1.0000000000000002E-6,0,0,0,0,0,0,0,0,0,0,0,null,null,null,null,null,null,null,null,null,null,null,null,null,null,null,null,null,null,null,null,null,null,null,null,null,null,null,null,null,null,null,null,null,null,null,null,null,null,null,null,null,null,null,null,null,null,null,null,null,null,null,null,null,null,null,null,null,null,null,null,null,null,null,null,null,null,null,null,null,null,-9.9999999999999995E-7,-9.9999999999999995E-7,-9.9999999999999995E-7,-9.9999999999999995E-7,-9.9999999999999995E-7,-9.9999999999999995E-7,-9.9999999999999995E-7,-9.9999999999999995E-7,-9.9999999999999995E-7,-9.9999999999999995E-7,-9.9999999999999995E-7,-9.9999999999999995E-7,-9.9999999999999995E-7,-9.9999999999999995E-7,-9.9999999999999995E-7,-9.9999999999999995E-7,-9.9999999999999995E-7,-9.9999999999999995E-7,-9.9999999999999995E-7,-9.9999999999999995E-7,{"$f":"IF(ISERROR(VLOOKUP(F247,ages!B$1:B$23,1,1)),\"\",VLOOKUP(F247,ages!B$1:B$23,1,1))","v":""},{"$f":"IF(ISERROR(VLOOKUP(F247,ages!B$1:D$23,3,1)),\"\",VLOOKUP(F247,ages!B$1:D$23,3,1))","v":""},0,0,0,0,0]
[null,null,null,null,null,"",null,null,null,null,null,null,"","","","","","","","","","",{"$f":"IF(ISNUMBER(F248),IF(AL248<0.85,\"\",VLOOKUP(M248,A!A$2:X$23,VLOOKUP(F248,ages!B$1:C$23,2,1),1)),\"\")","v":""},{"$f":"IF(ISNUMBER(F248),IF(AM248<0.85,\"\",VLOOKUP(N248,B!A$2:X$23,VLOOKUP(F248,ages!B$1:C$23,2,1),1)),\"\")","v":""},{"$f":"IF(ISNUMBER(F248),IF(AN248<0.85,\"\",VLOOKUP(O248,'C'!A$2:X$23,VLOOKUP(F248,ages!B$1:C$23,2,1),1)),\"\")","v":""},{"$f":"IF(ISNUMBER(F248),IF(AO248<0.85,\"\",VLOOKUP(P248,D!A$2:X$23,VLOOKUP(F248,ages!B$1:C$23,2,1),1)),\"\")","v":""},{"$f":"IF(ISNUMBER(F248),IF(AP248<0.85,\"\",VLOOKUP(Q248,E!A$2:X$23,VLOOKUP(F248,ages!B$1:C$23,2,1),1)),\"\")","v":""},{"$f":"IF(ISNUMBER(F248),IF(AQ248<0.85,\"\",VLOOKUP(R248,F!A$2:X$23,VLOOKUP(F248,ages!B$1:C$23,2,1),1)),\"\")","v":""},{"$f":"IF(ISNUMBER(F248),IF(AR248<0.85,\"\",VLOOKUP(S248,G!A$2:X$23,VLOOKUP(F248,ages!B$1:C$23,2,1),1)),\"\")","v":""},{"$f":"IF(ISNUMBER(F248),IF(AS248<0.85,\"\",VLOOKUP(T248,H!A$2:X$23,VLOOKUP(F248,ages!B$1:C$23,2,1),1)),\"\")","v":""},{"$f":"IF(ISNUMBER(F248),IF(AT248<0.85,\"\",VLOOKUP(U248,I!A$2:X$23,VLOOKUP(F248,ages!B$1:C$23,2,1),1)),\"\")","v":""},{"$f":"IF(ISNUMBER(F248),IF(AU248<0.85,\"\",VLOOKUP(V248,J!A$2:X$23,VLOOKUP(F248,ages!B$1:C$23,2,1),1)),\"\")","v":""},"","","","",-1.0000000000000002E-6,0,0,0,0,0,0,0,0,0,0,0,null,null,null,null,null,null,null,null,null,null,null,null,null,null,null,null,null,null,null,null,null,null,null,null,null,null,null,null,null,null,null,null,null,null,null,null,null,null,null,null,null,null,null,null,null,null,null,null,null,null,null,null,null,null,null,null,null,null,null,null,null,null,null,null,null,null,null,null,null,null,-9.9999999999999995E-7,-9.9999999999999995E-7,-9.9999999999999995E-7,-9.9999999999999995E-7,-9.9999999999999995E-7,-9.9999999999999995E-7,-9.9999999999999995E-7,-9.9999999999999995E-7,-9.9999999999999995E-7,-9.9999999999999995E-7,-9.9999999999999995E-7,-9.9999999999999995E-7,-9.9999999999999995E-7,-9.9999999999999995E-7,-9.9999999999999995E-7,-9.9999999999999995E-7,-9.9999999999999995E-7,-9.9999999999999995E-7,-9.9999999999999995E-7,-9.9999999999999995E-7,{"$f":"IF(ISERROR(VLOOKUP(F248,ages!B$1:B$23,1,1)),\"\",VLOOKUP(F248,ages!B$1:B$23,1,1))","v":""},{"$f":"IF(ISERROR(VLOOKUP(F248,ages!B$1:D$23,3,1)),\"\",VLOOKUP(F248,ages!B$1:D$23,3,1))","v":""},0,0,0,0,0]
[null,null,null,null,null,"",null,null,null,null,null,null,"","","","","","","","","","",{"$f":"IF(ISNUMBER(F249),IF(AL249<0.85,\"\",VLOOKUP(M249,A!A$2:X$23,VLOOKUP(F249,ages!B$1:C$23,2,1),1)),\"\")","v":""},{"$f":"IF(ISNUMBER(F249),IF(AM249<0.85,\"\",VLOOKUP(N249,B!A$2:X$23,VLOOKUP(F249,ages!B$1:C$23,2,1),1)),\"\")","v":""},{"$f":"IF(ISNUMBER(F249),IF(AN249<0.85,\"\",VLOOKUP(O249,'C'!A$2:X$23,VLOOKUP(F249,ages!B$1:C$23,2,1),1)),\"\")","v":""},{"$f":"IF(ISNUMBER(F249),IF(AO249<0.85,\"\",VLOOKUP(P249,D!A$2:X$23,VLOOKUP(F249,ages!B$1:C$23,2,1),1)),\"\")","v":""},{"$f":"IF(ISNUMBER(F249),IF(AP249<0.85,\"\",VLOOKUP(Q249,E!A$2:X$23,VLOOKUP(F249,ages!B$1:C$23,2,1),1)),\"\")","v":""},{"$f":"IF(ISNUMBER(F249),IF(AQ249<0.85,\"\",VLOOKUP(R249,F!A$2:X$23,VLOOKUP(F249,ages!B$1:C$23,2,1),1)),\"\")","v":""},{"$f":"IF(ISNUMBER(F249),IF(AR249<0.85,\"\",VLOOKUP(S249,G!A$2:X$23,VLOOKUP(F249,ages!B$1:C$23,2,1),1)),\"\")","v":""},{"$f":"IF(ISNUMBER(F249),IF(AS249<0.85,\"\",VLOOKUP(T249,H!A$2:X$23,VLOOKUP(F249,ages!B$1:C$23,2,1),1)),\"\")","v":""},{"$f":"IF(ISNUMBER(F249),IF(AT249<0.85,\"\",VLOOKUP(U249,I!A$2:X$23,VLOOKUP(F249,ages!B$1:C$23,2,1),1)),\"\")","v":""},{"$f":"IF(ISNUMBER(F249),IF(AU249<0.85,\"\",VLOOKUP(V249,J!A$2:X$23,VLOOKUP(F249,ages!B$1:C$23,2,1),1)),\"\")","v":""},"","","","",-1.0000000000000002E-6,0,0,0,0,0,0,0,0,0,0,0,null,null,null,null,null,null,null,null,null,null,null,null,null,null,null,null,null,null,null,null,null,null,null,null,null,null,null,null,null,null,null,null,null,null,null,null,null,null,null,null,null,null,null,null,null,null,null,null,null,null,null,null,null,null,null,null,null,null,null,null,null,null,null,null,null,null,null,null,null,null,-9.9999999999999995E-7,-9.9999999999999995E-7,-9.9999999999999995E-7,-9.9999999999999995E-7,-9.9999999999999995E-7,-9.9999999999999995E-7,-9.9999999999999995E-7,-9.9999999999999995E-7,-9.9999999999999995E-7,-9.9999999999999995E-7,-9.9999999999999995E-7,-9.9999999999999995E-7,-9.9999999999999995E-7,-9.9999999999999995E-7,-9.9999999999999995E-7,-9.9999999999999995E-7,-9.9999999999999995E-7,-9.9999999999999995E-7,-9.9999999999999995E-7,-9.9999999999999995E-7,{"$f":"IF(ISERROR(VLOOKUP(F249,ages!B$1:B$23,1,1)),\"\",VLOOKUP(F249,ages!B$1:B$23,1,1))","v":""},{"$f":"IF(ISERROR(VLOOKUP(F249,ages!B$1:D$23,3,1)),\"\",VLOOKUP(F249,ages!B$1:D$23,3,1))","v":""},0,0,0,0,0]
[null,null,null,null,null,"",null,null,null,null,null,null,"","","","","","","","","","",{"$f":"IF(ISNUMBER(F250),IF(AL250<0.85,\"\",VLOOKUP(M250,A!A$2:X$23,VLOOKUP(F250,ages!B$1:C$23,2,1),1)),\"\")","v":""},{"$f":"IF(ISNUMBER(F250),IF(AM250<0.85,\"\",VLOOKUP(N250,B!A$2:X$23,VLOOKUP(F250,ages!B$1:C$23,2,1),1)),\"\")","v":""},{"$f":"IF(ISNUMBER(F250),IF(AN250<0.85,\"\",VLOOKUP(O250,'C'!A$2:X$23,VLOOKUP(F250,ages!B$1:C$23,2,1),1)),\"\")","v":""},{"$f":"IF(ISNUMBER(F250),IF(AO250<0.85,\"\",VLOOKUP(P250,D!A$2:X$23,VLOOKUP(F250,ages!B$1:C$23,2,1),1)),\"\")","v":""},{"$f":"IF(ISNUMBER(F250),IF(AP250<0.85,\"\",VLOOKUP(Q250,E!A$2:X$23,VLOOKUP(F250,ages!B$1:C$23,2,1),1)),\"\")","v":""},{"$f":"IF(ISNUMBER(F250),IF(AQ250<0.85,\"\",VLOOKUP(R250,F!A$2:X$23,VLOOKUP(F250,ages!B$1:C$23,2,1),1)),\"\")","v":""},{"$f":"IF(ISNUMBER(F250),IF(AR250<0.85,\"\",VLOOKUP(S250,G!A$2:X$23,VLOOKUP(F250,ages!B$1:C$23,2,1),1)),\"\")","v":""},{"$f":"IF(ISNUMBER(F250),IF(AS250<0.85,\"\",VLOOKUP(T250,H!A$2:X$23,VLOOKUP(F250,ages!B$1:C$23,2,1),1)),\"\")","v":""},{"$f":"IF(ISNUMBER(F250),IF(AT250<0.85,\"\",VLOOKUP(U250,I!A$2:X$23,VLOOKUP(F250,ages!B$1:C$23,2,1),1)),\"\")","v":""},{"$f":"IF(ISNUMBER(F250),IF(AU250<0.85,\"\",VLOOKUP(V250,J!A$2:X$23,VLOOKUP(F250,ages!B$1:C$23,2,1),1)),\"\")","v":""},"","","","",-1.0000000000000002E-6,0,0,0,0,0,0,0,0,0,0,0,null,null,null,null,null,null,null,null,null,null,null,null,null,null,null,null,null,null,null,null,null,null,null,null,null,null,null,null,null,null,null,null,null,null,null,null,null,null,null,null,null,null,null,null,null,null,null,null,null,null,null,null,null,null,null,null,null,null,null,null,null,null,null,null,null,null,null,null,null,null,-9.9999999999999995E-7,-9.9999999999999995E-7,-9.9999999999999995E-7,-9.9999999999999995E-7,-9.9999999999999995E-7,-9.9999999999999995E-7,-9.9999999999999995E-7,-9.9999999999999995E-7,-9.9999999999999995E-7,-9.9999999999999995E-7,-9.9999999999999995E-7,-9.9999999999999995E-7,-9.9999999999999995E-7,-9.9999999999999995E-7,-9.9999999999999995E-7,-9.9999999999999995E-7,-9.9999999999999995E-7,-9.9999999999999995E-7,-9.9999999999999995E-7,-9.9999999999999995E-7,{"$f":"IF(ISERROR(VLOOKUP(F250,ages!B$1:B$23,1,1)),\"\",VLOOKUP(F250,ages!B$1:B$23,1,1))","v":""},{"$f":"IF(ISERROR(VLOOKUP(F250,ages!B$1:D$23,3,1)),\"\",VLOOKUP(F250,ages!B$1:D$23,3,1))","v":""},0,0,0,0,0]
[null,null,null,null,null,"",null,null,null,null,null,null,"","","","","","","","","","",{"$f":"IF(ISNUMBER(F252),IF(AL252<0.85,\"\",VLOOKUP(M252,A!A$2:X$23,VLOOKUP(F252,ages!B$1:C$23,2,1),1)),\"\")","v":""},{"$f":"IF(ISNUMBER(F252),IF(AM252<0.85,\"\",VLOOKUP(N252,B!A$2:X$23,VLOOKUP(F252,ages!B$1:C$23,2,1),1)),\"\")","v":""},{"$f":"IF(ISNUMBER(F252),IF(AN252<0.85,\"\",VLOOKUP(O252,'C'!A$2:X$23,VLOOKUP(F252,ages!B$1:C$23,2,1),1)),\"\")","v":""},{"$f":"IF(ISNUMBER(F252),IF(AO252<0.85,\"\",VLOOKUP(P252,D!A$2:X$23,VLOOKUP(F252,ages!B$1:C$23,2,1),1)),\"\")","v":""},{"$f":"IF(ISNUMBER(F252),IF(AP252<0.85,\"\",VLOOKUP(Q252,E!A$2:X$23,VLOOKUP(F252,ages!B$1:C$23,2,1),1)),\"\")","v":""},{"$f":"IF(ISNUMBER(F252),IF(AQ252<0.85,\"\",VLOOKUP(R252,F!A$2:X$23,VLOOKUP(F252,ages!B$1:C$23,2,1),1)),\"\")","v":""},{"$f":"IF(ISNUMBER(F252),IF(AR252<0.85,\"\",VLOOKUP(S252,G!A$2:X$23,VLOOKUP(F252,ages!B$1:C$23,2,1),1)),\"\")","v":""},{"$f":"IF(ISNUMBER(F252),IF(AS252<0.85,\"\",VLOOKUP(T252,H!A$2:X$23,VLOOKUP(F252,ages!B$1:C$23,2,1),1)),\"\")","v":""},{"$f":"IF(ISNUMBER(F252),IF(AT252<0.85,\"\",VLOOKUP(U252,I!A$2:X$23,VLOOKUP(F252,ages!B$1:C$23,2,1),1)),\"\")","v":""},{"$f":"IF(ISNUMBER(F252),IF(AU252<0.85,\"\",VLOOKUP(V252,J!A$2:X$23,VLOOKUP(F252,ages!B$1:C$23,2,1),1)),\"\")","v":""},"","","","",-1.0000000000000002E-6,0,0,0,0,0,0,0,0,0,0,0,null,null,null,null,null,null,null,null,null,null,null,null,null,null,null,null,null,null,null,null,null,null,null,null,null,null,null,null,null,null,null,null,null,null,null,null,null,null,null,null,null,null,null,null,null,null,null,null,null,null,null,null,null,null,null,null,null,null,null,null,null,null,null,null,null,null,null,null,null,null,-9.9999999999999995E-7,-9.9999999999999995E-7,-9.9999999999999995E-7,-9.9999999999999995E-7,-9.9999999999999995E-7,-9.9999999999999995E-7,-9.9999999999999995E-7,-9.9999999999999995E-7,-9.9999999999999995E-7,-9.9999999999999995E-7,-9.9999999999999995E-7,-9.9999999999999995E-7,-9.9999999999999995E-7,-9.9999999999999995E-7,-9.9999999999999995E-7,-9.9999999999999995E-7,-9.9999999999999995E-7,-9.9999999999999995E-7,-9.9999999999999995E-7,-9.9999999999999995E-7,{"$f":"IF(ISERROR(VLOOKUP(F252,ages!B$1:B$23,1,1)),\"\",VLOOKUP(F252,ages!B$1:B$23,1,1))","v":""},{"$f":"IF(ISERROR(VLOOKUP(F252,ages!B$1:D$23,3,1)),\"\",VLOOKUP(F252,ages!B$1:D$23,3,1))","v":""},0,0,0,0,0]
[null,null,null,null,null,"",null,null,null,null,null,null,"","","","","","","","","","",{"$f":"IF(ISNUMBER(F256),IF(AL256<0.85,\"\",VLOOKUP(M256,A!A$2:X$23,VLOOKUP(F256,ages!B$1:C$23,2,1),1)),\"\")","v":""},{"$f":"IF(ISNUMBER(F256),IF(AM256<0.85,\"\",VLOOKUP(N256,B!A$2:X$23,VLOOKUP(F256,ages!B$1:C$23,2,1),1)),\"\")","v":""},{"$f":"IF(ISNUMBER(F256),IF(AN256<0.85,\"\",VLOOKUP(O256,'C'!A$2:X$23,VLOOKUP(F256,ages!B$1:C$23,2,1),1)),\"\")","v":""},{"$f":"IF(ISNUMBER(F256),IF(AO256<0.85,\"\",VLOOKUP(P256,D!A$2:X$23,VLOOKUP(F256,ages!B$1:C$23,2,1),1)),\"\")","v":""},{"$f":"IF(ISNUMBER(F256),IF(AP256<0.85,\"\",VLOOKUP(Q256,E!A$2:X$23,VLOOKUP(F256,ages!B$1:C$23,2,1),1)),\"\")","v":""},{"$f":"IF(ISNUMBER(F256),IF(AQ256<0.85,\"\",VLOOKUP(R256,F!A$2:X$23,VLOOKUP(F256,ages!B$1:C$23,2,1),1)),\"\")","v":""},{"$f":"IF(ISNUMBER(F256),IF(AR256<0.85,\"\",VLOOKUP(S256,G!A$2:X$23,VLOOKUP(F256,ages!B$1:C$23,2,1),1)),\"\")","v":""},{"$f":"IF(ISNUMBER(F256),IF(AS256<0.85,\"\",VLOOKUP(T256,H!A$2:X$23,VLOOKUP(F256,ages!B$1:C$23,2,1),1)),\"\")","v":""},{"$f":"IF(ISNUMBER(F256),IF(AT256<0.85,\"\",VLOOKUP(U256,I!A$2:X$23,VLOOKUP(F256,ages!B$1:C$23,2,1),1)),\"\")","v":""},{"$f":"IF(ISNUMBER(F256),IF(AU256<0.85,\"\",VLOOKUP(V256,J!A$2:X$23,VLOOKUP(F256,ages!B$1:C$23,2,1),1)),\"\")","v":""},"","","","",-1.0000000000000002E-6,0,0,0,0,0,0,0,0,0,0,0,null,null,null,null,null,null,null,null,null,null,null,null,null,null,null,null,null,null,null,null,null,null,null,null,null,null,null,null,null,null,null,null,null,null,null,null,null,null,null,null,null,null,null,null,null,null,null,null,null,null,null,null,null,null,null,null,null,null,null,null,null,null,null,null,null,null,null,null,null,null,-9.9999999999999995E-7,-9.9999999999999995E-7,-9.9999999999999995E-7,-9.9999999999999995E-7,-9.9999999999999995E-7,-9.9999999999999995E-7,-9.9999999999999995E-7,-9.9999999999999995E-7,-9.9999999999999995E-7,-9.9999999999999995E-7,-9.9999999999999995E-7,-9.9999999999999995E-7,-9.9999999999999995E-7,-9.9999999999999995E-7,-9.9999999999999995E-7,-9.9999999999999995E-7,-9.9999999999999995E-7,-9.9999999999999995E-7,-9.9999999999999995E-7,-9.9999999999999995E-7,{"$f":"IF(ISERROR(VLOOKUP(F256,ages!B$1:B$23,1,1)),\"\",VLOOKUP(F256,ages!B$1:B$23,1,1))","v":""},{"$f":"IF(ISERROR(VLOOKUP(F256,ages!B$1:D$23,3,1)),\"\",VLOOKUP(F256,ages!B$1:D$23,3,1))","v":""},0,0,0,0,0]
[null,null,null,null,null,"",null,null,null,null,null,null,"","","","","","","","","","",{"$f":"IF(ISNUMBER(F261),IF(AL261<0.85,\"\",VLOOKUP(M261,A!A$2:X$23,VLOOKUP(F261,ages!B$1:C$23,2,1),1)),\"\")","v":""},{"$f":"IF(ISNUMBER(F261),IF(AM261<0.85,\"\",VLOOKUP(N261,B!A$2:X$23,VLOOKUP(F261,ages!B$1:C$23,2,1),1)),\"\")","v":""},{"$f":"IF(ISNUMBER(F261),IF(AN261<0.85,\"\",VLOOKUP(O261,'C'!A$2:X$23,VLOOKUP(F261,ages!B$1:C$23,2,1),1)),\"\")","v":""},{"$f":"IF(ISNUMBER(F261),IF(AO261<0.85,\"\",VLOOKUP(P261,D!A$2:X$23,VLOOKUP(F261,ages!B$1:C$23,2,1),1)),\"\")","v":""},{"$f":"IF(ISNUMBER(F261),IF(AP261<0.85,\"\",VLOOKUP(Q261,E!A$2:X$23,VLOOKUP(F261,ages!B$1:C$23,2,1),1)),\"\")","v":""},{"$f":"IF(ISNUMBER(F261),IF(AQ261<0.85,\"\",VLOOKUP(R261,F!A$2:X$23,VLOOKUP(F261,ages!B$1:C$23,2,1),1)),\"\")","v":""},{"$f":"IF(ISNUMBER(F261),IF(AR261<0.85,\"\",VLOOKUP(S261,G!A$2:X$23,VLOOKUP(F261,ages!B$1:C$23,2,1),1)),\"\")","v":""},{"$f":"IF(ISNUMBER(F261),IF(AS261<0.85,\"\",VLOOKUP(T261,H!A$2:X$23,VLOOKUP(F261,ages!B$1:C$23,2,1),1)),\"\")","v":""},{"$f":"IF(ISNUMBER(F261),IF(AT261<0.85,\"\",VLOOKUP(U261,I!A$2:X$23,VLOOKUP(F261,ages!B$1:C$23,2,1),1)),\"\")","v":""},{"$f":"IF(ISNUMBER(F261),IF(AU261<0.85,\"\",VLOOKUP(V261,J!A$2:X$23,VLOOKUP(F261,ages!B$1:C$23,2,1),1)),\"\")","v":""},"","","","",-1.0000000000000002E-6,0,0,0,0,0,0,0,0,0,0,0,null,null,null,null,null,null,null,null,null,null,null,null,null,null,null,null,null,null,null,null,null,null,null,null,null,null,null,null,null,null,null,null,null,null,null,null,null,null,null,null,null,null,null,null,null,null,null,null,null,null,null,null,null,null,null,null,null,null,null,null,null,null,null,null,null,null,null,null,null,null,-9.9999999999999995E-7,-9.9999999999999995E-7,-9.9999999999999995E-7,-9.9999999999999995E-7,-9.9999999999999995E-7,-9.9999999999999995E-7,-9.9999999999999995E-7,-9.9999999999999995E-7,-9.9999999999999995E-7,-9.9999999999999995E-7,-9.9999999999999995E-7,-9.9999999999999995E-7,-9.9999999999999995E-7,-9.9999999999999995E-7,-9.9999999999999995E-7,-9.9999999999999995E-7,-9.9999999999999995E-7,-9.9999999999999995E-7,-9.9999999999999995E-7,-9.9999999999999995E-7,{"$f":"IF(ISERROR(VLOOKUP(F261,ages!B$1:B$23,1,1)),\"\",VLOOKUP(F261,ages!B$1:B$23,1,1))","v":""},{"$f":"IF(ISERROR(VLOOKUP(F261,ages!B$1:D$23,3,1)),\"\",VLOOKUP(F261,ages!B$1:D$23,3,1))","v":""},0,0,0,0,0]
[null,null,null,null,null,"",null,null,null,null,null,null,"","","","","","","","","","",{"$f":"IF(ISNUMBER(F267),IF(AL267<0.85,\"\",VLOOKUP(M267,A!A$2:X$23,VLOOKUP(F267,ages!B$1:C$23,2,1),1)),\"\")","v":""},{"$f":"IF(ISNUMBER(F267),IF(AM267<0.85,\"\",VLOOKUP(N267,B!A$2:X$23,VLOOKUP(F267,ages!B$1:C$23,2,1),1)),\"\")","v":""},{"$f":"IF(ISNUMBER(F267),IF(AN267<0.85,\"\",VLOOKUP(O267,'C'!A$2:X$23,VLOOKUP(F267,ages!B$1:C$23,2,1),1)),\"\")","v":""},{"$f":"IF(ISNUMBER(F267),IF(AO267<0.85,\"\",VLOOKUP(P267,D!A$2:X$23,VLOOKUP(F267,ages!B$1:C$23,2,1),1)),\"\")","v":""},{"$f":"IF(ISNUMBER(F267),IF(AP267<0.85,\"\",VLOOKUP(Q267,E!A$2:X$23,VLOOKUP(F267,ages!B$1:C$23,2,1),1)),\"\")","v":""},{"$f":"IF(ISNUMBER(F267),IF(AQ267<0.85,\"\",VLOOKUP(R267,F!A$2:X$23,VLOOKUP(F267,ages!B$1:C$23,2,1),1)),\"\")","v":""},{"$f":"IF(ISNUMBER(F267),IF(AR267<0.85,\"\",VLOOKUP(S267,G!A$2:X$23,VLOOKUP(F267,ages!B$1:C$23,2,1),1)),\"\")","v":""},{"$f":"IF(ISNUMBER(F267),IF(AS267<0.85,\"\",VLOOKUP(T267,H!A$2:X$23,VLOOKUP(F267,ages!B$1:C$23,2,1),1)),\"\")","v":""},{"$f":"IF(ISNUMBER(F267),IF(AT267<0.85,\"\",VLOOKUP(U267,I!A$2:X$23,VLOOKUP(F267,ages!B$1:C$23,2,1),1)),\"\")","v":""},{"$f":"IF(ISNUMBER(F267),IF(AU267<0.85,\"\",VLOOKUP(V267,J!A$2:X$23,VLOOKUP(F267,ages!B$1:C$23,2,1),1)),\"\")","v":""},"","","","",-1.0000000000000002E-6,0,0,0,0,0,0,0,0,0,0,0,null,null,null,null,null,null,null,null,null,null,null,null,null,null,null,null,null,null,null,null,null,null,null,null,null,null,null,null,null,null,null,null,null,null,null,null,null,null,null,null,null,null,null,null,null,null,null,null,null,null,null,null,null,null,null,null,null,null,null,null,null,null,null,null,null,null,null,null,null,null,-9.9999999999999995E-7,-9.9999999999999995E-7,-9.9999999999999995E-7,-9.9999999999999995E-7,-9.9999999999999995E-7,-9.9999999999999995E-7,-9.9999999999999995E-7,-9.9999999999999995E-7,-9.9999999999999995E-7,-9.9999999999999995E-7,-9.9999999999999995E-7,-9.9999999999999995E-7,-9.9999999999999995E-7,-9.9999999999999995E-7,-9.9999999999999995E-7,-9.9999999999999995E-7,-9.9999999999999995E-7,-9.9999999999999995E-7,-9.9999999999999995E-7,-9.9999999999999995E-7,{"$f":"IF(ISERROR(VLOOKUP(F267,ages!B$1:B$23,1,1)),\"\",VLOOKUP(F267,ages!B$1:B$23,1,1))","v":""},{"$f":"IF(ISERROR(VLOOKUP(F267,ages!B$1:D$23,3,1)),\"\",VLOOKUP(F267,ages!B$1:D$23,3,1))","v":""},0,0,0,0,0]
[null,null,null,null,null,"",null,null,null,null,null,null,"","","","","","","","","","",{"$f":"IF(ISNUMBER(F271),IF(AL271<0.85,\"\",VLOOKUP(M271,A!A$2:X$23,VLOOKUP(F271,ages!B$1:C$23,2,1),1)),\"\")","v":""},{"$f":"IF(ISNUMBER(F271),IF(AM271<0.85,\"\",VLOOKUP(N271,B!A$2:X$23,VLOOKUP(F271,ages!B$1:C$23,2,1),1)),\"\")","v":""},{"$f":"IF(ISNUMBER(F271),IF(AN271<0.85,\"\",VLOOKUP(O271,'C'!A$2:X$23,VLOOKUP(F271,ages!B$1:C$23,2,1),1)),\"\")","v":""},{"$f":"IF(ISNUMBER(F271),IF(AO271<0.85,\"\",VLOOKUP(P271,D!A$2:X$23,VLOOKUP(F271,ages!B$1:C$23,2,1),1)),\"\")","v":""},{"$f":"IF(ISNUMBER(F271),IF(AP271<0.85,\"\",VLOOKUP(Q271,E!A$2:X$23,VLOOKUP(F271,ages!B$1:C$23,2,1),1)),\"\")","v":""},{"$f":"IF(ISNUMBER(F271),IF(AQ271<0.85,\"\",VLOOKUP(R271,F!A$2:X$23,VLOOKUP(F271,ages!B$1:C$23,2,1),1)),\"\")","v":""},{"$f":"IF(ISNUMBER(F271),IF(AR271<0.85,\"\",VLOOKUP(S271,G!A$2:X$23,VLOOKUP(F271,ages!B$1:C$23,2,1),1)),\"\")","v":""},{"$f":"IF(ISNUMBER(F271),IF(AS271<0.85,\"\",VLOOKUP(T271,H!A$2:X$23,VLOOKUP(F271,ages!B$1:C$23,2,1),1)),\"\")","v":""},{"$f":"IF(ISNUMBER(F271),IF(AT271<0.85,\"\",VLOOKUP(U271,I!A$2:X$23,VLOOKUP(F271,ages!B$1:C$23,2,1),1)),\"\")","v":""},{"$f":"IF(ISNUMBER(F271),IF(AU271<0.85,\"\",VLOOKUP(V271,J!A$2:X$23,VLOOKUP(F271,ages!B$1:C$23,2,1),1)),\"\")","v":""},"","","","",-1.0000000000000002E-6,0,0,0,0,0,0,0,0,0,0,0,null,null,null,null,null,null,null,null,null,null,null,null,null,null,null,null,null,null,null,null,null,null,null,null,null,null,null,null,null,null,null,null,null,null,null,null,null,null,null,null,null,null,null,null,null,null,null,null,null,null,null,null,null,null,null,null,null,null,null,null,null,null,null,null,null,null,null,null,null,null,-9.9999999999999995E-7,-9.9999999999999995E-7,-9.9999999999999995E-7,-9.9999999999999995E-7,-9.9999999999999995E-7,-9.9999999999999995E-7,-9.9999999999999995E-7,-9.9999999999999995E-7,-9.9999999999999995E-7,-9.9999999999999995E-7,-9.9999999999999995E-7,-9.9999999999999995E-7,-9.9999999999999995E-7,-9.9999999999999995E-7,-9.9999999999999995E-7,-9.9999999999999995E-7,-9.9999999999999995E-7,-9.9999999999999995E-7,-9.9999999999999995E-7,-9.9999999999999995E-7,{"$f":"IF(ISERROR(VLOOKUP(F271,ages!B$1:B$23,1,1)),\"\",VLOOKUP(F271,ages!B$1:B$23,1,1))","v":""},{"$f":"IF(ISERROR(VLOOKUP(F271,ages!B$1:D$23,3,1)),\"\",VLOOKUP(F271,ages!B$1:D$23,3,1))","v":""},0,0,0,0,0]
[null,null,null,null,null,"",null,null,null,null,null,null,"","","","","","","","","","",{"$f":"IF(ISNUMBER(F276),IF(AL276<0.85,\"\",VLOOKUP(M276,A!A$2:X$23,VLOOKUP(F276,ages!B$1:C$23,2,1),1)),\"\")","v":""},{"$f":"IF(ISNUMBER(F276),IF(AM276<0.85,\"\",VLOOKUP(N276,B!A$2:X$23,VLOOKUP(F276,ages!B$1:C$23,2,1),1)),\"\")","v":""},{"$f":"IF(ISNUMBER(F276),IF(AN276<0.85,\"\",VLOOKUP(O276,'C'!A$2:X$23,VLOOKUP(F276,ages!B$1:C$23,2,1),1)),\"\")","v":""},{"$f":"IF(ISNUMBER(F276),IF(AO276<0.85,\"\",VLOOKUP(P276,D!A$2:X$23,VLOOKUP(F276,ages!B$1:C$23,2,1),1)),\"\")","v":""},{"$f":"IF(ISNUMBER(F276),IF(AP276<0.85,\"\",VLOOKUP(Q276,E!A$2:X$23,VLOOKUP(F276,ages!B$1:C$23,2,1),1)),\"\")","v":""},{"$f":"IF(ISNUMBER(F276),IF(AQ276<0.85,\"\",VLOOKUP(R276,F!A$2:X$23,VLOOKUP(F276,ages!B$1:C$23,2,1),1)),\"\")","v":""},{"$f":"IF(ISNUMBER(F276),IF(AR276<0.85,\"\",VLOOKUP(S276,G!A$2:X$23,VLOOKUP(F276,ages!B$1:C$23,2,1),1)),\"\")","v":""},{"$f":"IF(ISNUMBER(F276),IF(AS276<0.85,\"\",VLOOKUP(T276,H!A$2:X$23,VLOOKUP(F276,ages!B$1:C$23,2,1),1)),\"\")","v":""},{"$f":"IF(ISNUMBER(F276),IF(AT276<0.85,\"\",VLOOKUP(U276,I!A$2:X$23,VLOOKUP(F276,ages!B$1:C$23,2,1),1)),\"\")","v":""},{"$f":"IF(ISNUMBER(F276),IF(AU276<0.85,\"\",VLOOKUP(V276,J!A$2:X$23,VLOOKUP(F276,ages!B$1:C$23,2,1),1)),\"\")","v":""},"","","","",-1.0000000000000002E-6,0,0,0,0,0,0,0,0,0,0,0,null,null,null,null,null,null,null,null,null,null,null,null,null,null,null,null,null,null,null,null,null,null,null,null,null,null,null,null,null,null,null,null,null,null,null,null,null,null,null,null,null,null,null,null,null,null,null,null,null,null,null,null,null,null,null,null,null,null,null,null,null,null,null,null,null,null,null,null,null,null,-9.9999999999999995E-7,-9.9999999999999995E-7,-9.9999999999999995E-7,-9.9999999999999995E-7,-9.9999999999999995E-7,-9.9999999999999995E-7,-9.9999999999999995E-7,-9.9999999999999995E-7,-9.9999999999999995E-7,-9.9999999999999995E-7,-9.9999999999999995E-7,-9.9999999999999995E-7,-9.9999999999999995E-7,-9.9999999999999995E-7,-9.9999999999999995E-7,-9.9999999999999995E-7,-9.9999999999999995E-7,-9.9999999999999995E-7,-9.9999999999999995E-7,-9.9999999999999995E-7,{"$f":"IF(ISERROR(VLOOKUP(F276,ages!B$1:B$23,1,1)),\"\",VLOOKUP(F276,ages!B$1:B$23,1,1))","v":""},{"$f":"IF(ISERROR(VLOOKUP(F276,ages!B$1:D$23,3,1)),\"\",VLOOKUP(F276,ages!B$1:D$23,3,1))","v":""},0,0,0,0,0]
[null,null,null,null,null,"",null,null,null,null,null,null,"","","","","","","","","","",{"$f":"IF(ISNUMBER(F282),IF(AL282<0.85,\"\",VLOOKUP(M282,A!A$2:X$23,VLOOKUP(F282,ages!B$1:C$23,2,1),1)),\"\")","v":""},{"$f":"IF(ISNUMBER(F282),IF(AM282<0.85,\"\",VLOOKUP(N282,B!A$2:X$23,VLOOKUP(F282,ages!B$1:C$23,2,1),1)),\"\")","v":""},{"$f":"IF(ISNUMBER(F282),IF(AN282<0.85,\"\",VLOOKUP(O282,'C'!A$2:X$23,VLOOKUP(F282,ages!B$1:C$23,2,1),1)),\"\")","v":""},{"$f":"IF(ISNUMBER(F282),IF(AO282<0.85,\"\",VLOOKUP(P282,D!A$2:X$23,VLOOKUP(F282,ages!B$1:C$23,2,1),1)),\"\")","v":""},{"$f":"IF(ISNUMBER(F282),IF(AP282<0.85,\"\",VLOOKUP(Q282,E!A$2:X$23,VLOOKUP(F282,ages!B$1:C$23,2,1),1)),\"\")","v":""},{"$f":"IF(ISNUMBER(F282),IF(AQ282<0.85,\"\",VLOOKUP(R282,F!A$2:X$23,VLOOKUP(F282,ages!B$1:C$23,2,1),1)),\"\")","v":""},{"$f":"IF(ISNUMBER(F282),IF(AR282<0.85,\"\",VLOOKUP(S282,G!A$2:X$23,VLOOKUP(F282,ages!B$1:C$23,2,1),1)),\"\")","v":""},{"$f":"IF(ISNUMBER(F282),IF(AS282<0.85,\"\",VLOOKUP(T282,H!A$2:X$23,VLOOKUP(F282,ages!B$1:C$23,2,1),1)),\"\")","v":""},{"$f":"IF(ISNUMBER(F282),IF(AT282<0.85,\"\",VLOOKUP(U282,I!A$2:X$23,VLOOKUP(F282,ages!B$1:C$23,2,1),1)),\"\")","v":""},{"$f":"IF(ISNUMBER(F282),IF(AU282<0.85,\"\",VLOOKUP(V282,J!A$2:X$23,VLOOKUP(F282,ages!B$1:C$23,2,1),1)),\"\")","v":""},"","","","",-1.0000000000000002E-6,0,0,0,0,0,0,0,0,0,0,0,null,null,null,null,null,null,null,null,null,null,null,null,null,null,null,null,null,null,null,null,null,null,null,null,null,null,null,null,null,null,null,null,null,null,null,null,null,null,null,null,null,null,null,null,null,null,null,null,null,null,null,null,null,null,null,null,null,null,null,null,null,null,null,null,null,null,null,null,null,null,-9.9999999999999995E-7,-9.9999999999999995E-7,-9.9999999999999995E-7,-9.9999999999999995E-7,-9.9999999999999995E-7,-9.9999999999999995E-7,-9.9999999999999995E-7,-9.9999999999999995E-7,-9.9999999999999995E-7,-9.9999999999999995E-7,-9.9999999999999995E-7,-9.9999999999999995E-7,-9.9999999999999995E-7,-9.9999999999999995E-7,-9.9999999999999995E-7,-9.9999999999999995E-7,-9.9999999999999995E-7,-9.9999999999999995E-7,-9.9999999999999995E-7,-9.9999999999999995E-7,{"$f":"IF(ISERROR(VLOOKUP(F282,ages!B$1:B$23,1,1)),\"\",VLOOKUP(F282,ages!B$1:B$23,1,1))","v":""},{"$f":"IF(ISERROR(VLOOKUP(F282,ages!B$1:D$23,3,1)),\"\",VLOOKUP(F282,ages!B$1:D$23,3,1))","v":""},0,0,0,0,0]
[null,null,null,null,null,"",null,null,null,null,null,null,"","","","","","","","","","",{"$f":"IF(ISNUMBER(F287),IF(AL287<0.85,\"\",VLOOKUP(M287,A!A$2:X$23,VLOOKUP(F287,ages!B$1:C$23,2,1),1)),\"\")","v":""},{"$f":"IF(ISNUMBER(F287),IF(AM287<0.85,\"\",VLOOKUP(N287,B!A$2:X$23,VLOOKUP(F287,ages!B$1:C$23,2,1),1)),\"\")","v":""},{"$f":"IF(ISNUMBER(F287),IF(AN287<0.85,\"\",VLOOKUP(O287,'C'!A$2:X$23,VLOOKUP(F287,ages!B$1:C$23,2,1),1)),\"\")","v":""},{"$f":"IF(ISNUMBER(F287),IF(AO287<0.85,\"\",VLOOKUP(P287,D!A$2:X$23,VLOOKUP(F287,ages!B$1:C$23,2,1),1)),\"\")","v":""},{"$f":"IF(ISNUMBER(F287),IF(AP287<0.85,\"\",VLOOKUP(Q287,E!A$2:X$23,VLOOKUP(F287,ages!B$1:C$23,2,1),1)),\"\")","v":""},{"$f":"IF(ISNUMBER(F287),IF(AQ287<0.85,\"\",VLOOKUP(R287,F!A$2:X$23,VLOOKUP(F287,ages!B$1:C$23,2,1),1)),\"\")","v":""},{"$f":"IF(ISNUMBER(F287),IF(AR287<0.85,\"\",VLOOKUP(S287,G!A$2:X$23,VLOOKUP(F287,ages!B$1:C$23,2,1),1)),\"\")","v":""},{"$f":"IF(ISNUMBER(F287),IF(AS287<0.85,\"\",VLOOKUP(T287,H!A$2:X$23,VLOOKUP(F287,ages!B$1:C$23,2,1),1)),\"\")","v":""},{"$f":"IF(ISNUMBER(F287),IF(AT287<0.85,\"\",VLOOKUP(U287,I!A$2:X$23,VLOOKUP(F287,ages!B$1:C$23,2,1),1)),\"\")","v":""},{"$f":"IF(ISNUMBER(F287),IF(AU287<0.85,\"\",VLOOKUP(V287,J!A$2:X$23,VLOOKUP(F287,ages!B$1:C$23,2,1),1)),\"\")","v":""},"","","","",-1.0000000000000002E-6,0,0,0,0,0,0,0,0,0,0,0,null,null,null,null,null,null,null,null,null,null,null,null,null,null,null,null,null,null,null,null,null,null,null,null,null,null,null,null,null,null,null,null,null,null,null,null,null,null,null,null,null,null,null,null,null,null,null,null,null,null,null,null,null,null,null,null,null,null,null,null,null,null,null,null,null,null,null,null,null,null,-9.9999999999999995E-7,-9.9999999999999995E-7,-9.9999999999999995E-7,-9.9999999999999995E-7,-9.9999999999999995E-7,-9.9999999999999995E-7,-9.9999999999999995E-7,-9.9999999999999995E-7,-9.9999999999999995E-7,-9.9999999999999995E-7,-9.9999999999999995E-7,-9.9999999999999995E-7,-9.9999999999999995E-7,-9.9999999999999995E-7,-9.9999999999999995E-7,-9.9999999999999995E-7,-9.9999999999999995E-7,-9.9999999999999995E-7,-9.9999999999999995E-7,-9.9999999999999995E-7,{"$f":"IF(ISERROR(VLOOKUP(F287,ages!B$1:B$23,1,1)),\"\",VLOOKUP(F287,ages!B$1:B$23,1,1))","v":""},{"$f":"IF(ISERROR(VLOOKUP(F287,ages!B$1:D$23,3,1)),\"\",VLOOKUP(F287,ages!B$1:D$23,3,1))","v":""},0,0,0,0,0]
[null,null,null,null,null,"",null,null,null,null,null,null,"","","","","","","","","","",{"$f":"IF(ISNUMBER(F293),IF(AL293<0.85,\"\",VLOOKUP(M293,A!A$2:X$23,VLOOKUP(F293,ages!B$1:C$23,2,1),1)),\"\")","v":""},{"$f":"IF(ISNUMBER(F293),IF(AM293<0.85,\"\",VLOOKUP(N293,B!A$2:X$23,VLOOKUP(F293,ages!B$1:C$23,2,1),1)),\"\")","v":""},{"$f":"IF(ISNUMBER(F293),IF(AN293<0.85,\"\",VLOOKUP(O293,'C'!A$2:X$23,VLOOKUP(F293,ages!B$1:C$23,2,1),1)),\"\")","v":""},{"$f":"IF(ISNUMBER(F293),IF(AO293<0.85,\"\",VLOOKUP(P293,D!A$2:X$23,VLOOKUP(F293,ages!B$1:C$23,2,1),1)),\"\")","v":""},{"$f":"IF(ISNUMBER(F293),IF(AP293<0.85,\"\",VLOOKUP(Q293,E!A$2:X$23,VLOOKUP(F293,ages!B$1:C$23,2,1),1)),\"\")","v":""},{"$f":"IF(ISNUMBER(F293),IF(AQ293<0.85,\"\",VLOOKUP(R293,F!A$2:X$23,VLOOKUP(F293,ages!B$1:C$23,2,1),1)),\"\")","v":""},{"$f":"IF(ISNUMBER(F293),IF(AR293<0.85,\"\",VLOOKUP(S293,G!A$2:X$23,VLOOKUP(F293,ages!B$1:C$23,2,1),1)),\"\")","v":""},{"$f":"IF(ISNUMBER(F293),IF(AS293<0.85,\"\",VLOOKUP(T293,H!A$2:X$23,VLOOKUP(F293,ages!B$1:C$23,2,1),1)),\"\")","v":""},{"$f":"IF(ISNUMBER(F293),IF(AT293<0.85,\"\",VLOOKUP(U293,I!A$2:X$23,VLOOKUP(F293,ages!B$1:C$23,2,1),1)),\"\")","v":""},{"$f":"IF(ISNUMBER(F293),IF(AU293<0.85,\"\",VLOOKUP(V293,J!A$2:X$23,VLOOKUP(F293,ages!B$1:C$23,2,1),1)),\"\")","v":""},"","","","",-1.0000000000000002E-6,0,0,0,0,0,0,0,0,0,0,0,null,null,null,null,null,null,null,null,null,null,null,null,null,null,null,null,null,null,null,null,null,null,null,null,null,null,null,null,null,null,null,null,null,null,null,null,null,null,null,null,null,null,null,null,null,null,null,null,null,null,null,null,null,null,null,null,null,null,null,null,null,null,null,null,null,null,null,null,null,null,-9.9999999999999995E-7,-9.9999999999999995E-7,-9.9999999999999995E-7,-9.9999999999999995E-7,-9.9999999999999995E-7,-9.9999999999999995E-7,-9.9999999999999995E-7,-9.9999999999999995E-7,-9.9999999999999995E-7,-9.9999999999999995E-7,-9.9999999999999995E-7,-9.9999999999999995E-7,-9.9999999999999995E-7,-9.9999999999999995E-7,-9.9999999999999995E-7,-9.9999999999999995E-7,-9.9999999999999995E-7,-9.9999999999999995E-7,-9.9999999999999995E-7,-9.9999999999999995E-7,{"$f":"IF(ISERROR(VLOOKUP(F293,ages!B$1:B$23,1,1)),\"\",VLOOKUP(F293,ages!B$1:B$23,1,1))","v":""},{"$f":"IF(ISERROR(VLOOKUP(F293,ages!B$1:D$23,3,1)),\"\",VLOOKUP(F293,ages!B$1:D$23,3,1))","v":""},0,0,0,0,0]
[null,null,null,null,null,"",null,null,null,null,null,null,"","","","","","","","","","",{"$f":"IF(ISNUMBER(F296),IF(AL296<0.85,\"\",VLOOKUP(M296,A!A$2:X$23,VLOOKUP(F296,ages!B$1:C$23,2,1),1)),\"\")","v":""},{"$f":"IF(ISNUMBER(F296),IF(AM296<0.85,\"\",VLOOKUP(N296,B!A$2:X$23,VLOOKUP(F296,ages!B$1:C$23,2,1),1)),\"\")","v":""},{"$f":"IF(ISNUMBER(F296),IF(AN296<0.85,\"\",VLOOKUP(O296,'C'!A$2:X$23,VLOOKUP(F296,ages!B$1:C$23,2,1),1)),\"\")","v":""},{"$f":"IF(ISNUMBER(F296),IF(AO296<0.85,\"\",VLOOKUP(P296,D!A$2:X$23,VLOOKUP(F296,ages!B$1:C$23,2,1),1)),\"\")","v":""},{"$f":"IF(ISNUMBER(F296),IF(AP296<0.85,\"\",VLOOKUP(Q296,E!A$2:X$23,VLOOKUP(F296,ages!B$1:C$23,2,1),1)),\"\")","v":""},{"$f":"IF(ISNUMBER(F296),IF(AQ296<0.85,\"\",VLOOKUP(R296,F!A$2:X$23,VLOOKUP(F296,ages!B$1:C$23,2,1),1)),\"\")","v":""},{"$f":"IF(ISNUMBER(F296),IF(AR296<0.85,\"\",VLOOKUP(S296,G!A$2:X$23,VLOOKUP(F296,ages!B$1:C$23,2,1),1)),\"\")","v":""},{"$f":"IF(ISNUMBER(F296),IF(AS296<0.85,\"\",VLOOKUP(T296,H!A$2:X$23,VLOOKUP(F296,ages!B$1:C$23,2,1),1)),\"\")","v":""},{"$f":"IF(ISNUMBER(F296),IF(AT296<0.85,\"\",VLOOKUP(U296,I!A$2:X$23,VLOOKUP(F296,ages!B$1:C$23,2,1),1)),\"\")","v":""},{"$f":"IF(ISNUMBER(F296),IF(AU296<0.85,\"\",VLOOKUP(V296,J!A$2:X$23,VLOOKUP(F296,ages!B$1:C$23,2,1),1)),\"\")","v":""},"","","","",-1.0000000000000002E-6,0,0,0,0,0,0,0,0,0,0,0,null,null,null,null,null,null,null,null,null,null,null,null,null,null,null,null,null,null,null,null,null,null,null,null,null,null,null,null,null,null,null,null,null,null,null,null,null,null,null,null,null,null,null,null,null,null,null,null,null,null,null,null,null,null,null,null,null,null,null,null,null,null,null,null,null,null,null,null,null,null,-9.9999999999999995E-7,-9.9999999999999995E-7,-9.9999999999999995E-7,-9.9999999999999995E-7,-9.9999999999999995E-7,-9.9999999999999995E-7,-9.9999999999999995E-7,-9.9999999999999995E-7,-9.9999999999999995E-7,-9.9999999999999995E-7,-9.9999999999999995E-7,-9.9999999999999995E-7,-9.9999999999999995E-7,-9.9999999999999995E-7,-9.9999999999999995E-7,-9.9999999999999995E-7,-9.9999999999999995E-7,-9.9999999999999995E-7,-9.9999999999999995E-7,-9.9999999999999995E-7,{"$f":"IF(ISERROR(VLOOKUP(F296,ages!B$1:B$23,1,1)),\"\",VLOOKUP(F296,ages!B$1:B$23,1,1))","v":""},{"$f":"IF(ISERROR(VLOOKUP(F296,ages!B$1:D$23,3,1)),\"\",VLOOKUP(F296,ages!B$1:D$23,3,1))","v":""},0,0,0,0,0]
[null,null,null,null,null,"",null,null,null,null,null,null,"","","","","","","","","","",{"$f":"IF(ISNUMBER(F302),IF(AL302<0.85,\"\",VLOOKUP(M302,A!A$2:X$23,VLOOKUP(F302,ages!B$1:C$23,2,1),1)),\"\")","v":""},{"$f":"IF(ISNUMBER(F302),IF(AM302<0.85,\"\",VLOOKUP(N302,B!A$2:X$23,VLOOKUP(F302,ages!B$1:C$23,2,1),1)),\"\")","v":""},{"$f":"IF(ISNUMBER(F302),IF(AN302<0.85,\"\",VLOOKUP(O302,'C'!A$2:X$23,VLOOKUP(F302,ages!B$1:C$23,2,1),1)),\"\")","v":""},{"$f":"IF(ISNUMBER(F302),IF(AO302<0.85,\"\",VLOOKUP(P302,D!A$2:X$23,VLOOKUP(F302,ages!B$1:C$23,2,1),1)),\"\")","v":""},{"$f":"IF(ISNUMBER(F302),IF(AP302<0.85,\"\",VLOOKUP(Q302,E!A$2:X$23,VLOOKUP(F302,ages!B$1:C$23,2,1),1)),\"\")","v":""},{"$f":"IF(ISNUMBER(F302),IF(AQ302<0.85,\"\",VLOOKUP(R302,F!A$2:X$23,VLOOKUP(F302,ages!B$1:C$23,2,1),1)),\"\")","v":""},{"$f":"IF(ISNUMBER(F302),IF(AR302<0.85,\"\",VLOOKUP(S302,G!A$2:X$23,VLOOKUP(F302,ages!B$1:C$23,2,1),1)),\"\")","v":""},{"$f":"IF(ISNUMBER(F302),IF(AS302<0.85,\"\",VLOOKUP(T302,H!A$2:X$23,VLOOKUP(F302,ages!B$1:C$23,2,1),1)),\"\")","v":""},{"$f":"IF(ISNUMBER(F302),IF(AT302<0.85,\"\",VLOOKUP(U302,I!A$2:X$23,VLOOKUP(F302,ages!B$1:C$23,2,1),1)),\"\")","v":""},{"$f":"IF(ISNUMBER(F302),IF(AU302<0.85,\"\",VLOOKUP(V302,J!A$2:X$23,VLOOKUP(F302,ages!B$1:C$23,2,1),1)),\"\")","v":""},"","","","",-1.0000000000000002E-6,0,0,0,0,0,0,0,0,0,0,0,null,null,null,null,null,null,null,null,null,null,null,null,null,null,null,null,null,null,null,null,null,null,null,null,null,null,null,null,null,null,null,null,null,null,null,null,null,null,null,null,null,null,null,null,null,null,null,null,null,null,null,null,null,null,null,null,null,null,null,null,null,null,null,null,null,null,null,null,null,null,-9.9999999999999995E-7,-9.9999999999999995E-7,-9.9999999999999995E-7,-9.9999999999999995E-7,-9.9999999999999995E-7,-9.9999999999999995E-7,-9.9999999999999995E-7,-9.9999999999999995E-7,-9.9999999999999995E-7,-9.9999999999999995E-7,-9.9999999999999995E-7,-9.9999999999999995E-7,-9.9999999999999995E-7,-9.9999999999999995E-7,-9.9999999999999995E-7,-9.9999999999999995E-7,-9.9999999999999995E-7,-9.9999999999999995E-7,-9.9999999999999995E-7,-9.9999999999999995E-7,{"$f":"IF(ISERROR(VLOOKUP(F302,ages!B$1:B$23,1,1)),\"\",VLOOKUP(F302,ages!B$1:B$23,1,1))","v":""},{"$f":"IF(ISERROR(VLOOKUP(F302,ages!B$1:D$23,3,1)),\"\",VLOOKUP(F302,ages!B$1:D$23,3,1))","v":""},0,0,0,0,0]
[null,null,null,null,null,"",null,null,null,null,null,null,"","","","","","","","","","",{"$f":"IF(ISNUMBER(F303),IF(AL303<0.85,\"\",VLOOKUP(M303,A!A$2:X$23,VLOOKUP(F303,ages!B$1:C$23,2,1),1)),\"\")","v":""},{"$f":"IF(ISNUMBER(F303),IF(AM303<0.85,\"\",VLOOKUP(N303,B!A$2:X$23,VLOOKUP(F303,ages!B$1:C$23,2,1),1)),\"\")","v":""},{"$f":"IF(ISNUMBER(F303),IF(AN303<0.85,\"\",VLOOKUP(O303,'C'!A$2:X$23,VLOOKUP(F303,ages!B$1:C$23,2,1),1)),\"\")","v":""},{"$f":"IF(ISNUMBER(F303),IF(AO303<0.85,\"\",VLOOKUP(P303,D!A$2:X$23,VLOOKUP(F303,ages!B$1:C$23,2,1),1)),\"\")","v":""},{"$f":"IF(ISNUMBER(F303),IF(AP303<0.85,\"\",VLOOKUP(Q303,E!A$2:X$23,VLOOKUP(F303,ages!B$1:C$23,2,1),1)),\"\")","v":""},{"$f":"IF(ISNUMBER(F303),IF(AQ303<0.85,\"\",VLOOKUP(R303,F!A$2:X$23,VLOOKUP(F303,ages!B$1:C$23,2,1),1)),\"\")","v":""},{"$f":"IF(ISNUMBER(F303),IF(AR303<0.85,\"\",VLOOKUP(S303,G!A$2:X$23,VLOOKUP(F303,ages!B$1:C$23,2,1),1)),\"\")","v":""},{"$f":"IF(ISNUMBER(F303),IF(AS303<0.85,\"\",VLOOKUP(T303,H!A$2:X$23,VLOOKUP(F303,ages!B$1:C$23,2,1),1)),\"\")","v":""},{"$f":"IF(ISNUMBER(F303),IF(AT303<0.85,\"\",VLOOKUP(U303,I!A$2:X$23,VLOOKUP(F303,ages!B$1:C$23,2,1),1)),\"\")","v":""},{"$f":"IF(ISNUMBER(F303),IF(AU303<0.85,\"\",VLOOKUP(V303,J!A$2:X$23,VLOOKUP(F303,ages!B$1:C$23,2,1),1)),\"\")","v":""},"","","","",-1.0000000000000002E-6,0,0,0,0,0,0,0,0,0,0,0,null,null,null,null,null,null,null,null,null,null,null,null,null,null,null,null,null,null,null,null,null,null,null,null,null,null,null,null,null,null,null,null,null,null,null,null,null,null,null,null,null,null,null,null,null,null,null,null,null,null,null,null,null,null,null,null,null,null,null,null,null,null,null,null,null,null,null,null,null,null,-9.9999999999999995E-7,-9.9999999999999995E-7,-9.9999999999999995E-7,-9.9999999999999995E-7,-9.9999999999999995E-7,-9.9999999999999995E-7,-9.9999999999999995E-7,-9.9999999999999995E-7,-9.9999999999999995E-7,-9.9999999999999995E-7,-9.9999999999999995E-7,-9.9999999999999995E-7,-9.9999999999999995E-7,-9.9999999999999995E-7,-9.9999999999999995E-7,-9.9999999999999995E-7,-9.9999999999999995E-7,-9.9999999999999995E-7,-9.9999999999999995E-7,-9.9999999999999995E-7,{"$f":"IF(ISERROR(VLOOKUP(F303,ages!B$1:B$23,1,1)),\"\",VLOOKUP(F303,ages!B$1:B$23,1,1))","v":""},{"$f":"IF(ISERROR(VLOOKUP(F303,ages!B$1:D$23,3,1)),\"\",VLOOKUP(F303,ages!B$1:D$23,3,1))","v":""},0,0,0,0,0]
[null,null,null,null,null,"",null,null,null,null,null,null,"","","","","","","","","","",{"$f":"IF(ISNUMBER(F308),IF(AL308<0.85,\"\",VLOOKUP(M308,A!A$2:X$23,VLOOKUP(F308,ages!B$1:C$23,2,1),1)),\"\")","v":""},{"$f":"IF(ISNUMBER(F308),IF(AM308<0.85,\"\",VLOOKUP(N308,B!A$2:X$23,VLOOKUP(F308,ages!B$1:C$23,2,1),1)),\"\")","v":""},{"$f":"IF(ISNUMBER(F308),IF(AN308<0.85,\"\",VLOOKUP(O308,'C'!A$2:X$23,VLOOKUP(F308,ages!B$1:C$23,2,1),1)),\"\")","v":""},{"$f":"IF(ISNUMBER(F308),IF(AO308<0.85,\"\",VLOOKUP(P308,D!A$2:X$23,VLOOKUP(F308,ages!B$1:C$23,2,1),1)),\"\")","v":""},{"$f":"IF(ISNUMBER(F308),IF(AP308<0.85,\"\",VLOOKUP(Q308,E!A$2:X$23,VLOOKUP(F308,ages!B$1:C$23,2,1),1)),\"\")","v":""},{"$f":"IF(ISNUMBER(F308),IF(AQ308<0.85,\"\",VLOOKUP(R308,F!A$2:X$23,VLOOKUP(F308,ages!B$1:C$23,2,1),1)),\"\")","v":""},{"$f":"IF(ISNUMBER(F308),IF(AR308<0.85,\"\",VLOOKUP(S308,G!A$2:X$23,VLOOKUP(F308,ages!B$1:C$23,2,1),1)),\"\")","v":""},{"$f":"IF(ISNUMBER(F308),IF(AS308<0.85,\"\",VLOOKUP(T308,H!A$2:X$23,VLOOKUP(F308,ages!B$1:C$23,2,1),1)),\"\")","v":""},{"$f":"IF(ISNUMBER(F308),IF(AT308<0.85,\"\",VLOOKUP(U308,I!A$2:X$23,VLOOKUP(F308,ages!B$1:C$23,2,1),1)),\"\")","v":""},{"$f":"IF(ISNUMBER(F308),IF(AU308<0.85,\"\",VLOOKUP(V308,J!A$2:X$23,VLOOKUP(F308,ages!B$1:C$23,2,1),1)),\"\")","v":""},"","","","",-1.0000000000000002E-6,0,0,0,0,0,0,0,0,0,0,0,null,null,null,null,null,null,null,null,null,null,null,null,null,null,null,null,null,null,null,null,null,null,null,null,null,null,null,null,null,null,null,null,null,null,null,null,null,null,null,null,null,null,null,null,null,null,null,null,null,null,null,null,null,null,null,null,null,null,null,null,null,null,null,null,null,null,null,null,null,null,-9.9999999999999995E-7,-9.9999999999999995E-7,-9.9999999999999995E-7,-9.9999999999999995E-7,-9.9999999999999995E-7,-9.9999999999999995E-7,-9.9999999999999995E-7,-9.9999999999999995E-7,-9.9999999999999995E-7,-9.9999999999999995E-7,-9.9999999999999995E-7,-9.9999999999999995E-7,-9.9999999999999995E-7,-9.9999999999999995E-7,-9.9999999999999995E-7,-9.9999999999999995E-7,-9.9999999999999995E-7,-9.9999999999999995E-7,-9.9999999999999995E-7,-9.9999999999999995E-7,{"$f":"IF(ISERROR(VLOOKUP(F308,ages!B$1:B$23,1,1)),\"\",VLOOKUP(F308,ages!B$1:B$23,1,1))","v":""},{"$f":"IF(ISERROR(VLOOKUP(F308,ages!B$1:D$23,3,1)),\"\",VLOOKUP(F308,ages!B$1:D$23,3,1))","v":""},0,0,0,0,0]
[null,null,null,null,null,"",null,null,null,null,null,null,"","","","","","","","","","",{"$f":"IF(ISNUMBER(F315),IF(AL315<0.85,\"\",VLOOKUP(M315,A!A$2:X$23,VLOOKUP(F315,ages!B$1:C$23,2,1),1)),\"\")","v":""},{"$f":"IF(ISNUMBER(F315),IF(AM315<0.85,\"\",VLOOKUP(N315,B!A$2:X$23,VLOOKUP(F315,ages!B$1:C$23,2,1),1)),\"\")","v":""},{"$f":"IF(ISNUMBER(F315),IF(AN315<0.85,\"\",VLOOKUP(O315,'C'!A$2:X$23,VLOOKUP(F315,ages!B$1:C$23,2,1),1)),\"\")","v":""},{"$f":"IF(ISNUMBER(F315),IF(AO315<0.85,\"\",VLOOKUP(P315,D!A$2:X$23,VLOOKUP(F315,ages!B$1:C$23,2,1),1)),\"\")","v":""},{"$f":"IF(ISNUMBER(F315),IF(AP315<0.85,\"\",VLOOKUP(Q315,E!A$2:X$23,VLOOKUP(F315,ages!B$1:C$23,2,1),1)),\"\")","v":""},{"$f":"IF(ISNUMBER(F315),IF(AQ315<0.85,\"\",VLOOKUP(R315,F!A$2:X$23,VLOOKUP(F315,ages!B$1:C$23,2,1),1)),\"\")","v":""},{"$f":"IF(ISNUMBER(F315),IF(AR315<0.85,\"\",VLOOKUP(S315,G!A$2:X$23,VLOOKUP(F315,ages!B$1:C$23,2,1),1)),\"\")","v":""},{"$f":"IF(ISNUMBER(F315),IF(AS315<0.85,\"\",VLOOKUP(T315,H!A$2:X$23,VLOOKUP(F315,ages!B$1:C$23,2,1),1)),\"\")","v":""},{"$f":"IF(ISNUMBER(F315),IF(AT315<0.85,\"\",VLOOKUP(U315,I!A$2:X$23,VLOOKUP(F315,ages!B$1:C$23,2,1),1)),\"\")","v":""},{"$f":"IF(ISNUMBER(F315),IF(AU315<0.85,\"\",VLOOKUP(V315,J!A$2:X$23,VLOOKUP(F315,ages!B$1:C$23,2,1),1)),\"\")","v":""},"","","","",-1.0000000000000002E-6,0,0,0,0,0,0,0,0,0,0,0,null,null,null,null,null,null,null,null,null,null,null,null,null,null,null,null,null,null,null,null,null,null,null,null,null,null,null,null,null,null,null,null,null,null,null,null,null,null,null,null,null,null,null,null,null,null,null,null,null,null,null,null,null,null,null,null,null,null,null,null,null,null,null,null,null,null,null,null,null,null,-9.9999999999999995E-7,-9.9999999999999995E-7,-9.9999999999999995E-7,-9.9999999999999995E-7,-9.9999999999999995E-7,-9.9999999999999995E-7,-9.9999999999999995E-7,-9.9999999999999995E-7,-9.9999999999999995E-7,-9.9999999999999995E-7,-9.9999999999999995E-7,-9.9999999999999995E-7,-9.9999999999999995E-7,-9.9999999999999995E-7,-9.9999999999999995E-7,-9.9999999999999995E-7,-9.9999999999999995E-7,-9.9999999999999995E-7,-9.9999999999999995E-7,-9.9999999999999995E-7,{"$f":"IF(ISERROR(VLOOKUP(F315,ages!B$1:B$23,1,1)),\"\",VLOOKUP(F315,ages!B$1:B$23,1,1))","v":""},{"$f":"IF(ISERROR(VLOOKUP(F315,ages!B$1:D$23,3,1)),\"\",VLOOKUP(F315,ages!B$1:D$23,3,1))","v":""},0,0,0,0,0]
[null,null,null,null,null,"",null,null,null,null,null,null,"","","","","","","","","","",{"$f":"IF(ISNUMBER(F318),IF(AL318<0.85,\"\",VLOOKUP(M318,A!A$2:X$23,VLOOKUP(F318,ages!B$1:C$23,2,1),1)),\"\")","v":""},{"$f":"IF(ISNUMBER(F318),IF(AM318<0.85,\"\",VLOOKUP(N318,B!A$2:X$23,VLOOKUP(F318,ages!B$1:C$23,2,1),1)),\"\")","v":""},{"$f":"IF(ISNUMBER(F318),IF(AN318<0.85,\"\",VLOOKUP(O318,'C'!A$2:X$23,VLOOKUP(F318,ages!B$1:C$23,2,1),1)),\"\")","v":""},{"$f":"IF(ISNUMBER(F318),IF(AO318<0.85,\"\",VLOOKUP(P318,D!A$2:X$23,VLOOKUP(F318,ages!B$1:C$23,2,1),1)),\"\")","v":""},{"$f":"IF(ISNUMBER(F318),IF(AP318<0.85,\"\",VLOOKUP(Q318,E!A$2:X$23,VLOOKUP(F318,ages!B$1:C$23,2,1),1)),\"\")","v":""},{"$f":"IF(ISNUMBER(F318),IF(AQ318<0.85,\"\",VLOOKUP(R318,F!A$2:X$23,VLOOKUP(F318,ages!B$1:C$23,2,1),1)),\"\")","v":""},{"$f":"IF(ISNUMBER(F318),IF(AR318<0.85,\"\",VLOOKUP(S318,G!A$2:X$23,VLOOKUP(F318,ages!B$1:C$23,2,1),1)),\"\")","v":""},{"$f":"IF(ISNUMBER(F318),IF(AS318<0.85,\"\",VLOOKUP(T318,H!A$2:X$23,VLOOKUP(F318,ages!B$1:C$23,2,1),1)),\"\")","v":""},{"$f":"IF(ISNUMBER(F318),IF(AT318<0.85,\"\",VLOOKUP(U318,I!A$2:X$23,VLOOKUP(F318,ages!B$1:C$23,2,1),1)),\"\")","v":""},{"$f":"IF(ISNUMBER(F318),IF(AU318<0.85,\"\",VLOOKUP(V318,J!A$2:X$23,VLOOKUP(F318,ages!B$1:C$23,2,1),1)),\"\")","v":""},"","","","",-1.0000000000000002E-6,0,0,0,0,0,0,0,0,0,0,0,null,null,null,null,null,null,null,null,null,null,null,null,null,null,null,null,null,null,null,null,null,null,null,null,null,null,null,null,null,null,null,null,null,null,null,null,null,null,null,null,null,null,null,null,null,null,null,null,null,null,null,null,null,null,null,null,null,null,null,null,null,null,null,null,null,null,null,null,null,null,-9.9999999999999995E-7,-9.9999999999999995E-7,-9.9999999999999995E-7,-9.9999999999999995E-7,-9.9999999999999995E-7,-9.9999999999999995E-7,-9.9999999999999995E-7,-9.9999999999999995E-7,-9.9999999999999995E-7,-9.9999999999999995E-7,-9.9999999999999995E-7,-9.9999999999999995E-7,-9.9999999999999995E-7,-9.9999999999999995E-7,-9.9999999999999995E-7,-9.9999999999999995E-7,-9.9999999999999995E-7,-9.9999999999999995E-7,-9.9999999999999995E-7,-9.9999999999999995E-7,{"$f":"IF(ISERROR(VLOOKUP(F318,ages!B$1:B$23,1,1)),\"\",VLOOKUP(F318,ages!B$1:B$23,1,1))","v":""},{"$f":"IF(ISERROR(VLOOKUP(F318,ages!B$1:D$23,3,1)),\"\",VLOOKUP(F318,ages!B$1:D$23,3,1))","v":""},0,0,0,0,0]
[null,null,null,null,null,"",null,null,null,null,null,null,"","","","","","","","","","",{"$f":"IF(ISNUMBER(F323),IF(AL323<0.85,\"\",VLOOKUP(M323,A!A$2:X$23,VLOOKUP(F323,ages!B$1:C$23,2,1),1)),\"\")","v":""},{"$f":"IF(ISNUMBER(F323),IF(AM323<0.85,\"\",VLOOKUP(N323,B!A$2:X$23,VLOOKUP(F323,ages!B$1:C$23,2,1),1)),\"\")","v":""},{"$f":"IF(ISNUMBER(F323),IF(AN323<0.85,\"\",VLOOKUP(O323,'C'!A$2:X$23,VLOOKUP(F323,ages!B$1:C$23,2,1),1)),\"\")","v":""},{"$f":"IF(ISNUMBER(F323),IF(AO323<0.85,\"\",VLOOKUP(P323,D!A$2:X$23,VLOOKUP(F323,ages!B$1:C$23,2,1),1)),\"\")","v":""},{"$f":"IF(ISNUMBER(F323),IF(AP323<0.85,\"\",VLOOKUP(Q323,E!A$2:X$23,VLOOKUP(F323,ages!B$1:C$23,2,1),1)),\"\")","v":""},{"$f":"IF(ISNUMBER(F323),IF(AQ323<0.85,\"\",VLOOKUP(R323,F!A$2:X$23,VLOOKUP(F323,ages!B$1:C$23,2,1),1)),\"\")","v":""},{"$f":"IF(ISNUMBER(F323),IF(AR323<0.85,\"\",VLOOKUP(S323,G!A$2:X$23,VLOOKUP(F323,ages!B$1:C$23,2,1),1)),\"\")","v":""},{"$f":"IF(ISNUMBER(F323),IF(AS323<0.85,\"\",VLOOKUP(T323,H!A$2:X$23,VLOOKUP(F323,ages!B$1:C$23,2,1),1)),\"\")","v":""},{"$f":"IF(ISNUMBER(F323),IF(AT323<0.85,\"\",VLOOKUP(U323,I!A$2:X$23,VLOOKUP(F323,ages!B$1:C$23,2,1),1)),\"\")","v":""},{"$f":"IF(ISNUMBER(F323),IF(AU323<0.85,\"\",VLOOKUP(V323,J!A$2:X$23,VLOOKUP(F323,ages!B$1:C$23,2,1),1)),\"\")","v":""},"","","","",-1.0000000000000002E-6,0,0,0,0,0,0,0,0,0,0,0,null,null,null,null,null,null,null,null,null,null,null,null,null,null,null,null,null,null,null,null,null,null,null,null,null,null,null,null,null,null,null,null,null,null,null,null,null,null,null,null,null,null,null,null,null,null,null,null,null,null,null,null,null,null,null,null,null,null,null,null,null,null,null,null,null,null,null,null,null,null,-9.9999999999999995E-7,-9.9999999999999995E-7,-9.9999999999999995E-7,-9.9999999999999995E-7,-9.9999999999999995E-7,-9.9999999999999995E-7,-9.9999999999999995E-7,-9.9999999999999995E-7,-9.9999999999999995E-7,-9.9999999999999995E-7,-9.9999999999999995E-7,-9.9999999999999995E-7,-9.9999999999999995E-7,-9.9999999999999995E-7,-9.9999999999999995E-7,-9.9999999999999995E-7,-9.9999999999999995E-7,-9.9999999999999995E-7,-9.9999999999999995E-7,-9.9999999999999995E-7,{"$f":"IF(ISERROR(VLOOKUP(F323,ages!B$1:B$23,1,1)),\"\",VLOOKUP(F323,ages!B$1:B$23,1,1))","v":""},{"$f":"IF(ISERROR(VLOOKUP(F323,ages!B$1:D$23,3,1)),\"\",VLOOKUP(F323,ages!B$1:D$23,3,1))","v":""},0,0,0,0,0]
[null,null,null,null,null,{"$f":"IF(OR(D329=\"\",E329=\"\"),\"\",IF((EK329*12+EL329)<48,\"ald<4:0\",IF((EK329*12+EL329)>203,\"ald>16:11\",EK329*12+EL329)))","v":""},null,null,null,null,null,null,{"$f":"IF(AL329>0.79,ROUND(($DO329+$DV329+$AX329+$BT329+$BY329+$CH329+$CN329)/AL329,0),\"\")","v":""},{"$f":"IF(AM329>0.79,ROUND(($DS329+$EG329+$AW329+$BM329+$BW329+$CF329+$CM329)/AM329,0),\"\")","v":""},{"$f":"IF(AN329>0.79,ROUND(($EB329+$ED329+$AZ329+$BB329+$BH329+$CB329+$CP329)/AN329,0),\"\")","v":""},{"$f":"IF(AO329>0.79,ROUND(($DQ329+$EF329+$BF329+$BU329+$CJ329+$CR329+$CT329)/AO329,0),\"\")","v":""},{"$f":"IF(AP329>0.79,ROUND(($DW329+$EH329+$BA329+$BQ329+$CE329+$CG329+$CO329)/AP329,0),\"\")","v":""},{"$f":"IF(AQ329>0.79,ROUND(($DY329+$DZ329+$BG329+$BN329+$BS329+$BZ329+$CL329)/AQ329,0),\"\")","v":""},{"$f":"IF(AR329>0.79,ROUND(($DR329+$DX329+$BK329+$BO329+$BX329+$CD329+$CK329)/AR329,0),\"\")","v":""},{"$f":"IF(AS329>0.79,ROUND(($DT329+$EC329+$BD329+$BJ329+$BP329+$CA329+$CI329)/AS329,0),\"\")","v":""},{"$f":"IF(AT329>0.79,ROUND(($DU329+$EE329+$AY329+$BC329+$BI329+$BL329+$CC329)/AT329,0),\"\")","v":""},{"$f":"IF(AU329>0.79,ROUND(($DP329+$EA329+$BE329+$BR329+$BV329+$CQ329+$CS329)/AU329,0),\"\")","v":""},{"$f":"IF(ISNUMBER(F329),IF(AL329<0.85,\"\",VLOOKUP(M329,A!A$2:X$23,VLOOKUP(F329,ages!B$1:C$23,2,1),1)),\"\")","v":""},{"$f":"IF(ISNUMBER(F329),IF(AM329<0.85,\"\",VLOOKUP(N329,B!A$2:X$23,VLOOKUP(F329,ages!B$1:C$23,2,1),1)),\"\")","v":""},{"$f":"IF(ISNUMBER(F329),IF(AN329<0.85,\"\",VLOOKUP(O329,'C'!A$2:X$23,VLOOKUP(F329,ages!B$1:C$23,2,1),1)),\"\")","v":""},{"$f":"IF(ISNUMBER(F329),IF(AO329<0.85,\"\",VLOOKUP(P329,D!A$2:X$23,VLOOKUP(F329,ages!B$1:C$23,2,1),1)),\"\")","v":""},{"$f":"IF(ISNUMBER(F329),IF(AP329<0.85,\"\",VLOOKUP(Q329,E!A$2:X$23,VLOOKUP(F329,ages!B$1:C$23,2,1),1)),\"\")","v":""},{"$f":"IF(ISNUMBER(F329),IF(AQ329<0.85,\"\",VLOOKUP(R329,F!A$2:X$23,VLOOKUP(F329,ages!B$1:C$23,2,1),1)),\"\")","v":""},{"$f":"IF(ISNUMBER(F329),IF(AR329<0.85,\"\",VLOOKUP(S329,G!A$2:X$23,VLOOKUP(F329,ages!B$1:C$23,2,1),1)),\"\")","v":""},{"$f":"IF(ISNUMBER(F329),IF(AS329<0.85,\"\",VLOOKUP(T329,H!A$2:X$23,VLOOKUP(F329,ages!B$1:C$23,2,1),1)),\"\")","v":""},{"$f":"IF(ISNUMBER(F329),IF(AT329<0.85,\"\",VLOOKUP(U329,I!A$2:X$23,VLOOKUP(F329,ages!B$1:C$23,2,1),1)),\"\")","v":""},{"$f":"IF(ISNUMBER(F329),IF(AU329<0.85,\"\",VLOOKUP(V329,J!A$2:X$23,VLOOKUP(F329,ages!B$1:C$23,2,1),1)),\"\")","v":""},"","",{"$f":"IF(AG329=\"\",\"\",IF(ISNUMBER(AJ329),IF(AND(AK329>1.5,(AK329-AJ329)>1.3),0,1),\"\"))","v":""},{"$f":"IF(COUNT(AW329:CT329)>45,SUM(AW329:CT329)/COUNT(AW329:CT329),\"\")","v":""},-1.0000000000000002E-6,{"$f":"COUNT($AX329,$BT329,$BY329,$CH329,$CN329,$CU329,$DB329)/7","v":0},{"$f":"COUNT($AW329,$BM329,$BW329,$CF329,$CM329,$CY329,$DM329)/7","v":0},{"$f":"COUNT($AZ329,$BB329,$BH329,$CB329,$CP329,$DH329,$DJ329)/7","v":0},{"$f":"COUNT($BF329,$BU329,$CJ329,$CR329,$CT329,$CW329,$DL329)/7","v":0},{"$f":"COUNT($BA329,$BQ329,$CE329,$CG329,$CO329,$DC329,$DN329)/7","v":0},{"$f":"COUNT($BG329,$BN329,$BS329,$BZ329,$CL329,$DE329,$DF329)/7","v":0},{"$f":"COUNT($BK329,$BO329,$BX329,$CD329,$CK329,$CX329,$DD329)/7","v":0},{"$f":"COUNT($BD329,$BJ329,$BP329,$CA329,$CI329,$CZ329,$DI329)/7","v":0},{"$f":"COUNT($AY329,$BC329,$BI329,$BL329,$CC329,$DA329,$DK329)/7","v":0},{"$f":"COUNT($BE329,$BR329,$BV329,$CQ329,$CS329,$CV329,$DG329)/7","v":0},{"$f":"COUNT(AW329:DN329)/70","v":0},null,null,null,null,null,null,null,null,null,null,null,null,null,null,null,null,null,null,null,null,null,null,null,null,null,null,null,null,null,null,null,null,null,null,null,null,null,null,null,null,null,null,null,null,null,null,null,null,null,null,null,null,null,null,null,null,null,null,null,null,null,null,null,null,null,null,null,null,null,null,{"$f":"IF(ISNUMBER(CU329),3-CU329,-0.000001)","v":-9.9999999999999995E-7},-9.9999999999999995E-7,-9.9999999999999995E-7,-9.9999999999999995E-7,-9.9999999999999995E-7,-9.9999999999999995E-7,-9.9999999999999995E-7,-9.9999999999999995E-7,-9.9999999999999995E-7,-9.9999999999999995E-7,-9.9999999999999995E-7,-9.9999999999999995E-7,-9.9999999999999995E-7,-9.9999999999999995E-7,-9.9999999999999995E-7,-9.9999999999999995E-7,-9.9999999999999995E-7,-9.9999999999999995E-7,-9.9999999999999995E-7,-9.9999999999999995E-7,{"$f":"IF(ISERROR(VLOOKUP(F329,ages!B$1:B$23,1,1)),\"\",VLOOKUP(F329,ages!B$1:B$23,1,1))","v":""},{"$f":"IF(ISERROR(VLOOKUP(F329,ages!B$1:D$23,3,1)),\"\",VLOOKUP(F329,ages!B$1:D$23,3,1))","v":""},{"$f":"YEAR(E329)-YEAR(D329)-EN329","v":0},{"$f":"IF(MONTH(E329)-MONTH(D329)-EO329<0,12+MONTH(E329)-MONTH(D329)-EO329,MONTH(E329)-MONTH(D329)-EO329)","v":0},{"$f":"IF(DAY(E329)-DAY(D329)<0,30+DAY(E329)-DAY(D329),DAY(E329)-DAY(D329))","v":0},{"$f":"IF(MONTH(E329)-MONTH(D329)-EO329<0,1,0)","v":0},{"$f":"IF(DAY(E329)-DAY(D329)<0,1,0)","v":0}]
[null,null,null,null,null,"",null,null,null,null,null,null,"","","","","","","","","","",{"$f":"IF(ISNUMBER(F334),IF(AL334<0.85,\"\",VLOOKUP(M334,A!A$2:X$23,VLOOKUP(F334,ages!B$1:C$23,2,1),1)),\"\")","v":""},{"$f":"IF(ISNUMBER(F334),IF(AM334<0.85,\"\",VLOOKUP(N334,B!A$2:X$23,VLOOKUP(F334,ages!B$1:C$23,2,1),1)),\"\")","v":""},{"$f":"IF(ISNUMBER(F334),IF(AN334<0.85,\"\",VLOOKUP(O334,'C'!A$2:X$23,VLOOKUP(F334,ages!B$1:C$23,2,1),1)),\"\")","v":""},{"$f":"IF(ISNUMBER(F334),IF(AO334<0.85,\"\",VLOOKUP(P334,D!A$2:X$23,VLOOKUP(F334,ages!B$1:C$23,2,1),1)),\"\")","v":""},{"$f":"IF(ISNUMBER(F334),IF(AP334<0.85,\"\",VLOOKUP(Q334,E!A$2:X$23,VLOOKUP(F334,ages!B$1:C$23,2,1),1)),\"\")","v":""},{"$f":"IF(ISNUMBER(F334),IF(AQ334<0.85,\"\",VLOOKUP(R334,F!A$2:X$23,VLOOKUP(F334,ages!B$1:C$23,2,1),1)),\"\")","v":""},{"$f":"IF(ISNUMBER(F334),IF(AR334<0.85,\"\",VLOOKUP(S334,G!A$2:X$23,VLOOKUP(F334,ages!B$1:C$23,2,1),1)),\"\")","v":""},{"$f":"IF(ISNUMBER(F334),IF(AS334<0.85,\"\",VLOOKUP(T334,H!A$2:X$23,VLOOKUP(F334,ages!B$1:C$23,2,1),1)),\"\")","v":""},{"$f":"IF(ISNUMBER(F334),IF(AT334<0.85,\"\",VLOOKUP(U334,I!A$2:X$23,VLOOKUP(F334,ages!B$1:C$23,2,1),1)),\"\")","v":""},{"$f":"IF(ISNUMBER(F334),IF(AU334<0.85,\"\",VLOOKUP(V334,J!A$2:X$23,VLOOKUP(F334,ages!B$1:C$23,2,1),1)),\"\")","v":""},"","","","",-1.0000000000000002E-6,0,0,0,0,0,0,0,0,0,0,0,null,null,null,null,null,null,null,null,null,null,null,null,null,null,null,null,null,null,null,null,null,null,null,null,null,null,null,null,null,null,null,null,null,null,null,null,null,null,null,null,null,null,null,null,null,null,null,null,null,null,null,null,null,null,null,null,null,null,null,null,null,null,null,null,null,null,null,null,null,null,-9.9999999999999995E-7,-9.9999999999999995E-7,-9.9999999999999995E-7,-9.9999999999999995E-7,-9.9999999999999995E-7,-9.9999999999999995E-7,-9.9999999999999995E-7,-9.9999999999999995E-7,-9.9999999999999995E-7,-9.9999999999999995E-7,-9.9999999999999995E-7,-9.9999999999999995E-7,-9.9999999999999995E-7,-9.9999999999999995E-7,-9.9999999999999995E-7,-9.9999999999999995E-7,-9.9999999999999995E-7,-9.9999999999999995E-7,-9.9999999999999995E-7,-9.9999999999999995E-7,{"$f":"IF(ISERROR(VLOOKUP(F334,ages!B$1:B$23,1,1)),\"\",VLOOKUP(F334,ages!B$1:B$23,1,1))","v":""},{"$f":"IF(ISERROR(VLOOKUP(F334,ages!B$1:D$23,3,1)),\"\",VLOOKUP(F334,ages!B$1:D$23,3,1))","v":""},0,0,0,0,0]
[null,null,null,null,null,"",null,null,null,null,null,null,"","","","","","","","","","",{"$f":"IF(ISNUMBER(F340),IF(AL340<0.85,\"\",VLOOKUP(M340,A!A$2:X$23,VLOOKUP(F340,ages!B$1:C$23,2,1),1)),\"\")","v":""},{"$f":"IF(ISNUMBER(F340),IF(AM340<0.85,\"\",VLOOKUP(N340,B!A$2:X$23,VLOOKUP(F340,ages!B$1:C$23,2,1),1)),\"\")","v":""},{"$f":"IF(ISNUMBER(F340),IF(AN340<0.85,\"\",VLOOKUP(O340,'C'!A$2:X$23,VLOOKUP(F340,ages!B$1:C$23,2,1),1)),\"\")","v":""},{"$f":"IF(ISNUMBER(F340),IF(AO340<0.85,\"\",VLOOKUP(P340,D!A$2:X$23,VLOOKUP(F340,ages!B$1:C$23,2,1),1)),\"\")","v":""},{"$f":"IF(ISNUMBER(F340),IF(AP340<0.85,\"\",VLOOKUP(Q340,E!A$2:X$23,VLOOKUP(F340,ages!B$1:C$23,2,1),1)),\"\")","v":""},{"$f":"IF(ISNUMBER(F340),IF(AQ340<0.85,\"\",VLOOKUP(R340,F!A$2:X$23,VLOOKUP(F340,ages!B$1:C$23,2,1),1)),\"\")","v":""},{"$f":"IF(ISNUMBER(F340),IF(AR340<0.85,\"\",VLOOKUP(S340,G!A$2:X$23,VLOOKUP(F340,ages!B$1:C$23,2,1),1)),\"\")","v":""},{"$f":"IF(ISNUMBER(F340),IF(AS340<0.85,\"\",VLOOKUP(T340,H!A$2:X$23,VLOOKUP(F340,ages!B$1:C$23,2,1),1)),\"\")","v":""},{"$f":"IF(ISNUMBER(F340),IF(AT340<0.85,\"\",VLOOKUP(U340,I!A$2:X$23,VLOOKUP(F340,ages!B$1:C$23,2,1),1)),\"\")","v":""},{"$f":"IF(ISNUMBER(F340),IF(AU340<0.85,\"\",VLOOKUP(V340,J!A$2:X$23,VLOOKUP(F340,ages!B$1:C$23,2,1),1)),\"\")","v":""},"","","","",-1.0000000000000002E-6,0,0,0,0,0,0,0,0,0,0,0,null,null,null,null,null,null,null,null,null,null,null,null,null,null,null,null,null,null,null,null,null,null,null,null,null,null,null,null,null,null,null,null,null,null,null,null,null,null,null,null,null,null,null,null,null,null,null,null,null,null,null,null,null,null,null,null,null,null,null,null,null,null,null,null,null,null,null,null,null,null,-9.9999999999999995E-7,-9.9999999999999995E-7,-9.9999999999999995E-7,-9.9999999999999995E-7,-9.9999999999999995E-7,-9.9999999999999995E-7,-9.9999999999999995E-7,-9.9999999999999995E-7,-9.9999999999999995E-7,-9.9999999999999995E-7,-9.9999999999999995E-7,-9.9999999999999995E-7,-9.9999999999999995E-7,-9.9999999999999995E-7,-9.9999999999999995E-7,-9.9999999999999995E-7,-9.9999999999999995E-7,-9.9999999999999995E-7,-9.9999999999999995E-7,-9.9999999999999995E-7,{"$f":"IF(ISERROR(VLOOKUP(F340,ages!B$1:B$23,1,1)),\"\",VLOOKUP(F340,ages!B$1:B$23,1,1))","v":""},{"$f":"IF(ISERROR(VLOOKUP(F340,ages!B$1:D$23,3,1)),\"\",VLOOKUP(F340,ages!B$1:D$23,3,1))","v":""},0,0,0,0,0]
[null,null,null,null,null,"",null,null,null,null,null,null,"","","","","","","","","","",{"$f":"IF(ISNUMBER(F344),IF(AL344<0.85,\"\",VLOOKUP(M344,A!A$2:X$23,VLOOKUP(F344,ages!B$1:C$23,2,1),1)),\"\")","v":""},{"$f":"IF(ISNUMBER(F344),IF(AM344<0.85,\"\",VLOOKUP(N344,B!A$2:X$23,VLOOKUP(F344,ages!B$1:C$23,2,1),1)),\"\")","v":""},{"$f":"IF(ISNUMBER(F344),IF(AN344<0.85,\"\",VLOOKUP(O344,'C'!A$2:X$23,VLOOKUP(F344,ages!B$1:C$23,2,1),1)),\"\")","v":""},{"$f":"IF(ISNUMBER(F344),IF(AO344<0.85,\"\",VLOOKUP(P344,D!A$2:X$23,VLOOKUP(F344,ages!B$1:C$23,2,1),1)),\"\")","v":""},{"$f":"IF(ISNUMBER(F344),IF(AP344<0.85,\"\",VLOOKUP(Q344,E!A$2:X$23,VLOOKUP(F344,ages!B$1:C$23,2,1),1)),\"\")","v":""},{"$f":"IF(ISNUMBER(F344),IF(AQ344<0.85,\"\",VLOOKUP(R344,F!A$2:X$23,VLOOKUP(F344,ages!B$1:C$23,2,1),1)),\"\")","v":""},{"$f":"IF(ISNUMBER(F344),IF(AR344<0.85,\"\",VLOOKUP(S344,G!A$2:X$23,VLOOKUP(F344,ages!B$1:C$23,2,1),1)),\"\")","v":""},{"$f":"IF(ISNUMBER(F344),IF(AS344<0.85,\"\",VLOOKUP(T344,H!A$2:X$23,VLOOKUP(F344,ages!B$1:C$23,2,1),1)),\"\")","v":""},{"$f":"IF(ISNUMBER(F344),IF(AT344<0.85,\"\",VLOOKUP(U344,I!A$2:X$23,VLOOKUP(F344,ages!B$1:C$23,2,1),1)),\"\")","v":""},{"$f":"IF(ISNUMBER(F344),IF(AU344<0.85,\"\",VLOOKUP(V344,J!A$2:X$23,VLOOKUP(F344,ages!B$1:C$23,2,1),1)),\"\")","v":""},"","","","",-1.0000000000000002E-6,0,0,0,0,0,0,0,0,0,0,0,null,null,null,null,null,null,null,null,null,null,null,null,null,null,null,null,null,null,null,null,null,null,null,null,null,null,null,null,null,null,null,null,null,null,null,null,null,null,null,null,null,null,null,null,null,null,null,null,null,null,null,null,null,null,null,null,null,null,null,null,null,null,null,null,null,null,null,null,null,null,-9.9999999999999995E-7,-9.9999999999999995E-7,-9.9999999999999995E-7,-9.9999999999999995E-7,-9.9999999999999995E-7,-9.9999999999999995E-7,-9.9999999999999995E-7,-9.9999999999999995E-7,-9.9999999999999995E-7,-9.9999999999999995E-7,-9.9999999999999995E-7,-9.9999999999999995E-7,-9.9999999999999995E-7,-9.9999999999999995E-7,-9.9999999999999995E-7,-9.9999999999999995E-7,-9.9999999999999995E-7,-9.9999999999999995E-7,-9.9999999999999995E-7,-9.9999999999999995E-7,{"$f":"IF(ISERROR(VLOOKUP(F344,ages!B$1:B$23,1,1)),\"\",VLOOKUP(F344,ages!B$1:B$23,1,1))","v":""},{"$f":"IF(ISERROR(VLOOKUP(F344,ages!B$1:D$23,3,1)),\"\",VLOOKUP(F344,ages!B$1:D$23,3,1))","v":""},0,0,0,0,0]
[null,null,null,null,null,"",null,null,null,null,null,null,"","","","","","","","","","",{"$f":"IF(ISNUMBER(F349),IF(AL349<0.85,\"\",VLOOKUP(M349,A!A$2:X$23,VLOOKUP(F349,ages!B$1:C$23,2,1),1)),\"\")","v":""},{"$f":"IF(ISNUMBER(F349),IF(AM349<0.85,\"\",VLOOKUP(N349,B!A$2:X$23,VLOOKUP(F349,ages!B$1:C$23,2,1),1)),\"\")","v":""},{"$f":"IF(ISNUMBER(F349),IF(AN349<0.85,\"\",VLOOKUP(O349,'C'!A$2:X$23,VLOOKUP(F349,ages!B$1:C$23,2,1),1)),\"\")","v":""},{"$f":"IF(ISNUMBER(F349),IF(AO349<0.85,\"\",VLOOKUP(P349,D!A$2:X$23,VLOOKUP(F349,ages!B$1:C$23,2,1),1)),\"\")","v":""},{"$f":"IF(ISNUMBER(F349),IF(AP349<0.85,\"\",VLOOKUP(Q349,E!A$2:X$23,VLOOKUP(F349,ages!B$1:C$23,2,1),1)),\"\")","v":""},{"$f":"IF(ISNUMBER(F349),IF(AQ349<0.85,\"\",VLOOKUP(R349,F!A$2:X$23,VLOOKUP(F349,ages!B$1:C$23,2,1),1)),\"\")","v":""},{"$f":"IF(ISNUMBER(F349),IF(AR349<0.85,\"\",VLOOKUP(S349,G!A$2:X$23,VLOOKUP(F349,ages!B$1:C$23,2,1),1)),\"\")","v":""},{"$f":"IF(ISNUMBER(F349),IF(AS349<0.85,\"\",VLOOKUP(T349,H!A$2:X$23,VLOOKUP(F349,ages!B$1:C$23,2,1),1)),\"\")","v":""},{"$f":"IF(ISNUMBER(F349),IF(AT349<0.85,\"\",VLOOKUP(U349,I!A$2:X$23,VLOOKUP(F349,ages!B$1:C$23,2,1),1)),\"\")","v":""},{"$f":"IF(ISNUMBER(F349),IF(AU349<0.85,\"\",VLOOKUP(V349,J!A$2:X$23,VLOOKUP(F349,ages!B$1:C$23,2,1),1)),\"\")","v":""},"","","","",-1.0000000000000002E-6,0,0,0,0,0,0,0,0,0,0,0,null,null,null,null,null,null,null,null,null,null,null,null,null,null,null,null,null,null,null,null,null,null,null,null,null,null,null,null,null,null,null,null,null,null,null,null,null,null,null,null,null,null,null,null,null,null,null,null,null,null,null,null,null,null,null,null,null,null,null,null,null,null,null,null,null,null,null,null,null,null,-9.9999999999999995E-7,-9.9999999999999995E-7,-9.9999999999999995E-7,-9.9999999999999995E-7,-9.9999999999999995E-7,-9.9999999999999995E-7,-9.9999999999999995E-7,-9.9999999999999995E-7,-9.9999999999999995E-7,-9.9999999999999995E-7,-9.9999999999999995E-7,-9.9999999999999995E-7,-9.9999999999999995E-7,-9.9999999999999995E-7,-9.9999999999999995E-7,-9.9999999999999995E-7,-9.9999999999999995E-7,-9.9999999999999995E-7,-9.9999999999999995E-7,-9.9999999999999995E-7,{"$f":"IF(ISERROR(VLOOKUP(F349,ages!B$1:B$23,1,1)),\"\",VLOOKUP(F349,ages!B$1:B$23,1,1))","v":""},{"$f":"IF(ISERROR(VLOOKUP(F349,ages!B$1:D$23,3,1)),\"\",VLOOKUP(F349,ages!B$1:D$23,3,1))","v":""},0,0,0,0,0]
[null,null,null,null,null,"",null,null,null,null,null,null,"","","","","","","","","","",{"$f":"IF(ISNUMBER(F355),IF(AL355<0.85,\"\",VLOOKUP(M355,A!A$2:X$23,VLOOKUP(F355,ages!B$1:C$23,2,1),1)),\"\")","v":""},{"$f":"IF(ISNUMBER(F355),IF(AM355<0.85,\"\",VLOOKUP(N355,B!A$2:X$23,VLOOKUP(F355,ages!B$1:C$23,2,1),1)),\"\")","v":""},{"$f":"IF(ISNUMBER(F355),IF(AN355<0.85,\"\",VLOOKUP(O355,'C'!A$2:X$23,VLOOKUP(F355,ages!B$1:C$23,2,1),1)),\"\")","v":""},{"$f":"IF(ISNUMBER(F355),IF(AO355<0.85,\"\",VLOOKUP(P355,D!A$2:X$23,VLOOKUP(F355,ages!B$1:C$23,2,1),1)),\"\")","v":""},{"$f":"IF(ISNUMBER(F355),IF(AP355<0.85,\"\",VLOOKUP(Q355,E!A$2:X$23,VLOOKUP(F355,ages!B$1:C$23,2,1),1)),\"\")","v":""},{"$f":"IF(ISNUMBER(F355),IF(AQ355<0.85,\"\",VLOOKUP(R355,F!A$2:X$23,VLOOKUP(F355,ages!B$1:C$23,2,1),1)),\"\")","v":""},{"$f":"IF(ISNUMBER(F355),IF(AR355<0.85,\"\",VLOOKUP(S355,G!A$2:X$23,VLOOKUP(F355,ages!B$1:C$23,2,1),1)),\"\")","v":""},{"$f":"IF(ISNUMBER(F355),IF(AS355<0.85,\"\",VLOOKUP(T355,H!A$2:X$23,VLOOKUP(F355,ages!B$1:C$23,2,1),1)),\"\")","v":""},{"$f":"IF(ISNUMBER(F355),IF(AT355<0.85,\"\",VLOOKUP(U355,I!A$2:X$23,VLOOKUP(F355,ages!B$1:C$23,2,1),1)),\"\")","v":""},{"$f":"IF(ISNUMBER(F355),IF(AU355<0.85,\"\",VLOOKUP(V355,J!A$2:X$23,VLOOKUP(F355,ages!B$1:C$23,2,1),1)),\"\")","v":""},"","","","",-1.0000000000000002E-6,0,0,0,0,0,0,0,0,0,0,0,null,null,null,null,null,null,null,null,null,null,null,null,null,null,null,null,null,null,null,null,null,null,null,null,null,null,null,null,null,null,null,null,null,null,null,null,null,null,null,null,null,null,null,null,null,null,null,null,null,null,null,null,null,null,null,null,null,null,null,null,null,null,null,null,null,null,null,null,null,null,-9.9999999999999995E-7,-9.9999999999999995E-7,-9.9999999999999995E-7,-9.9999999999999995E-7,-9.9999999999999995E-7,-9.9999999999999995E-7,-9.9999999999999995E-7,-9.9999999999999995E-7,-9.9999999999999995E-7,-9.9999999999999995E-7,-9.9999999999999995E-7,-9.9999999999999995E-7,-9.9999999999999995E-7,-9.9999999999999995E-7,-9.9999999999999995E-7,-9.9999999999999995E-7,-9.9999999999999995E-7,-9.9999999999999995E-7,-9.9999999999999995E-7,-9.9999999999999995E-7,{"$f":"IF(ISERROR(VLOOKUP(F355,ages!B$1:B$23,1,1)),\"\",VLOOKUP(F355,ages!B$1:B$23,1,1))","v":""},{"$f":"IF(ISERROR(VLOOKUP(F355,ages!B$1:D$23,3,1)),\"\",VLOOKUP(F355,ages!B$1:D$23,3,1))","v":""},0,0,0,0,0]
[null,null,null,null,null,"",null,null,null,null,null,null,"","","","","","","","","","",{"$f":"IF(ISNUMBER(F359),IF(AL359<0.85,\"\",VLOOKUP(M359,A!A$2:X$23,VLOOKUP(F359,ages!B$1:C$23,2,1),1)),\"\")","v":""},{"$f":"IF(ISNUMBER(F359),IF(AM359<0.85,\"\",VLOOKUP(N359,B!A$2:X$23,VLOOKUP(F359,ages!B$1:C$23,2,1),1)),\"\")","v":""},{"$f":"IF(ISNUMBER(F359),IF(AN359<0.85,\"\",VLOOKUP(O359,'C'!A$2:X$23,VLOOKUP(F359,ages!B$1:C$23,2,1),1)),\"\")","v":""},{"$f":"IF(ISNUMBER(F359),IF(AO359<0.85,\"\",VLOOKUP(P359,D!A$2:X$23,VLOOKUP(F359,ages!B$1:C$23,2,1),1)),\"\")","v":""},{"$f":"IF(ISNUMBER(F359),IF(AP359<0.85,\"\",VLOOKUP(Q359,E!A$2:X$23,VLOOKUP(F359,ages!B$1:C$23,2,1),1)),\"\")","v":""},{"$f":"IF(ISNUMBER(F359),IF(AQ359<0.85,\"\",VLOOKUP(R359,F!A$2:X$23,VLOOKUP(F359,ages!B$1:C$23,2,1),1)),\"\")","v":""},{"$f":"IF(ISNUMBER(F359),IF(AR359<0.85,\"\",VLOOKUP(S359,G!A$2:X$23,VLOOKUP(F359,ages!B$1:C$23,2,1),1)),\"\")","v":""},{"$f":"IF(ISNUMBER(F359),IF(AS359<0.85,\"\",VLOOKUP(T359,H!A$2:X$23,VLOOKUP(F359,ages!B$1:C$23,2,1),1)),\"\")","v":""},{"$f":"IF(ISNUMBER(F359),IF(AT359<0.85,\"\",VLOOKUP(U359,I!A$2:X$23,VLOOKUP(F359,ages!B$1:C$23,2,1),1)),\"\")","v":""},{"$f":"IF(ISNUMBER(F359),IF(AU359<0.85,\"\",VLOOKUP(V359,J!A$2:X$23,VLOOKUP(F359,ages!B$1:C$23,2,1),1)),\"\")","v":""},"","","","",-1.0000000000000002E-6,0,0,0,0,0,0,0,0,0,0,0,null,null,null,null,null,null,null,null,null,null,null,null,null,null,null,null,null,null,null,null,null,null,null,null,null,null,null,null,null,null,null,null,null,null,null,null,null,null,null,null,null,null,null,null,null,null,null,null,null,null,null,null,null,null,null,null,null,null,null,null,null,null,null,null,null,null,null,null,null,null,-9.9999999999999995E-7,-9.9999999999999995E-7,-9.9999999999999995E-7,-9.9999999999999995E-7,-9.9999999999999995E-7,-9.9999999999999995E-7,-9.9999999999999995E-7,-9.9999999999999995E-7,-9.9999999999999995E-7,-9.9999999999999995E-7,-9.9999999999999995E-7,-9.9999999999999995E-7,-9.9999999999999995E-7,-9.9999999999999995E-7,-9.9999999999999995E-7,-9.9999999999999995E-7,-9.9999999999999995E-7,-9.9999999999999995E-7,-9.9999999999999995E-7,-9.9999999999999995E-7,{"$f":"IF(ISERROR(VLOOKUP(F359,ages!B$1:B$23,1,1)),\"\",VLOOKUP(F359,ages!B$1:B$23,1,1))","v":""},{"$f":"IF(ISERROR(VLOOKUP(F359,ages!B$1:D$23,3,1)),\"\",VLOOKUP(F359,ages!B$1:D$23,3,1))","v":""},0,0,0,0,0]
[null,null,null,null,null,"",null,null,null,null,null,null,"","","","","","","","","","",{"$f":"IF(ISNUMBER(F364),IF(AL364<0.85,\"\",VLOOKUP(M364,A!A$2:X$23,VLOOKUP(F364,ages!B$1:C$23,2,1),1)),\"\")","v":""},{"$f":"IF(ISNUMBER(F364),IF(AM364<0.85,\"\",VLOOKUP(N364,B!A$2:X$23,VLOOKUP(F364,ages!B$1:C$23,2,1),1)),\"\")","v":""},{"$f":"IF(ISNUMBER(F364),IF(AN364<0.85,\"\",VLOOKUP(O364,'C'!A$2:X$23,VLOOKUP(F364,ages!B$1:C$23,2,1),1)),\"\")","v":""},{"$f":"IF(ISNUMBER(F364),IF(AO364<0.85,\"\",VLOOKUP(P364,D!A$2:X$23,VLOOKUP(F364,ages!B$1:C$23,2,1),1)),\"\")","v":""},{"$f":"IF(ISNUMBER(F364),IF(AP364<0.85,\"\",VLOOKUP(Q364,E!A$2:X$23,VLOOKUP(F364,ages!B$1:C$23,2,1),1)),\"\")","v":""},{"$f":"IF(ISNUMBER(F364),IF(AQ364<0.85,\"\",VLOOKUP(R364,F!A$2:X$23,VLOOKUP(F364,ages!B$1:C$23,2,1),1)),\"\")","v":""},{"$f":"IF(ISNUMBER(F364),IF(AR364<0.85,\"\",VLOOKUP(S364,G!A$2:X$23,VLOOKUP(F364,ages!B$1:C$23,2,1),1)),\"\")","v":""},{"$f":"IF(ISNUMBER(F364),IF(AS364<0.85,\"\",VLOOKUP(T364,H!A$2:X$23,VLOOKUP(F364,ages!B$1:C$23,2,1),1)),\"\")","v":""},{"$f":"IF(ISNUMBER(F364),IF(AT364<0.85,\"\",VLOOKUP(U364,I!A$2:X$23,VLOOKUP(F364,ages!B$1:C$23,2,1),1)),\"\")","v":""},{"$f":"IF(ISNUMBER(F364),IF(AU364<0.85,\"\",VLOOKUP(V364,J!A$2:X$23,VLOOKUP(F364,ages!B$1:C$23,2,1),1)),\"\")","v":""},"","","","",-1.0000000000000002E-6,0,0,0,0,0,0,0,0,0,0,0,null,null,null,null,null,null,null,null,null,null,null,null,null,null,null,null,null,null,null,null,null,null,null,null,null,null,null,null,null,null,null,null,null,null,null,null,null,null,null,null,null,null,null,null,null,null,null,null,null,null,null,null,null,null,null,null,null,null,null,null,null,null,null,null,null,null,null,null,null,null,-9.9999999999999995E-7,-9.9999999999999995E-7,-9.9999999999999995E-7,-9.9999999999999995E-7,-9.9999999999999995E-7,-9.9999999999999995E-7,-9.9999999999999995E-7,-9.9999999999999995E-7,-9.9999999999999995E-7,-9.9999999999999995E-7,-9.9999999999999995E-7,-9.9999999999999995E-7,-9.9999999999999995E-7,-9.9999999999999995E-7,-9.9999999999999995E-7,-9.9999999999999995E-7,-9.9999999999999995E-7,-9.9999999999999995E-7,-9.9999999999999995E-7,-9.9999999999999995E-7,{"$f":"IF(ISERROR(VLOOKUP(F364,ages!B$1:B$23,1,1)),\"\",VLOOKUP(F364,ages!B$1:B$23,1,1))","v":""},{"$f":"IF(ISERROR(VLOOKUP(F364,ages!B$1:D$23,3,1)),\"\",VLOOKUP(F364,ages!B$1:D$23,3,1))","v":""},0,0,0,0,0]
[null,null,null,null,null,"",null,null,null,null,null,null,"","","","","","","","","","",{"$f":"IF(ISNUMBER(F365),IF(AL365<0.85,\"\",VLOOKUP(M365,A!A$2:X$23,VLOOKUP(F365,ages!B$1:C$23,2,1),1)),\"\")","v":""},{"$f":"IF(ISNUMBER(F365),IF(AM365<0.85,\"\",VLOOKUP(N365,B!A$2:X$23,VLOOKUP(F365,ages!B$1:C$23,2,1),1)),\"\")","v":""},{"$f":"IF(ISNUMBER(F365),IF(AN365<0.85,\"\",VLOOKUP(O365,'C'!A$2:X$23,VLOOKUP(F365,ages!B$1:C$23,2,1),1)),\"\")","v":""},{"$f":"IF(ISNUMBER(F365),IF(AO365<0.85,\"\",VLOOKUP(P365,D!A$2:X$23,VLOOKUP(F365,ages!B$1:C$23,2,1),1)),\"\")","v":""},{"$f":"IF(ISNUMBER(F365),IF(AP365<0.85,\"\",VLOOKUP(Q365,E!A$2:X$23,VLOOKUP(F365,ages!B$1:C$23,2,1),1)),\"\")","v":""},{"$f":"IF(ISNUMBER(F365),IF(AQ365<0.85,\"\",VLOOKUP(R365,F!A$2:X$23,VLOOKUP(F365,ages!B$1:C$23,2,1),1)),\"\")","v":""},{"$f":"IF(ISNUMBER(F365),IF(AR365<0.85,\"\",VLOOKUP(S365,G!A$2:X$23,VLOOKUP(F365,ages!B$1:C$23,2,1),1)),\"\")","v":""},{"$f":"IF(ISNUMBER(F365),IF(AS365<0.85,\"\",VLOOKUP(T365,H!A$2:X$23,VLOOKUP(F365,ages!B$1:C$23,2,1),1)),\"\")","v":""},{"$f":"IF(ISNUMBER(F365),IF(AT365<0.85,\"\",VLOOKUP(U365,I!A$2:X$23,VLOOKUP(F365,ages!B$1:C$23,2,1),1)),\"\")","v":""},{"$f":"IF(ISNUMBER(F365),IF(AU365<0.85,\"\",VLOOKUP(V365,J!A$2:X$23,VLOOKUP(F365,ages!B$1:C$23,2,1),1)),\"\")","v":""},"","","","",-1.0000000000000002E-6,0,0,0,0,0,0,0,0,0,0,0,null,null,null,null,null,null,null,null,null,null,null,null,null,null,null,null,null,null,null,null,null,null,null,null,null,null,null,null,null,null,null,null,null,null,null,null,null,null,null,null,null,null,null,null,null,null,null,null,null,null,null,null,null,null,null,null,null,null,null,null,null,null,null,null,null,null,null,null,null,null,-9.9999999999999995E-7,-9.9999999999999995E-7,-9.9999999999999995E-7,-9.9999999999999995E-7,-9.9999999999999995E-7,-9.9999999999999995E-7,-9.9999999999999995E-7,-9.9999999999999995E-7,-9.9999999999999995E-7,-9.9999999999999995E-7,-9.9999999999999995E-7,-9.9999999999999995E-7,-9.9999999999999995E-7,-9.9999999999999995E-7,-9.9999999999999995E-7,-9.9999999999999995E-7,-9.9999999999999995E-7,-9.9999999999999995E-7,-9.9999999999999995E-7,-9.9999999999999995E-7,{"$f":"IF(ISERROR(VLOOKUP(F365,ages!B$1:B$23,1,1)),\"\",VLOOKUP(F365,ages!B$1:B$23,1,1))","v":""},{"$f":"IF(ISERROR(VLOOKUP(F365,ages!B$1:D$23,3,1)),\"\",VLOOKUP(F365,ages!B$1:D$23,3,1))","v":""},0,0,0,0,0]
[null,null,null,null,null,"",null,null,null,null,null,null,"","","","","","","","","","",{"$f":"IF(ISNUMBER(F370),IF(AL370<0.85,\"\",VLOOKUP(M370,A!A$2:X$23,VLOOKUP(F370,ages!B$1:C$23,2,1),1)),\"\")","v":""},{"$f":"IF(ISNUMBER(F370),IF(AM370<0.85,\"\",VLOOKUP(N370,B!A$2:X$23,VLOOKUP(F370,ages!B$1:C$23,2,1),1)),\"\")","v":""},{"$f":"IF(ISNUMBER(F370),IF(AN370<0.85,\"\",VLOOKUP(O370,'C'!A$2:X$23,VLOOKUP(F370,ages!B$1:C$23,2,1),1)),\"\")","v":""},{"$f":"IF(ISNUMBER(F370),IF(AO370<0.85,\"\",VLOOKUP(P370,D!A$2:X$23,VLOOKUP(F370,ages!B$1:C$23,2,1),1)),\"\")","v":""},{"$f":"IF(ISNUMBER(F370),IF(AP370<0.85,\"\",VLOOKUP(Q370,E!A$2:X$23,VLOOKUP(F370,ages!B$1:C$23,2,1),1)),\"\")","v":""},{"$f":"IF(ISNUMBER(F370),IF(AQ370<0.85,\"\",VLOOKUP(R370,F!A$2:X$23,VLOOKUP(F370,ages!B$1:C$23,2,1),1)),\"\")","v":""},{"$f":"IF(ISNUMBER(F370),IF(AR370<0.85,\"\",VLOOKUP(S370,G!A$2:X$23,VLOOKUP(F370,ages!B$1:C$23,2,1),1)),\"\")","v":""},{"$f":"IF(ISNUMBER(F370),IF(AS370<0.85,\"\",VLOOKUP(T370,H!A$2:X$23,VLOOKUP(F370,ages!B$1:C$23,2,1),1)),\"\")","v":""},{"$f":"IF(ISNUMBER(F370),IF(AT370<0.85,\"\",VLOOKUP(U370,I!A$2:X$23,VLOOKUP(F370,ages!B$1:C$23,2,1),1)),\"\")","v":""},{"$f":"IF(ISNUMBER(F370),IF(AU370<0.85,\"\",VLOOKUP(V370,J!A$2:X$23,VLOOKUP(F370,ages!B$1:C$23,2,1),1)),\"\")","v":""},"","","","",-1.0000000000000002E-6,0,0,0,0,0,0,0,0,0,0,0,null,null,null,null,null,null,null,null,null,null,null,null,null,null,null,null,null,null,null,null,null,null,null,null,null,null,null,null,null,null,null,null,null,null,null,null,null,null,null,null,null,null,null,null,null,null,null,null,null,null,null,null,null,null,null,null,null,null,null,null,null,null,null,null,null,null,null,null,null,null,-9.9999999999999995E-7,-9.9999999999999995E-7,-9.9999999999999995E-7,-9.9999999999999995E-7,-9.9999999999999995E-7,-9.9999999999999995E-7,-9.9999999999999995E-7,-9.9999999999999995E-7,-9.9999999999999995E-7,-9.9999999999999995E-7,-9.9999999999999995E-7,-9.9999999999999995E-7,-9.9999999999999995E-7,-9.9999999999999995E-7,-9.9999999999999995E-7,-9.9999999999999995E-7,-9.9999999999999995E-7,-9.9999999999999995E-7,-9.9999999999999995E-7,-9.9999999999999995E-7,{"$f":"IF(ISERROR(VLOOKUP(F370,ages!B$1:B$23,1,1)),\"\",VLOOKUP(F370,ages!B$1:B$23,1,1))","v":""},{"$f":"IF(ISERROR(VLOOKUP(F370,ages!B$1:D$23,3,1)),\"\",VLOOKUP(F370,ages!B$1:D$23,3,1))","v":""},0,0,0,0,0]
[null,null,null,null,null,"",null,null,null,null,null,null,"","","","","","","","","","",{"$f":"IF(ISNUMBER(F375),IF(AL375<0.85,\"\",VLOOKUP(M375,A!A$2:X$23,VLOOKUP(F375,ages!B$1:C$23,2,1),1)),\"\")","v":""},{"$f":"IF(ISNUMBER(F375),IF(AM375<0.85,\"\",VLOOKUP(N375,B!A$2:X$23,VLOOKUP(F375,ages!B$1:C$23,2,1),1)),\"\")","v":""},{"$f":"IF(ISNUMBER(F375),IF(AN375<0.85,\"\",VLOOKUP(O375,'C'!A$2:X$23,VLOOKUP(F375,ages!B$1:C$23,2,1),1)),\"\")","v":""},{"$f":"IF(ISNUMBER(F375),IF(AO375<0.85,\"\",VLOOKUP(P375,D!A$2:X$23,VLOOKUP(F375,ages!B$1:C$23,2,1),1)),\"\")","v":""},{"$f":"IF(ISNUMBER(F375),IF(AP375<0.85,\"\",VLOOKUP(Q375,E!A$2:X$23,VLOOKUP(F375,ages!B$1:C$23,2,1),1)),\"\")","v":""},{"$f":"IF(ISNUMBER(F375),IF(AQ375<0.85,\"\",VLOOKUP(R375,F!A$2:X$23,VLOOKUP(F375,ages!B$1:C$23,2,1),1)),\"\")","v":""},{"$f":"IF(ISNUMBER(F375),IF(AR375<0.85,\"\",VLOOKUP(S375,G!A$2:X$23,VLOOKUP(F375,ages!B$1:C$23,2,1),1)),\"\")","v":""},{"$f":"IF(ISNUMBER(F375),IF(AS375<0.85,\"\",VLOOKUP(T375,H!A$2:X$23,VLOOKUP(F375,ages!B$1:C$23,2,1),1)),\"\")","v":""},{"$f":"IF(ISNUMBER(F375),IF(AT375<0.85,\"\",VLOOKUP(U375,I!A$2:X$23,VLOOKUP(F375,ages!B$1:C$23,2,1),1)),\"\")","v":""},{"$f":"IF(ISNUMBER(F375),IF(AU375<0.85,\"\",VLOOKUP(V375,J!A$2:X$23,VLOOKUP(F375,ages!B$1:C$23,2,1),1)),\"\")","v":""},"","","","",-1.0000000000000002E-6,0,0,0,0,0,0,0,0,0,0,0,null,null,null,null,null,null,null,null,null,null,null,null,null,null,null,null,null,null,null,null,null,null,null,null,null,null,null,null,null,null,null,null,null,null,null,null,null,null,null,null,null,null,null,null,null,null,null,null,null,null,null,null,null,null,null,null,null,null,null,null,null,null,null,null,null,null,null,null,null,null,-9.9999999999999995E-7,-9.9999999999999995E-7,-9.9999999999999995E-7,-9.9999999999999995E-7,-9.9999999999999995E-7,-9.9999999999999995E-7,-9.9999999999999995E-7,-9.9999999999999995E-7,-9.9999999999999995E-7,-9.9999999999999995E-7,-9.9999999999999995E-7,-9.9999999999999995E-7,-9.9999999999999995E-7,-9.9999999999999995E-7,-9.9999999999999995E-7,-9.9999999999999995E-7,-9.9999999999999995E-7,-9.9999999999999995E-7,-9.9999999999999995E-7,-9.9999999999999995E-7,{"$f":"IF(ISERROR(VLOOKUP(F375,ages!B$1:B$23,1,1)),\"\",VLOOKUP(F375,ages!B$1:B$23,1,1))","v":""},{"$f":"IF(ISERROR(VLOOKUP(F375,ages!B$1:D$23,3,1)),\"\",VLOOKUP(F375,ages!B$1:D$23,3,1))","v":""},0,0,0,0,0]
[null,null,null,null,null,"",null,null,null,null,null,null,"","","","","","","","","","",{"$f":"IF(ISNUMBER(F380),IF(AL380<0.85,\"\",VLOOKUP(M380,A!A$2:X$23,VLOOKUP(F380,ages!B$1:C$23,2,1),1)),\"\")","v":""},{"$f":"IF(ISNUMBER(F380),IF(AM380<0.85,\"\",VLOOKUP(N380,B!A$2:X$23,VLOOKUP(F380,ages!B$1:C$23,2,1),1)),\"\")","v":""},{"$f":"IF(ISNUMBER(F380),IF(AN380<0.85,\"\",VLOOKUP(O380,'C'!A$2:X$23,VLOOKUP(F380,ages!B$1:C$23,2,1),1)),\"\")","v":""},{"$f":"IF(ISNUMBER(F380),IF(AO380<0.85,\"\",VLOOKUP(P380,D!A$2:X$23,VLOOKUP(F380,ages!B$1:C$23,2,1),1)),\"\")","v":""},{"$f":"IF(ISNUMBER(F380),IF(AP380<0.85,\"\",VLOOKUP(Q380,E!A$2:X$23,VLOOKUP(F380,ages!B$1:C$23,2,1),1)),\"\")","v":""},{"$f":"IF(ISNUMBER(F380),IF(AQ380<0.85,\"\",VLOOKUP(R380,F!A$2:X$23,VLOOKUP(F380,ages!B$1:C$23,2,1),1)),\"\")","v":""},{"$f":"IF(ISNUMBER(F380),IF(AR380<0.85,\"\",VLOOKUP(S380,G!A$2:X$23,VLOOKUP(F380,ages!B$1:C$23,2,1),1)),\"\")","v":""},{"$f":"IF(ISNUMBER(F380),IF(AS380<0.85,\"\",VLOOKUP(T380,H!A$2:X$23,VLOOKUP(F380,ages!B$1:C$23,2,1),1)),\"\")","v":""},{"$f":"IF(ISNUMBER(F380),IF(AT380<0.85,\"\",VLOOKUP(U380,I!A$2:X$23,VLOOKUP(F380,ages!B$1:C$23,2,1),1)),\"\")","v":""},{"$f":"IF(ISNUMBER(F380),IF(AU380<0.85,\"\",VLOOKUP(V380,J!A$2:X$23,VLOOKUP(F380,ages!B$1:C$23,2,1),1)),\"\")","v":""},"","","","",-1.0000000000000002E-6,0,0,0,0,0,0,0,0,0,0,0,null,null,null,null,null,null,null,null,null,null,null,null,null,null,null,null,null,null,null,null,null,null,null,null,null,null,null,null,null,null,null,null,null,null,null,null,null,null,null,null,null,null,null,null,null,null,null,null,null,null,null,null,null,null,null,null,null,null,null,null,null,null,null,null,null,null,null,null,null,null,-9.9999999999999995E-7,-9.9999999999999995E-7,-9.9999999999999995E-7,-9.9999999999999995E-7,-9.9999999999999995E-7,-9.9999999999999995E-7,-9.9999999999999995E-7,-9.9999999999999995E-7,-9.9999999999999995E-7,-9.9999999999999995E-7,-9.9999999999999995E-7,-9.9999999999999995E-7,-9.9999999999999995E-7,-9.9999999999999995E-7,-9.9999999999999995E-7,-9.9999999999999995E-7,-9.9999999999999995E-7,-9.9999999999999995E-7,-9.9999999999999995E-7,-9.9999999999999995E-7,{"$f":"IF(ISERROR(VLOOKUP(F380,ages!B$1:B$23,1,1)),\"\",VLOOKUP(F380,ages!B$1:B$23,1,1))","v":""},{"$f":"IF(ISERROR(VLOOKUP(F380,ages!B$1:D$23,3,1)),\"\",VLOOKUP(F380,ages!B$1:D$23,3,1))","v":""},0,0,0,0,0]
[null,null,null,null,null,"",null,null,null,null,null,null,"","","","","","","","","","",{"$f":"IF(ISNUMBER(F385),IF(AL385<0.85,\"\",VLOOKUP(M385,A!A$2:X$23,VLOOKUP(F385,ages!B$1:C$23,2,1),1)),\"\")","v":""},{"$f":"IF(ISNUMBER(F385),IF(AM385<0.85,\"\",VLOOKUP(N385,B!A$2:X$23,VLOOKUP(F385,ages!B$1:C$23,2,1),1)),\"\")","v":""},{"$f":"IF(ISNUMBER(F385),IF(AN385<0.85,\"\",VLOOKUP(O385,'C'!A$2:X$23,VLOOKUP(F385,ages!B$1:C$23,2,1),1)),\"\")","v":""},{"$f":"IF(ISNUMBER(F385),IF(AO385<0.85,\"\",VLOOKUP(P385,D!A$2:X$23,VLOOKUP(F385,ages!B$1:C$23,2,1),1)),\"\")","v":""},{"$f":"IF(ISNUMBER(F385),IF(AP385<0.85,\"\",VLOOKUP(Q385,E!A$2:X$23,VLOOKUP(F385,ages!B$1:C$23,2,1),1)),\"\")","v":""},{"$f":"IF(ISNUMBER(F385),IF(AQ385<0.85,\"\",VLOOKUP(R385,F!A$2:X$23,VLOOKUP(F385,ages!B$1:C$23,2,1),1)),\"\")","v":""},{"$f":"IF(ISNUMBER(F385),IF(AR385<0.85,\"\",VLOOKUP(S385,G!A$2:X$23,VLOOKUP(F385,ages!B$1:C$23,2,1),1)),\"\")","v":""},{"$f":"IF(ISNUMBER(F385),IF(AS385<0.85,\"\",VLOOKUP(T385,H!A$2:X$23,VLOOKUP(F385,ages!B$1:C$23,2,1),1)),\"\")","v":""},{"$f":"IF(ISNUMBER(F385),IF(AT385<0.85,\"\",VLOOKUP(U385,I!A$2:X$23,VLOOKUP(F385,ages!B$1:C$23,2,1),1)),\"\")","v":""},{"$f":"IF(ISNUMBER(F385),IF(AU385<0.85,\"\",VLOOKUP(V385,J!A$2:X$23,VLOOKUP(F385,ages!B$1:C$23,2,1),1)),\"\")","v":""},"","","","",-1.0000000000000002E-6,0,0,0,0,0,0,0,0,0,0,0,null,null,null,null,null,null,null,null,null,null,null,null,null,null,null,null,null,null,null,null,null,null,null,null,null,null,null,null,null,null,null,null,null,null,null,null,null,null,null,null,null,null,null,null,null,null,null,null,null,null,null,null,null,null,null,null,null,null,null,null,null,null,null,null,null,null,null,null,null,null,-9.9999999999999995E-7,-9.9999999999999995E-7,-9.9999999999999995E-7,-9.9999999999999995E-7,-9.9999999999999995E-7,-9.9999999999999995E-7,-9.9999999999999995E-7,-9.9999999999999995E-7,-9.9999999999999995E-7,-9.9999999999999995E-7,-9.9999999999999995E-7,-9.9999999999999995E-7,-9.9999999999999995E-7,-9.9999999999999995E-7,-9.9999999999999995E-7,-9.9999999999999995E-7,-9.9999999999999995E-7,-9.9999999999999995E-7,-9.9999999999999995E-7,-9.9999999999999995E-7,{"$f":"IF(ISERROR(VLOOKUP(F385,ages!B$1:B$23,1,1)),\"\",VLOOKUP(F385,ages!B$1:B$23,1,1))","v":""},{"$f":"IF(ISERROR(VLOOKUP(F385,ages!B$1:D$23,3,1)),\"\",VLOOKUP(F385,ages!B$1:D$23,3,1))","v":""},0,0,0,0,0]
[null,null,null,null,null,"",null,null,null,null,null,null,"","","","","","","","","","",{"$f":"IF(ISNUMBER(F391),IF(AL391<0.85,\"\",VLOOKUP(M391,A!A$2:X$23,VLOOKUP(F391,ages!B$1:C$23,2,1),1)),\"\")","v":""},{"$f":"IF(ISNUMBER(F391),IF(AM391<0.85,\"\",VLOOKUP(N391,B!A$2:X$23,VLOOKUP(F391,ages!B$1:C$23,2,1),1)),\"\")","v":""},{"$f":"IF(ISNUMBER(F391),IF(AN391<0.85,\"\",VLOOKUP(O391,'C'!A$2:X$23,VLOOKUP(F391,ages!B$1:C$23,2,1),1)),\"\")","v":""},{"$f":"IF(ISNUMBER(F391),IF(AO391<0.85,\"\",VLOOKUP(P391,D!A$2:X$23,VLOOKUP(F391,ages!B$1:C$23,2,1),1)),\"\")","v":""},{"$f":"IF(ISNUMBER(F391),IF(AP391<0.85,\"\",VLOOKUP(Q391,E!A$2:X$23,VLOOKUP(F391,ages!B$1:C$23,2,1),1)),\"\")","v":""},{"$f":"IF(ISNUMBER(F391),IF(AQ391<0.85,\"\",VLOOKUP(R391,F!A$2:X$23,VLOOKUP(F391,ages!B$1:C$23,2,1),1)),\"\")","v":""},{"$f":"IF(ISNUMBER(F391),IF(AR391<0.85,\"\",VLOOKUP(S391,G!A$2:X$23,VLOOKUP(F391,ages!B$1:C$23,2,1),1)),\"\")","v":""},{"$f":"IF(ISNUMBER(F391),IF(AS391<0.85,\"\",VLOOKUP(T391,H!A$2:X$23,VLOOKUP(F391,ages!B$1:C$23,2,1),1)),\"\")","v":""},{"$f":"IF(ISNUMBER(F391),IF(AT391<0.85,\"\",VLOOKUP(U391,I!A$2:X$23,VLOOKUP(F391,ages!B$1:C$23,2,1),1)),\"\")","v":""},{"$f":"IF(ISNUMBER(F391),IF(AU391<0.85,\"\",VLOOKUP(V391,J!A$2:X$23,VLOOKUP(F391,ages!B$1:C$23,2,1),1)),\"\")","v":""},"","","","",-1.0000000000000002E-6,0,0,0,0,0,0,0,0,0,0,0,null,null,null,null,null,null,null,null,null,null,null,null,null,null,null,null,null,null,null,null,null,null,null,null,null,null,null,null,null,null,null,null,null,null,null,null,null,null,null,null,null,null,null,null,null,null,null,null,null,null,null,null,null,null,null,null,null,null,null,null,null,null,null,null,null,null,null,null,null,null,-9.9999999999999995E-7,-9.9999999999999995E-7,-9.9999999999999995E-7,-9.9999999999999995E-7,-9.9999999999999995E-7,-9.9999999999999995E-7,-9.9999999999999995E-7,-9.9999999999999995E-7,-9.9999999999999995E-7,-9.9999999999999995E-7,-9.9999999999999995E-7,-9.9999999999999995E-7,-9.9999999999999995E-7,-9.9999999999999995E-7,-9.9999999999999995E-7,-9.9999999999999995E-7,-9.9999999999999995E-7,-9.9999999999999995E-7,-9.9999999999999995E-7,-9.9999999999999995E-7,{"$f":"IF(ISERROR(VLOOKUP(F391,ages!B$1:B$23,1,1)),\"\",VLOOKUP(F391,ages!B$1:B$23,1,1))","v":""},{"$f":"IF(ISERROR(VLOOKUP(F391,ages!B$1:D$23,3,1)),\"\",VLOOKUP(F391,ages!B$1:D$23,3,1))","v":""},0,0,0,0,0]
[null,null,null,null,null,"",null,null,null,null,null,null,"","","","","","","","","","",{"$f":"IF(ISNUMBER(F396),IF(AL396<0.85,\"\",VLOOKUP(M396,A!A$2:X$23,VLOOKUP(F396,ages!B$1:C$23,2,1),1)),\"\")","v":""},{"$f":"IF(ISNUMBER(F396),IF(AM396<0.85,\"\",VLOOKUP(N396,B!A$2:X$23,VLOOKUP(F396,ages!B$1:C$23,2,1),1)),\"\")","v":""},{"$f":"IF(ISNUMBER(F396),IF(AN396<0.85,\"\",VLOOKUP(O396,'C'!A$2:X$23,VLOOKUP(F396,ages!B$1:C$23,2,1),1)),\"\")","v":""},{"$f":"IF(ISNUMBER(F396),IF(AO396<0.85,\"\",VLOOKUP(P396,D!A$2:X$23,VLOOKUP(F396,ages!B$1:C$23,2,1),1)),\"\")","v":""},{"$f":"IF(ISNUMBER(F396),IF(AP396<0.85,\"\",VLOOKUP(Q396,E!A$2:X$23,VLOOKUP(F396,ages!B$1:C$23,2,1),1)),\"\")","v":""},{"$f":"IF(ISNUMBER(F396),IF(AQ396<0.85,\"\",VLOOKUP(R396,F!A$2:X$23,VLOOKUP(F396,ages!B$1:C$23,2,1),1)),\"\")","v":""},{"$f":"IF(ISNUMBER(F396),IF(AR396<0.85,\"\",VLOOKUP(S396,G!A$2:X$23,VLOOKUP(F396,ages!B$1:C$23,2,1),1)),\"\")","v":""},{"$f":"IF(ISNUMBER(F396),IF(AS396<0.85,\"\",VLOOKUP(T396,H!A$2:X$23,VLOOKUP(F396,ages!B$1:C$23,2,1),1)),\"\")","v":""},{"$f":"IF(ISNUMBER(F396),IF(AT396<0.85,\"\",VLOOKUP(U396,I!A$2:X$23,VLOOKUP(F396,ages!B$1:C$23,2,1),1)),\"\")","v":""},{"$f":"IF(ISNUMBER(F396),IF(AU396<0.85,\"\",VLOOKUP(V396,J!A$2:X$23,VLOOKUP(F396,ages!B$1:C$23,2,1),1)),\"\")","v":""},"","","","",-1.0000000000000002E-6,0,0,0,0,0,0,0,0,0,0,0,null,null,null,null,null,null,null,null,null,null,null,null,null,null,null,null,null,null,null,null,null,null,null,null,null,null,null,null,null,null,null,null,null,null,null,null,null,null,null,null,null,null,null,null,null,null,null,null,null,null,null,null,null,null,null,null,null,null,null,null,null,null,null,null,null,null,null,null,null,null,-9.9999999999999995E-7,-9.9999999999999995E-7,-9.9999999999999995E-7,-9.9999999999999995E-7,-9.9999999999999995E-7,-9.9999999999999995E-7,-9.9999999999999995E-7,-9.9999999999999995E-7,-9.9999999999999995E-7,-9.9999999999999995E-7,-9.9999999999999995E-7,-9.9999999999999995E-7,-9.9999999999999995E-7,-9.9999999999999995E-7,-9.9999999999999995E-7,-9.9999999999999995E-7,-9.9999999999999995E-7,-9.9999999999999995E-7,-9.9999999999999995E-7,-9.9999999999999995E-7,{"$f":"IF(ISERROR(VLOOKUP(F396,ages!B$1:B$23,1,1)),\"\",VLOOKUP(F396,ages!B$1:B$23,1,1))","v":""},{"$f":"IF(ISERROR(VLOOKUP(F396,ages!B$1:D$23,3,1)),\"\",VLOOKUP(F396,ages!B$1:D$23,3,1))","v":""},0,0,0,0,0]
[null,null,null,null,null,"",null,null,null,null,null,null,"","","","","","","","","","",{"$f":"IF(ISNUMBER(F399),IF(AL399<0.85,\"\",VLOOKUP(M399,A!A$2:X$23,VLOOKUP(F399,ages!B$1:C$23,2,1),1)),\"\")","v":""},{"$f":"IF(ISNUMBER(F399),IF(AM399<0.85,\"\",VLOOKUP(N399,B!A$2:X$23,VLOOKUP(F399,ages!B$1:C$23,2,1),1)),\"\")","v":""},{"$f":"IF(ISNUMBER(F399),IF(AN399<0.85,\"\",VLOOKUP(O399,'C'!A$2:X$23,VLOOKUP(F399,ages!B$1:C$23,2,1),1)),\"\")","v":""},{"$f":"IF(ISNUMBER(F399),IF(AO399<0.85,\"\",VLOOKUP(P399,D!A$2:X$23,VLOOKUP(F399,ages!B$1:C$23,2,1),1)),\"\")","v":""},{"$f":"IF(ISNUMBER(F399),IF(AP399<0.85,\"\",VLOOKUP(Q399,E!A$2:X$23,VLOOKUP(F399,ages!B$1:C$23,2,1),1)),\"\")","v":""},{"$f":"IF(ISNUMBER(F399),IF(AQ399<0.85,\"\",VLOOKUP(R399,F!A$2:X$23,VLOOKUP(F399,ages!B$1:C$23,2,1),1)),\"\")","v":""},{"$f":"IF(ISNUMBER(F399),IF(AR399<0.85,\"\",VLOOKUP(S399,G!A$2:X$23,VLOOKUP(F399,ages!B$1:C$23,2,1),1)),\"\")","v":""},{"$f":"IF(ISNUMBER(F399),IF(AS399<0.85,\"\",VLOOKUP(T399,H!A$2:X$23,VLOOKUP(F399,ages!B$1:C$23,2,1),1)),\"\")","v":""},{"$f":"IF(ISNUMBER(F399),IF(AT399<0.85,\"\",VLOOKUP(U399,I!A$2:X$23,VLOOKUP(F399,ages!B$1:C$23,2,1),1)),\"\")","v":""},{"$f":"IF(ISNUMBER(F399),IF(AU399<0.85,\"\",VLOOKUP(V399,J!A$2:X$23,VLOOKUP(F399,ages!B$1:C$23,2,1),1)),\"\")","v":""},"","","","",-1.0000000000000002E-6,0,0,0,0,0,0,0,0,0,0,0,null,null,null,null,null,null,null,null,null,null,null,null,null,null,null,null,null,null,null,null,null,null,null,null,null,null,null,null,null,null,null,null,null,null,null,null,null,null,null,null,null,null,null,null,null,null,null,null,null,null,null,null,null,null,null,null,null,null,null,null,null,null,null,null,null,null,null,null,null,null,-9.9999999999999995E-7,-9.9999999999999995E-7,-9.9999999999999995E-7,-9.9999999999999995E-7,-9.9999999999999995E-7,-9.9999999999999995E-7,-9.9999999999999995E-7,-9.9999999999999995E-7,-9.9999999999999995E-7,-9.9999999999999995E-7,-9.9999999999999995E-7,-9.9999999999999995E-7,-9.9999999999999995E-7,-9.9999999999999995E-7,-9.9999999999999995E-7,-9.9999999999999995E-7,-9.9999999999999995E-7,-9.9999999999999995E-7,-9.9999999999999995E-7,-9.9999999999999995E-7,{"$f":"IF(ISERROR(VLOOKUP(F399,ages!B$1:B$23,1,1)),\"\",VLOOKUP(F399,ages!B$1:B$23,1,1))","v":""},{"$f":"IF(ISERROR(VLOOKUP(F399,ages!B$1:D$23,3,1)),\"\",VLOOKUP(F399,ages!B$1:D$23,3,1))","v":""},0,0,0,0,0]
[null,null,null,null,null,"",null,null,null,null,null,null,"","","","","","","","","","",{"$f":"IF(ISNUMBER(F406),IF(AL406<0.85,\"\",VLOOKUP(M406,A!A$2:X$23,VLOOKUP(F406,ages!B$1:C$23,2,1),1)),\"\")","v":""},{"$f":"IF(ISNUMBER(F406),IF(AM406<0.85,\"\",VLOOKUP(N406,B!A$2:X$23,VLOOKUP(F406,ages!B$1:C$23,2,1),1)),\"\")","v":""},{"$f":"IF(ISNUMBER(F406),IF(AN406<0.85,\"\",VLOOKUP(O406,'C'!A$2:X$23,VLOOKUP(F406,ages!B$1:C$23,2,1),1)),\"\")","v":""},{"$f":"IF(ISNUMBER(F406),IF(AO406<0.85,\"\",VLOOKUP(P406,D!A$2:X$23,VLOOKUP(F406,ages!B$1:C$23,2,1),1)),\"\")","v":""},{"$f":"IF(ISNUMBER(F406),IF(AP406<0.85,\"\",VLOOKUP(Q406,E!A$2:X$23,VLOOKUP(F406,ages!B$1:C$23,2,1),1)),\"\")","v":""},{"$f":"IF(ISNUMBER(F406),IF(AQ406<0.85,\"\",VLOOKUP(R406,F!A$2:X$23,VLOOKUP(F406,ages!B$1:C$23,2,1),1)),\"\")","v":""},{"$f":"IF(ISNUMBER(F406),IF(AR406<0.85,\"\",VLOOKUP(S406,G!A$2:X$23,VLOOKUP(F406,ages!B$1:C$23,2,1),1)),\"\")","v":""},{"$f":"IF(ISNUMBER(F406),IF(AS406<0.85,\"\",VLOOKUP(T406,H!A$2:X$23,VLOOKUP(F406,ages!B$1:C$23,2,1),1)),\"\")","v":""},{"$f":"IF(ISNUMBER(F406),IF(AT406<0.85,\"\",VLOOKUP(U406,I!A$2:X$23,VLOOKUP(F406,ages!B$1:C$23,2,1),1)),\"\")","v":""},{"$f":"IF(ISNUMBER(F406),IF(AU406<0.85,\"\",VLOOKUP(V406,J!A$2:X$23,VLOOKUP(F406,ages!B$1:C$23,2,1),1)),\"\")","v":""},"","","","",-1.0000000000000002E-6,0,0,0,0,0,0,0,0,0,0,0,null,null,null,null,null,null,null,null,null,null,null,null,null,null,null,null,null,null,null,null,null,null,null,null,null,null,null,null,null,null,null,null,null,null,null,null,null,null,null,null,null,null,null,null,null,null,null,null,null,null,null,null,null,null,null,null,null,null,null,null,null,null,null,null,null,null,null,null,null,null,-9.9999999999999995E-7,-9.9999999999999995E-7,-9.9999999999999995E-7,-9.9999999999999995E-7,-9.9999999999999995E-7,-9.9999999999999995E-7,-9.9999999999999995E-7,-9.9999999999999995E-7,-9.9999999999999995E-7,-9.9999999999999995E-7,-9.9999999999999995E-7,-9.9999999999999995E-7,-9.9999999999999995E-7,-9.9999999999999995E-7,-9.9999999999999995E-7,-9.9999999999999995E-7,-9.9999999999999995E-7,-9.9999999999999995E-7,-9.9999999999999995E-7,-9.9999999999999995E-7,{"$f":"IF(ISERROR(VLOOKUP(F406,ages!B$1:B$23,1,1)),\"\",VLOOKUP(F406,ages!B$1:B$23,1,1))","v":""},{"$f":"IF(ISERROR(VLOOKUP(F406,ages!B$1:D$23,3,1)),\"\",VLOOKUP(F406,ages!B$1:D$23,3,1))","v":""},0,0,0,0,0]
[null,null,null,null,null,"",null,null,null,null,null,null,"","","","","","","","","","",{"$f":"IF(ISNUMBER(F411),IF(AL411<0.85,\"\",VLOOKUP(M411,A!A$2:X$23,VLOOKUP(F411,ages!B$1:C$23,2,1),1)),\"\")","v":""},{"$f":"IF(ISNUMBER(F411),IF(AM411<0.85,\"\",VLOOKUP(N411,B!A$2:X$23,VLOOKUP(F411,ages!B$1:C$23,2,1),1)),\"\")","v":""},{"$f":"IF(ISNUMBER(F411),IF(AN411<0.85,\"\",VLOOKUP(O411,'C'!A$2:X$23,VLOOKUP(F411,ages!B$1:C$23,2,1),1)),\"\")","v":""},{"$f":"IF(ISNUMBER(F411),IF(AO411<0.85,\"\",VLOOKUP(P411,D!A$2:X$23,VLOOKUP(F411,ages!B$1:C$23,2,1),1)),\"\")","v":""},{"$f":"IF(ISNUMBER(F411),IF(AP411<0.85,\"\",VLOOKUP(Q411,E!A$2:X$23,VLOOKUP(F411,ages!B$1:C$23,2,1),1)),\"\")","v":""},{"$f":"IF(ISNUMBER(F411),IF(AQ411<0.85,\"\",VLOOKUP(R411,F!A$2:X$23,VLOOKUP(F411,ages!B$1:C$23,2,1),1)),\"\")","v":""},{"$f":"IF(ISNUMBER(F411),IF(AR411<0.85,\"\",VLOOKUP(S411,G!A$2:X$23,VLOOKUP(F411,ages!B$1:C$23,2,1),1)),\"\")","v":""},{"$f":"IF(ISNUMBER(F411),IF(AS411<0.85,\"\",VLOOKUP(T411,H!A$2:X$23,VLOOKUP(F411,ages!B$1:C$23,2,1),1)),\"\")","v":""},{"$f":"IF(ISNUMBER(F411),IF(AT411<0.85,\"\",VLOOKUP(U411,I!A$2:X$23,VLOOKUP(F411,ages!B$1:C$23,2,1),1)),\"\")","v":""},{"$f":"IF(ISNUMBER(F411),IF(AU411<0.85,\"\",VLOOKUP(V411,J!A$2:X$23,VLOOKUP(F411,ages!B$1:C$23,2,1),1)),\"\")","v":""},"","","","",-1.0000000000000002E-6,0,0,0,0,0,0,0,0,0,0,0,null,null,null,null,null,null,null,null,null,null,null,null,null,null,null,null,null,null,null,null,null,null,null,null,null,null,null,null,null,null,null,null,null,null,null,null,null,null,null,null,null,null,null,null,null,null,null,null,null,null,null,null,null,null,null,null,null,null,null,null,null,null,null,null,null,null,null,null,null,null,-9.9999999999999995E-7,-9.9999999999999995E-7,-9.9999999999999995E-7,-9.9999999999999995E-7,-9.9999999999999995E-7,-9.9999999999999995E-7,-9.9999999999999995E-7,-9.9999999999999995E-7,-9.9999999999999995E-7,-9.9999999999999995E-7,-9.9999999999999995E-7,-9.9999999999999995E-7,-9.9999999999999995E-7,-9.9999999999999995E-7,-9.9999999999999995E-7,-9.9999999999999995E-7,-9.9999999999999995E-7,-9.9999999999999995E-7,-9.9999999999999995E-7,-9.9999999999999995E-7,{"$f":"IF(ISERROR(VLOOKUP(F411,ages!B$1:B$23,1,1)),\"\",VLOOKUP(F411,ages!B$1:B$23,1,1))","v":""},{"$f":"IF(ISERROR(VLOOKUP(F411,ages!B$1:D$23,3,1)),\"\",VLOOKUP(F411,ages!B$1:D$23,3,1))","v":""},0,0,0,0,0]
[null,null,null,null,null,"",null,null,null,null,null,null,"","","","","","","","","","",{"$f":"IF(ISNUMBER(F416),IF(AL416<0.85,\"\",VLOOKUP(M416,A!A$2:X$23,VLOOKUP(F416,ages!B$1:C$23,2,1),1)),\"\")","v":""},{"$f":"IF(ISNUMBER(F416),IF(AM416<0.85,\"\",VLOOKUP(N416,B!A$2:X$23,VLOOKUP(F416,ages!B$1:C$23,2,1),1)),\"\")","v":""},{"$f":"IF(ISNUMBER(F416),IF(AN416<0.85,\"\",VLOOKUP(O416,'C'!A$2:X$23,VLOOKUP(F416,ages!B$1:C$23,2,1),1)),\"\")","v":""},{"$f":"IF(ISNUMBER(F416),IF(AO416<0.85,\"\",VLOOKUP(P416,D!A$2:X$23,VLOOKUP(F416,ages!B$1:C$23,2,1),1)),\"\")","v":""},{"$f":"IF(ISNUMBER(F416),IF(AP416<0.85,\"\",VLOOKUP(Q416,E!A$2:X$23,VLOOKUP(F416,ages!B$1:C$23,2,1),1)),\"\")","v":""},{"$f":"IF(ISNUMBER(F416),IF(AQ416<0.85,\"\",VLOOKUP(R416,F!A$2:X$23,VLOOKUP(F416,ages!B$1:C$23,2,1),1)),\"\")","v":""},{"$f":"IF(ISNUMBER(F416),IF(AR416<0.85,\"\",VLOOKUP(S416,G!A$2:X$23,VLOOKUP(F416,ages!B$1:C$23,2,1),1)),\"\")","v":""},{"$f":"IF(ISNUMBER(F416),IF(AS416<0.85,\"\",VLOOKUP(T416,H!A$2:X$23,VLOOKUP(F416,ages!B$1:C$23,2,1),1)),\"\")","v":""},{"$f":"IF(ISNUMBER(F416),IF(AT416<0.85,\"\",VLOOKUP(U416,I!A$2:X$23,VLOOKUP(F416,ages!B$1:C$23,2,1),1)),\"\")","v":""},{"$f":"IF(ISNUMBER(F416),IF(AU416<0.85,\"\",VLOOKUP(V416,J!A$2:X$23,VLOOKUP(F416,ages!B$1:C$23,2,1),1)),\"\")","v":""},"","","","",-1.0000000000000002E-6,0,0,0,0,0,0,0,0,0,0,0,null,null,null,null,null,null,null,null,null,null,null,null,null,null,null,null,null,null,null,null,null,null,null,null,null,null,null,null,null,null,null,null,null,null,null,null,null,null,null,null,null,null,null,null,null,null,null,null,null,null,null,null,null,null,null,null,null,null,null,null,null,null,null,null,null,null,null,null,null,null,-9.9999999999999995E-7,-9.9999999999999995E-7,-9.9999999999999995E-7,-9.9999999999999995E-7,-9.9999999999999995E-7,-9.9999999999999995E-7,-9.9999999999999995E-7,-9.9999999999999995E-7,-9.9999999999999995E-7,-9.9999999999999995E-7,-9.9999999999999995E-7,-9.9999999999999995E-7,-9.9999999999999995E-7,-9.9999999999999995E-7,-9.9999999999999995E-7,-9.9999999999999995E-7,-9.9999999999999995E-7,-9.9999999999999995E-7,-9.9999999999999995E-7,-9.9999999999999995E-7,{"$f":"IF(ISERROR(VLOOKUP(F416,ages!B$1:B$23,1,1)),\"\",VLOOKUP(F416,ages!B$1:B$23,1,1))","v":""},{"$f":"IF(ISERROR(VLOOKUP(F416,ages!B$1:D$23,3,1)),\"\",VLOOKUP(F416,ages!B$1:D$23,3,1))","v":""},0,0,0,0,0]
[null,null,null,null,null,"",null,null,null,null,null,null,"","","","","","","","","","",{"$f":"IF(ISNUMBER(F422),IF(AL422<0.85,\"\",VLOOKUP(M422,A!A$2:X$23,VLOOKUP(F422,ages!B$1:C$23,2,1),1)),\"\")","v":""},{"$f":"IF(ISNUMBER(F422),IF(AM422<0.85,\"\",VLOOKUP(N422,B!A$2:X$23,VLOOKUP(F422,ages!B$1:C$23,2,1),1)),\"\")","v":""},{"$f":"IF(ISNUMBER(F422),IF(AN422<0.85,\"\",VLOOKUP(O422,'C'!A$2:X$23,VLOOKUP(F422,ages!B$1:C$23,2,1),1)),\"\")","v":""},{"$f":"IF(ISNUMBER(F422),IF(AO422<0.85,\"\",VLOOKUP(P422,D!A$2:X$23,VLOOKUP(F422,ages!B$1:C$23,2,1),1)),\"\")","v":""},{"$f":"IF(ISNUMBER(F422),IF(AP422<0.85,\"\",VLOOKUP(Q422,E!A$2:X$23,VLOOKUP(F422,ages!B$1:C$23,2,1),1)),\"\")","v":""},{"$f":"IF(ISNUMBER(F422),IF(AQ422<0.85,\"\",VLOOKUP(R422,F!A$2:X$23,VLOOKUP(F422,ages!B$1:C$23,2,1),1)),\"\")","v":""},{"$f":"IF(ISNUMBER(F422),IF(AR422<0.85,\"\",VLOOKUP(S422,G!A$2:X$23,VLOOKUP(F422,ages!B$1:C$23,2,1),1)),\"\")","v":""},{"$f":"IF(ISNUMBER(F422),IF(AS422<0.85,\"\",VLOOKUP(T422,H!A$2:X$23,VLOOKUP(F422,ages!B$1:C$23,2,1),1)),\"\")","v":""},{"$f":"IF(ISNUMBER(F422),IF(AT422<0.85,\"\",VLOOKUP(U422,I!A$2:X$23,VLOOKUP(F422,ages!B$1:C$23,2,1),1)),\"\")","v":""},{"$f":"IF(ISNUMBER(F422),IF(AU422<0.85,\"\",VLOOKUP(V422,J!A$2:X$23,VLOOKUP(F422,ages!B$1:C$23,2,1),1)),\"\")","v":""},"","","","",-1.0000000000000002E-6,0,0,0,0,0,0,0,0,0,0,0,null,null,null,null,null,null,null,null,null,null,null,null,null,null,null,null,null,null,null,null,null,null,null,null,null,null,null,null,null,null,null,null,null,null,null,null,null,null,null,null,null,null,null,null,null,null,null,null,null,null,null,null,null,null,null,null,null,null,null,null,null,null,null,null,null,null,null,null,null,null,-9.9999999999999995E-7,-9.9999999999999995E-7,-9.9999999999999995E-7,-9.9999999999999995E-7,-9.9999999999999995E-7,-9.9999999999999995E-7,-9.9999999999999995E-7,-9.9999999999999995E-7,-9.9999999999999995E-7,-9.9999999999999995E-7,-9.9999999999999995E-7,-9.9999999999999995E-7,-9.9999999999999995E-7,-9.9999999999999995E-7,-9.9999999999999995E-7,-9.9999999999999995E-7,-9.9999999999999995E-7,-9.9999999999999995E-7,-9.9999999999999995E-7,-9.9999999999999995E-7,{"$f":"IF(ISERROR(VLOOKUP(F422,ages!B$1:B$23,1,1)),\"\",VLOOKUP(F422,ages!B$1:B$23,1,1))","v":""},{"$f":"IF(ISERROR(VLOOKUP(F422,ages!B$1:D$23,3,1)),\"\",VLOOKUP(F422,ages!B$1:D$23,3,1))","v":""},0,0,0,0,0]
[null,null,null,null,null,"",null,null,null,null,null,null,"","","","","","","","","","",{"$f":"IF(ISNUMBER(F424),IF(AL424<0.85,\"\",VLOOKUP(M424,A!A$2:X$23,VLOOKUP(F424,ages!B$1:C$23,2,1),1)),\"\")","v":""},{"$f":"IF(ISNUMBER(F424),IF(AM424<0.85,\"\",VLOOKUP(N424,B!A$2:X$23,VLOOKUP(F424,ages!B$1:C$23,2,1),1)),\"\")","v":""},{"$f":"IF(ISNUMBER(F424),IF(AN424<0.85,\"\",VLOOKUP(O424,'C'!A$2:X$23,VLOOKUP(F424,ages!B$1:C$23,2,1),1)),\"\")","v":""},{"$f":"IF(ISNUMBER(F424),IF(AO424<0.85,\"\",VLOOKUP(P424,D!A$2:X$23,VLOOKUP(F424,ages!B$1:C$23,2,1),1)),\"\")","v":""},{"$f":"IF(ISNUMBER(F424),IF(AP424<0.85,\"\",VLOOKUP(Q424,E!A$2:X$23,VLOOKUP(F424,ages!B$1:C$23,2,1),1)),\"\")","v":""},{"$f":"IF(ISNUMBER(F424),IF(AQ424<0.85,\"\",VLOOKUP(R424,F!A$2:X$23,VLOOKUP(F424,ages!B$1:C$23,2,1),1)),\"\")","v":""},{"$f":"IF(ISNUMBER(F424),IF(AR424<0.85,\"\",VLOOKUP(S424,G!A$2:X$23,VLOOKUP(F424,ages!B$1:C$23,2,1),1)),\"\")","v":""},{"$f":"IF(ISNUMBER(F424),IF(AS424<0.85,\"\",VLOOKUP(T424,H!A$2:X$23,VLOOKUP(F424,ages!B$1:C$23,2,1),1)),\"\")","v":""},{"$f":"IF(ISNUMBER(F424),IF(AT424<0.85,\"\",VLOOKUP(U424,I!A$2:X$23,VLOOKUP(F424,ages!B$1:C$23,2,1),1)),\"\")","v":""},{"$f":"IF(ISNUMBER(F424),IF(AU424<0.85,\"\",VLOOKUP(V424,J!A$2:X$23,VLOOKUP(F424,ages!B$1:C$23,2,1),1)),\"\")","v":""},"","","","",-1.0000000000000002E-6,0,0,0,0,0,0,0,0,0,0,0,null,null,null,null,null,null,null,null,null,null,null,null,null,null,null,null,null,null,null,null,null,null,null,null,null,null,null,null,null,null,null,null,null,null,null,null,null,null,null,null,null,null,null,null,null,null,null,null,null,null,null,null,null,null,null,null,null,null,null,null,null,null,null,null,null,null,null,null,null,null,-9.9999999999999995E-7,-9.9999999999999995E-7,-9.9999999999999995E-7,-9.9999999999999995E-7,-9.9999999999999995E-7,-9.9999999999999995E-7,-9.9999999999999995E-7,-9.9999999999999995E-7,-9.9999999999999995E-7,-9.9999999999999995E-7,-9.9999999999999995E-7,-9.9999999999999995E-7,-9.9999999999999995E-7,-9.9999999999999995E-7,-9.9999999999999995E-7,-9.9999999999999995E-7,-9.9999999999999995E-7,-9.9999999999999995E-7,-9.9999999999999995E-7,-9.9999999999999995E-7,{"$f":"IF(ISERROR(VLOOKUP(F424,ages!B$1:B$23,1,1)),\"\",VLOOKUP(F424,ages!B$1:B$23,1,1))","v":""},{"$f":"IF(ISERROR(VLOOKUP(F424,ages!B$1:D$23,3,1)),\"\",VLOOKUP(F424,ages!B$1:D$23,3,1))","v":""},0,0,0,0,0]
[null,null,null,null,null,"",null,null,null,null,null,null,"","","","","","","","","","",{"$f":"IF(ISNUMBER(F427),IF(AL427<0.85,\"\",VLOOKUP(M427,A!A$2:X$23,VLOOKUP(F427,ages!B$1:C$23,2,1),1)),\"\")","v":""},{"$f":"IF(ISNUMBER(F427),IF(AM427<0.85,\"\",VLOOKUP(N427,B!A$2:X$23,VLOOKUP(F427,ages!B$1:C$23,2,1),1)),\"\")","v":""},{"$f":"IF(ISNUMBER(F427),IF(AN427<0.85,\"\",VLOOKUP(O427,'C'!A$2:X$23,VLOOKUP(F427,ages!B$1:C$23,2,1),1)),\"\")","v":""},{"$f":"IF(ISNUMBER(F427),IF(AO427<0.85,\"\",VLOOKUP(P427,D!A$2:X$23,VLOOKUP(F427,ages!B$1:C$23,2,1),1)),\"\")","v":""},{"$f":"IF(ISNUMBER(F427),IF(AP427<0.85,\"\",VLOOKUP(Q427,E!A$2:X$23,VLOOKUP(F427,ages!B$1:C$23,2,1),1)),\"\")","v":""},{"$f":"IF(ISNUMBER(F427),IF(AQ427<0.85,\"\",VLOOKUP(R427,F!A$2:X$23,VLOOKUP(F427,ages!B$1:C$23,2,1),1)),\"\")","v":""},{"$f":"IF(ISNUMBER(F427),IF(AR427<0.85,\"\",VLOOKUP(S427,G!A$2:X$23,VLOOKUP(F427,ages!B$1:C$23,2,1),1)),\"\")","v":""},{"$f":"IF(ISNUMBER(F427),IF(AS427<0.85,\"\",VLOOKUP(T427,H!A$2:X$23,VLOOKUP(F427,ages!B$1:C$23,2,1),1)),\"\")","v":""},{"$f":"IF(ISNUMBER(F427),IF(AT427<0.85,\"\",VLOOKUP(U427,I!A$2:X$23,VLOOKUP(F427,ages!B$1:C$23,2,1),1)),\"\")","v":""},{"$f":"IF(ISNUMBER(F427),IF(AU427<0.85,\"\",VLOOKUP(V427,J!A$2:X$23,VLOOKUP(F427,ages!B$1:C$23,2,1),1)),\"\")","v":""},"","","","",-1.0000000000000002E-6,0,0,0,0,0,0,0,0,0,0,0,null,null,null,null,null,null,null,null,null,null,null,null,null,null,null,null,null,null,null,null,null,null,null,null,null,null,null,null,null,null,null,null,null,null,null,null,null,null,null,null,null,null,null,null,null,null,null,null,null,null,null,null,null,null,null,null,null,null,null,null,null,null,null,null,null,null,null,null,null,null,-9.9999999999999995E-7,-9.9999999999999995E-7,-9.9999999999999995E-7,-9.9999999999999995E-7,-9.9999999999999995E-7,-9.9999999999999995E-7,-9.9999999999999995E-7,-9.9999999999999995E-7,-9.9999999999999995E-7,-9.9999999999999995E-7,-9.9999999999999995E-7,-9.9999999999999995E-7,-9.9999999999999995E-7,-9.9999999999999995E-7,-9.9999999999999995E-7,-9.9999999999999995E-7,-9.9999999999999995E-7,-9.9999999999999995E-7,-9.9999999999999995E-7,-9.9999999999999995E-7,{"$f":"IF(ISERROR(VLOOKUP(F427,ages!B$1:B$23,1,1)),\"\",VLOOKUP(F427,ages!B$1:B$23,1,1))","v":""},{"$f":"IF(ISERROR(VLOOKUP(F427,ages!B$1:D$23,3,1)),\"\",VLOOKUP(F427,ages!B$1:D$23,3,1))","v":""},0,0,0,0,0]
[null,null,null,null,null,"",null,null,null,null,null,null,"","","","","","","","","","",{"$f":"IF(ISNUMBER(F432),IF(AL432<0.85,\"\",VLOOKUP(M432,A!A$2:X$23,VLOOKUP(F432,ages!B$1:C$23,2,1),1)),\"\")","v":""},{"$f":"IF(ISNUMBER(F432),IF(AM432<0.85,\"\",VLOOKUP(N432,B!A$2:X$23,VLOOKUP(F432,ages!B$1:C$23,2,1),1)),\"\")","v":""},{"$f":"IF(ISNUMBER(F432),IF(AN432<0.85,\"\",VLOOKUP(O432,'C'!A$2:X$23,VLOOKUP(F432,ages!B$1:C$23,2,1),1)),\"\")","v":""},{"$f":"IF(ISNUMBER(F432),IF(AO432<0.85,\"\",VLOOKUP(P432,D!A$2:X$23,VLOOKUP(F432,ages!B$1:C$23,2,1),1)),\"\")","v":""},{"$f":"IF(ISNUMBER(F432),IF(AP432<0.85,\"\",VLOOKUP(Q432,E!A$2:X$23,VLOOKUP(F432,ages!B$1:C$23,2,1),1)),\"\")","v":""},{"$f":"IF(ISNUMBER(F432),IF(AQ432<0.85,\"\",VLOOKUP(R432,F!A$2:X$23,VLOOKUP(F432,ages!B$1:C$23,2,1),1)),\"\")","v":""},{"$f":"IF(ISNUMBER(F432),IF(AR432<0.85,\"\",VLOOKUP(S432,G!A$2:X$23,VLOOKUP(F432,ages!B$1:C$23,2,1),1)),\"\")","v":""},{"$f":"IF(ISNUMBER(F432),IF(AS432<0.85,\"\",VLOOKUP(T432,H!A$2:X$23,VLOOKUP(F432,ages!B$1:C$23,2,1),1)),\"\")","v":""},{"$f":"IF(ISNUMBER(F432),IF(AT432<0.85,\"\",VLOOKUP(U432,I!A$2:X$23,VLOOKUP(F432,ages!B$1:C$23,2,1),1)),\"\")","v":""},{"$f":"IF(ISNUMBER(F432),IF(AU432<0.85,\"\",VLOOKUP(V432,J!A$2:X$23,VLOOKUP(F432,ages!B$1:C$23,2,1),1)),\"\")","v":""},"","","","",-1.0000000000000002E-6,0,0,0,0,0,0,0,0,0,0,0,null,null,null,null,null,null,null,null,null,null,null,null,null,null,null,null,null,null,null,null,null,null,null,null,null,null,null,null,null,null,null,null,null,null,null,null,null,null,null,null,null,null,null,null,null,null,null,null,null,null,null,null,null,null,null,null,null,null,null,null,null,null,null,null,null,null,null,null,null,null,-9.9999999999999995E-7,-9.9999999999999995E-7,-9.9999999999999995E-7,-9.9999999999999995E-7,-9.9999999999999995E-7,-9.9999999999999995E-7,-9.9999999999999995E-7,-9.9999999999999995E-7,-9.9999999999999995E-7,-9.9999999999999995E-7,-9.9999999999999995E-7,-9.9999999999999995E-7,-9.9999999999999995E-7,-9.9999999999999995E-7,-9.9999999999999995E-7,-9.9999999999999995E-7,-9.9999999999999995E-7,-9.9999999999999995E-7,-9.9999999999999995E-7,-9.9999999999999995E-7,{"$f":"IF(ISERROR(VLOOKUP(F432,ages!B$1:B$23,1,1)),\"\",VLOOKUP(F432,ages!B$1:B$23,1,1))","v":""},{"$f":"IF(ISERROR(VLOOKUP(F432,ages!B$1:D$23,3,1)),\"\",VLOOKUP(F432,ages!B$1:D$23,3,1))","v":""},0,0,0,0,0]
[null,null,null,null,null,"",null,null,null,null,null,null,"","","","","","","","","","",{"$f":"IF(ISNUMBER(F437),IF(AL437<0.85,\"\",VLOOKUP(M437,A!A$2:X$23,VLOOKUP(F437,ages!B$1:C$23,2,1),1)),\"\")","v":""},{"$f":"IF(ISNUMBER(F437),IF(AM437<0.85,\"\",VLOOKUP(N437,B!A$2:X$23,VLOOKUP(F437,ages!B$1:C$23,2,1),1)),\"\")","v":""},{"$f":"IF(ISNUMBER(F437),IF(AN437<0.85,\"\",VLOOKUP(O437,'C'!A$2:X$23,VLOOKUP(F437,ages!B$1:C$23,2,1),1)),\"\")","v":""},{"$f":"IF(ISNUMBER(F437),IF(AO437<0.85,\"\",VLOOKUP(P437,D!A$2:X$23,VLOOKUP(F437,ages!B$1:C$23,2,1),1)),\"\")","v":""},{"$f":"IF(ISNUMBER(F437),IF(AP437<0.85,\"\",VLOOKUP(Q437,E!A$2:X$23,VLOOKUP(F437,ages!B$1:C$23,2,1),1)),\"\")","v":""},{"$f":"IF(ISNUMBER(F437),IF(AQ437<0.85,\"\",VLOOKUP(R437,F!A$2:X$23,VLOOKUP(F437,ages!B$1:C$23,2,1),1)),\"\")","v":""},{"$f":"IF(ISNUMBER(F437),IF(AR437<0.85,\"\",VLOOKUP(S437,G!A$2:X$23,VLOOKUP(F437,ages!B$1:C$23,2,1),1)),\"\")","v":""},{"$f":"IF(ISNUMBER(F437),IF(AS437<0.85,\"\",VLOOKUP(T437,H!A$2:X$23,VLOOKUP(F437,ages!B$1:C$23,2,1),1)),\"\")","v":""},{"$f":"IF(ISNUMBER(F437),IF(AT437<0.85,\"\",VLOOKUP(U437,I!A$2:X$23,VLOOKUP(F437,ages!B$1:C$23,2,1),1)),\"\")","v":""},{"$f":"IF(ISNUMBER(F437),IF(AU437<0.85,\"\",VLOOKUP(V437,J!A$2:X$23,VLOOKUP(F437,ages!B$1:C$23,2,1),1)),\"\")","v":""},"","","","",-1.0000000000000002E-6,0,0,0,0,0,0,0,0,0,0,0,null,null,null,null,null,null,null,null,null,null,null,null,null,null,null,null,null,null,null,null,null,null,null,null,null,null,null,null,null,null,null,null,null,null,null,null,null,null,null,null,null,null,null,null,null,null,null,null,null,null,null,null,null,null,null,null,null,null,null,null,null,null,null,null,null,null,null,null,null,null,-9.9999999999999995E-7,-9.9999999999999995E-7,-9.9999999999999995E-7,-9.9999999999999995E-7,-9.9999999999999995E-7,-9.9999999999999995E-7,-9.9999999999999995E-7,-9.9999999999999995E-7,-9.9999999999999995E-7,-9.9999999999999995E-7,-9.9999999999999995E-7,-9.9999999999999995E-7,-9.9999999999999995E-7,-9.9999999999999995E-7,-9.9999999999999995E-7,-9.9999999999999995E-7,-9.9999999999999995E-7,-9.9999999999999995E-7,-9.9999999999999995E-7,-9.9999999999999995E-7,{"$f":"IF(ISERROR(VLOOKUP(F437,ages!B$1:B$23,1,1)),\"\",VLOOKUP(F437,ages!B$1:B$23,1,1))","v":""},{"$f":"IF(ISERROR(VLOOKUP(F437,ages!B$1:D$23,3,1)),\"\",VLOOKUP(F437,ages!B$1:D$23,3,1))","v":""},0,0,0,0,0]
[null,null,null,null,null,"",null,null,null,null,null,null,"","","","","","","","","","",{"$f":"IF(ISNUMBER(F443),IF(AL443<0.85,\"\",VLOOKUP(M443,A!A$2:X$23,VLOOKUP(F443,ages!B$1:C$23,2,1),1)),\"\")","v":""},{"$f":"IF(ISNUMBER(F443),IF(AM443<0.85,\"\",VLOOKUP(N443,B!A$2:X$23,VLOOKUP(F443,ages!B$1:C$23,2,1),1)),\"\")","v":""},{"$f":"IF(ISNUMBER(F443),IF(AN443<0.85,\"\",VLOOKUP(O443,'C'!A$2:X$23,VLOOKUP(F443,ages!B$1:C$23,2,1),1)),\"\")","v":""},{"$f":"IF(ISNUMBER(F443),IF(AO443<0.85,\"\",VLOOKUP(P443,D!A$2:X$23,VLOOKUP(F443,ages!B$1:C$23,2,1),1)),\"\")","v":""},{"$f":"IF(ISNUMBER(F443),IF(AP443<0.85,\"\",VLOOKUP(Q443,E!A$2:X$23,VLOOKUP(F443,ages!B$1:C$23,2,1),1)),\"\")","v":""},{"$f":"IF(ISNUMBER(F443),IF(AQ443<0.85,\"\",VLOOKUP(R443,F!A$2:X$23,VLOOKUP(F443,ages!B$1:C$23,2,1),1)),\"\")","v":""},{"$f":"IF(ISNUMBER(F443),IF(AR443<0.85,\"\",VLOOKUP(S443,G!A$2:X$23,VLOOKUP(F443,ages!B$1:C$23,2,1),1)),\"\")","v":""},{"$f":"IF(ISNUMBER(F443),IF(AS443<0.85,\"\",VLOOKUP(T443,H!A$2:X$23,VLOOKUP(F443,ages!B$1:C$23,2,1),1)),\"\")","v":""},{"$f":"IF(ISNUMBER(F443),IF(AT443<0.85,\"\",VLOOKUP(U443,I!A$2:X$23,VLOOKUP(F443,ages!B$1:C$23,2,1),1)),\"\")","v":""},{"$f":"IF(ISNUMBER(F443),IF(AU443<0.85,\"\",VLOOKUP(V443,J!A$2:X$23,VLOOKUP(F443,ages!B$1:C$23,2,1),1)),\"\")","v":""},"","","","",-1.0000000000000002E-6,0,0,0,0,0,0,0,0,0,0,0,null,null,null,null,null,null,null,null,null,null,null,null,null,null,null,null,null,null,null,null,null,null,null,null,null,null,null,null,null,null,null,null,null,null,null,null,null,null,null,null,null,null,null,null,null,null,null,null,null,null,null,null,null,null,null,null,null,null,null,null,null,null,null,null,null,null,null,null,null,null,-9.9999999999999995E-7,-9.9999999999999995E-7,-9.9999999999999995E-7,-9.9999999999999995E-7,-9.9999999999999995E-7,-9.9999999999999995E-7,-9.9999999999999995E-7,-9.9999999999999995E-7,-9.9999999999999995E-7,-9.9999999999999995E-7,-9.9999999999999995E-7,-9.9999999999999995E-7,-9.9999999999999995E-7,-9.9999999999999995E-7,-9.9999999999999995E-7,-9.9999999999999995E-7,-9.9999999999999995E-7,-9.9999999999999995E-7,-9.9999999999999995E-7,-9.9999999999999995E-7,{"$f":"IF(ISERROR(VLOOKUP(F443,ages!B$1:B$23,1,1)),\"\",VLOOKUP(F443,ages!B$1:B$23,1,1))","v":""},{"$f":"IF(ISERROR(VLOOKUP(F443,ages!B$1:D$23,3,1)),\"\",VLOOKUP(F443,ages!B$1:D$23,3,1))","v":""},0,0,0,0,0]
[null,null,null,null,null,"",null,null,null,null,null,null,"","","","","","","","","","",{"$f":"IF(ISNUMBER(F447),IF(AL447<0.85,\"\",VLOOKUP(M447,A!A$2:X$23,VLOOKUP(F447,ages!B$1:C$23,2,1),1)),\"\")","v":""},{"$f":"IF(ISNUMBER(F447),IF(AM447<0.85,\"\",VLOOKUP(N447,B!A$2:X$23,VLOOKUP(F447,ages!B$1:C$23,2,1),1)),\"\")","v":""},{"$f":"IF(ISNUMBER(F447),IF(AN447<0.85,\"\",VLOOKUP(O447,'C'!A$2:X$23,VLOOKUP(F447,ages!B$1:C$23,2,1),1)),\"\")","v":""},{"$f":"IF(ISNUMBER(F447),IF(AO447<0.85,\"\",VLOOKUP(P447,D!A$2:X$23,VLOOKUP(F447,ages!B$1:C$23,2,1),1)),\"\")","v":""},{"$f":"IF(ISNUMBER(F447),IF(AP447<0.85,\"\",VLOOKUP(Q447,E!A$2:X$23,VLOOKUP(F447,ages!B$1:C$23,2,1),1)),\"\")","v":""},{"$f":"IF(ISNUMBER(F447),IF(AQ447<0.85,\"\",VLOOKUP(R447,F!A$2:X$23,VLOOKUP(F447,ages!B$1:C$23,2,1),1)),\"\")","v":""},{"$f":"IF(ISNUMBER(F447),IF(AR447<0.85,\"\",VLOOKUP(S447,G!A$2:X$23,VLOOKUP(F447,ages!B$1:C$23,2,1),1)),\"\")","v":""},{"$f":"IF(ISNUMBER(F447),IF(AS447<0.85,\"\",VLOOKUP(T447,H!A$2:X$23,VLOOKUP(F447,ages!B$1:C$23,2,1),1)),\"\")","v":""},{"$f":"IF(ISNUMBER(F447),IF(AT447<0.85,\"\",VLOOKUP(U447,I!A$2:X$23,VLOOKUP(F447,ages!B$1:C$23,2,1),1)),\"\")","v":""},{"$f":"IF(ISNUMBER(F447),IF(AU447<0.85,\"\",VLOOKUP(V447,J!A$2:X$23,VLOOKUP(F447,ages!B$1:C$23,2,1),1)),\"\")","v":""},"","","","",-1.0000000000000002E-6,0,0,0,0,0,0,0,0,0,0,0,null,null,null,null,null,null,null,null,null,null,null,null,null,null,null,null,null,null,null,null,null,null,null,null,null,null,null,null,null,null,null,null,null,null,null,null,null,null,null,null,null,null,null,null,null,null,null,null,null,null,null,null,null,null,null,null,null,null,null,null,null,null,null,null,null,null,null,null,null,null,-9.9999999999999995E-7,-9.9999999999999995E-7,-9.9999999999999995E-7,-9.9999999999999995E-7,-9.9999999999999995E-7,-9.9999999999999995E-7,-9.9999999999999995E-7,-9.9999999999999995E-7,-9.9999999999999995E-7,-9.9999999999999995E-7,-9.9999999999999995E-7,-9.9999999999999995E-7,-9.9999999999999995E-7,-9.9999999999999995E-7,-9.9999999999999995E-7,-9.9999999999999995E-7,-9.9999999999999995E-7,-9.9999999999999995E-7,-9.9999999999999995E-7,-9.9999999999999995E-7,{"$f":"IF(ISERROR(VLOOKUP(F447,ages!B$1:B$23,1,1)),\"\",VLOOKUP(F447,ages!B$1:B$23,1,1))","v":""},{"$f":"IF(ISERROR(VLOOKUP(F447,ages!B$1:D$23,3,1)),\"\",VLOOKUP(F447,ages!B$1:D$23,3,1))","v":""},0,0,0,0,0]
[null,null,null,null,null,"",null,null,null,null,null,null,"","","","","","","","","","",{"$f":"IF(ISNUMBER(F453),IF(AL453<0.85,\"\",VLOOKUP(M453,A!A$2:X$23,VLOOKUP(F453,ages!B$1:C$23,2,1),1)),\"\")","v":""},{"$f":"IF(ISNUMBER(F453),IF(AM453<0.85,\"\",VLOOKUP(N453,B!A$2:X$23,VLOOKUP(F453,ages!B$1:C$23,2,1),1)),\"\")","v":""},{"$f":"IF(ISNUMBER(F453),IF(AN453<0.85,\"\",VLOOKUP(O453,'C'!A$2:X$23,VLOOKUP(F453,ages!B$1:C$23,2,1),1)),\"\")","v":""},{"$f":"IF(ISNUMBER(F453),IF(AO453<0.85,\"\",VLOOKUP(P453,D!A$2:X$23,VLOOKUP(F453,ages!B$1:C$23,2,1),1)),\"\")","v":""},{"$f":"IF(ISNUMBER(F453),IF(AP453<0.85,\"\",VLOOKUP(Q453,E!A$2:X$23,VLOOKUP(F453,ages!B$1:C$23,2,1),1)),\"\")","v":""},{"$f":"IF(ISNUMBER(F453),IF(AQ453<0.85,\"\",VLOOKUP(R453,F!A$2:X$23,VLOOKUP(F453,ages!B$1:C$23,2,1),1)),\"\")","v":""},{"$f":"IF(ISNUMBER(F453),IF(AR453<0.85,\"\",VLOOKUP(S453,G!A$2:X$23,VLOOKUP(F453,ages!B$1:C$23,2,1),1)),\"\")","v":""},{"$f":"IF(ISNUMBER(F453),IF(AS453<0.85,\"\",VLOOKUP(T453,H!A$2:X$23,VLOOKUP(F453,ages!B$1:C$23,2,1),1)),\"\")","v":""},{"$f":"IF(ISNUMBER(F453),IF(AT453<0.85,\"\",VLOOKUP(U453,I!A$2:X$23,VLOOKUP(F453,ages!B$1:C$23,2,1),1)),\"\")","v":""},{"$f":"IF(ISNUMBER(F453),IF(AU453<0.85,\"\",VLOOKUP(V453,J!A$2:X$23,VLOOKUP(F453,ages!B$1:C$23,2,1),1)),\"\")","v":""},"","","","",-1.0000000000000002E-6,0,0,0,0,0,0,0,0,0,0,0,null,null,null,null,null,null,null,null,null,null,null,null,null,null,null,null,null,null,null,null,null,null,null,null,null,null,null,null,null,null,null,null,null,null,null,null,null,null,null,null,null,null,null,null,null,null,null,null,null,null,null,null,null,null,null,null,null,null,null,null,null,null,null,null,null,null,null,null,null,null,-9.9999999999999995E-7,-9.9999999999999995E-7,-9.9999999999999995E-7,-9.9999999999999995E-7,-9.9999999999999995E-7,-9.9999999999999995E-7,-9.9999999999999995E-7,-9.9999999999999995E-7,-9.9999999999999995E-7,-9.9999999999999995E-7,-9.9999999999999995E-7,-9.9999999999999995E-7,-9.9999999999999995E-7,-9.9999999999999995E-7,-9.9999999999999995E-7,-9.9999999999999995E-7,-9.9999999999999995E-7,-9.9999999999999995E-7,-9.9999999999999995E-7,-9.9999999999999995E-7,{"$f":"IF(ISERROR(VLOOKUP(F453,ages!B$1:B$23,1,1)),\"\",VLOOKUP(F453,ages!B$1:B$23,1,1))","v":""},{"$f":"IF(ISERROR(VLOOKUP(F453,ages!B$1:D$23,3,1)),\"\",VLOOKUP(F453,ages!B$1:D$23,3,1))","v":""},0,0,0,0,0]
[null,null,null,null,null,"",null,null,null,null,null,null,"","","","","","","","","","",{"$f":"IF(ISNUMBER(F458),IF(AL458<0.85,\"\",VLOOKUP(M458,A!A$2:X$23,VLOOKUP(F458,ages!B$1:C$23,2,1),1)),\"\")","v":""},{"$f":"IF(ISNUMBER(F458),IF(AM458<0.85,\"\",VLOOKUP(N458,B!A$2:X$23,VLOOKUP(F458,ages!B$1:C$23,2,1),1)),\"\")","v":""},{"$f":"IF(ISNUMBER(F458),IF(AN458<0.85,\"\",VLOOKUP(O458,'C'!A$2:X$23,VLOOKUP(F458,ages!B$1:C$23,2,1),1)),\"\")","v":""},{"$f":"IF(ISNUMBER(F458),IF(AO458<0.85,\"\",VLOOKUP(P458,D!A$2:X$23,VLOOKUP(F458,ages!B$1:C$23,2,1),1)),\"\")","v":""},{"$f":"IF(ISNUMBER(F458),IF(AP458<0.85,\"\",VLOOKUP(Q458,E!A$2:X$23,VLOOKUP(F458,ages!B$1:C$23,2,1),1)),\"\")","v":""},{"$f":"IF(ISNUMBER(F458),IF(AQ458<0.85,\"\",VLOOKUP(R458,F!A$2:X$23,VLOOKUP(F458,ages!B$1:C$23,2,1),1)),\"\")","v":""},{"$f":"IF(ISNUMBER(F458),IF(AR458<0.85,\"\",VLOOKUP(S458,G!A$2:X$23,VLOOKUP(F458,ages!B$1:C$23,2,1),1)),\"\")","v":""},{"$f":"IF(ISNUMBER(F458),IF(AS458<0.85,\"\",VLOOKUP(T458,H!A$2:X$23,VLOOKUP(F458,ages!B$1:C$23,2,1),1)),\"\")","v":""},{"$f":"IF(ISNUMBER(F458),IF(AT458<0.85,\"\",VLOOKUP(U458,I!A$2:X$23,VLOOKUP(F458,ages!B$1:C$23,2,1),1)),\"\")","v":""},{"$f":"IF(ISNUMBER(F458),IF(AU458<0.85,\"\",VLOOKUP(V458,J!A$2:X$23,VLOOKUP(F458,ages!B$1:C$23,2,1),1)),\"\")","v":""},{"$f":"IF(ISNUMBER(F458),IF((COUNT(W458:AD458)=8),SUM(W458:AD458),\"\"),\"\")","v":""},{"$f":"IF(ISNUMBER(F458),IF((COUNT(W458:AF458)=10),SUM(AA458,AD458:AF458)-SUM(W458:Z458),\"\"),\"\")","v":""},"","",-1.0000000000000002E-6,0,0,0,0,0,0,0,0,0,0,0,null,null,null,null,null,null,null,null,null,null,null,null,null,null,null,null,null,null,null,null,null,null,null,null,null,null,null,null,null,null,null,null,null,null,null,null,null,null,null,null,null,null,null,null,null,null,null,null,null,null,null,null,null,null,null,null,null,null,null,null,null,null,null,null,null,null,null,null,null,null,-9.9999999999999995E-7,-9.9999999999999995E-7,-9.9999999999999995E-7,-9.9999999999999995E-7,-9.9999999999999995E-7,-9.9999999999999995E-7,-9.9999999999999995E-7,-9.9999999999999995E-7,-9.9999999999999995E-7,-9.9999999999999995E-7,-9.9999999999999995E-7,-9.9999999999999995E-7,-9.9999999999999995E-7,-9.9999999999999995E-7,-9.9999999999999995E-7,-9.9999999999999995E-7,-9.9999999999999995E-7,-9.9999999999999995E-7,-9.9999999999999995E-7,-9.9999999999999995E-7,{"$f":"IF(ISERROR(VLOOKUP(F458,ages!B$1:B$23,1,1)),\"\",VLOOKUP(F458,ages!B$1:B$23,1,1))","v":""},{"$f":"IF(ISERROR(VLOOKUP(F458,ages!B$1:D$23,3,1)),\"\",VLOOKUP(F458,ages!B$1:D$23,3,1))","v":""},0,0,0,0,0]
[null,null,null,null,null,"",null,null,null,null,null,null,"","","","","","","","","","",{"$f":"IF(ISNUMBER(F463),IF(AL463<0.85,\"\",VLOOKUP(M463,A!A$2:X$23,VLOOKUP(F463,ages!B$1:C$23,2,1),1)),\"\")","v":""},{"$f":"IF(ISNUMBER(F463),IF(AM463<0.85,\"\",VLOOKUP(N463,B!A$2:X$23,VLOOKUP(F463,ages!B$1:C$23,2,1),1)),\"\")","v":""},{"$f":"IF(ISNUMBER(F463),IF(AN463<0.85,\"\",VLOOKUP(O463,'C'!A$2:X$23,VLOOKUP(F463,ages!B$1:C$23,2,1),1)),\"\")","v":""},{"$f":"IF(ISNUMBER(F463),IF(AO463<0.85,\"\",VLOOKUP(P463,D!A$2:X$23,VLOOKUP(F463,ages!B$1:C$23,2,1),1)),\"\")","v":""},{"$f":"IF(ISNUMBER(F463),IF(AP463<0.85,\"\",VLOOKUP(Q463,E!A$2:X$23,VLOOKUP(F463,ages!B$1:C$23,2,1),1)),\"\")","v":""},{"$f":"IF(ISNUMBER(F463),IF(AQ463<0.85,\"\",VLOOKUP(R463,F!A$2:X$23,VLOOKUP(F463,ages!B$1:C$23,2,1),1)),\"\")","v":""},{"$f":"IF(ISNUMBER(F463),IF(AR463<0.85,\"\",VLOOKUP(S463,G!A$2:X$23,VLOOKUP(F463,ages!B$1:C$23,2,1),1)),\"\")","v":""},{"$f":"IF(ISNUMBER(F463),IF(AS463<0.85,\"\",VLOOKUP(T463,H!A$2:X$23,VLOOKUP(F463,ages!B$1:C$23,2,1),1)),\"\")","v":""},{"$f":"IF(ISNUMBER(F463),IF(AT463<0.85,\"\",VLOOKUP(U463,I!A$2:X$23,VLOOKUP(F463,ages!B$1:C$23,2,1),1)),\"\")","v":""},{"$f":"IF(ISNUMBER(F463),IF(AU463<0.85,\"\",VLOOKUP(V463,J!A$2:X$23,VLOOKUP(F463,ages!B$1:C$23,2,1),1)),\"\")","v":""},"","","","",-1.0000000000000002E-6,0,0,0,0,0,0,0,0,0,0,0,null,null,null,null,null,null,null,null,null,null,null,null,null,null,null,null,null,null,null,null,null,null,null,null,null,null,null,null,null,null,null,null,null,null,null,null,null,null,null,null,null,null,null,null,null,null,null,null,null,null,null,null,null,null,null,null,null,null,null,null,null,null,null,null,null,null,null,null,null,null,-9.9999999999999995E-7,-9.9999999999999995E-7,-9.9999999999999995E-7,-9.9999999999999995E-7,-9.9999999999999995E-7,-9.9999999999999995E-7,-9.9999999999999995E-7,-9.9999999999999995E-7,-9.9999999999999995E-7,-9.9999999999999995E-7,-9.9999999999999995E-7,-9.9999999999999995E-7,-9.9999999999999995E-7,-9.9999999999999995E-7,-9.9999999999999995E-7,-9.9999999999999995E-7,-9.9999999999999995E-7,-9.9999999999999995E-7,-9.9999999999999995E-7,-9.9999999999999995E-7,{"$f":"IF(ISERROR(VLOOKUP(F463,ages!B$1:B$23,1,1)),\"\",VLOOKUP(F463,ages!B$1:B$23,1,1))","v":""},{"$f":"IF(ISERROR(VLOOKUP(F463,ages!B$1:D$23,3,1)),\"\",VLOOKUP(F463,ages!B$1:D$23,3,1))","v":""},0,0,0,0,0]
[null,null,null,null,null,"",null,null,null,null,null,null,"","","","","","","","","","",{"$f":"IF(ISNUMBER(F468),IF(AL468<0.85,\"\",VLOOKUP(M468,A!A$2:X$23,VLOOKUP(F468,ages!B$1:C$23,2,1),1)),\"\")","v":""},{"$f":"IF(ISNUMBER(F468),IF(AM468<0.85,\"\",VLOOKUP(N468,B!A$2:X$23,VLOOKUP(F468,ages!B$1:C$23,2,1),1)),\"\")","v":""},{"$f":"IF(ISNUMBER(F468),IF(AN468<0.85,\"\",VLOOKUP(O468,'C'!A$2:X$23,VLOOKUP(F468,ages!B$1:C$23,2,1),1)),\"\")","v":""},{"$f":"IF(ISNUMBER(F468),IF(AO468<0.85,\"\",VLOOKUP(P468,D!A$2:X$23,VLOOKUP(F468,ages!B$1:C$23,2,1),1)),\"\")","v":""},{"$f":"IF(ISNUMBER(F468),IF(AP468<0.85,\"\",VLOOKUP(Q468,E!A$2:X$23,VLOOKUP(F468,ages!B$1:C$23,2,1),1)),\"\")","v":""},{"$f":"IF(ISNUMBER(F468),IF(AQ468<0.85,\"\",VLOOKUP(R468,F!A$2:X$23,VLOOKUP(F468,ages!B$1:C$23,2,1),1)),\"\")","v":""},{"$f":"IF(ISNUMBER(F468),IF(AR468<0.85,\"\",VLOOKUP(S468,G!A$2:X$23,VLOOKUP(F468,ages!B$1:C$23,2,1),1)),\"\")","v":""},{"$f":"IF(ISNUMBER(F468),IF(AS468<0.85,\"\",VLOOKUP(T468,H!A$2:X$23,VLOOKUP(F468,ages!B$1:C$23,2,1),1)),\"\")","v":""},{"$f":"IF(ISNUMBER(F468),IF(AT468<0.85,\"\",VLOOKUP(U468,I!A$2:X$23,VLOOKUP(F468,ages!B$1:C$23,2,1),1)),\"\")","v":""},{"$f":"IF(ISNUMBER(F468),IF(AU468<0.85,\"\",VLOOKUP(V468,J!A$2:X$23,VLOOKUP(F468,ages!B$1:C$23,2,1),1)),\"\")","v":""},"","","","",-1.0000000000000002E-6,0,0,0,0,0,0,0,0,0,0,0,null,null,null,null,null,null,null,null,null,null,null,null,null,null,null,null,null,null,null,null,null,null,null,null,null,null,null,null,null,null,null,null,null,null,null,null,null,null,null,null,null,null,null,null,null,null,null,null,null,null,null,null,null,null,null,null,null,null,null,null,null,null,null,null,null,null,null,null,null,null,-9.9999999999999995E-7,-9.9999999999999995E-7,-9.9999999999999995E-7,-9.9999999999999995E-7,-9.9999999999999995E-7,-9.9999999999999995E-7,-9.9999999999999995E-7,-9.9999999999999995E-7,-9.9999999999999995E-7,-9.9999999999999995E-7,-9.9999999999999995E-7,-9.9999999999999995E-7,-9.9999999999999995E-7,-9.9999999999999995E-7,-9.9999999999999995E-7,-9.9999999999999995E-7,-9.9999999999999995E-7,-9.9999999999999995E-7,-9.9999999999999995E-7,-9.9999999999999995E-7,{"$f":"IF(ISERROR(VLOOKUP(F468,ages!B$1:B$23,1,1)),\"\",VLOOKUP(F468,ages!B$1:B$23,1,1))","v":""},{"$f":"IF(ISERROR(VLOOKUP(F468,ages!B$1:D$23,3,1)),\"\",VLOOKUP(F468,ages!B$1:D$23,3,1))","v":""},0,0,0,0,0]
[null,null,null,null,null,"",null,null,null,null,null,null,"","","","","","","","","","",{"$f":"IF(ISNUMBER(F473),IF(AL473<0.85,\"\",VLOOKUP(M473,A!A$2:X$23,VLOOKUP(F473,ages!B$1:C$23,2,1),1)),\"\")","v":""},{"$f":"IF(ISNUMBER(F473),IF(AM473<0.85,\"\",VLOOKUP(N473,B!A$2:X$23,VLOOKUP(F473,ages!B$1:C$23,2,1),1)),\"\")","v":""},{"$f":"IF(ISNUMBER(F473),IF(AN473<0.85,\"\",VLOOKUP(O473,'C'!A$2:X$23,VLOOKUP(F473,ages!B$1:C$23,2,1),1)),\"\")","v":""},{"$f":"IF(ISNUMBER(F473),IF(AO473<0.85,\"\",VLOOKUP(P473,D!A$2:X$23,VLOOKUP(F473,ages!B$1:C$23,2,1),1)),\"\")","v":""},{"$f":"IF(ISNUMBER(F473),IF(AP473<0.85,\"\",VLOOKUP(Q473,E!A$2:X$23,VLOOKUP(F473,ages!B$1:C$23,2,1),1)),\"\")","v":""},{"$f":"IF(ISNUMBER(F473),IF(AQ473<0.85,\"\",VLOOKUP(R473,F!A$2:X$23,VLOOKUP(F473,ages!B$1:C$23,2,1),1)),\"\")","v":""},{"$f":"IF(ISNUMBER(F473),IF(AR473<0.85,\"\",VLOOKUP(S473,G!A$2:X$23,VLOOKUP(F473,ages!B$1:C$23,2,1),1)),\"\")","v":""},{"$f":"IF(ISNUMBER(F473),IF(AS473<0.85,\"\",VLOOKUP(T473,H!A$2:X$23,VLOOKUP(F473,ages!B$1:C$23,2,1),1)),\"\")","v":""},{"$f":"IF(ISNUMBER(F473),IF(AT473<0.85,\"\",VLOOKUP(U473,I!A$2:X$23,VLOOKUP(F473,ages!B$1:C$23,2,1),1)),\"\")","v":""},{"$f":"IF(ISNUMBER(F473),IF(AU473<0.85,\"\",VLOOKUP(V473,J!A$2:X$23,VLOOKUP(F473,ages!B$1:C$23,2,1),1)),\"\")","v":""},"","","","",-1.0000000000000002E-6,0,0,0,0,0,0,0,0,0,0,0,null,null,null,null,null,null,null,null,null,null,null,null,null,null,null,null,null,null,null,null,null,null,null,null,null,null,null,null,null,null,null,null,null,null,null,null,null,null,null,null,null,null,null,null,null,null,null,null,null,null,null,null,null,null,null,null,null,null,null,null,null,null,null,null,null,null,null,null,null,null,-9.9999999999999995E-7,-9.9999999999999995E-7,-9.9999999999999995E-7,-9.9999999999999995E-7,-9.9999999999999995E-7,-9.9999999999999995E-7,-9.9999999999999995E-7,-9.9999999999999995E-7,-9.9999999999999995E-7,-9.9999999999999995E-7,-9.9999999999999995E-7,-9.9999999999999995E-7,-9.9999999999999995E-7,-9.9999999999999995E-7,-9.9999999999999995E-7,-9.9999999999999995E-7,-9.9999999999999995E-7,-9.9999999999999995E-7,-9.9999999999999995E-7,-9.9999999999999995E-7,{"$f":"IF(ISERROR(VLOOKUP(F473,ages!B$1:B$23,1,1)),\"\",VLOOKUP(F473,ages!B$1:B$23,1,1))","v":""},{"$f":"IF(ISERROR(VLOOKUP(F473,ages!B$1:D$23,3,1)),\"\",VLOOKUP(F473,ages!B$1:D$23,3,1))","v":""},0,0,0,0,0]
[null,null,null,null,null,"",null,null,null,null,null,null,"","","","","","","","","","",{"$f":"IF(ISNUMBER(F478),IF(AL478<0.85,\"\",VLOOKUP(M478,A!A$2:X$23,VLOOKUP(F478,ages!B$1:C$23,2,1),1)),\"\")","v":""},{"$f":"IF(ISNUMBER(F478),IF(AM478<0.85,\"\",VLOOKUP(N478,B!A$2:X$23,VLOOKUP(F478,ages!B$1:C$23,2,1),1)),\"\")","v":""},{"$f":"IF(ISNUMBER(F478),IF(AN478<0.85,\"\",VLOOKUP(O478,'C'!A$2:X$23,VLOOKUP(F478,ages!B$1:C$23,2,1),1)),\"\")","v":""},{"$f":"IF(ISNUMBER(F478),IF(AO478<0.85,\"\",VLOOKUP(P478,D!A$2:X$23,VLOOKUP(F478,ages!B$1:C$23,2,1),1)),\"\")","v":""},{"$f":"IF(ISNUMBER(F478),IF(AP478<0.85,\"\",VLOOKUP(Q478,E!A$2:X$23,VLOOKUP(F478,ages!B$1:C$23,2,1),1)),\"\")","v":""},{"$f":"IF(ISNUMBER(F478),IF(AQ478<0.85,\"\",VLOOKUP(R478,F!A$2:X$23,VLOOKUP(F478,ages!B$1:C$23,2,1),1)),\"\")","v":""},{"$f":"IF(ISNUMBER(F478),IF(AR478<0.85,\"\",VLOOKUP(S478,G!A$2:X$23,VLOOKUP(F478,ages!B$1:C$23,2,1),1)),\"\")","v":""},{"$f":"IF(ISNUMBER(F478),IF(AS478<0.85,\"\",VLOOKUP(T478,H!A$2:X$23,VLOOKUP(F478,ages!B$1:C$23,2,1),1)),\"\")","v":""},{"$f":"IF(ISNUMBER(F478),IF(AT478<0.85,\"\",VLOOKUP(U478,I!A$2:X$23,VLOOKUP(F478,ages!B$1:C$23,2,1),1)),\"\")","v":""},{"$f":"IF(ISNUMBER(F478),IF(AU478<0.85,\"\",VLOOKUP(V478,J!A$2:X$23,VLOOKUP(F478,ages!B$1:C$23,2,1),1)),\"\")","v":""},"","","","",-1.0000000000000002E-6,0,0,0,0,0,0,0,0,0,0,0,null,null,null,null,null,null,null,null,null,null,null,null,null,null,null,null,null,null,null,null,null,null,null,null,null,null,null,null,null,null,null,null,null,null,null,null,null,null,null,null,null,null,null,null,null,null,null,null,null,null,null,null,null,null,null,null,null,null,null,null,null,null,null,null,null,null,null,null,null,null,-9.9999999999999995E-7,-9.9999999999999995E-7,-9.9999999999999995E-7,-9.9999999999999995E-7,-9.9999999999999995E-7,-9.9999999999999995E-7,-9.9999999999999995E-7,-9.9999999999999995E-7,-9.9999999999999995E-7,-9.9999999999999995E-7,-9.9999999999999995E-7,-9.9999999999999995E-7,-9.9999999999999995E-7,-9.9999999999999995E-7,-9.9999999999999995E-7,-9.9999999999999995E-7,-9.9999999999999995E-7,-9.9999999999999995E-7,-9.9999999999999995E-7,-9.9999999999999995E-7,{"$f":"IF(ISERROR(VLOOKUP(F478,ages!B$1:B$23,1,1)),\"\",VLOOKUP(F478,ages!B$1:B$23,1,1))","v":""},{"$f":"IF(ISERROR(VLOOKUP(F478,ages!B$1:D$23,3,1)),\"\",VLOOKUP(F478,ages!B$1:D$23,3,1))","v":""},0,0,0,0,0]
[null,null,null,null,null,"",null,null,null,null,null,null,"","","","","","","","","","",{"$f":"IF(ISNUMBER(F484),IF(AL484<0.85,\"\",VLOOKUP(M484,A!A$2:X$23,VLOOKUP(F484,ages!B$1:C$23,2,1),1)),\"\")","v":""},{"$f":"IF(ISNUMBER(F484),IF(AM484<0.85,\"\",VLOOKUP(N484,B!A$2:X$23,VLOOKUP(F484,ages!B$1:C$23,2,1),1)),\"\")","v":""},{"$f":"IF(ISNUMBER(F484),IF(AN484<0.85,\"\",VLOOKUP(O484,'C'!A$2:X$23,VLOOKUP(F484,ages!B$1:C$23,2,1),1)),\"\")","v":""},{"$f":"IF(ISNUMBER(F484),IF(AO484<0.85,\"\",VLOOKUP(P484,D!A$2:X$23,VLOOKUP(F484,ages!B$1:C$23,2,1),1)),\"\")","v":""},{"$f":"IF(ISNUMBER(F484),IF(AP484<0.85,\"\",VLOOKUP(Q484,E!A$2:X$23,VLOOKUP(F484,ages!B$1:C$23,2,1),1)),\"\")","v":""},{"$f":"IF(ISNUMBER(F484),IF(AQ484<0.85,\"\",VLOOKUP(R484,F!A$2:X$23,VLOOKUP(F484,ages!B$1:C$23,2,1),1)),\"\")","v":""},{"$f":"IF(ISNUMBER(F484),IF(AR484<0.85,\"\",VLOOKUP(S484,G!A$2:X$23,VLOOKUP(F484,ages!B$1:C$23,2,1),1)),\"\")","v":""},{"$f":"IF(ISNUMBER(F484),IF(AS484<0.85,\"\",VLOOKUP(T484,H!A$2:X$23,VLOOKUP(F484,ages!B$1:C$23,2,1),1)),\"\")","v":""},{"$f":"IF(ISNUMBER(F484),IF(AT484<0.85,\"\",VLOOKUP(U484,I!A$2:X$23,VLOOKUP(F484,ages!B$1:C$23,2,1),1)),\"\")","v":""},{"$f":"IF(ISNUMBER(F484),IF(AU484<0.85,\"\",VLOOKUP(V484,J!A$2:X$23,VLOOKUP(F484,ages!B$1:C$23,2,1),1)),\"\")","v":""},"","","","",-1.0000000000000002E-6,0,0,0,0,0,0,0,0,0,0,0,null,null,null,null,null,null,null,null,null,null,null,null,null,null,null,null,null,null,null,null,null,null,null,null,null,null,null,null,null,null,null,null,null,null,null,null,null,null,null,null,null,null,null,null,null,null,null,null,null,null,null,null,null,null,null,null,null,null,null,null,null,null,null,null,null,null,null,null,null,null,-9.9999999999999995E-7,-9.9999999999999995E-7,-9.9999999999999995E-7,-9.9999999999999995E-7,-9.9999999999999995E-7,-9.9999999999999995E-7,-9.9999999999999995E-7,-9.9999999999999995E-7,-9.9999999999999995E-7,-9.9999999999999995E-7,-9.9999999999999995E-7,-9.9999999999999995E-7,-9.9999999999999995E-7,-9.9999999999999995E-7,-9.9999999999999995E-7,-9.9999999999999995E-7,-9.9999999999999995E-7,-9.9999999999999995E-7,-9.9999999999999995E-7,-9.9999999999999995E-7,{"$f":"IF(ISERROR(VLOOKUP(F484,ages!B$1:B$23,1,1)),\"\",VLOOKUP(F484,ages!B$1:B$23,1,1))","v":""},{"$f":"IF(ISERROR(VLOOKUP(F484,ages!B$1:D$23,3,1)),\"\",VLOOKUP(F484,ages!B$1:D$23,3,1))","v":""},0,0,0,0,0]
[null,null,null,null,null,"",null,null,null,null,null,null,"","","","","","","","","","",{"$f":"IF(ISNUMBER(F489),IF(AL489<0.85,\"\",VLOOKUP(M489,A!A$2:X$23,VLOOKUP(F489,ages!B$1:C$23,2,1),1)),\"\")","v":""},{"$f":"IF(ISNUMBER(F489),IF(AM489<0.85,\"\",VLOOKUP(N489,B!A$2:X$23,VLOOKUP(F489,ages!B$1:C$23,2,1),1)),\"\")","v":""},{"$f":"IF(ISNUMBER(F489),IF(AN489<0.85,\"\",VLOOKUP(O489,'C'!A$2:X$23,VLOOKUP(F489,ages!B$1:C$23,2,1),1)),\"\")","v":""},{"$f":"IF(ISNUMBER(F489),IF(AO489<0.85,\"\",VLOOKUP(P489,D!A$2:X$23,VLOOKUP(F489,ages!B$1:C$23,2,1),1)),\"\")","v":""},{"$f":"IF(ISNUMBER(F489),IF(AP489<0.85,\"\",VLOOKUP(Q489,E!A$2:X$23,VLOOKUP(F489,ages!B$1:C$23,2,1),1)),\"\")","v":""},{"$f":"IF(ISNUMBER(F489),IF(AQ489<0.85,\"\",VLOOKUP(R489,F!A$2:X$23,VLOOKUP(F489,ages!B$1:C$23,2,1),1)),\"\")","v":""},{"$f":"IF(ISNUMBER(F489),IF(AR489<0.85,\"\",VLOOKUP(S489,G!A$2:X$23,VLOOKUP(F489,ages!B$1:C$23,2,1),1)),\"\")","v":""},{"$f":"IF(ISNUMBER(F489),IF(AS489<0.85,\"\",VLOOKUP(T489,H!A$2:X$23,VLOOKUP(F489,ages!B$1:C$23,2,1),1)),\"\")","v":""},{"$f":"IF(ISNUMBER(F489),IF(AT489<0.85,\"\",VLOOKUP(U489,I!A$2:X$23,VLOOKUP(F489,ages!B$1:C$23,2,1),1)),\"\")","v":""},{"$f":"IF(ISNUMBER(F489),IF(AU489<0.85,\"\",VLOOKUP(V489,J!A$2:X$23,VLOOKUP(F489,ages!B$1:C$23,2,1),1)),\"\")","v":""},"","","","",-1.0000000000000002E-6,0,0,0,0,0,0,0,0,0,0,0,null,null,null,null,null,null,null,null,null,null,null,null,null,null,null,null,null,null,null,null,null,null,null,null,null,null,null,null,null,null,null,null,null,null,null,null,null,null,null,null,null,null,null,null,null,null,null,null,null,null,null,null,null,null,null,null,null,null,null,null,null,null,null,null,null,null,null,null,null,null,-9.9999999999999995E-7,-9.9999999999999995E-7,-9.9999999999999995E-7,-9.9999999999999995E-7,-9.9999999999999995E-7,-9.9999999999999995E-7,-9.9999999999999995E-7,-9.9999999999999995E-7,-9.9999999999999995E-7,-9.9999999999999995E-7,-9.9999999999999995E-7,-9.9999999999999995E-7,-9.9999999999999995E-7,-9.9999999999999995E-7,-9.9999999999999995E-7,-9.9999999999999995E-7,-9.9999999999999995E-7,-9.9999999999999995E-7,-9.9999999999999995E-7,-9.9999999999999995E-7,{"$f":"IF(ISERROR(VLOOKUP(F489,ages!B$1:B$23,1,1)),\"\",VLOOKUP(F489,ages!B$1:B$23,1,1))","v":""},{"$f":"IF(ISERROR(VLOOKUP(F489,ages!B$1:D$23,3,1)),\"\",VLOOKUP(F489,ages!B$1:D$23,3,1))","v":""},0,0,0,0,0]
[null,null,null,null,null,"",null,null,null,null,null,null,"","","","","","","","","","",{"$f":"IF(ISNUMBER(F493),IF(AL493<0.85,\"\",VLOOKUP(M493,A!A$2:X$23,VLOOKUP(F493,ages!B$1:C$23,2,1),1)),\"\")","v":""},{"$f":"IF(ISNUMBER(F493),IF(AM493<0.85,\"\",VLOOKUP(N493,B!A$2:X$23,VLOOKUP(F493,ages!B$1:C$23,2,1),1)),\"\")","v":""},{"$f":"IF(ISNUMBER(F493),IF(AN493<0.85,\"\",VLOOKUP(O493,'C'!A$2:X$23,VLOOKUP(F493,ages!B$1:C$23,2,1),1)),\"\")","v":""},{"$f":"IF(ISNUMBER(F493),IF(AO493<0.85,\"\",VLOOKUP(P493,D!A$2:X$23,VLOOKUP(F493,ages!B$1:C$23,2,1),1)),\"\")","v":""},{"$f":"IF(ISNUMBER(F493),IF(AP493<0.85,\"\",VLOOKUP(Q493,E!A$2:X$23,VLOOKUP(F493,ages!B$1:C$23,2,1),1)),\"\")","v":""},{"$f":"IF(ISNUMBER(F493),IF(AQ493<0.85,\"\",VLOOKUP(R493,F!A$2:X$23,VLOOKUP(F493,ages!B$1:C$23,2,1),1)),\"\")","v":""},{"$f":"IF(ISNUMBER(F493),IF(AR493<0.85,\"\",VLOOKUP(S493,G!A$2:X$23,VLOOKUP(F493,ages!B$1:C$23,2,1),1)),\"\")","v":""},{"$f":"IF(ISNUMBER(F493),IF(AS493<0.85,\"\",VLOOKUP(T493,H!A$2:X$23,VLOOKUP(F493,ages!B$1:C$23,2,1),1)),\"\")","v":""},{"$f":"IF(ISNUMBER(F493),IF(AT493<0.85,\"\",VLOOKUP(U493,I!A$2:X$23,VLOOKUP(F493,ages!B$1:C$23,2,1),1)),\"\")","v":""},{"$f":"IF(ISNUMBER(F493),IF(AU493<0.85,\"\",VLOOKUP(V493,J!A$2:X$23,VLOOKUP(F493,ages!B$1:C$23,2,1),1)),\"\")","v":""},"","","","",-1.0000000000000002E-6,0,0,0,0,0,0,0,0,0,0,0,null,null,null,null,null,null,null,null,null,null,null,null,null,null,null,null,null,null,null,null,null,null,null,null,null,null,null,null,null,null,null,null,null,null,null,null,null,null,null,null,null,null,null,null,null,null,null,null,null,null,null,null,null,null,null,null,null,null,null,null,null,null,null,null,null,null,null,null,null,null,-9.9999999999999995E-7,-9.9999999999999995E-7,-9.9999999999999995E-7,-9.9999999999999995E-7,-9.9999999999999995E-7,-9.9999999999999995E-7,-9.9999999999999995E-7,-9.9999999999999995E-7,-9.9999999999999995E-7,-9.9999999999999995E-7,-9.9999999999999995E-7,-9.9999999999999995E-7,-9.9999999999999995E-7,-9.9999999999999995E-7,-9.9999999999999995E-7,-9.9999999999999995E-7,-9.9999999999999995E-7,-9.9999999999999995E-7,-9.9999999999999995E-7,-9.9999999999999995E-7,{"$f":"IF(ISERROR(VLOOKUP(F493,ages!B$1:B$23,1,1)),\"\",VLOOKUP(F493,ages!B$1:B$23,1,1))","v":""},{"$f":"IF(ISERROR(VLOOKUP(F493,ages!B$1:D$23,3,1)),\"\",VLOOKUP(F493,ages!B$1:D$23,3,1))","v":""},0,0,0,0,0]
[null,null,null,null,null,"",null,null,null,null,null,null,"","","","","","","","","","",{"$f":"IF(ISNUMBER(F494),IF(AL494<0.85,\"\",VLOOKUP(M494,A!A$2:X$23,VLOOKUP(F494,ages!B$1:C$23,2,1),1)),\"\")","v":""},{"$f":"IF(ISNUMBER(F494),IF(AM494<0.85,\"\",VLOOKUP(N494,B!A$2:X$23,VLOOKUP(F494,ages!B$1:C$23,2,1),1)),\"\")","v":""},{"$f":"IF(ISNUMBER(F494),IF(AN494<0.85,\"\",VLOOKUP(O494,'C'!A$2:X$23,VLOOKUP(F494,ages!B$1:C$23,2,1),1)),\"\")","v":""},{"$f":"IF(ISNUMBER(F494),IF(AO494<0.85,\"\",VLOOKUP(P494,D!A$2:X$23,VLOOKUP(F494,ages!B$1:C$23,2,1),1)),\"\")","v":""},{"$f":"IF(ISNUMBER(F494),IF(AP494<0.85,\"\",VLOOKUP(Q494,E!A$2:X$23,VLOOKUP(F494,ages!B$1:C$23,2,1),1)),\"\")","v":""},{"$f":"IF(ISNUMBER(F494),IF(AQ494<0.85,\"\",VLOOKUP(R494,F!A$2:X$23,VLOOKUP(F494,ages!B$1:C$23,2,1),1)),\"\")","v":""},{"$f":"IF(ISNUMBER(F494),IF(AR494<0.85,\"\",VLOOKUP(S494,G!A$2:X$23,VLOOKUP(F494,ages!B$1:C$23,2,1),1)),\"\")","v":""},{"$f":"IF(ISNUMBER(F494),IF(AS494<0.85,\"\",VLOOKUP(T494,H!A$2:X$23,VLOOKUP(F494,ages!B$1:C$23,2,1),1)),\"\")","v":""},{"$f":"IF(ISNUMBER(F494),IF(AT494<0.85,\"\",VLOOKUP(U494,I!A$2:X$23,VLOOKUP(F494,ages!B$1:C$23,2,1),1)),\"\")","v":""},{"$f":"IF(ISNUMBER(F494),IF(AU494<0.85,\"\",VLOOKUP(V494,J!A$2:X$23,VLOOKUP(F494,ages!B$1:C$23,2,1),1)),\"\")","v":""},"","","","",-1.0000000000000002E-6,0,0,0,0,0,0,0,0,0,0,0,null,null,null,null,null,null,null,null,null,null,null,null,null,null,null,null,null,null,null,null,null,null,null,null,null,null,null,null,null,null,null,null,null,null,null,null,null,null,null,null,null,null,null,null,null,null,null,null,null,null,null,null,null,null,null,null,null,null,null,null,null,null,null,null,null,null,null,null,null,null,-9.9999999999999995E-7,-9.9999999999999995E-7,-9.9999999999999995E-7,-9.9999999999999995E-7,-9.9999999999999995E-7,-9.9999999999999995E-7,-9.9999999999999995E-7,-9.9999999999999995E-7,-9.9999999999999995E-7,-9.9999999999999995E-7,-9.9999999999999995E-7,-9.9999999999999995E-7,-9.9999999999999995E-7,-9.9999999999999995E-7,-9.9999999999999995E-7,-9.9999999999999995E-7,-9.9999999999999995E-7,-9.9999999999999995E-7,-9.9999999999999995E-7,-9.9999999999999995E-7,{"$f":"IF(ISERROR(VLOOKUP(F494,ages!B$1:B$23,1,1)),\"\",VLOOKUP(F494,ages!B$1:B$23,1,1))","v":""},{"$f":"IF(ISERROR(VLOOKUP(F494,ages!B$1:D$23,3,1)),\"\",VLOOKUP(F494,ages!B$1:D$23,3,1))","v":""},0,0,0,0,0]
[null,null,null,null,null,"",null,null,null,null,null,null,"","","","","","","","","","",{"$f":"IF(ISNUMBER(F499),IF(AL499<0.85,\"\",VLOOKUP(M499,A!A$2:X$23,VLOOKUP(F499,ages!B$1:C$23,2,1),1)),\"\")","v":""},{"$f":"IF(ISNUMBER(F499),IF(AM499<0.85,\"\",VLOOKUP(N499,B!A$2:X$23,VLOOKUP(F499,ages!B$1:C$23,2,1),1)),\"\")","v":""},{"$f":"IF(ISNUMBER(F499),IF(AN499<0.85,\"\",VLOOKUP(O499,'C'!A$2:X$23,VLOOKUP(F499,ages!B$1:C$23,2,1),1)),\"\")","v":""},{"$f":"IF(ISNUMBER(F499),IF(AO499<0.85,\"\",VLOOKUP(P499,D!A$2:X$23,VLOOKUP(F499,ages!B$1:C$23,2,1),1)),\"\")","v":""},{"$f":"IF(ISNUMBER(F499),IF(AP499<0.85,\"\",VLOOKUP(Q499,E!A$2:X$23,VLOOKUP(F499,ages!B$1:C$23,2,1),1)),\"\")","v":""},{"$f":"IF(ISNUMBER(F499),IF(AQ499<0.85,\"\",VLOOKUP(R499,F!A$2:X$23,VLOOKUP(F499,ages!B$1:C$23,2,1),1)),\"\")","v":""},{"$f":"IF(ISNUMBER(F499),IF(AR499<0.85,\"\",VLOOKUP(S499,G!A$2:X$23,VLOOKUP(F499,ages!B$1:C$23,2,1),1)),\"\")","v":""},{"$f":"IF(ISNUMBER(F499),IF(AS499<0.85,\"\",VLOOKUP(T499,H!A$2:X$23,VLOOKUP(F499,ages!B$1:C$23,2,1),1)),\"\")","v":""},{"$f":"IF(ISNUMBER(F499),IF(AT499<0.85,\"\",VLOOKUP(U499,I!A$2:X$23,VLOOKUP(F499,ages!B$1:C$23,2,1),1)),\"\")","v":""},{"$f":"IF(ISNUMBER(F499),IF(AU499<0.85,\"\",VLOOKUP(V499,J!A$2:X$23,VLOOKUP(F499,ages!B$1:C$23,2,1),1)),\"\")","v":""},"","","","",-1.0000000000000002E-6,0,0,0,0,0,0,0,0,0,0,0,null,null,null,null,null,null,null,null,null,null,null,null,null,null,null,null,null,null,null,null,null,null,null,null,null,null,null,null,null,null,null,null,null,null,null,null,null,null,null,null,null,null,null,null,null,null,null,null,null,null,null,null,null,null,null,null,null,null,null,null,null,null,null,null,null,null,null,null,null,null,-9.9999999999999995E-7,-9.9999999999999995E-7,-9.9999999999999995E-7,-9.9999999999999995E-7,-9.9999999999999995E-7,-9.9999999999999995E-7,-9.9999999999999995E-7,-9.9999999999999995E-7,-9.9999999999999995E-7,-9.9999999999999995E-7,-9.9999999999999995E-7,-9.9999999999999995E-7,-9.9999999999999995E-7,-9.9999999999999995E-7,-9.9999999999999995E-7,-9.9999999999999995E-7,-9.9999999999999995E-7,-9.9999999999999995E-7,-9.9999999999999995E-7,-9.9999999999999995E-7,{"$f":"IF(ISERROR(VLOOKUP(F499,ages!B$1:B$23,1,1)),\"\",VLOOKUP(F499,ages!B$1:B$23,1,1))","v":""},{"$f":"IF(ISERROR(VLOOKUP(F499,ages!B$1:D$23,3,1)),\"\",VLOOKUP(F499,ages!B$1:D$23,3,1))","v":""},0,0,0,0,0]
[null,null,null,null,null,"",null,null,null,null,null,null,"","","","","","","","","","",{"$f":"IF(ISNUMBER(F505),IF(AL505<0.85,\"\",VLOOKUP(M505,A!A$2:X$23,VLOOKUP(F505,ages!B$1:C$23,2,1),1)),\"\")","v":""},{"$f":"IF(ISNUMBER(F505),IF(AM505<0.85,\"\",VLOOKUP(N505,B!A$2:X$23,VLOOKUP(F505,ages!B$1:C$23,2,1),1)),\"\")","v":""},{"$f":"IF(ISNUMBER(F505),IF(AN505<0.85,\"\",VLOOKUP(O505,'C'!A$2:X$23,VLOOKUP(F505,ages!B$1:C$23,2,1),1)),\"\")","v":""},{"$f":"IF(ISNUMBER(F505),IF(AO505<0.85,\"\",VLOOKUP(P505,D!A$2:X$23,VLOOKUP(F505,ages!B$1:C$23,2,1),1)),\"\")","v":""},{"$f":"IF(ISNUMBER(F505),IF(AP505<0.85,\"\",VLOOKUP(Q505,E!A$2:X$23,VLOOKUP(F505,ages!B$1:C$23,2,1),1)),\"\")","v":""},{"$f":"IF(ISNUMBER(F505),IF(AQ505<0.85,\"\",VLOOKUP(R505,F!A$2:X$23,VLOOKUP(F505,ages!B$1:C$23,2,1),1)),\"\")","v":""},{"$f":"IF(ISNUMBER(F505),IF(AR505<0.85,\"\",VLOOKUP(S505,G!A$2:X$23,VLOOKUP(F505,ages!B$1:C$23,2,1),1)),\"\")","v":""},{"$f":"IF(ISNUMBER(F505),IF(AS505<0.85,\"\",VLOOKUP(T505,H!A$2:X$23,VLOOKUP(F505,ages!B$1:C$23,2,1),1)),\"\")","v":""},{"$f":"IF(ISNUMBER(F505),IF(AT505<0.85,\"\",VLOOKUP(U505,I!A$2:X$23,VLOOKUP(F505,ages!B$1:C$23,2,1),1)),\"\")","v":""},{"$f":"IF(ISNUMBER(F505),IF(AU505<0.85,\"\",VLOOKUP(V505,J!A$2:X$23,VLOOKUP(F505,ages!B$1:C$23,2,1),1)),\"\")","v":""},"","","","",-1.0000000000000002E-6,0,0,0,0,0,0,0,0,0,0,0,null,null,null,null,null,null,null,null,null,null,null,null,null,null,null,null,null,null,null,null,null,null,null,null,null,null,null,null,null,null,null,null,null,null,null,null,null,null,null,null,null,null,null,null,null,null,null,null,null,null,null,null,null,null,null,null,null,null,null,null,null,null,null,null,null,null,null,null,null,null,-9.9999999999999995E-7,-9.9999999999999995E-7,-9.9999999999999995E-7,-9.9999999999999995E-7,-9.9999999999999995E-7,-9.9999999999999995E-7,-9.9999999999999995E-7,-9.9999999999999995E-7,-9.9999999999999995E-7,-9.9999999999999995E-7,-9.9999999999999995E-7,-9.9999999999999995E-7,-9.9999999999999995E-7,-9.9999999999999995E-7,-9.9999999999999995E-7,-9.9999999999999995E-7,-9.9999999999999995E-7,-9.9999999999999995E-7,-9.9999999999999995E-7,-9.9999999999999995E-7,{"$f":"IF(ISERROR(VLOOKUP(F505,ages!B$1:B$23,1,1)),\"\",VLOOKUP(F505,ages!B$1:B$23,1,1))","v":""},{"$f":"IF(ISERROR(VLOOKUP(F505,ages!B$1:D$23,3,1)),\"\",VLOOKUP(F505,ages!B$1:D$23,3,1))","v":""},0,0,0,0,0]
[null,null,null,null,null,"",null,null,null,null,null,null,"","","","","","","","","","",{"$f":"IF(ISNUMBER(F512),IF(AL512<0.85,\"\",VLOOKUP(M512,A!A$2:X$23,VLOOKUP(F512,ages!B$1:C$23,2,1),1)),\"\")","v":""},{"$f":"IF(ISNUMBER(F512),IF(AM512<0.85,\"\",VLOOKUP(N512,B!A$2:X$23,VLOOKUP(F512,ages!B$1:C$23,2,1),1)),\"\")","v":""},{"$f":"IF(ISNUMBER(F512),IF(AN512<0.85,\"\",VLOOKUP(O512,'C'!A$2:X$23,VLOOKUP(F512,ages!B$1:C$23,2,1),1)),\"\")","v":""},{"$f":"IF(ISNUMBER(F512),IF(AO512<0.85,\"\",VLOOKUP(P512,D!A$2:X$23,VLOOKUP(F512,ages!B$1:C$23,2,1),1)),\"\")","v":""},{"$f":"IF(ISNUMBER(F512),IF(AP512<0.85,\"\",VLOOKUP(Q512,E!A$2:X$23,VLOOKUP(F512,ages!B$1:C$23,2,1),1)),\"\")","v":""},{"$f":"IF(ISNUMBER(F512),IF(AQ512<0.85,\"\",VLOOKUP(R512,F!A$2:X$23,VLOOKUP(F512,ages!B$1:C$23,2,1),1)),\"\")","v":""},{"$f":"IF(ISNUMBER(F512),IF(AR512<0.85,\"\",VLOOKUP(S512,G!A$2:X$23,VLOOKUP(F512,ages!B$1:C$23,2,1),1)),\"\")","v":""},{"$f":"IF(ISNUMBER(F512),IF(AS512<0.85,\"\",VLOOKUP(T512,H!A$2:X$23,VLOOKUP(F512,ages!B$1:C$23,2,1),1)),\"\")","v":""},{"$f":"IF(ISNUMBER(F512),IF(AT512<0.85,\"\",VLOOKUP(U512,I!A$2:X$23,VLOOKUP(F512,ages!B$1:C$23,2,1),1)),\"\")","v":""},{"$f":"IF(ISNUMBER(F512),IF(AU512<0.85,\"\",VLOOKUP(V512,J!A$2:X$23,VLOOKUP(F512,ages!B$1:C$23,2,1),1)),\"\")","v":""},"","","","",-1.0000000000000002E-6,0,0,0,0,0,0,0,0,0,0,0,null,null,null,null,null,null,null,null,null,null,null,null,null,null,null,null,null,null,null,null,null,null,null,null,null,null,null,null,null,null,null,null,null,null,null,null,null,null,null,null,null,null,null,null,null,null,null,null,null,null,null,null,null,null,null,null,null,null,null,null,null,null,null,null,null,null,null,null,null,null,-9.9999999999999995E-7,-9.9999999999999995E-7,-9.9999999999999995E-7,-9.9999999999999995E-7,-9.9999999999999995E-7,-9.9999999999999995E-7,-9.9999999999999995E-7,-9.9999999999999995E-7,-9.9999999999999995E-7,-9.9999999999999995E-7,-9.9999999999999995E-7,-9.9999999999999995E-7,-9.9999999999999995E-7,-9.9999999999999995E-7,-9.9999999999999995E-7,-9.9999999999999995E-7,-9.9999999999999995E-7,-9.9999999999999995E-7,-9.9999999999999995E-7,-9.9999999999999995E-7,{"$f":"IF(ISERROR(VLOOKUP(F512,ages!B$1:B$23,1,1)),\"\",VLOOKUP(F512,ages!B$1:B$23,1,1))","v":""},{"$f":"IF(ISERROR(VLOOKUP(F512,ages!B$1:D$23,3,1)),\"\",VLOOKUP(F512,ages!B$1:D$23,3,1))","v":""},0,0,0,0,0]
[null,null,null,null,null,"",null,null,null,null,null,null,"","","","","","","","","","",{"$f":"IF(ISNUMBER(F515),IF(AL515<0.85,\"\",VLOOKUP(M515,A!A$2:X$23,VLOOKUP(F515,ages!B$1:C$23,2,1),1)),\"\")","v":""},{"$f":"IF(ISNUMBER(F515),IF(AM515<0.85,\"\",VLOOKUP(N515,B!A$2:X$23,VLOOKUP(F515,ages!B$1:C$23,2,1),1)),\"\")","v":""},{"$f":"IF(ISNUMBER(F515),IF(AN515<0.85,\"\",VLOOKUP(O515,'C'!A$2:X$23,VLOOKUP(F515,ages!B$1:C$23,2,1),1)),\"\")","v":""},{"$f":"IF(ISNUMBER(F515),IF(AO515<0.85,\"\",VLOOKUP(P515,D!A$2:X$23,VLOOKUP(F515,ages!B$1:C$23,2,1),1)),\"\")","v":""},{"$f":"IF(ISNUMBER(F515),IF(AP515<0.85,\"\",VLOOKUP(Q515,E!A$2:X$23,VLOOKUP(F515,ages!B$1:C$23,2,1),1)),\"\")","v":""},{"$f":"IF(ISNUMBER(F515),IF(AQ515<0.85,\"\",VLOOKUP(R515,F!A$2:X$23,VLOOKUP(F515,ages!B$1:C$23,2,1),1)),\"\")","v":""},{"$f":"IF(ISNUMBER(F515),IF(AR515<0.85,\"\",VLOOKUP(S515,G!A$2:X$23,VLOOKUP(F515,ages!B$1:C$23,2,1),1)),\"\")","v":""},{"$f":"IF(ISNUMBER(F515),IF(AS515<0.85,\"\",VLOOKUP(T515,H!A$2:X$23,VLOOKUP(F515,ages!B$1:C$23,2,1),1)),\"\")","v":""},{"$f":"IF(ISNUMBER(F515),IF(AT515<0.85,\"\",VLOOKUP(U515,I!A$2:X$23,VLOOKUP(F515,ages!B$1:C$23,2,1),1)),\"\")","v":""},{"$f":"IF(ISNUMBER(F515),IF(AU515<0.85,\"\",VLOOKUP(V515,J!A$2:X$23,VLOOKUP(F515,ages!B$1:C$23,2,1),1)),\"\")","v":""},"","","","",-1.0000000000000002E-6,0,0,0,0,0,0,0,0,0,0,0,null,null,null,null,null,null,null,null,null,null,null,null,null,null,null,null,null,null,null,null,null,null,null,null,null,null,null,null,null,null,null,null,null,null,null,null,null,null,null,null,null,null,null,null,null,null,null,null,null,null,null,null,null,null,null,null,null,null,null,null,null,null,null,null,null,null,null,null,null,null,-9.9999999999999995E-7,-9.9999999999999995E-7,-9.9999999999999995E-7,-9.9999999999999995E-7,-9.9999999999999995E-7,-9.9999999999999995E-7,-9.9999999999999995E-7,-9.9999999999999995E-7,-9.9999999999999995E-7,-9.9999999999999995E-7,-9.9999999999999995E-7,-9.9999999999999995E-7,-9.9999999999999995E-7,-9.9999999999999995E-7,-9.9999999999999995E-7,-9.9999999999999995E-7,-9.9999999999999995E-7,-9.9999999999999995E-7,-9.9999999999999995E-7,-9.9999999999999995E-7,{"$f":"IF(ISERROR(VLOOKUP(F515,ages!B$1:B$23,1,1)),\"\",VLOOKUP(F515,ages!B$1:B$23,1,1))","v":""},{"$f":"IF(ISERROR(VLOOKUP(F515,ages!B$1:D$23,3,1)),\"\",VLOOKUP(F515,ages!B$1:D$23,3,1))","v":""},0,0,0,0,0]
[null,null,null,null,null,"",null,null,null,null,null,null,"","","","","","","","","","",{"$f":"IF(ISNUMBER(F520),IF(AL520<0.85,\"\",VLOOKUP(M520,A!A$2:X$23,VLOOKUP(F520,ages!B$1:C$23,2,1),1)),\"\")","v":""},{"$f":"IF(ISNUMBER(F520),IF(AM520<0.85,\"\",VLOOKUP(N520,B!A$2:X$23,VLOOKUP(F520,ages!B$1:C$23,2,1),1)),\"\")","v":""},{"$f":"IF(ISNUMBER(F520),IF(AN520<0.85,\"\",VLOOKUP(O520,'C'!A$2:X$23,VLOOKUP(F520,ages!B$1:C$23,2,1),1)),\"\")","v":""},{"$f":"IF(ISNUMBER(F520),IF(AO520<0.85,\"\",VLOOKUP(P520,D!A$2:X$23,VLOOKUP(F520,ages!B$1:C$23,2,1),1)),\"\")","v":""},{"$f":"IF(ISNUMBER(F520),IF(AP520<0.85,\"\",VLOOKUP(Q520,E!A$2:X$23,VLOOKUP(F520,ages!B$1:C$23,2,1),1)),\"\")","v":""},{"$f":"IF(ISNUMBER(F520),IF(AQ520<0.85,\"\",VLOOKUP(R520,F!A$2:X$23,VLOOKUP(F520,ages!B$1:C$23,2,1),1)),\"\")","v":""},{"$f":"IF(ISNUMBER(F520),IF(AR520<0.85,\"\",VLOOKUP(S520,G!A$2:X$23,VLOOKUP(F520,ages!B$1:C$23,2,1),1)),\"\")","v":""},{"$f":"IF(ISNUMBER(F520),IF(AS520<0.85,\"\",VLOOKUP(T520,H!A$2:X$23,VLOOKUP(F520,ages!B$1:C$23,2,1),1)),\"\")","v":""},{"$f":"IF(ISNUMBER(F520),IF(AT520<0.85,\"\",VLOOKUP(U520,I!A$2:X$23,VLOOKUP(F520,ages!B$1:C$23,2,1),1)),\"\")","v":""},{"$f":"IF(ISNUMBER(F520),IF(AU520<0.85,\"\",VLOOKUP(V520,J!A$2:X$23,VLOOKUP(F520,ages!B$1:C$23,2,1),1)),\"\")","v":""},"","","","",{"$f":"IF(COUNT(DO520:EH520)>15,SUM(DO520:EH520)/COUNT(DO520:EH520),\"\")","v":-1.0000000000000002E-6},0,0,0,0,0,0,0,0,0,0,0,null,null,null,null,null,null,null,null,null,null,null,null,null,null,null,null,null,null,null,null,null,null,null,null,null,null,null,null,null,null,null,null,null,null,null,null,null,null,null,null,null,null,null,null,null,null,null,null,null,null,null,null,null,null,null,null,null,null,null,null,null,null,null,null,null,null,null,null,null,null,-9.9999999999999995E-7,{"$f":"IF(ISNUMBER(CV520),3-CV520,-0.000001)","v":-9.9999999999999995E-7},{"$f":"IF(ISNUMBER(CW520),3-CW520,-0.000001)","v":-9.9999999999999995E-7},{"$f":"IF(ISNUMBER(CX520),3-CX520,-0.000001)","v":-9.9999999999999995E-7},{"$f":"IF(ISNUMBER(CY520),3-CY520,-0.000001)","v":-9.9999999999999995E-7},{"$f":"IF(ISNUMBER(CZ520),3-CZ520,-0.000001)","v":-9.9999999999999995E-7},{"$f":"IF(ISNUMBER(DA520),3-DA520,-0.000001)","v":-9.9999999999999995E-7},{"$f":"IF(ISNUMBER(DB520),3-DB520,-0.000001)","v":-9.9999999999999995E-7},{"$f":"IF(ISNUMBER(DC520),3-DC520,-0.000001)","v":-9.9999999999999995E-7},{"$f":"IF(ISNUMBER(DD520),3-DD520,-0.000001)","v":-9.9999999999999995E-7},{"$f":"IF(ISNUMBER(DE520),3-DE520,-0.000001)","v":-9.9999999999999995E-7},{"$f":"IF(ISNUMBER(DF520),3-DF520,-0.000001)","v":-9.9999999999999995E-7},{"$f":"IF(ISNUMBER(DG520),3-DG520,-0.000001)","v":-9.9999999999999995E-7},{"$f":"IF(ISNUMBER(DH520),3-DH520,-0.000001)","v":-9.9999999999999995E-7},{"$f":"IF(ISNUMBER(DI520),3-DI520,-0.000001)","v":-9.9999999999999995E-7},{"$f":"IF(ISNUMBER(DJ520),3-DJ520,-0.000001)","v":-9.9999999999999995E-7},{"$f":"IF(ISNUMBER(DK520),3-DK520,-0.000001)","v":-9.9999999999999995E-7},{"$f":"IF(ISNUMBER(DL520),3-DL520,-0.000001)","v":-9.9999999999999995E-7},{"$f":"IF(ISNUMBER(DM520),3-DM520,-0.000001)","v":-9.9999999999999995E-7},{"$f":"IF(ISNUMBER(DN520),3-DN520,-0.000001)","v":-9.9999999999999995E-7},{"$f":"IF(ISERROR(VLOOKUP(F520,ages!B$1:B$23,1,1)),\"\",VLOOKUP(F520,ages!B$1:B$23,1,1))","v":""},{"$f":"IF(ISERROR(VLOOKUP(F520,ages!B$1:D$23,3,1)),\"\",VLOOKUP(F520,ages!B$1:D$23,3,1))","v":""},0,0,0,0,0]
[null,null,null,null,null,"",null,null,null,null,null,null,"","","","","","","","","","",{"$f":"IF(ISNUMBER(F525),IF(AL525<0.85,\"\",VLOOKUP(M525,A!A$2:X$23,VLOOKUP(F525,ages!B$1:C$23,2,1),1)),\"\")","v":""},{"$f":"IF(ISNUMBER(F525),IF(AM525<0.85,\"\",VLOOKUP(N525,B!A$2:X$23,VLOOKUP(F525,ages!B$1:C$23,2,1),1)),\"\")","v":""},{"$f":"IF(ISNUMBER(F525),IF(AN525<0.85,\"\",VLOOKUP(O525,'C'!A$2:X$23,VLOOKUP(F525,ages!B$1:C$23,2,1),1)),\"\")","v":""},{"$f":"IF(ISNUMBER(F525),IF(AO525<0.85,\"\",VLOOKUP(P525,D!A$2:X$23,VLOOKUP(F525,ages!B$1:C$23,2,1),1)),\"\")","v":""},{"$f":"IF(ISNUMBER(F525),IF(AP525<0.85,\"\",VLOOKUP(Q525,E!A$2:X$23,VLOOKUP(F525,ages!B$1:C$23,2,1),1)),\"\")","v":""},{"$f":"IF(ISNUMBER(F525),IF(AQ525<0.85,\"\",VLOOKUP(R525,F!A$2:X$23,VLOOKUP(F525,ages!B$1:C$23,2,1),1)),\"\")","v":""},{"$f":"IF(ISNUMBER(F525),IF(AR525<0.85,\"\",VLOOKUP(S525,G!A$2:X$23,VLOOKUP(F525,ages!B$1:C$23,2,1),1)),\"\")","v":""},{"$f":"IF(ISNUMBER(F525),IF(AS525<0.85,\"\",VLOOKUP(T525,H!A$2:X$23,VLOOKUP(F525,ages!B$1:C$23,2,1),1)),\"\")","v":""},{"$f":"IF(ISNUMBER(F525),IF(AT525<0.85,\"\",VLOOKUP(U525,I!A$2:X$23,VLOOKUP(F525,ages!B$1:C$23,2,1),1)),\"\")","v":""},{"$f":"IF(ISNUMBER(F525),IF(AU525<0.85,\"\",VLOOKUP(V525,J!A$2:X$23,VLOOKUP(F525,ages!B$1:C$23,2,1),1)),\"\")","v":""},"","","","",-1.0000000000000002E-6,0,0,0,0,0,0,0,0,0,0,0,null,null,null,null,null,null,null,null,null,null,null,null,null,null,null,null,null,null,null,null,null,null,null,null,null,null,null,null,null,null,null,null,null,null,null,null,null,null,null,null,null,null,null,null,null,null,null,null,null,null,null,null,null,null,null,null,null,null,null,null,null,null,null,null,null,null,null,null,null,null,-9.9999999999999995E-7,-9.9999999999999995E-7,-9.9999999999999995E-7,-9.9999999999999995E-7,-9.9999999999999995E-7,-9.9999999999999995E-7,-9.9999999999999995E-7,-9.9999999999999995E-7,-9.9999999999999995E-7,-9.9999999999999995E-7,-9.9999999999999995E-7,-9.9999999999999995E-7,-9.9999999999999995E-7,-9.9999999999999995E-7,-9.9999999999999995E-7,-9.9999999999999995E-7,-9.9999999999999995E-7,-9.9999999999999995E-7,-9.9999999999999995E-7,-9.9999999999999995E-7,{"$f":"IF(ISERROR(VLOOKUP(F525,ages!B$1:B$23,1,1)),\"\",VLOOKUP(F525,ages!B$1:B$23,1,1))","v":""},{"$f":"IF(ISERROR(VLOOKUP(F525,ages!B$1:D$23,3,1)),\"\",VLOOKUP(F525,ages!B$1:D$23,3,1))","v":""},0,0,0,0,0]
[null,null,null,null,null,"",null,null,null,null,null,null,"","","","","","","","","","",{"$f":"IF(ISNUMBER(F531),IF(AL531<0.85,\"\",VLOOKUP(M531,A!A$2:X$23,VLOOKUP(F531,ages!B$1:C$23,2,1),1)),\"\")","v":""},{"$f":"IF(ISNUMBER(F531),IF(AM531<0.85,\"\",VLOOKUP(N531,B!A$2:X$23,VLOOKUP(F531,ages!B$1:C$23,2,1),1)),\"\")","v":""},{"$f":"IF(ISNUMBER(F531),IF(AN531<0.85,\"\",VLOOKUP(O531,'C'!A$2:X$23,VLOOKUP(F531,ages!B$1:C$23,2,1),1)),\"\")","v":""},{"$f":"IF(ISNUMBER(F531),IF(AO531<0.85,\"\",VLOOKUP(P531,D!A$2:X$23,VLOOKUP(F531,ages!B$1:C$23,2,1),1)),\"\")","v":""},{"$f":"IF(ISNUMBER(F531),IF(AP531<0.85,\"\",VLOOKUP(Q531,E!A$2:X$23,VLOOKUP(F531,ages!B$1:C$23,2,1),1)),\"\")","v":""},{"$f":"IF(ISNUMBER(F531),IF(AQ531<0.85,\"\",VLOOKUP(R531,F!A$2:X$23,VLOOKUP(F531,ages!B$1:C$23,2,1),1)),\"\")","v":""},{"$f":"IF(ISNUMBER(F531),IF(AR531<0.85,\"\",VLOOKUP(S531,G!A$2:X$23,VLOOKUP(F531,ages!B$1:C$23,2,1),1)),\"\")","v":""},{"$f":"IF(ISNUMBER(F531),IF(AS531<0.85,\"\",VLOOKUP(T531,H!A$2:X$23,VLOOKUP(F531,ages!B$1:C$23,2,1),1)),\"\")","v":""},{"$f":"IF(ISNUMBER(F531),IF(AT531<0.85,\"\",VLOOKUP(U531,I!A$2:X$23,VLOOKUP(F531,ages!B$1:C$23,2,1),1)),\"\")","v":""},{"$f":"IF(ISNUMBER(F531),IF(AU531<0.85,\"\",VLOOKUP(V531,J!A$2:X$23,VLOOKUP(F531,ages!B$1:C$23,2,1),1)),\"\")","v":""},"","","","",-1.0000000000000002E-6,0,0,0,0,0,0,0,0,0,0,0,null,null,null,null,null,null,null,null,null,null,null,null,null,null,null,null,null,null,null,null,null,null,null,null,null,null,null,null,null,null,null,null,null,null,null,null,null,null,null,null,null,null,null,null,null,null,null,null,null,null,null,null,null,null,null,null,null,null,null,null,null,null,null,null,null,null,null,null,null,null,-9.9999999999999995E-7,-9.9999999999999995E-7,-9.9999999999999995E-7,-9.9999999999999995E-7,-9.9999999999999995E-7,-9.9999999999999995E-7,-9.9999999999999995E-7,-9.9999999999999995E-7,-9.9999999999999995E-7,-9.9999999999999995E-7,-9.9999999999999995E-7,-9.9999999999999995E-7,-9.9999999999999995E-7,-9.9999999999999995E-7,-9.9999999999999995E-7,-9.9999999999999995E-7,-9.9999999999999995E-7,-9.9999999999999995E-7,-9.9999999999999995E-7,-9.9999999999999995E-7,{"$f":"IF(ISERROR(VLOOKUP(F531,ages!B$1:B$23,1,1)),\"\",VLOOKUP(F531,ages!B$1:B$23,1,1))","v":""},{"$f":"IF(ISERROR(VLOOKUP(F531,ages!B$1:D$23,3,1)),\"\",VLOOKUP(F531,ages!B$1:D$23,3,1))","v":""},0,0,0,0,0]
[null,null,null,null,null,"",null,null,null,null,null,null,"","","","","","","","","","",{"$f":"IF(ISNUMBER(F533),IF(AL533<0.85,\"\",VLOOKUP(M533,A!A$2:X$23,VLOOKUP(F533,ages!B$1:C$23,2,1),1)),\"\")","v":""},{"$f":"IF(ISNUMBER(F533),IF(AM533<0.85,\"\",VLOOKUP(N533,B!A$2:X$23,VLOOKUP(F533,ages!B$1:C$23,2,1),1)),\"\")","v":""},{"$f":"IF(ISNUMBER(F533),IF(AN533<0.85,\"\",VLOOKUP(O533,'C'!A$2:X$23,VLOOKUP(F533,ages!B$1:C$23,2,1),1)),\"\")","v":""},{"$f":"IF(ISNUMBER(F533),IF(AO533<0.85,\"\",VLOOKUP(P533,D!A$2:X$23,VLOOKUP(F533,ages!B$1:C$23,2,1),1)),\"\")","v":""},{"$f":"IF(ISNUMBER(F533),IF(AP533<0.85,\"\",VLOOKUP(Q533,E!A$2:X$23,VLOOKUP(F533,ages!B$1:C$23,2,1),1)),\"\")","v":""},{"$f":"IF(ISNUMBER(F533),IF(AQ533<0.85,\"\",VLOOKUP(R533,F!A$2:X$23,VLOOKUP(F533,ages!B$1:C$23,2,1),1)),\"\")","v":""},{"$f":"IF(ISNUMBER(F533),IF(AR533<0.85,\"\",VLOOKUP(S533,G!A$2:X$23,VLOOKUP(F533,ages!B$1:C$23,2,1),1)),\"\")","v":""},{"$f":"IF(ISNUMBER(F533),IF(AS533<0.85,\"\",VLOOKUP(T533,H!A$2:X$23,VLOOKUP(F533,ages!B$1:C$23,2,1),1)),\"\")","v":""},{"$f":"IF(ISNUMBER(F533),IF(AT533<0.85,\"\",VLOOKUP(U533,I!A$2:X$23,VLOOKUP(F533,ages!B$1:C$23,2,1),1)),\"\")","v":""},{"$f":"IF(ISNUMBER(F533),IF(AU533<0.85,\"\",VLOOKUP(V533,J!A$2:X$23,VLOOKUP(F533,ages!B$1:C$23,2,1),1)),\"\")","v":""},"","","","",-1.0000000000000002E-6,0,0,0,0,0,0,0,0,0,0,0,null,null,null,null,null,null,null,null,null,null,null,null,null,null,null,null,null,null,null,null,null,null,null,null,null,null,null,null,null,null,null,null,null,null,null,null,null,null,null,null,null,null,null,null,null,null,null,null,null,null,null,null,null,null,null,null,null,null,null,null,null,null,null,null,null,null,null,null,null,null,-9.9999999999999995E-7,-9.9999999999999995E-7,-9.9999999999999995E-7,-9.9999999999999995E-7,-9.9999999999999995E-7,-9.9999999999999995E-7,-9.9999999999999995E-7,-9.9999999999999995E-7,-9.9999999999999995E-7,-9.9999999999999995E-7,-9.9999999999999995E-7,-9.9999999999999995E-7,-9.9999999999999995E-7,-9.9999999999999995E-7,-9.9999999999999995E-7,-9.9999999999999995E-7,-9.9999999999999995E-7,-9.9999999999999995E-7,-9.9999999999999995E-7,-9.9999999999999995E-7,{"$f":"IF(ISERROR(VLOOKUP(F533,ages!B$1:B$23,1,1)),\"\",VLOOKUP(F533,ages!B$1:B$23,1,1))","v":""},{"$f":"IF(ISERROR(VLOOKUP(F533,ages!B$1:D$23,3,1)),\"\",VLOOKUP(F533,ages!B$1:D$23,3,1))","v":""},0,0,0,0,0]
[null,null,null,null,null,"",null,null,null,null,null,null,"","","","","","","","","","",{"$f":"IF(ISNUMBER(F540),IF(AL540<0.85,\"\",VLOOKUP(M540,A!A$2:X$23,VLOOKUP(F540,ages!B$1:C$23,2,1),1)),\"\")","v":""},{"$f":"IF(ISNUMBER(F540),IF(AM540<0.85,\"\",VLOOKUP(N540,B!A$2:X$23,VLOOKUP(F540,ages!B$1:C$23,2,1),1)),\"\")","v":""},{"$f":"IF(ISNUMBER(F540),IF(AN540<0.85,\"\",VLOOKUP(O540,'C'!A$2:X$23,VLOOKUP(F540,ages!B$1:C$23,2,1),1)),\"\")","v":""},{"$f":"IF(ISNUMBER(F540),IF(AO540<0.85,\"\",VLOOKUP(P540,D!A$2:X$23,VLOOKUP(F540,ages!B$1:C$23,2,1),1)),\"\")","v":""},{"$f":"IF(ISNUMBER(F540),IF(AP540<0.85,\"\",VLOOKUP(Q540,E!A$2:X$23,VLOOKUP(F540,ages!B$1:C$23,2,1),1)),\"\")","v":""},{"$f":"IF(ISNUMBER(F540),IF(AQ540<0.85,\"\",VLOOKUP(R540,F!A$2:X$23,VLOOKUP(F540,ages!B$1:C$23,2,1),1)),\"\")","v":""},{"$f":"IF(ISNUMBER(F540),IF(AR540<0.85,\"\",VLOOKUP(S540,G!A$2:X$23,VLOOKUP(F540,ages!B$1:C$23,2,1),1)),\"\")","v":""},{"$f":"IF(ISNUMBER(F540),IF(AS540<0.85,\"\",VLOOKUP(T540,H!A$2:X$23,VLOOKUP(F540,ages!B$1:C$23,2,1),1)),\"\")","v":""},{"$f":"IF(ISNUMBER(F540),IF(AT540<0.85,\"\",VLOOKUP(U540,I!A$2:X$23,VLOOKUP(F540,ages!B$1:C$23,2,1),1)),\"\")","v":""},{"$f":"IF(ISNUMBER(F540),IF(AU540<0.85,\"\",VLOOKUP(V540,J!A$2:X$23,VLOOKUP(F540,ages!B$1:C$23,2,1),1)),\"\")","v":""},"","","","",-1.0000000000000002E-6,0,0,0,0,0,0,0,0,0,0,0,null,null,null,null,null,null,null,null,null,null,null,null,null,null,null,null,null,null,null,null,null,null,null,null,null,null,null,null,null,null,null,null,null,null,null,null,null,null,null,null,null,null,null,null,null,null,null,null,null,null,null,null,null,null,null,null,null,null,null,null,null,null,null,null,null,null,null,null,null,null,-9.9999999999999995E-7,-9.9999999999999995E-7,-9.9999999999999995E-7,-9.9999999999999995E-7,-9.9999999999999995E-7,-9.9999999999999995E-7,-9.9999999999999995E-7,-9.9999999999999995E-7,-9.9999999999999995E-7,-9.9999999999999995E-7,-9.9999999999999995E-7,-9.9999999999999995E-7,-9.9999999999999995E-7,-9.9999999999999995E-7,-9.9999999999999995E-7,-9.9999999999999995E-7,-9.9999999999999995E-7,-9.9999999999999995E-7,-9.9999999999999995E-7,-9.9999999999999995E-7,{"$f":"IF(ISERROR(VLOOKUP(F540,ages!B$1:B$23,1,1)),\"\",VLOOKUP(F540,ages!B$1:B$23,1,1))","v":""},{"$f":"IF(ISERROR(VLOOKUP(F540,ages!B$1:D$23,3,1)),\"\",VLOOKUP(F540,ages!B$1:D$23,3,1))","v":""},0,0,0,0,0]
[null,null,null,null,null,"",null,null,null,null,null,null,"","","","","","","","","","",{"$f":"IF(ISNUMBER(F546),IF(AL546<0.85,\"\",VLOOKUP(M546,A!A$2:X$23,VLOOKUP(F546,ages!B$1:C$23,2,1),1)),\"\")","v":""},{"$f":"IF(ISNUMBER(F546),IF(AM546<0.85,\"\",VLOOKUP(N546,B!A$2:X$23,VLOOKUP(F546,ages!B$1:C$23,2,1),1)),\"\")","v":""},{"$f":"IF(ISNUMBER(F546),IF(AN546<0.85,\"\",VLOOKUP(O546,'C'!A$2:X$23,VLOOKUP(F546,ages!B$1:C$23,2,1),1)),\"\")","v":""},{"$f":"IF(ISNUMBER(F546),IF(AO546<0.85,\"\",VLOOKUP(P546,D!A$2:X$23,VLOOKUP(F546,ages!B$1:C$23,2,1),1)),\"\")","v":""},{"$f":"IF(ISNUMBER(F546),IF(AP546<0.85,\"\",VLOOKUP(Q546,E!A$2:X$23,VLOOKUP(F546,ages!B$1:C$23,2,1),1)),\"\")","v":""},{"$f":"IF(ISNUMBER(F546),IF(AQ546<0.85,\"\",VLOOKUP(R546,F!A$2:X$23,VLOOKUP(F546,ages!B$1:C$23,2,1),1)),\"\")","v":""},{"$f":"IF(ISNUMBER(F546),IF(AR546<0.85,\"\",VLOOKUP(S546,G!A$2:X$23,VLOOKUP(F546,ages!B$1:C$23,2,1),1)),\"\")","v":""},{"$f":"IF(ISNUMBER(F546),IF(AS546<0.85,\"\",VLOOKUP(T546,H!A$2:X$23,VLOOKUP(F546,ages!B$1:C$23,2,1),1)),\"\")","v":""},{"$f":"IF(ISNUMBER(F546),IF(AT546<0.85,\"\",VLOOKUP(U546,I!A$2:X$23,VLOOKUP(F546,ages!B$1:C$23,2,1),1)),\"\")","v":""},{"$f":"IF(ISNUMBER(F546),IF(AU546<0.85,\"\",VLOOKUP(V546,J!A$2:X$23,VLOOKUP(F546,ages!B$1:C$23,2,1),1)),\"\")","v":""},"","","","",-1.0000000000000002E-6,0,0,0,0,0,0,0,0,0,0,0,null,null,null,null,null,null,null,null,null,null,null,null,null,null,null,null,null,null,null,null,null,null,null,null,null,null,null,null,null,null,null,null,null,null,null,null,null,null,null,null,null,null,null,null,null,null,null,null,null,null,null,null,null,null,null,null,null,null,null,null,null,null,null,null,null,null,null,null,null,null,-9.9999999999999995E-7,-9.9999999999999995E-7,-9.9999999999999995E-7,-9.9999999999999995E-7,-9.9999999999999995E-7,-9.9999999999999995E-7,-9.9999999999999995E-7,-9.9999999999999995E-7,-9.9999999999999995E-7,-9.9999999999999995E-7,-9.9999999999999995E-7,-9.9999999999999995E-7,-9.9999999999999995E-7,-9.9999999999999995E-7,-9.9999999999999995E-7,-9.9999999999999995E-7,-9.9999999999999995E-7,-9.9999999999999995E-7,-9.9999999999999995E-7,-9.9999999999999995E-7,{"$f":"IF(ISERROR(VLOOKUP(F546,ages!B$1:B$23,1,1)),\"\",VLOOKUP(F546,ages!B$1:B$23,1,1))","v":""},{"$f":"IF(ISERROR(VLOOKUP(F546,ages!B$1:D$23,3,1)),\"\",VLOOKUP(F546,ages!B$1:D$23,3,1))","v":""},0,0,0,0,0]
[null,null,null,null,null,"",null,null,null,null,null,null,"","","","","","","","","","",{"$f":"IF(ISNUMBER(F551),IF(AL551<0.85,\"\",VLOOKUP(M551,A!A$2:X$23,VLOOKUP(F551,ages!B$1:C$23,2,1),1)),\"\")","v":""},{"$f":"IF(ISNUMBER(F551),IF(AM551<0.85,\"\",VLOOKUP(N551,B!A$2:X$23,VLOOKUP(F551,ages!B$1:C$23,2,1),1)),\"\")","v":""},{"$f":"IF(ISNUMBER(F551),IF(AN551<0.85,\"\",VLOOKUP(O551,'C'!A$2:X$23,VLOOKUP(F551,ages!B$1:C$23,2,1),1)),\"\")","v":""},{"$f":"IF(ISNUMBER(F551),IF(AO551<0.85,\"\",VLOOKUP(P551,D!A$2:X$23,VLOOKUP(F551,ages!B$1:C$23,2,1),1)),\"\")","v":""},{"$f":"IF(ISNUMBER(F551),IF(AP551<0.85,\"\",VLOOKUP(Q551,E!A$2:X$23,VLOOKUP(F551,ages!B$1:C$23,2,1),1)),\"\")","v":""},{"$f":"IF(ISNUMBER(F551),IF(AQ551<0.85,\"\",VLOOKUP(R551,F!A$2:X$23,VLOOKUP(F551,ages!B$1:C$23,2,1),1)),\"\")","v":""},{"$f":"IF(ISNUMBER(F551),IF(AR551<0.85,\"\",VLOOKUP(S551,G!A$2:X$23,VLOOKUP(F551,ages!B$1:C$23,2,1),1)),\"\")","v":""},{"$f":"IF(ISNUMBER(F551),IF(AS551<0.85,\"\",VLOOKUP(T551,H!A$2:X$23,VLOOKUP(F551,ages!B$1:C$23,2,1),1)),\"\")","v":""},{"$f":"IF(ISNUMBER(F551),IF(AT551<0.85,\"\",VLOOKUP(U551,I!A$2:X$23,VLOOKUP(F551,ages!B$1:C$23,2,1),1)),\"\")","v":""},{"$f":"IF(ISNUMBER(F551),IF(AU551<0.85,\"\",VLOOKUP(V551,J!A$2:X$23,VLOOKUP(F551,ages!B$1:C$23,2,1),1)),\"\")","v":""},"","","","",-1.0000000000000002E-6,0,0,0,0,0,0,0,0,0,0,0,null,null,null,null,null,null,null,null,null,null,null,null,null,null,null,null,null,null,null,null,null,null,null,null,null,null,null,null,null,null,null,null,null,null,null,null,null,null,null,null,null,null,null,null,null,null,null,null,null,null,null,null,null,null,null,null,null,null,null,null,null,null,null,null,null,null,null,null,null,null,-9.9999999999999995E-7,-9.9999999999999995E-7,-9.9999999999999995E-7,-9.9999999999999995E-7,-9.9999999999999995E-7,-9.9999999999999995E-7,-9.9999999999999995E-7,-9.9999999999999995E-7,-9.9999999999999995E-7,-9.9999999999999995E-7,-9.9999999999999995E-7,-9.9999999999999995E-7,-9.9999999999999995E-7,-9.9999999999999995E-7,-9.9999999999999995E-7,-9.9999999999999995E-7,-9.9999999999999995E-7,-9.9999999999999995E-7,-9.9999999999999995E-7,-9.9999999999999995E-7,{"$f":"IF(ISERROR(VLOOKUP(F551,ages!B$1:B$23,1,1)),\"\",VLOOKUP(F551,ages!B$1:B$23,1,1))","v":""},{"$f":"IF(ISERROR(VLOOKUP(F551,ages!B$1:D$23,3,1)),\"\",VLOOKUP(F551,ages!B$1:D$23,3,1))","v":""},0,0,0,0,0]
[null,null,null,null,null,"",null,null,null,null,null,null,"","","","","","","","","","",{"$f":"IF(ISNUMBER(F552),IF(AL552<0.85,\"\",VLOOKUP(M552,A!A$2:X$23,VLOOKUP(F552,ages!B$1:C$23,2,1),1)),\"\")","v":""},{"$f":"IF(ISNUMBER(F552),IF(AM552<0.85,\"\",VLOOKUP(N552,B!A$2:X$23,VLOOKUP(F552,ages!B$1:C$23,2,1),1)),\"\")","v":""},{"$f":"IF(ISNUMBER(F552),IF(AN552<0.85,\"\",VLOOKUP(O552,'C'!A$2:X$23,VLOOKUP(F552,ages!B$1:C$23,2,1),1)),\"\")","v":""},{"$f":"IF(ISNUMBER(F552),IF(AO552<0.85,\"\",VLOOKUP(P552,D!A$2:X$23,VLOOKUP(F552,ages!B$1:C$23,2,1),1)),\"\")","v":""},{"$f":"IF(ISNUMBER(F552),IF(AP552<0.85,\"\",VLOOKUP(Q552,E!A$2:X$23,VLOOKUP(F552,ages!B$1:C$23,2,1),1)),\"\")","v":""},{"$f":"IF(ISNUMBER(F552),IF(AQ552<0.85,\"\",VLOOKUP(R552,F!A$2:X$23,VLOOKUP(F552,ages!B$1:C$23,2,1),1)),\"\")","v":""},{"$f":"IF(ISNUMBER(F552),IF(AR552<0.85,\"\",VLOOKUP(S552,G!A$2:X$23,VLOOKUP(F552,ages!B$1:C$23,2,1),1)),\"\")","v":""},{"$f":"IF(ISNUMBER(F552),IF(AS552<0.85,\"\",VLOOKUP(T552,H!A$2:X$23,VLOOKUP(F552,ages!B$1:C$23,2,1),1)),\"\")","v":""},{"$f":"IF(ISNUMBER(F552),IF(AT552<0.85,\"\",VLOOKUP(U552,I!A$2:X$23,VLOOKUP(F552,ages!B$1:C$23,2,1),1)),\"\")","v":""},{"$f":"IF(ISNUMBER(F552),IF(AU552<0.85,\"\",VLOOKUP(V552,J!A$2:X$23,VLOOKUP(F552,ages!B$1:C$23,2,1),1)),\"\")","v":""},"","","","",-1.0000000000000002E-6,0,0,0,0,0,0,0,0,0,0,0,null,null,null,null,null,null,null,null,null,null,null,null,null,null,null,null,null,null,null,null,null,null,null,null,null,null,null,null,null,null,null,null,null,null,null,null,null,null,null,null,null,null,null,null,null,null,null,null,null,null,null,null,null,null,null,null,null,null,null,null,null,null,null,null,null,null,null,null,null,null,-9.9999999999999995E-7,-9.9999999999999995E-7,-9.9999999999999995E-7,-9.9999999999999995E-7,-9.9999999999999995E-7,-9.9999999999999995E-7,-9.9999999999999995E-7,-9.9999999999999995E-7,-9.9999999999999995E-7,-9.9999999999999995E-7,-9.9999999999999995E-7,-9.9999999999999995E-7,-9.9999999999999995E-7,-9.9999999999999995E-7,-9.9999999999999995E-7,-9.9999999999999995E-7,-9.9999999999999995E-7,-9.9999999999999995E-7,-9.9999999999999995E-7,-9.9999999999999995E-7,{"$f":"IF(ISERROR(VLOOKUP(F552,ages!B$1:B$23,1,1)),\"\",VLOOKUP(F552,ages!B$1:B$23,1,1))","v":""},{"$f":"IF(ISERROR(VLOOKUP(F552,ages!B$1:D$23,3,1)),\"\",VLOOKUP(F552,ages!B$1:D$23,3,1))","v":""},0,0,0,0,0]
[null,null,null,null,null,"",null,null,null,null,null,null,"","","","","","","","","","",{"$f":"IF(ISNUMBER(F556),IF(AL556<0.85,\"\",VLOOKUP(M556,A!A$2:X$23,VLOOKUP(F556,ages!B$1:C$23,2,1),1)),\"\")","v":""},{"$f":"IF(ISNUMBER(F556),IF(AM556<0.85,\"\",VLOOKUP(N556,B!A$2:X$23,VLOOKUP(F556,ages!B$1:C$23,2,1),1)),\"\")","v":""},{"$f":"IF(ISNUMBER(F556),IF(AN556<0.85,\"\",VLOOKUP(O556,'C'!A$2:X$23,VLOOKUP(F556,ages!B$1:C$23,2,1),1)),\"\")","v":""},{"$f":"IF(ISNUMBER(F556),IF(AO556<0.85,\"\",VLOOKUP(P556,D!A$2:X$23,VLOOKUP(F556,ages!B$1:C$23,2,1),1)),\"\")","v":""},{"$f":"IF(ISNUMBER(F556),IF(AP556<0.85,\"\",VLOOKUP(Q556,E!A$2:X$23,VLOOKUP(F556,ages!B$1:C$23,2,1),1)),\"\")","v":""},{"$f":"IF(ISNUMBER(F556),IF(AQ556<0.85,\"\",VLOOKUP(R556,F!A$2:X$23,VLOOKUP(F556,ages!B$1:C$23,2,1),1)),\"\")","v":""},{"$f":"IF(ISNUMBER(F556),IF(AR556<0.85,\"\",VLOOKUP(S556,G!A$2:X$23,VLOOKUP(F556,ages!B$1:C$23,2,1),1)),\"\")","v":""},{"$f":"IF(ISNUMBER(F556),IF(AS556<0.85,\"\",VLOOKUP(T556,H!A$2:X$23,VLOOKUP(F556,ages!B$1:C$23,2,1),1)),\"\")","v":""},{"$f":"IF(ISNUMBER(F556),IF(AT556<0.85,\"\",VLOOKUP(U556,I!A$2:X$23,VLOOKUP(F556,ages!B$1:C$23,2,1),1)),\"\")","v":""},{"$f":"IF(ISNUMBER(F556),IF(AU556<0.85,\"\",VLOOKUP(V556,J!A$2:X$23,VLOOKUP(F556,ages!B$1:C$23,2,1),1)),\"\")","v":""},"","","","",-1.0000000000000002E-6,0,0,0,0,0,0,0,0,0,0,0,null,null,null,null,null,null,null,null,null,null,null,null,null,null,null,null,null,null,null,null,null,null,null,null,null,null,null,null,null,null,null,null,null,null,null,null,null,null,null,null,null,null,null,null,null,null,null,null,null,null,null,null,null,null,null,null,null,null,null,null,null,null,null,null,null,null,null,null,null,null,-9.9999999999999995E-7,-9.9999999999999995E-7,-9.9999999999999995E-7,-9.9999999999999995E-7,-9.9999999999999995E-7,-9.9999999999999995E-7,-9.9999999999999995E-7,-9.9999999999999995E-7,-9.9999999999999995E-7,-9.9999999999999995E-7,-9.9999999999999995E-7,-9.9999999999999995E-7,-9.9999999999999995E-7,-9.9999999999999995E-7,-9.9999999999999995E-7,-9.9999999999999995E-7,-9.9999999999999995E-7,-9.9999999999999995E-7,-9.9999999999999995E-7,-9.9999999999999995E-7,{"$f":"IF(ISERROR(VLOOKUP(F556,ages!B$1:B$23,1,1)),\"\",VLOOKUP(F556,ages!B$1:B$23,1,1))","v":""},{"$f":"IF(ISERROR(VLOOKUP(F556,ages!B$1:D$23,3,1)),\"\",VLOOKUP(F556,ages!B$1:D$23,3,1))","v":""},0,0,0,0,0]
[null,null,null,null,null,"",null,null,null,null,null,null,"","","","","","","","","","",{"$f":"IF(ISNUMBER(F561),IF(AL561<0.85,\"\",VLOOKUP(M561,A!A$2:X$23,VLOOKUP(F561,ages!B$1:C$23,2,1),1)),\"\")","v":""},{"$f":"IF(ISNUMBER(F561),IF(AM561<0.85,\"\",VLOOKUP(N561,B!A$2:X$23,VLOOKUP(F561,ages!B$1:C$23,2,1),1)),\"\")","v":""},{"$f":"IF(ISNUMBER(F561),IF(AN561<0.85,\"\",VLOOKUP(O561,'C'!A$2:X$23,VLOOKUP(F561,ages!B$1:C$23,2,1),1)),\"\")","v":""},{"$f":"IF(ISNUMBER(F561),IF(AO561<0.85,\"\",VLOOKUP(P561,D!A$2:X$23,VLOOKUP(F561,ages!B$1:C$23,2,1),1)),\"\")","v":""},{"$f":"IF(ISNUMBER(F561),IF(AP561<0.85,\"\",VLOOKUP(Q561,E!A$2:X$23,VLOOKUP(F561,ages!B$1:C$23,2,1),1)),\"\")","v":""},{"$f":"IF(ISNUMBER(F561),IF(AQ561<0.85,\"\",VLOOKUP(R561,F!A$2:X$23,VLOOKUP(F561,ages!B$1:C$23,2,1),1)),\"\")","v":""},{"$f":"IF(ISNUMBER(F561),IF(AR561<0.85,\"\",VLOOKUP(S561,G!A$2:X$23,VLOOKUP(F561,ages!B$1:C$23,2,1),1)),\"\")","v":""},{"$f":"IF(ISNUMBER(F561),IF(AS561<0.85,\"\",VLOOKUP(T561,H!A$2:X$23,VLOOKUP(F561,ages!B$1:C$23,2,1),1)),\"\")","v":""},{"$f":"IF(ISNUMBER(F561),IF(AT561<0.85,\"\",VLOOKUP(U561,I!A$2:X$23,VLOOKUP(F561,ages!B$1:C$23,2,1),1)),\"\")","v":""},{"$f":"IF(ISNUMBER(F561),IF(AU561<0.85,\"\",VLOOKUP(V561,J!A$2:X$23,VLOOKUP(F561,ages!B$1:C$23,2,1),1)),\"\")","v":""},"","","","",-1.0000000000000002E-6,0,0,0,0,0,0,0,0,0,0,0,null,null,null,null,null,null,null,null,null,null,null,null,null,null,null,null,null,null,null,null,null,null,null,null,null,null,null,null,null,null,null,null,null,null,null,null,null,null,null,null,null,null,null,null,null,null,null,null,null,null,null,null,null,null,null,null,null,null,null,null,null,null,null,null,null,null,null,null,null,null,-9.9999999999999995E-7,-9.9999999999999995E-7,-9.9999999999999995E-7,-9.9999999999999995E-7,-9.9999999999999995E-7,-9.9999999999999995E-7,-9.9999999999999995E-7,-9.9999999999999995E-7,-9.9999999999999995E-7,-9.9999999999999995E-7,-9.9999999999999995E-7,-9.9999999999999995E-7,-9.9999999999999995E-7,-9.9999999999999995E-7,-9.9999999999999995E-7,-9.9999999999999995E-7,-9.9999999999999995E-7,-9.9999999999999995E-7,-9.9999999999999995E-7,-9.9999999999999995E-7,{"$f":"IF(ISERROR(VLOOKUP(F561,ages!B$1:B$23,1,1)),\"\",VLOOKUP(F561,ages!B$1:B$23,1,1))","v":""},{"$f":"IF(ISERROR(VLOOKUP(F561,ages!B$1:D$23,3,1)),\"\",VLOOKUP(F561,ages!B$1:D$23,3,1))","v":""},0,0,0,0,0]
[null,null,null,null,null,"",null,null,null,null,null,null,"","","","","","","","","","",{"$f":"IF(ISNUMBER(F567),IF(AL567<0.85,\"\",VLOOKUP(M567,A!A$2:X$23,VLOOKUP(F567,ages!B$1:C$23,2,1),1)),\"\")","v":""},{"$f":"IF(ISNUMBER(F567),IF(AM567<0.85,\"\",VLOOKUP(N567,B!A$2:X$23,VLOOKUP(F567,ages!B$1:C$23,2,1),1)),\"\")","v":""},{"$f":"IF(ISNUMBER(F567),IF(AN567<0.85,\"\",VLOOKUP(O567,'C'!A$2:X$23,VLOOKUP(F567,ages!B$1:C$23,2,1),1)),\"\")","v":""},{"$f":"IF(ISNUMBER(F567),IF(AO567<0.85,\"\",VLOOKUP(P567,D!A$2:X$23,VLOOKUP(F567,ages!B$1:C$23,2,1),1)),\"\")","v":""},{"$f":"IF(ISNUMBER(F567),IF(AP567<0.85,\"\",VLOOKUP(Q567,E!A$2:X$23,VLOOKUP(F567,ages!B$1:C$23,2,1),1)),\"\")","v":""},{"$f":"IF(ISNUMBER(F567),IF(AQ567<0.85,\"\",VLOOKUP(R567,F!A$2:X$23,VLOOKUP(F567,ages!B$1:C$23,2,1),1)),\"\")","v":""},{"$f":"IF(ISNUMBER(F567),IF(AR567<0.85,\"\",VLOOKUP(S567,G!A$2:X$23,VLOOKUP(F567,ages!B$1:C$23,2,1),1)),\"\")","v":""},{"$f":"IF(ISNUMBER(F567),IF(AS567<0.85,\"\",VLOOKUP(T567,H!A$2:X$23,VLOOKUP(F567,ages!B$1:C$23,2,1),1)),\"\")","v":""},{"$f":"IF(ISNUMBER(F567),IF(AT567<0.85,\"\",VLOOKUP(U567,I!A$2:X$23,VLOOKUP(F567,ages!B$1:C$23,2,1),1)),\"\")","v":""},{"$f":"IF(ISNUMBER(F567),IF(AU567<0.85,\"\",VLOOKUP(V567,J!A$2:X$23,VLOOKUP(F567,ages!B$1:C$23,2,1),1)),\"\")","v":""},"","","","",-1.0000000000000002E-6,0,0,0,0,0,0,0,0,0,0,0,null,null,null,null,null,null,null,null,null,null,null,null,null,null,null,null,null,null,null,null,null,null,null,null,null,null,null,null,null,null,null,null,null,null,null,null,null,null,null,null,null,null,null,null,null,null,null,null,null,null,null,null,null,null,null,null,null,null,null,null,null,null,null,null,null,null,null,null,null,null,-9.9999999999999995E-7,-9.9999999999999995E-7,-9.9999999999999995E-7,-9.9999999999999995E-7,-9.9999999999999995E-7,-9.9999999999999995E-7,-9.9999999999999995E-7,-9.9999999999999995E-7,-9.9999999999999995E-7,-9.9999999999999995E-7,-9.9999999999999995E-7,-9.9999999999999995E-7,-9.9999999999999995E-7,-9.9999999999999995E-7,-9.9999999999999995E-7,-9.9999999999999995E-7,-9.9999999999999995E-7,-9.9999999999999995E-7,-9.9999999999999995E-7,-9.9999999999999995E-7,{"$f":"IF(ISERROR(VLOOKUP(F567,ages!B$1:B$23,1,1)),\"\",VLOOKUP(F567,ages!B$1:B$23,1,1))","v":""},{"$f":"IF(ISERROR(VLOOKUP(F567,ages!B$1:D$23,3,1)),\"\",VLOOKUP(F567,ages!B$1:D$23,3,1))","v":""},0,0,0,0,0]
[null,null,null,null,null,"",null,null,null,null,null,null,"","","","","","","","","","",{"$f":"IF(ISNUMBER(F572),IF(AL572<0.85,\"\",VLOOKUP(M572,A!A$2:X$23,VLOOKUP(F572,ages!B$1:C$23,2,1),1)),\"\")","v":""},{"$f":"IF(ISNUMBER(F572),IF(AM572<0.85,\"\",VLOOKUP(N572,B!A$2:X$23,VLOOKUP(F572,ages!B$1:C$23,2,1),1)),\"\")","v":""},{"$f":"IF(ISNUMBER(F572),IF(AN572<0.85,\"\",VLOOKUP(O572,'C'!A$2:X$23,VLOOKUP(F572,ages!B$1:C$23,2,1),1)),\"\")","v":""},{"$f":"IF(ISNUMBER(F572),IF(AO572<0.85,\"\",VLOOKUP(P572,D!A$2:X$23,VLOOKUP(F572,ages!B$1:C$23,2,1),1)),\"\")","v":""},{"$f":"IF(ISNUMBER(F572),IF(AP572<0.85,\"\",VLOOKUP(Q572,E!A$2:X$23,VLOOKUP(F572,ages!B$1:C$23,2,1),1)),\"\")","v":""},{"$f":"IF(ISNUMBER(F572),IF(AQ572<0.85,\"\",VLOOKUP(R572,F!A$2:X$23,VLOOKUP(F572,ages!B$1:C$23,2,1),1)),\"\")","v":""},{"$f":"IF(ISNUMBER(F572),IF(AR572<0.85,\"\",VLOOKUP(S572,G!A$2:X$23,VLOOKUP(F572,ages!B$1:C$23,2,1),1)),\"\")","v":""},{"$f":"IF(ISNUMBER(F572),IF(AS572<0.85,\"\",VLOOKUP(T572,H!A$2:X$23,VLOOKUP(F572,ages!B$1:C$23,2,1),1)),\"\")","v":""},{"$f":"IF(ISNUMBER(F572),IF(AT572<0.85,\"\",VLOOKUP(U572,I!A$2:X$23,VLOOKUP(F572,ages!B$1:C$23,2,1),1)),\"\")","v":""},{"$f":"IF(ISNUMBER(F572),IF(AU572<0.85,\"\",VLOOKUP(V572,J!A$2:X$23,VLOOKUP(F572,ages!B$1:C$23,2,1),1)),\"\")","v":""},"","","","",-1.0000000000000002E-6,0,0,0,0,0,0,0,0,0,0,0,null,null,null,null,null,null,null,null,null,null,null,null,null,null,null,null,null,null,null,null,null,null,null,null,null,null,null,null,null,null,null,null,null,null,null,null,null,null,null,null,null,null,null,null,null,null,null,null,null,null,null,null,null,null,null,null,null,null,null,null,null,null,null,null,null,null,null,null,null,null,-9.9999999999999995E-7,-9.9999999999999995E-7,-9.9999999999999995E-7,-9.9999999999999995E-7,-9.9999999999999995E-7,-9.9999999999999995E-7,-9.9999999999999995E-7,-9.9999999999999995E-7,-9.9999999999999995E-7,-9.9999999999999995E-7,-9.9999999999999995E-7,-9.9999999999999995E-7,-9.9999999999999995E-7,-9.9999999999999995E-7,-9.9999999999999995E-7,-9.9999999999999995E-7,-9.9999999999999995E-7,-9.9999999999999995E-7,-9.9999999999999995E-7,-9.9999999999999995E-7,{"$f":"IF(ISERROR(VLOOKUP(F572,ages!B$1:B$23,1,1)),\"\",VLOOKUP(F572,ages!B$1:B$23,1,1))","v":""},{"$f":"IF(ISERROR(VLOOKUP(F572,ages!B$1:D$23,3,1)),\"\",VLOOKUP(F572,ages!B$1:D$23,3,1))","v":""},0,0,0,0,0]
[null,null,null,null,null,"",null,null,null,null,null,null,"","","","","","","","","","",{"$f":"IF(ISNUMBER(F577),IF(AL577<0.85,\"\",VLOOKUP(M577,A!A$2:X$23,VLOOKUP(F577,ages!B$1:C$23,2,1),1)),\"\")","v":""},{"$f":"IF(ISNUMBER(F577),IF(AM577<0.85,\"\",VLOOKUP(N577,B!A$2:X$23,VLOOKUP(F577,ages!B$1:C$23,2,1),1)),\"\")","v":""},{"$f":"IF(ISNUMBER(F577),IF(AN577<0.85,\"\",VLOOKUP(O577,'C'!A$2:X$23,VLOOKUP(F577,ages!B$1:C$23,2,1),1)),\"\")","v":""},{"$f":"IF(ISNUMBER(F577),IF(AO577<0.85,\"\",VLOOKUP(P577,D!A$2:X$23,VLOOKUP(F577,ages!B$1:C$23,2,1),1)),\"\")","v":""},{"$f":"IF(ISNUMBER(F577),IF(AP577<0.85,\"\",VLOOKUP(Q577,E!A$2:X$23,VLOOKUP(F577,ages!B$1:C$23,2,1),1)),\"\")","v":""},{"$f":"IF(ISNUMBER(F577),IF(AQ577<0.85,\"\",VLOOKUP(R577,F!A$2:X$23,VLOOKUP(F577,ages!B$1:C$23,2,1),1)),\"\")","v":""},{"$f":"IF(ISNUMBER(F577),IF(AR577<0.85,\"\",VLOOKUP(S577,G!A$2:X$23,VLOOKUP(F577,ages!B$1:C$23,2,1),1)),\"\")","v":""},{"$f":"IF(ISNUMBER(F577),IF(AS577<0.85,\"\",VLOOKUP(T577,H!A$2:X$23,VLOOKUP(F577,ages!B$1:C$23,2,1),1)),\"\")","v":""},{"$f":"IF(ISNUMBER(F577),IF(AT577<0.85,\"\",VLOOKUP(U577,I!A$2:X$23,VLOOKUP(F577,ages!B$1:C$23,2,1),1)),\"\")","v":""},{"$f":"IF(ISNUMBER(F577),IF(AU577<0.85,\"\",VLOOKUP(V577,J!A$2:X$23,VLOOKUP(F577,ages!B$1:C$23,2,1),1)),\"\")","v":""},"","","","",-1.0000000000000002E-6,0,0,0,0,0,0,0,0,0,0,0,null,null,null,null,null,null,null,null,null,null,null,null,null,null,null,null,null,null,null,null,null,null,null,null,null,null,null,null,null,null,null,null,null,null,null,null,null,null,null,null,null,null,null,null,null,null,null,null,null,null,null,null,null,null,null,null,null,null,null,null,null,null,null,null,null,null,null,null,null,null,-9.9999999999999995E-7,-9.9999999999999995E-7,-9.9999999999999995E-7,-9.9999999999999995E-7,-9.9999999999999995E-7,-9.9999999999999995E-7,-9.9999999999999995E-7,-9.9999999999999995E-7,-9.9999999999999995E-7,-9.9999999999999995E-7,-9.9999999999999995E-7,-9.9999999999999995E-7,-9.9999999999999995E-7,-9.9999999999999995E-7,-9.9999999999999995E-7,-9.9999999999999995E-7,-9.9999999999999995E-7,-9.9999999999999995E-7,-9.9999999999999995E-7,-9.9999999999999995E-7,{"$f":"IF(ISERROR(VLOOKUP(F577,ages!B$1:B$23,1,1)),\"\",VLOOKUP(F577,ages!B$1:B$23,1,1))","v":""},{"$f":"IF(ISERROR(VLOOKUP(F577,ages!B$1:D$23,3,1)),\"\",VLOOKUP(F577,ages!B$1:D$23,3,1))","v":""},0,0,0,0,0]
[null,null,null,null,null,"",null,null,null,null,null,null,"","","","","","","","","","",{"$f":"IF(ISNUMBER(F582),IF(AL582<0.85,\"\",VLOOKUP(M582,A!A$2:X$23,VLOOKUP(F582,ages!B$1:C$23,2,1),1)),\"\")","v":""},{"$f":"IF(ISNUMBER(F582),IF(AM582<0.85,\"\",VLOOKUP(N582,B!A$2:X$23,VLOOKUP(F582,ages!B$1:C$23,2,1),1)),\"\")","v":""},{"$f":"IF(ISNUMBER(F582),IF(AN582<0.85,\"\",VLOOKUP(O582,'C'!A$2:X$23,VLOOKUP(F582,ages!B$1:C$23,2,1),1)),\"\")","v":""},{"$f":"IF(ISNUMBER(F582),IF(AO582<0.85,\"\",VLOOKUP(P582,D!A$2:X$23,VLOOKUP(F582,ages!B$1:C$23,2,1),1)),\"\")","v":""},{"$f":"IF(ISNUMBER(F582),IF(AP582<0.85,\"\",VLOOKUP(Q582,E!A$2:X$23,VLOOKUP(F582,ages!B$1:C$23,2,1),1)),\"\")","v":""},{"$f":"IF(ISNUMBER(F582),IF(AQ582<0.85,\"\",VLOOKUP(R582,F!A$2:X$23,VLOOKUP(F582,ages!B$1:C$23,2,1),1)),\"\")","v":""},{"$f":"IF(ISNUMBER(F582),IF(AR582<0.85,\"\",VLOOKUP(S582,G!A$2:X$23,VLOOKUP(F582,ages!B$1:C$23,2,1),1)),\"\")","v":""},{"$f":"IF(ISNUMBER(F582),IF(AS582<0.85,\"\",VLOOKUP(T582,H!A$2:X$23,VLOOKUP(F582,ages!B$1:C$23,2,1),1)),\"\")","v":""},{"$f":"IF(ISNUMBER(F582),IF(AT582<0.85,\"\",VLOOKUP(U582,I!A$2:X$23,VLOOKUP(F582,ages!B$1:C$23,2,1),1)),\"\")","v":""},{"$f":"IF(ISNUMBER(F582),IF(AU582<0.85,\"\",VLOOKUP(V582,J!A$2:X$23,VLOOKUP(F582,ages!B$1:C$23,2,1),1)),\"\")","v":""},"","","","",-1.0000000000000002E-6,0,0,0,0,0,0,0,0,0,0,0,null,null,null,null,null,null,null,null,null,null,null,null,null,null,null,null,null,null,null,null,null,null,null,null,null,null,null,null,null,null,null,null,null,null,null,null,null,null,null,null,null,null,null,null,null,null,null,null,null,null,null,null,null,null,null,null,null,null,null,null,null,null,null,null,null,null,null,null,null,null,-9.9999999999999995E-7,-9.9999999999999995E-7,-9.9999999999999995E-7,-9.9999999999999995E-7,-9.9999999999999995E-7,-9.9999999999999995E-7,-9.9999999999999995E-7,-9.9999999999999995E-7,-9.9999999999999995E-7,-9.9999999999999995E-7,-9.9999999999999995E-7,-9.9999999999999995E-7,-9.9999999999999995E-7,-9.9999999999999995E-7,-9.9999999999999995E-7,-9.9999999999999995E-7,-9.9999999999999995E-7,-9.9999999999999995E-7,-9.9999999999999995E-7,-9.9999999999999995E-7,{"$f":"IF(ISERROR(VLOOKUP(F582,ages!B$1:B$23,1,1)),\"\",VLOOKUP(F582,ages!B$1:B$23,1,1))","v":""},{"$f":"IF(ISERROR(VLOOKUP(F582,ages!B$1:D$23,3,1)),\"\",VLOOKUP(F582,ages!B$1:D$23,3,1))","v":""},0,0,0,0,0]
[null,null,null,null,null,"",null,null,null,null,null,null,"","","","","","","","","","",{"$f":"IF(ISNUMBER(F587),IF(AL587<0.85,\"\",VLOOKUP(M587,A!A$2:X$23,VLOOKUP(F587,ages!B$1:C$23,2,1),1)),\"\")","v":""},{"$f":"IF(ISNUMBER(F587),IF(AM587<0.85,\"\",VLOOKUP(N587,B!A$2:X$23,VLOOKUP(F587,ages!B$1:C$23,2,1),1)),\"\")","v":""},{"$f":"IF(ISNUMBER(F587),IF(AN587<0.85,\"\",VLOOKUP(O587,'C'!A$2:X$23,VLOOKUP(F587,ages!B$1:C$23,2,1),1)),\"\")","v":""},{"$f":"IF(ISNUMBER(F587),IF(AO587<0.85,\"\",VLOOKUP(P587,D!A$2:X$23,VLOOKUP(F587,ages!B$1:C$23,2,1),1)),\"\")","v":""},{"$f":"IF(ISNUMBER(F587),IF(AP587<0.85,\"\",VLOOKUP(Q587,E!A$2:X$23,VLOOKUP(F587,ages!B$1:C$23,2,1),1)),\"\")","v":""},{"$f":"IF(ISNUMBER(F587),IF(AQ587<0.85,\"\",VLOOKUP(R587,F!A$2:X$23,VLOOKUP(F587,ages!B$1:C$23,2,1),1)),\"\")","v":""},{"$f":"IF(ISNUMBER(F587),IF(AR587<0.85,\"\",VLOOKUP(S587,G!A$2:X$23,VLOOKUP(F587,ages!B$1:C$23,2,1),1)),\"\")","v":""},{"$f":"IF(ISNUMBER(F587),IF(AS587<0.85,\"\",VLOOKUP(T587,H!A$2:X$23,VLOOKUP(F587,ages!B$1:C$23,2,1),1)),\"\")","v":""},{"$f":"IF(ISNUMBER(F587),IF(AT587<0.85,\"\",VLOOKUP(U587,I!A$2:X$23,VLOOKUP(F587,ages!B$1:C$23,2,1),1)),\"\")","v":""},{"$f":"IF(ISNUMBER(F587),IF(AU587<0.85,\"\",VLOOKUP(V587,J!A$2:X$23,VLOOKUP(F587,ages!B$1:C$23,2,1),1)),\"\")","v":""},"","","","",-1.0000000000000002E-6,0,0,0,0,0,0,0,0,0,0,0,null,null,null,null,null,null,null,null,null,null,null,null,null,null,null,null,null,null,null,null,null,null,null,null,null,null,null,null,null,null,null,null,null,null,null,null,null,null,null,null,null,null,null,null,null,null,null,null,null,null,null,null,null,null,null,null,null,null,null,null,null,null,null,null,null,null,null,null,null,null,-9.9999999999999995E-7,-9.9999999999999995E-7,-9.9999999999999995E-7,-9.9999999999999995E-7,-9.9999999999999995E-7,-9.9999999999999995E-7,-9.9999999999999995E-7,-9.9999999999999995E-7,-9.9999999999999995E-7,-9.9999999999999995E-7,-9.9999999999999995E-7,-9.9999999999999995E-7,-9.9999999999999995E-7,-9.9999999999999995E-7,-9.9999999999999995E-7,-9.9999999999999995E-7,-9.9999999999999995E-7,-9.9999999999999995E-7,-9.9999999999999995E-7,-9.9999999999999995E-7,{"$f":"IF(ISERROR(VLOOKUP(F587,ages!B$1:B$23,1,1)),\"\",VLOOKUP(F587,ages!B$1:B$23,1,1))","v":""},{"$f":"IF(ISERROR(VLOOKUP(F587,ages!B$1:D$23,3,1)),\"\",VLOOKUP(F587,ages!B$1:D$23,3,1))","v":""},0,0,0,0,0]
[null,null,null,null,null,"",null,null,null,null,null,null,"","","","","","","","","","",{"$f":"IF(ISNUMBER(F593),IF(AL593<0.85,\"\",VLOOKUP(M593,A!A$2:X$23,VLOOKUP(F593,ages!B$1:C$23,2,1),1)),\"\")","v":""},{"$f":"IF(ISNUMBER(F593),IF(AM593<0.85,\"\",VLOOKUP(N593,B!A$2:X$23,VLOOKUP(F593,ages!B$1:C$23,2,1),1)),\"\")","v":""},{"$f":"IF(ISNUMBER(F593),IF(AN593<0.85,\"\",VLOOKUP(O593,'C'!A$2:X$23,VLOOKUP(F593,ages!B$1:C$23,2,1),1)),\"\")","v":""},{"$f":"IF(ISNUMBER(F593),IF(AO593<0.85,\"\",VLOOKUP(P593,D!A$2:X$23,VLOOKUP(F593,ages!B$1:C$23,2,1),1)),\"\")","v":""},{"$f":"IF(ISNUMBER(F593),IF(AP593<0.85,\"\",VLOOKUP(Q593,E!A$2:X$23,VLOOKUP(F593,ages!B$1:C$23,2,1),1)),\"\")","v":""},{"$f":"IF(ISNUMBER(F593),IF(AQ593<0.85,\"\",VLOOKUP(R593,F!A$2:X$23,VLOOKUP(F593,ages!B$1:C$23,2,1),1)),\"\")","v":""},{"$f":"IF(ISNUMBER(F593),IF(AR593<0.85,\"\",VLOOKUP(S593,G!A$2:X$23,VLOOKUP(F593,ages!B$1:C$23,2,1),1)),\"\")","v":""},{"$f":"IF(ISNUMBER(F593),IF(AS593<0.85,\"\",VLOOKUP(T593,H!A$2:X$23,VLOOKUP(F593,ages!B$1:C$23,2,1),1)),\"\")","v":""},{"$f":"IF(ISNUMBER(F593),IF(AT593<0.85,\"\",VLOOKUP(U593,I!A$2:X$23,VLOOKUP(F593,ages!B$1:C$23,2,1),1)),\"\")","v":""},{"$f":"IF(ISNUMBER(F593),IF(AU593<0.85,\"\",VLOOKUP(V593,J!A$2:X$23,VLOOKUP(F593,ages!B$1:C$23,2,1),1)),\"\")","v":""},"","","","",-1.0000000000000002E-6,0,0,0,0,0,0,0,0,0,0,0,null,null,null,null,null,null,null,null,null,null,null,null,null,null,null,null,null,null,null,null,null,null,null,null,null,null,null,null,null,null,null,null,null,null,null,null,null,null,null,null,null,null,null,null,null,null,null,null,null,null,null,null,null,null,null,null,null,null,null,null,null,null,null,null,null,null,null,null,null,null,-9.9999999999999995E-7,-9.9999999999999995E-7,-9.9999999999999995E-7,-9.9999999999999995E-7,-9.9999999999999995E-7,-9.9999999999999995E-7,-9.9999999999999995E-7,-9.9999999999999995E-7,-9.9999999999999995E-7,-9.9999999999999995E-7,-9.9999999999999995E-7,-9.9999999999999995E-7,-9.9999999999999995E-7,-9.9999999999999995E-7,-9.9999999999999995E-7,-9.9999999999999995E-7,-9.9999999999999995E-7,-9.9999999999999995E-7,-9.9999999999999995E-7,-9.9999999999999995E-7,{"$f":"IF(ISERROR(VLOOKUP(F593,ages!B$1:B$23,1,1)),\"\",VLOOKUP(F593,ages!B$1:B$23,1,1))","v":""},{"$f":"IF(ISERROR(VLOOKUP(F593,ages!B$1:D$23,3,1)),\"\",VLOOKUP(F593,ages!B$1:D$23,3,1))","v":""},0,0,0,0,0]
[null,null,null,null,null,"",null,null,null,null,null,null,"","","","","","","","","","",{"$f":"IF(ISNUMBER(F596),IF(AL596<0.85,\"\",VLOOKUP(M596,A!A$2:X$23,VLOOKUP(F596,ages!B$1:C$23,2,1),1)),\"\")","v":""},{"$f":"IF(ISNUMBER(F596),IF(AM596<0.85,\"\",VLOOKUP(N596,B!A$2:X$23,VLOOKUP(F596,ages!B$1:C$23,2,1),1)),\"\")","v":""},{"$f":"IF(ISNUMBER(F596),IF(AN596<0.85,\"\",VLOOKUP(O596,'C'!A$2:X$23,VLOOKUP(F596,ages!B$1:C$23,2,1),1)),\"\")","v":""},{"$f":"IF(ISNUMBER(F596),IF(AO596<0.85,\"\",VLOOKUP(P596,D!A$2:X$23,VLOOKUP(F596,ages!B$1:C$23,2,1),1)),\"\")","v":""},{"$f":"IF(ISNUMBER(F596),IF(AP596<0.85,\"\",VLOOKUP(Q596,E!A$2:X$23,VLOOKUP(F596,ages!B$1:C$23,2,1),1)),\"\")","v":""},{"$f":"IF(ISNUMBER(F596),IF(AQ596<0.85,\"\",VLOOKUP(R596,F!A$2:X$23,VLOOKUP(F596,ages!B$1:C$23,2,1),1)),\"\")","v":""},{"$f":"IF(ISNUMBER(F596),IF(AR596<0.85,\"\",VLOOKUP(S596,G!A$2:X$23,VLOOKUP(F596,ages!B$1:C$23,2,1),1)),\"\")","v":""},{"$f":"IF(ISNUMBER(F596),IF(AS596<0.85,\"\",VLOOKUP(T596,H!A$2:X$23,VLOOKUP(F596,ages!B$1:C$23,2,1),1)),\"\")","v":""},{"$f":"IF(ISNUMBER(F596),IF(AT596<0.85,\"\",VLOOKUP(U596,I!A$2:X$23,VLOOKUP(F596,ages!B$1:C$23,2,1),1)),\"\")","v":""},{"$f":"IF(ISNUMBER(F596),IF(AU596<0.85,\"\",VLOOKUP(V596,J!A$2:X$23,VLOOKUP(F596,ages!B$1:C$23,2,1),1)),\"\")","v":""},"","","","",-1.0000000000000002E-6,0,0,0,0,0,0,0,0,0,0,0,null,null,null,null,null,null,null,null,null,null,null,null,null,null,null,null,null,null,null,null,null,null,null,null,null,null,null,null,null,null,null,null,null,null,null,null,null,null,null,null,null,null,null,null,null,null,null,null,null,null,null,null,null,null,null,null,null,null,null,null,null,null,null,null,null,null,null,null,null,null,-9.9999999999999995E-7,-9.9999999999999995E-7,-9.9999999999999995E-7,-9.9999999999999995E-7,-9.9999999999999995E-7,-9.9999999999999995E-7,-9.9999999999999995E-7,-9.9999999999999995E-7,-9.9999999999999995E-7,-9.9999999999999995E-7,-9.9999999999999995E-7,-9.9999999999999995E-7,-9.9999999999999995E-7,-9.9999999999999995E-7,-9.9999999999999995E-7,-9.9999999999999995E-7,-9.9999999999999995E-7,-9.9999999999999995E-7,-9.9999999999999995E-7,-9.9999999999999995E-7,{"$f":"IF(ISERROR(VLOOKUP(F596,ages!B$1:B$23,1,1)),\"\",VLOOKUP(F596,ages!B$1:B$23,1,1))","v":""},{"$f":"IF(ISERROR(VLOOKUP(F596,ages!B$1:D$23,3,1)),\"\",VLOOKUP(F596,ages!B$1:D$23,3,1))","v":""},0,0,0,0,0]
[null,null,null,null,null,"",null,null,null,null,null,null,"","","","","","","","","","",{"$f":"IF(ISNUMBER(F602),IF(AL602<0.85,\"\",VLOOKUP(M602,A!A$2:X$23,VLOOKUP(F602,ages!B$1:C$23,2,1),1)),\"\")","v":""},{"$f":"IF(ISNUMBER(F602),IF(AM602<0.85,\"\",VLOOKUP(N602,B!A$2:X$23,VLOOKUP(F602,ages!B$1:C$23,2,1),1)),\"\")","v":""},{"$f":"IF(ISNUMBER(F602),IF(AN602<0.85,\"\",VLOOKUP(O602,'C'!A$2:X$23,VLOOKUP(F602,ages!B$1:C$23,2,1),1)),\"\")","v":""},{"$f":"IF(ISNUMBER(F602),IF(AO602<0.85,\"\",VLOOKUP(P602,D!A$2:X$23,VLOOKUP(F602,ages!B$1:C$23,2,1),1)),\"\")","v":""},{"$f":"IF(ISNUMBER(F602),IF(AP602<0.85,\"\",VLOOKUP(Q602,E!A$2:X$23,VLOOKUP(F602,ages!B$1:C$23,2,1),1)),\"\")","v":""},{"$f":"IF(ISNUMBER(F602),IF(AQ602<0.85,\"\",VLOOKUP(R602,F!A$2:X$23,VLOOKUP(F602,ages!B$1:C$23,2,1),1)),\"\")","v":""},{"$f":"IF(ISNUMBER(F602),IF(AR602<0.85,\"\",VLOOKUP(S602,G!A$2:X$23,VLOOKUP(F602,ages!B$1:C$23,2,1),1)),\"\")","v":""},{"$f":"IF(ISNUMBER(F602),IF(AS602<0.85,\"\",VLOOKUP(T602,H!A$2:X$23,VLOOKUP(F602,ages!B$1:C$23,2,1),1)),\"\")","v":""},{"$f":"IF(ISNUMBER(F602),IF(AT602<0.85,\"\",VLOOKUP(U602,I!A$2:X$23,VLOOKUP(F602,ages!B$1:C$23,2,1),1)),\"\")","v":""},{"$f":"IF(ISNUMBER(F602),IF(AU602<0.85,\"\",VLOOKUP(V602,J!A$2:X$23,VLOOKUP(F602,ages!B$1:C$23,2,1),1)),\"\")","v":""},"","","","",-1.0000000000000002E-6,0,0,0,0,0,0,0,0,0,0,0,null,null,null,null,null,null,null,null,null,null,null,null,null,null,null,null,null,null,null,null,null,null,null,null,null,null,null,null,null,null,null,null,null,null,null,null,null,null,null,null,null,null,null,null,null,null,null,null,null,null,null,null,null,null,null,null,null,null,null,null,null,null,null,null,null,null,null,null,null,null,-9.9999999999999995E-7,-9.9999999999999995E-7,-9.9999999999999995E-7,-9.9999999999999995E-7,-9.9999999999999995E-7,-9.9999999999999995E-7,-9.9999999999999995E-7,-9.9999999999999995E-7,-9.9999999999999995E-7,-9.9999999999999995E-7,-9.9999999999999995E-7,-9.9999999999999995E-7,-9.9999999999999995E-7,-9.9999999999999995E-7,-9.9999999999999995E-7,-9.9999999999999995E-7,-9.9999999999999995E-7,-9.9999999999999995E-7,-9.9999999999999995E-7,-9.9999999999999995E-7,{"$f":"IF(ISERROR(VLOOKUP(F602,ages!B$1:B$23,1,1)),\"\",VLOOKUP(F602,ages!B$1:B$23,1,1))","v":""},{"$f":"IF(ISERROR(VLOOKUP(F602,ages!B$1:D$23,3,1)),\"\",VLOOKUP(F602,ages!B$1:D$23,3,1))","v":""},0,0,0,0,0]
[null,null,null,null,null,"",null,null,null,null,null,null,"","","","","","","","","","",{"$f":"IF(ISNUMBER(F608),IF(AL608<0.85,\"\",VLOOKUP(M608,A!A$2:X$23,VLOOKUP(F608,ages!B$1:C$23,2,1),1)),\"\")","v":""},{"$f":"IF(ISNUMBER(F608),IF(AM608<0.85,\"\",VLOOKUP(N608,B!A$2:X$23,VLOOKUP(F608,ages!B$1:C$23,2,1),1)),\"\")","v":""},{"$f":"IF(ISNUMBER(F608),IF(AN608<0.85,\"\",VLOOKUP(O608,'C'!A$2:X$23,VLOOKUP(F608,ages!B$1:C$23,2,1),1)),\"\")","v":""},{"$f":"IF(ISNUMBER(F608),IF(AO608<0.85,\"\",VLOOKUP(P608,D!A$2:X$23,VLOOKUP(F608,ages!B$1:C$23,2,1),1)),\"\")","v":""},{"$f":"IF(ISNUMBER(F608),IF(AP608<0.85,\"\",VLOOKUP(Q608,E!A$2:X$23,VLOOKUP(F608,ages!B$1:C$23,2,1),1)),\"\")","v":""},{"$f":"IF(ISNUMBER(F608),IF(AQ608<0.85,\"\",VLOOKUP(R608,F!A$2:X$23,VLOOKUP(F608,ages!B$1:C$23,2,1),1)),\"\")","v":""},{"$f":"IF(ISNUMBER(F608),IF(AR608<0.85,\"\",VLOOKUP(S608,G!A$2:X$23,VLOOKUP(F608,ages!B$1:C$23,2,1),1)),\"\")","v":""},{"$f":"IF(ISNUMBER(F608),IF(AS608<0.85,\"\",VLOOKUP(T608,H!A$2:X$23,VLOOKUP(F608,ages!B$1:C$23,2,1),1)),\"\")","v":""},{"$f":"IF(ISNUMBER(F608),IF(AT608<0.85,\"\",VLOOKUP(U608,I!A$2:X$23,VLOOKUP(F608,ages!B$1:C$23,2,1),1)),\"\")","v":""},{"$f":"IF(ISNUMBER(F608),IF(AU608<0.85,\"\",VLOOKUP(V608,J!A$2:X$23,VLOOKUP(F608,ages!B$1:C$23,2,1),1)),\"\")","v":""},"","","","",-1.0000000000000002E-6,0,0,0,0,0,0,0,0,0,0,0,null,null,null,null,null,null,null,null,null,null,null,null,null,null,null,null,null,null,null,null,null,null,null,null,null,null,null,null,null,null,null,null,null,null,null,null,null,null,null,null,null,null,null,null,null,null,null,null,null,null,null,null,null,null,null,null,null,null,null,null,null,null,null,null,null,null,null,null,null,null,-9.9999999999999995E-7,-9.9999999999999995E-7,-9.9999999999999995E-7,-9.9999999999999995E-7,-9.9999999999999995E-7,-9.9999999999999995E-7,-9.9999999999999995E-7,-9.9999999999999995E-7,-9.9999999999999995E-7,-9.9999999999999995E-7,-9.9999999999999995E-7,-9.9999999999999995E-7,-9.9999999999999995E-7,-9.9999999999999995E-7,-9.9999999999999995E-7,-9.9999999999999995E-7,-9.9999999999999995E-7,-9.9999999999999995E-7,-9.9999999999999995E-7,-9.9999999999999995E-7,{"$f":"IF(ISERROR(VLOOKUP(F608,ages!B$1:B$23,1,1)),\"\",VLOOKUP(F608,ages!B$1:B$23,1,1))","v":""},{"$f":"IF(ISERROR(VLOOKUP(F608,ages!B$1:D$23,3,1)),\"\",VLOOKUP(F608,ages!B$1:D$23,3,1))","v":""},0,0,0,0,0]
[null,null,null,null,null,"",null,null,null,null,null,null,"","","","","","","","","","",{"$f":"IF(ISNUMBER(F613),IF(AL613<0.85,\"\",VLOOKUP(M613,A!A$2:X$23,VLOOKUP(F613,ages!B$1:C$23,2,1),1)),\"\")","v":""},{"$f":"IF(ISNUMBER(F613),IF(AM613<0.85,\"\",VLOOKUP(N613,B!A$2:X$23,VLOOKUP(F613,ages!B$1:C$23,2,1),1)),\"\")","v":""},{"$f":"IF(ISNUMBER(F613),IF(AN613<0.85,\"\",VLOOKUP(O613,'C'!A$2:X$23,VLOOKUP(F613,ages!B$1:C$23,2,1),1)),\"\")","v":""},{"$f":"IF(ISNUMBER(F613),IF(AO613<0.85,\"\",VLOOKUP(P613,D!A$2:X$23,VLOOKUP(F613,ages!B$1:C$23,2,1),1)),\"\")","v":""},{"$f":"IF(ISNUMBER(F613),IF(AP613<0.85,\"\",VLOOKUP(Q613,E!A$2:X$23,VLOOKUP(F613,ages!B$1:C$23,2,1),1)),\"\")","v":""},{"$f":"IF(ISNUMBER(F613),IF(AQ613<0.85,\"\",VLOOKUP(R613,F!A$2:X$23,VLOOKUP(F613,ages!B$1:C$23,2,1),1)),\"\")","v":""},{"$f":"IF(ISNUMBER(F613),IF(AR613<0.85,\"\",VLOOKUP(S613,G!A$2:X$23,VLOOKUP(F613,ages!B$1:C$23,2,1),1)),\"\")","v":""},{"$f":"IF(ISNUMBER(F613),IF(AS613<0.85,\"\",VLOOKUP(T613,H!A$2:X$23,VLOOKUP(F613,ages!B$1:C$23,2,1),1)),\"\")","v":""},{"$f":"IF(ISNUMBER(F613),IF(AT613<0.85,\"\",VLOOKUP(U613,I!A$2:X$23,VLOOKUP(F613,ages!B$1:C$23,2,1),1)),\"\")","v":""},{"$f":"IF(ISNUMBER(F613),IF(AU613<0.85,\"\",VLOOKUP(V613,J!A$2:X$23,VLOOKUP(F613,ages!B$1:C$23,2,1),1)),\"\")","v":""},"","","","",-1.0000000000000002E-6,0,0,0,0,0,0,0,0,0,0,0,null,null,null,null,null,null,null,null,null,null,null,null,null,null,null,null,null,null,null,null,null,null,null,null,null,null,null,null,null,null,null,null,null,null,null,null,null,null,null,null,null,null,null,null,null,null,null,null,null,null,null,null,null,null,null,null,null,null,null,null,null,null,null,null,null,null,null,null,null,null,-9.9999999999999995E-7,-9.9999999999999995E-7,-9.9999999999999995E-7,-9.9999999999999995E-7,-9.9999999999999995E-7,-9.9999999999999995E-7,-9.9999999999999995E-7,-9.9999999999999995E-7,-9.9999999999999995E-7,-9.9999999999999995E-7,-9.9999999999999995E-7,-9.9999999999999995E-7,-9.9999999999999995E-7,-9.9999999999999995E-7,-9.9999999999999995E-7,-9.9999999999999995E-7,-9.9999999999999995E-7,-9.9999999999999995E-7,-9.9999999999999995E-7,-9.9999999999999995E-7,{"$f":"IF(ISERROR(VLOOKUP(F613,ages!B$1:B$23,1,1)),\"\",VLOOKUP(F613,ages!B$1:B$23,1,1))","v":""},{"$f":"IF(ISERROR(VLOOKUP(F613,ages!B$1:D$23,3,1)),\"\",VLOOKUP(F613,ages!B$1:D$23,3,1))","v":""},0,0,0,0,0]
[null,null,null,null,null,"",null,null,null,null,null,null,"","","","","","","","","","",{"$f":"IF(ISNUMBER(F614),IF(AL614<0.85,\"\",VLOOKUP(M614,A!A$2:X$23,VLOOKUP(F614,ages!B$1:C$23,2,1),1)),\"\")","v":""},{"$f":"IF(ISNUMBER(F614),IF(AM614<0.85,\"\",VLOOKUP(N614,B!A$2:X$23,VLOOKUP(F614,ages!B$1:C$23,2,1),1)),\"\")","v":""},{"$f":"IF(ISNUMBER(F614),IF(AN614<0.85,\"\",VLOOKUP(O614,'C'!A$2:X$23,VLOOKUP(F614,ages!B$1:C$23,2,1),1)),\"\")","v":""},{"$f":"IF(ISNUMBER(F614),IF(AO614<0.85,\"\",VLOOKUP(P614,D!A$2:X$23,VLOOKUP(F614,ages!B$1:C$23,2,1),1)),\"\")","v":""},{"$f":"IF(ISNUMBER(F614),IF(AP614<0.85,\"\",VLOOKUP(Q614,E!A$2:X$23,VLOOKUP(F614,ages!B$1:C$23,2,1),1)),\"\")","v":""},{"$f":"IF(ISNUMBER(F614),IF(AQ614<0.85,\"\",VLOOKUP(R614,F!A$2:X$23,VLOOKUP(F614,ages!B$1:C$23,2,1),1)),\"\")","v":""},{"$f":"IF(ISNUMBER(F614),IF(AR614<0.85,\"\",VLOOKUP(S614,G!A$2:X$23,VLOOKUP(F614,ages!B$1:C$23,2,1),1)),\"\")","v":""},{"$f":"IF(ISNUMBER(F614),IF(AS614<0.85,\"\",VLOOKUP(T614,H!A$2:X$23,VLOOKUP(F614,ages!B$1:C$23,2,1),1)),\"\")","v":""},{"$f":"IF(ISNUMBER(F614),IF(AT614<0.85,\"\",VLOOKUP(U614,I!A$2:X$23,VLOOKUP(F614,ages!B$1:C$23,2,1),1)),\"\")","v":""},{"$f":"IF(ISNUMBER(F614),IF(AU614<0.85,\"\",VLOOKUP(V614,J!A$2:X$23,VLOOKUP(F614,ages!B$1:C$23,2,1),1)),\"\")","v":""},"","","","",-1.0000000000000002E-6,0,0,0,0,0,0,0,0,0,0,0,null,null,null,null,null,null,null,null,null,null,null,null,null,null,null,null,null,null,null,null,null,null,null,null,null,null,null,null,null,null,null,null,null,null,null,null,null,null,null,null,null,null,null,null,null,null,null,null,null,null,null,null,null,null,null,null,null,null,null,null,null,null,null,null,null,null,null,null,null,null,-9.9999999999999995E-7,-9.9999999999999995E-7,-9.9999999999999995E-7,-9.9999999999999995E-7,-9.9999999999999995E-7,-9.9999999999999995E-7,-9.9999999999999995E-7,-9.9999999999999995E-7,-9.9999999999999995E-7,-9.9999999999999995E-7,-9.9999999999999995E-7,-9.9999999999999995E-7,-9.9999999999999995E-7,-9.9999999999999995E-7,-9.9999999999999995E-7,-9.9999999999999995E-7,-9.9999999999999995E-7,-9.9999999999999995E-7,-9.9999999999999995E-7,-9.9999999999999995E-7,{"$f":"IF(ISERROR(VLOOKUP(F614,ages!B$1:B$23,1,1)),\"\",VLOOKUP(F614,ages!B$1:B$23,1,1))","v":""},{"$f":"IF(ISERROR(VLOOKUP(F614,ages!B$1:D$23,3,1)),\"\",VLOOKUP(F614,ages!B$1:D$23,3,1))","v":""},0,0,0,0,0]
[null,null,null,null,null,"",null,null,null,null,null,null,"","","","","","","","","","",{"$f":"IF(ISNUMBER(F621),IF(AL621<0.85,\"\",VLOOKUP(M621,A!A$2:X$23,VLOOKUP(F621,ages!B$1:C$23,2,1),1)),\"\")","v":""},{"$f":"IF(ISNUMBER(F621),IF(AM621<0.85,\"\",VLOOKUP(N621,B!A$2:X$23,VLOOKUP(F621,ages!B$1:C$23,2,1),1)),\"\")","v":""},{"$f":"IF(ISNUMBER(F621),IF(AN621<0.85,\"\",VLOOKUP(O621,'C'!A$2:X$23,VLOOKUP(F621,ages!B$1:C$23,2,1),1)),\"\")","v":""},{"$f":"IF(ISNUMBER(F621),IF(AO621<0.85,\"\",VLOOKUP(P621,D!A$2:X$23,VLOOKUP(F621,ages!B$1:C$23,2,1),1)),\"\")","v":""},{"$f":"IF(ISNUMBER(F621),IF(AP621<0.85,\"\",VLOOKUP(Q621,E!A$2:X$23,VLOOKUP(F621,ages!B$1:C$23,2,1),1)),\"\")","v":""},{"$f":"IF(ISNUMBER(F621),IF(AQ621<0.85,\"\",VLOOKUP(R621,F!A$2:X$23,VLOOKUP(F621,ages!B$1:C$23,2,1),1)),\"\")","v":""},{"$f":"IF(ISNUMBER(F621),IF(AR621<0.85,\"\",VLOOKUP(S621,G!A$2:X$23,VLOOKUP(F621,ages!B$1:C$23,2,1),1)),\"\")","v":""},{"$f":"IF(ISNUMBER(F621),IF(AS621<0.85,\"\",VLOOKUP(T621,H!A$2:X$23,VLOOKUP(F621,ages!B$1:C$23,2,1),1)),\"\")","v":""},{"$f":"IF(ISNUMBER(F621),IF(AT621<0.85,\"\",VLOOKUP(U621,I!A$2:X$23,VLOOKUP(F621,ages!B$1:C$23,2,1),1)),\"\")","v":""},{"$f":"IF(ISNUMBER(F621),IF(AU621<0.85,\"\",VLOOKUP(V621,J!A$2:X$23,VLOOKUP(F621,ages!B$1:C$23,2,1),1)),\"\")","v":""},"","","","",-1.0000000000000002E-6,0,0,0,0,0,0,0,0,0,0,0,null,null,null,null,null,null,null,null,null,null,null,null,null,null,null,null,null,null,null,null,null,null,null,null,null,null,null,null,null,null,null,null,null,null,null,null,null,null,null,null,null,null,null,null,null,null,null,null,null,null,null,null,null,null,null,null,null,null,null,null,null,null,null,null,null,null,null,null,null,null,-9.9999999999999995E-7,-9.9999999999999995E-7,-9.9999999999999995E-7,-9.9999999999999995E-7,-9.9999999999999995E-7,-9.9999999999999995E-7,-9.9999999999999995E-7,-9.9999999999999995E-7,-9.9999999999999995E-7,-9.9999999999999995E-7,-9.9999999999999995E-7,-9.9999999999999995E-7,-9.9999999999999995E-7,-9.9999999999999995E-7,-9.9999999999999995E-7,-9.9999999999999995E-7,-9.9999999999999995E-7,-9.9999999999999995E-7,-9.9999999999999995E-7,-9.9999999999999995E-7,{"$f":"IF(ISERROR(VLOOKUP(F621,ages!B$1:B$23,1,1)),\"\",VLOOKUP(F621,ages!B$1:B$23,1,1))","v":""},{"$f":"IF(ISERROR(VLOOKUP(F621,ages!B$1:D$23,3,1)),\"\",VLOOKUP(F621,ages!B$1:D$23,3,1))","v":""},0,0,0,0,0]
[null,null,null,null,null,"",null,null,null,null,null,null,"","","","","","","","","","",{"$f":"IF(ISNUMBER(F623),IF(AL623<0.85,\"\",VLOOKUP(M623,A!A$2:X$23,VLOOKUP(F623,ages!B$1:C$23,2,1),1)),\"\")","v":""},{"$f":"IF(ISNUMBER(F623),IF(AM623<0.85,\"\",VLOOKUP(N623,B!A$2:X$23,VLOOKUP(F623,ages!B$1:C$23,2,1),1)),\"\")","v":""},{"$f":"IF(ISNUMBER(F623),IF(AN623<0.85,\"\",VLOOKUP(O623,'C'!A$2:X$23,VLOOKUP(F623,ages!B$1:C$23,2,1),1)),\"\")","v":""},{"$f":"IF(ISNUMBER(F623),IF(AO623<0.85,\"\",VLOOKUP(P623,D!A$2:X$23,VLOOKUP(F623,ages!B$1:C$23,2,1),1)),\"\")","v":""},{"$f":"IF(ISNUMBER(F623),IF(AP623<0.85,\"\",VLOOKUP(Q623,E!A$2:X$23,VLOOKUP(F623,ages!B$1:C$23,2,1),1)),\"\")","v":""},{"$f":"IF(ISNUMBER(F623),IF(AQ623<0.85,\"\",VLOOKUP(R623,F!A$2:X$23,VLOOKUP(F623,ages!B$1:C$23,2,1),1)),\"\")","v":""},{"$f":"IF(ISNUMBER(F623),IF(AR623<0.85,\"\",VLOOKUP(S623,G!A$2:X$23,VLOOKUP(F623,ages!B$1:C$23,2,1),1)),\"\")","v":""},{"$f":"IF(ISNUMBER(F623),IF(AS623<0.85,\"\",VLOOKUP(T623,H!A$2:X$23,VLOOKUP(F623,ages!B$1:C$23,2,1),1)),\"\")","v":""},{"$f":"IF(ISNUMBER(F623),IF(AT623<0.85,\"\",VLOOKUP(U623,I!A$2:X$23,VLOOKUP(F623,ages!B$1:C$23,2,1),1)),\"\")","v":""},{"$f":"IF(ISNUMBER(F623),IF(AU623<0.85,\"\",VLOOKUP(V623,J!A$2:X$23,VLOOKUP(F623,ages!B$1:C$23,2,1),1)),\"\")","v":""},"","","","",-1.0000000000000002E-6,0,0,0,0,0,0,0,0,0,0,0,null,null,null,null,null,null,null,null,null,null,null,null,null,null,null,null,null,null,null,null,null,null,null,null,null,null,null,null,null,null,null,null,null,null,null,null,null,null,null,null,null,null,null,null,null,null,null,null,null,null,null,null,null,null,null,null,null,null,null,null,null,null,null,null,null,null,null,null,null,null,-9.9999999999999995E-7,-9.9999999999999995E-7,-9.9999999999999995E-7,-9.9999999999999995E-7,-9.9999999999999995E-7,-9.9999999999999995E-7,-9.9999999999999995E-7,-9.9999999999999995E-7,-9.9999999999999995E-7,-9.9999999999999995E-7,-9.9999999999999995E-7,-9.9999999999999995E-7,-9.9999999999999995E-7,-9.9999999999999995E-7,-9.9999999999999995E-7,-9.9999999999999995E-7,-9.9999999999999995E-7,-9.9999999999999995E-7,-9.9999999999999995E-7,-9.9999999999999995E-7,{"$f":"IF(ISERROR(VLOOKUP(F623,ages!B$1:B$23,1,1)),\"\",VLOOKUP(F623,ages!B$1:B$23,1,1))","v":""},{"$f":"IF(ISERROR(VLOOKUP(F623,ages!B$1:D$23,3,1)),\"\",VLOOKUP(F623,ages!B$1:D$23,3,1))","v":""},0,0,0,0,0]
[null,null,null,null,null,"",null,null,null,null,null,null,"","","","","","","","","","",{"$f":"IF(ISNUMBER(F629),IF(AL629<0.85,\"\",VLOOKUP(M629,A!A$2:X$23,VLOOKUP(F629,ages!B$1:C$23,2,1),1)),\"\")","v":""},{"$f":"IF(ISNUMBER(F629),IF(AM629<0.85,\"\",VLOOKUP(N629,B!A$2:X$23,VLOOKUP(F629,ages!B$1:C$23,2,1),1)),\"\")","v":""},{"$f":"IF(ISNUMBER(F629),IF(AN629<0.85,\"\",VLOOKUP(O629,'C'!A$2:X$23,VLOOKUP(F629,ages!B$1:C$23,2,1),1)),\"\")","v":""},{"$f":"IF(ISNUMBER(F629),IF(AO629<0.85,\"\",VLOOKUP(P629,D!A$2:X$23,VLOOKUP(F629,ages!B$1:C$23,2,1),1)),\"\")","v":""},{"$f":"IF(ISNUMBER(F629),IF(AP629<0.85,\"\",VLOOKUP(Q629,E!A$2:X$23,VLOOKUP(F629,ages!B$1:C$23,2,1),1)),\"\")","v":""},{"$f":"IF(ISNUMBER(F629),IF(AQ629<0.85,\"\",VLOOKUP(R629,F!A$2:X$23,VLOOKUP(F629,ages!B$1:C$23,2,1),1)),\"\")","v":""},{"$f":"IF(ISNUMBER(F629),IF(AR629<0.85,\"\",VLOOKUP(S629,G!A$2:X$23,VLOOKUP(F629,ages!B$1:C$23,2,1),1)),\"\")","v":""},{"$f":"IF(ISNUMBER(F629),IF(AS629<0.85,\"\",VLOOKUP(T629,H!A$2:X$23,VLOOKUP(F629,ages!B$1:C$23,2,1),1)),\"\")","v":""},{"$f":"IF(ISNUMBER(F629),IF(AT629<0.85,\"\",VLOOKUP(U629,I!A$2:X$23,VLOOKUP(F629,ages!B$1:C$23,2,1),1)),\"\")","v":""},{"$f":"IF(ISNUMBER(F629),IF(AU629<0.85,\"\",VLOOKUP(V629,J!A$2:X$23,VLOOKUP(F629,ages!B$1:C$23,2,1),1)),\"\")","v":""},"","","","",-1.0000000000000002E-6,0,0,0,0,0,0,0,0,0,0,0,null,null,null,null,null,null,null,null,null,null,null,null,null,null,null,null,null,null,null,null,null,null,null,null,null,null,null,null,null,null,null,null,null,null,null,null,null,null,null,null,null,null,null,null,null,null,null,null,null,null,null,null,null,null,null,null,null,null,null,null,null,null,null,null,null,null,null,null,null,null,-9.9999999999999995E-7,-9.9999999999999995E-7,-9.9999999999999995E-7,-9.9999999999999995E-7,-9.9999999999999995E-7,-9.9999999999999995E-7,-9.9999999999999995E-7,-9.9999999999999995E-7,-9.9999999999999995E-7,-9.9999999999999995E-7,-9.9999999999999995E-7,-9.9999999999999995E-7,-9.9999999999999995E-7,-9.9999999999999995E-7,-9.9999999999999995E-7,-9.9999999999999995E-7,-9.9999999999999995E-7,-9.9999999999999995E-7,-9.9999999999999995E-7,-9.9999999999999995E-7,{"$f":"IF(ISERROR(VLOOKUP(F629,ages!B$1:B$23,1,1)),\"\",VLOOKUP(F629,ages!B$1:B$23,1,1))","v":""},{"$f":"IF(ISERROR(VLOOKUP(F629,ages!B$1:D$23,3,1)),\"\",VLOOKUP(F629,ages!B$1:D$23,3,1))","v":""},0,0,0,0,0]
[null,null,null,null,null,"",null,null,null,null,null,null,"","","","","","","","","","",{"$f":"IF(ISNUMBER(F634),IF(AL634<0.85,\"\",VLOOKUP(M634,A!A$2:X$23,VLOOKUP(F634,ages!B$1:C$23,2,1),1)),\"\")","v":""},{"$f":"IF(ISNUMBER(F634),IF(AM634<0.85,\"\",VLOOKUP(N634,B!A$2:X$23,VLOOKUP(F634,ages!B$1:C$23,2,1),1)),\"\")","v":""},{"$f":"IF(ISNUMBER(F634),IF(AN634<0.85,\"\",VLOOKUP(O634,'C'!A$2:X$23,VLOOKUP(F634,ages!B$1:C$23,2,1),1)),\"\")","v":""},{"$f":"IF(ISNUMBER(F634),IF(AO634<0.85,\"\",VLOOKUP(P634,D!A$2:X$23,VLOOKUP(F634,ages!B$1:C$23,2,1),1)),\"\")","v":""},{"$f":"IF(ISNUMBER(F634),IF(AP634<0.85,\"\",VLOOKUP(Q634,E!A$2:X$23,VLOOKUP(F634,ages!B$1:C$23,2,1),1)),\"\")","v":""},{"$f":"IF(ISNUMBER(F634),IF(AQ634<0.85,\"\",VLOOKUP(R634,F!A$2:X$23,VLOOKUP(F634,ages!B$1:C$23,2,1),1)),\"\")","v":""},{"$f":"IF(ISNUMBER(F634),IF(AR634<0.85,\"\",VLOOKUP(S634,G!A$2:X$23,VLOOKUP(F634,ages!B$1:C$23,2,1),1)),\"\")","v":""},{"$f":"IF(ISNUMBER(F634),IF(AS634<0.85,\"\",VLOOKUP(T634,H!A$2:X$23,VLOOKUP(F634,ages!B$1:C$23,2,1),1)),\"\")","v":""},{"$f":"IF(ISNUMBER(F634),IF(AT634<0.85,\"\",VLOOKUP(U634,I!A$2:X$23,VLOOKUP(F634,ages!B$1:C$23,2,1),1)),\"\")","v":""},{"$f":"IF(ISNUMBER(F634),IF(AU634<0.85,\"\",VLOOKUP(V634,J!A$2:X$23,VLOOKUP(F634,ages!B$1:C$23,2,1),1)),\"\")","v":""},"","","","",-1.0000000000000002E-6,0,0,0,0,0,0,0,0,0,0,0,null,null,null,null,null,null,null,null,null,null,null,null,null,null,null,null,null,null,null,null,null,null,null,null,null,null,null,null,null,null,null,null,null,null,null,null,null,null,null,null,null,null,null,null,null,null,null,null,null,null,null,null,null,null,null,null,null,null,null,null,null,null,null,null,null,null,null,null,null,null,-9.9999999999999995E-7,-9.9999999999999995E-7,-9.9999999999999995E-7,-9.9999999999999995E-7,-9.9999999999999995E-7,-9.9999999999999995E-7,-9.9999999999999995E-7,-9.9999999999999995E-7,-9.9999999999999995E-7,-9.9999999999999995E-7,-9.9999999999999995E-7,-9.9999999999999995E-7,-9.9999999999999995E-7,-9.9999999999999995E-7,-9.9999999999999995E-7,-9.9999999999999995E-7,-9.9999999999999995E-7,-9.9999999999999995E-7,-9.9999999999999995E-7,-9.9999999999999995E-7,{"$f":"IF(ISERROR(VLOOKUP(F634,ages!B$1:B$23,1,1)),\"\",VLOOKUP(F634,ages!B$1:B$23,1,1))","v":""},{"$f":"IF(ISERROR(VLOOKUP(F634,ages!B$1:D$23,3,1)),\"\",VLOOKUP(F634,ages!B$1:D$23,3,1))","v":""},0,0,0,0,0]
[null,null,null,null,null,"",null,null,null,null,null,null,"","","","","","","","","","",{"$f":"IF(ISNUMBER(F640),IF(AL640<0.85,\"\",VLOOKUP(M640,A!A$2:X$23,VLOOKUP(F640,ages!B$1:C$23,2,1),1)),\"\")","v":""},{"$f":"IF(ISNUMBER(F640),IF(AM640<0.85,\"\",VLOOKUP(N640,B!A$2:X$23,VLOOKUP(F640,ages!B$1:C$23,2,1),1)),\"\")","v":""},{"$f":"IF(ISNUMBER(F640),IF(AN640<0.85,\"\",VLOOKUP(O640,'C'!A$2:X$23,VLOOKUP(F640,ages!B$1:C$23,2,1),1)),\"\")","v":""},{"$f":"IF(ISNUMBER(F640),IF(AO640<0.85,\"\",VLOOKUP(P640,D!A$2:X$23,VLOOKUP(F640,ages!B$1:C$23,2,1),1)),\"\")","v":""},{"$f":"IF(ISNUMBER(F640),IF(AP640<0.85,\"\",VLOOKUP(Q640,E!A$2:X$23,VLOOKUP(F640,ages!B$1:C$23,2,1),1)),\"\")","v":""},{"$f":"IF(ISNUMBER(F640),IF(AQ640<0.85,\"\",VLOOKUP(R640,F!A$2:X$23,VLOOKUP(F640,ages!B$1:C$23,2,1),1)),\"\")","v":""},{"$f":"IF(ISNUMBER(F640),IF(AR640<0.85,\"\",VLOOKUP(S640,G!A$2:X$23,VLOOKUP(F640,ages!B$1:C$23,2,1),1)),\"\")","v":""},{"$f":"IF(ISNUMBER(F640),IF(AS640<0.85,\"\",VLOOKUP(T640,H!A$2:X$23,VLOOKUP(F640,ages!B$1:C$23,2,1),1)),\"\")","v":""},{"$f":"IF(ISNUMBER(F640),IF(AT640<0.85,\"\",VLOOKUP(U640,I!A$2:X$23,VLOOKUP(F640,ages!B$1:C$23,2,1),1)),\"\")","v":""},{"$f":"IF(ISNUMBER(F640),IF(AU640<0.85,\"\",VLOOKUP(V640,J!A$2:X$23,VLOOKUP(F640,ages!B$1:C$23,2,1),1)),\"\")","v":""},"","","","",-1.0000000000000002E-6,0,0,0,0,0,0,0,0,0,0,0,null,null,null,null,null,null,null,null,null,null,null,null,null,null,null,null,null,null,null,null,null,null,null,null,null,null,null,null,null,null,null,null,null,null,null,null,null,null,null,null,null,null,null,null,null,null,null,null,null,null,null,null,null,null,null,null,null,null,null,null,null,null,null,null,null,null,null,null,null,null,-9.9999999999999995E-7,-9.9999999999999995E-7,-9.9999999999999995E-7,-9.9999999999999995E-7,-9.9999999999999995E-7,-9.9999999999999995E-7,-9.9999999999999995E-7,-9.9999999999999995E-7,-9.9999999999999995E-7,-9.9999999999999995E-7,-9.9999999999999995E-7,-9.9999999999999995E-7,-9.9999999999999995E-7,-9.9999999999999995E-7,-9.9999999999999995E-7,-9.9999999999999995E-7,-9.9999999999999995E-7,-9.9999999999999995E-7,-9.9999999999999995E-7,-9.9999999999999995E-7,{"$f":"IF(ISERROR(VLOOKUP(F640,ages!B$1:B$23,1,1)),\"\",VLOOKUP(F640,ages!B$1:B$23,1,1))","v":""},{"$f":"IF(ISERROR(VLOOKUP(F640,ages!B$1:D$23,3,1)),\"\",VLOOKUP(F640,ages!B$1:D$23,3,1))","v":""},0,0,0,0,0]
[null,null,null,null,null,"",null,null,null,null,null,null,"","","","","","","","","","",{"$f":"IF(ISNUMBER(F644),IF(AL644<0.85,\"\",VLOOKUP(M644,A!A$2:X$23,VLOOKUP(F644,ages!B$1:C$23,2,1),1)),\"\")","v":""},{"$f":"IF(ISNUMBER(F644),IF(AM644<0.85,\"\",VLOOKUP(N644,B!A$2:X$23,VLOOKUP(F644,ages!B$1:C$23,2,1),1)),\"\")","v":""},{"$f":"IF(ISNUMBER(F644),IF(AN644<0.85,\"\",VLOOKUP(O644,'C'!A$2:X$23,VLOOKUP(F644,ages!B$1:C$23,2,1),1)),\"\")","v":""},{"$f":"IF(ISNUMBER(F644),IF(AO644<0.85,\"\",VLOOKUP(P644,D!A$2:X$23,VLOOKUP(F644,ages!B$1:C$23,2,1),1)),\"\")","v":""},{"$f":"IF(ISNUMBER(F644),IF(AP644<0.85,\"\",VLOOKUP(Q644,E!A$2:X$23,VLOOKUP(F644,ages!B$1:C$23,2,1),1)),\"\")","v":""},{"$f":"IF(ISNUMBER(F644),IF(AQ644<0.85,\"\",VLOOKUP(R644,F!A$2:X$23,VLOOKUP(F644,ages!B$1:C$23,2,1),1)),\"\")","v":""},{"$f":"IF(ISNUMBER(F644),IF(AR644<0.85,\"\",VLOOKUP(S644,G!A$2:X$23,VLOOKUP(F644,ages!B$1:C$23,2,1),1)),\"\")","v":""},{"$f":"IF(ISNUMBER(F644),IF(AS644<0.85,\"\",VLOOKUP(T644,H!A$2:X$23,VLOOKUP(F644,ages!B$1:C$23,2,1),1)),\"\")","v":""},{"$f":"IF(ISNUMBER(F644),IF(AT644<0.85,\"\",VLOOKUP(U644,I!A$2:X$23,VLOOKUP(F644,ages!B$1:C$23,2,1),1)),\"\")","v":""},{"$f":"IF(ISNUMBER(F644),IF(AU644<0.85,\"\",VLOOKUP(V644,J!A$2:X$23,VLOOKUP(F644,ages!B$1:C$23,2,1),1)),\"\")","v":""},"","","","",-1.0000000000000002E-6,0,0,0,0,0,0,0,0,0,0,0,null,null,null,null,null,null,null,null,null,null,null,null,null,null,null,null,null,null,null,null,null,null,null,null,null,null,null,null,null,null,null,null,null,null,null,null,null,null,null,null,null,null,null,null,null,null,null,null,null,null,null,null,null,null,null,null,null,null,null,null,null,null,null,null,null,null,null,null,null,null,-9.9999999999999995E-7,-9.9999999999999995E-7,-9.9999999999999995E-7,-9.9999999999999995E-7,-9.9999999999999995E-7,-9.9999999999999995E-7,-9.9999999999999995E-7,-9.9999999999999995E-7,-9.9999999999999995E-7,-9.9999999999999995E-7,-9.9999999999999995E-7,-9.9999999999999995E-7,-9.9999999999999995E-7,-9.9999999999999995E-7,-9.9999999999999995E-7,-9.9999999999999995E-7,-9.9999999999999995E-7,-9.9999999999999995E-7,-9.9999999999999995E-7,-9.9999999999999995E-7,{"$f":"IF(ISERROR(VLOOKUP(F644,ages!B$1:B$23,1,1)),\"\",VLOOKUP(F644,ages!B$1:B$23,1,1))","v":""},{"$f":"IF(ISERROR(VLOOKUP(F644,ages!B$1:D$23,3,1)),\"\",VLOOKUP(F644,ages!B$1:D$23,3,1))","v":""},0,0,0,0,0]
[null,null,null,null,null,{"$f":"IF(OR(D649=\"\",E649=\"\"),\"\",IF((EK649*12+EL649)<48,\"ald<4:0\",IF((EK649*12+EL649)>203,\"ald>16:11\",EK649*12+EL649)))","v":""},null,null,null,null,null,null,{"$f":"IF(AL649>0.79,ROUND(($DO649+$DV649+$AX649+$BT649+$BY649+$CH649+$CN649)/AL649,0),\"\")","v":""},{"$f":"IF(AM649>0.79,ROUND(($DS649+$EG649+$AW649+$BM649+$BW649+$CF649+$CM649)/AM649,0),\"\")","v":""},{"$f":"IF(AN649>0.79,ROUND(($EB649+$ED649+$AZ649+$BB649+$BH649+$CB649+$CP649)/AN649,0),\"\")","v":""},{"$f":"IF(AO649>0.79,ROUND(($DQ649+$EF649+$BF649+$BU649+$CJ649+$CR649+$CT649)/AO649,0),\"\")","v":""},{"$f":"IF(AP649>0.79,ROUND(($DW649+$EH649+$BA649+$BQ649+$CE649+$CG649+$CO649)/AP649,0),\"\")","v":""},{"$f":"IF(AQ649>0.79,ROUND(($DY649+$DZ649+$BG649+$BN649+$BS649+$BZ649+$CL649)/AQ649,0),\"\")","v":""},{"$f":"IF(AR649>0.79,ROUND(($DR649+$DX649+$BK649+$BO649+$BX649+$CD649+$CK649)/AR649,0),\"\")","v":""},{"$f":"IF(AS649>0.79,ROUND(($DT649+$EC649+$BD649+$BJ649+$BP649+$CA649+$CI649)/AS649,0),\"\")","v":""},{"$f":"IF(AT649>0.79,ROUND(($DU649+$EE649+$AY649+$BC649+$BI649+$BL649+$CC649)/AT649,0),\"\")","v":""},{"$f":"IF(AU649>0.79,ROUND(($DP649+$EA649+$BE649+$BR649+$BV649+$CQ649+$CS649)/AU649,0),\"\")","v":""},{"$f":"IF(ISNUMBER(F649),IF(AL649<0.85,\"\",VLOOKUP(M649,A!A$2:X$23,VLOOKUP(F649,ages!B$1:C$23,2,1),1)),\"\")","v":""},{"$f":"IF(ISNUMBER(F649),IF(AM649<0.85,\"\",VLOOKUP(N649,B!A$2:X$23,VLOOKUP(F649,ages!B$1:C$23,2,1),1)),\"\")","v":""},{"$f":"IF(ISNUMBER(F649),IF(AN649<0.85,\"\",VLOOKUP(O649,'C'!A$2:X$23,VLOOKUP(F649,ages!B$1:C$23,2,1),1)),\"\")","v":""},{"$f":"IF(ISNUMBER(F649),IF(AO649<0.85,\"\",VLOOKUP(P649,D!A$2:X$23,VLOOKUP(F649,ages!B$1:C$23,2,1),1)),\"\")","v":""},{"$f":"IF(ISNUMBER(F649),IF(AP649<0.85,\"\",VLOOKUP(Q649,E!A$2:X$23,VLOOKUP(F649,ages!B$1:C$23,2,1),1)),\"\")","v":""},{"$f":"IF(ISNUMBER(F649),IF(AQ649<0.85,\"\",VLOOKUP(R649,F!A$2:X$23,VLOOKUP(F649,ages!B$1:C$23,2,1),1)),\"\")","v":""},{"$f":"IF(ISNUMBER(F649),IF(AR649<0.85,\"\",VLOOKUP(S649,G!A$2:X$23,VLOOKUP(F649,ages!B$1:C$23,2,1),1)),\"\")","v":""},{"$f":"IF(ISNUMBER(F649),IF(AS649<0.85,\"\",VLOOKUP(T649,H!A$2:X$23,VLOOKUP(F649,ages!B$1:C$23,2,1),1)),\"\")","v":""},{"$f":"IF(ISNUMBER(F649),IF(AT649<0.85,\"\",VLOOKUP(U649,I!A$2:X$23,VLOOKUP(F649,ages!B$1:C$23,2,1),1)),\"\")","v":""},{"$f":"IF(ISNUMBER(F649),IF(AU649<0.85,\"\",VLOOKUP(V649,J!A$2:X$23,VLOOKUP(F649,ages!B$1:C$23,2,1),1)),\"\")","v":""},"","",{"$f":"IF(AG649=\"\",\"\",IF(ISNUMBER(AJ649),IF(AND(AK649>1.5,(AK649-AJ649)>1.3),0,1),\"\"))","v":""},{"$f":"IF(COUNT(AW649:CT649)>45,SUM(AW649:CT649)/COUNT(AW649:CT649),\"\")","v":""},-1.0000000000000002E-6,{"$f":"COUNT($AX649,$BT649,$BY649,$CH649,$CN649,$CU649,$DB649)/7","v":0},{"$f":"COUNT($AW649,$BM649,$BW649,$CF649,$CM649,$CY649,$DM649)/7","v":0},{"$f":"COUNT($AZ649,$BB649,$BH649,$CB649,$CP649,$DH649,$DJ649)/7","v":0},{"$f":"COUNT($BF649,$BU649,$CJ649,$CR649,$CT649,$CW649,$DL649)/7","v":0},{"$f":"COUNT($BA649,$BQ649,$CE649,$CG649,$CO649,$DC649,$DN649)/7","v":0},{"$f":"COUNT($BG649,$BN649,$BS649,$BZ649,$CL649,$DE649,$DF649)/7","v":0},{"$f":"COUNT($BK649,$BO649,$BX649,$CD649,$CK649,$CX649,$DD649)/7","v":0},{"$f":"COUNT($BD649,$BJ649,$BP649,$CA649,$CI649,$CZ649,$DI649)/7","v":0},{"$f":"COUNT($AY649,$BC649,$BI649,$BL649,$CC649,$DA649,$DK649)/7","v":0},{"$f":"COUNT($BE649,$BR649,$BV649,$CQ649,$CS649,$CV649,$DG649)/7","v":0},{"$f":"COUNT(AW649:DN649)/70","v":0},null,null,null,null,null,null,null,null,null,null,null,null,null,null,null,null,null,null,null,null,null,null,null,null,null,null,null,null,null,null,null,null,null,null,null,null,null,null,null,null,null,null,null,null,null,null,null,null,null,null,null,null,null,null,null,null,null,null,null,null,null,null,null,null,null,null,null,null,null,null,{"$f":"IF(ISNUMBER(CU649),3-CU649,-0.000001)","v":-9.9999999999999995E-7},-9.9999999999999995E-7,-9.9999999999999995E-7,-9.9999999999999995E-7,-9.9999999999999995E-7,-9.9999999999999995E-7,-9.9999999999999995E-7,-9.9999999999999995E-7,-9.9999999999999995E-7,-9.9999999999999995E-7,-9.9999999999999995E-7,-9.9999999999999995E-7,-9.9999999999999995E-7,-9.9999999999999995E-7,-9.9999999999999995E-7,-9.9999999999999995E-7,-9.9999999999999995E-7,-9.9999999999999995E-7,-9.9999999999999995E-7,-9.9999999999999995E-7,{"$f":"IF(ISERROR(VLOOKUP(F649,ages!B$1:B$23,1,1)),\"\",VLOOKUP(F649,ages!B$1:B$23,1,1))","v":""},{"$f":"IF(ISERROR(VLOOKUP(F649,ages!B$1:D$23,3,1)),\"\",VLOOKUP(F649,ages!B$1:D$23,3,1))","v":""},{"$f":"YEAR(E649)-YEAR(D649)-EN649","v":0},{"$f":"IF(MONTH(E649)-MONTH(D649)-EO649<0,12+MONTH(E649)-MONTH(D649)-EO649,MONTH(E649)-MONTH(D649)-EO649)","v":0},{"$f":"IF(DAY(E649)-DAY(D649)<0,30+DAY(E649)-DAY(D649),DAY(E649)-DAY(D649))","v":0},{"$f":"IF(MONTH(E649)-MONTH(D649)-EO649<0,1,0)","v":0},{"$f":"IF(DAY(E649)-DAY(D649)<0,1,0)","v":0}]
[null,null,null,null,null,"",null,null,null,null,null,null,"","","","","","","","","","",{"$f":"IF(ISNUMBER(F655),IF(AL655<0.85,\"\",VLOOKUP(M655,A!A$2:X$23,VLOOKUP(F655,ages!B$1:C$23,2,1),1)),\"\")","v":""},{"$f":"IF(ISNUMBER(F655),IF(AM655<0.85,\"\",VLOOKUP(N655,B!A$2:X$23,VLOOKUP(F655,ages!B$1:C$23,2,1),1)),\"\")","v":""},{"$f":"IF(ISNUMBER(F655),IF(AN655<0.85,\"\",VLOOKUP(O655,'C'!A$2:X$23,VLOOKUP(F655,ages!B$1:C$23,2,1),1)),\"\")","v":""},{"$f":"IF(ISNUMBER(F655),IF(AO655<0.85,\"\",VLOOKUP(P655,D!A$2:X$23,VLOOKUP(F655,ages!B$1:C$23,2,1),1)),\"\")","v":""},{"$f":"IF(ISNUMBER(F655),IF(AP655<0.85,\"\",VLOOKUP(Q655,E!A$2:X$23,VLOOKUP(F655,ages!B$1:C$23,2,1),1)),\"\")","v":""},{"$f":"IF(ISNUMBER(F655),IF(AQ655<0.85,\"\",VLOOKUP(R655,F!A$2:X$23,VLOOKUP(F655,ages!B$1:C$23,2,1),1)),\"\")","v":""},{"$f":"IF(ISNUMBER(F655),IF(AR655<0.85,\"\",VLOOKUP(S655,G!A$2:X$23,VLOOKUP(F655,ages!B$1:C$23,2,1),1)),\"\")","v":""},{"$f":"IF(ISNUMBER(F655),IF(AS655<0.85,\"\",VLOOKUP(T655,H!A$2:X$23,VLOOKUP(F655,ages!B$1:C$23,2,1),1)),\"\")","v":""},{"$f":"IF(ISNUMBER(F655),IF(AT655<0.85,\"\",VLOOKUP(U655,I!A$2:X$23,VLOOKUP(F655,ages!B$1:C$23,2,1),1)),\"\")","v":""},{"$f":"IF(ISNUMBER(F655),IF(AU655<0.85,\"\",VLOOKUP(V655,J!A$2:X$23,VLOOKUP(F655,ages!B$1:C$23,2,1),1)),\"\")","v":""},"","","","",-1.0000000000000002E-6,0,0,0,0,0,0,0,0,0,0,0,null,null,null,null,null,null,null,null,null,null,null,null,null,null,null,null,null,null,null,null,null,null,null,null,null,null,null,null,null,null,null,null,null,null,null,null,null,null,null,null,null,null,null,null,null,null,null,null,null,null,null,null,null,null,null,null,null,null,null,null,null,null,null,null,null,null,null,null,null,null,-9.9999999999999995E-7,-9.9999999999999995E-7,-9.9999999999999995E-7,-9.9999999999999995E-7,-9.9999999999999995E-7,-9.9999999999999995E-7,-9.9999999999999995E-7,-9.9999999999999995E-7,-9.9999999999999995E-7,-9.9999999999999995E-7,-9.9999999999999995E-7,-9.9999999999999995E-7,-9.9999999999999995E-7,-9.9999999999999995E-7,-9.9999999999999995E-7,-9.9999999999999995E-7,-9.9999999999999995E-7,-9.9999999999999995E-7,-9.9999999999999995E-7,-9.9999999999999995E-7,{"$f":"IF(ISERROR(VLOOKUP(F655,ages!B$1:B$23,1,1)),\"\",VLOOKUP(F655,ages!B$1:B$23,1,1))","v":""},{"$f":"IF(ISERROR(VLOOKUP(F655,ages!B$1:D$23,3,1)),\"\",VLOOKUP(F655,ages!B$1:D$23,3,1))","v":""},0,0,0,0,0]
[null,null,null,null,null,"",null,null,null,null,null,null,"","","","","","","","","","",{"$f":"IF(ISNUMBER(F660),IF(AL660<0.85,\"\",VLOOKUP(M660,A!A$2:X$23,VLOOKUP(F660,ages!B$1:C$23,2,1),1)),\"\")","v":""},{"$f":"IF(ISNUMBER(F660),IF(AM660<0.85,\"\",VLOOKUP(N660,B!A$2:X$23,VLOOKUP(F660,ages!B$1:C$23,2,1),1)),\"\")","v":""},{"$f":"IF(ISNUMBER(F660),IF(AN660<0.85,\"\",VLOOKUP(O660,'C'!A$2:X$23,VLOOKUP(F660,ages!B$1:C$23,2,1),1)),\"\")","v":""},{"$f":"IF(ISNUMBER(F660),IF(AO660<0.85,\"\",VLOOKUP(P660,D!A$2:X$23,VLOOKUP(F660,ages!B$1:C$23,2,1),1)),\"\")","v":""},{"$f":"IF(ISNUMBER(F660),IF(AP660<0.85,\"\",VLOOKUP(Q660,E!A$2:X$23,VLOOKUP(F660,ages!B$1:C$23,2,1),1)),\"\")","v":""},{"$f":"IF(ISNUMBER(F660),IF(AQ660<0.85,\"\",VLOOKUP(R660,F!A$2:X$23,VLOOKUP(F660,ages!B$1:C$23,2,1),1)),\"\")","v":""},{"$f":"IF(ISNUMBER(F660),IF(AR660<0.85,\"\",VLOOKUP(S660,G!A$2:X$23,VLOOKUP(F660,ages!B$1:C$23,2,1),1)),\"\")","v":""},{"$f":"IF(ISNUMBER(F660),IF(AS660<0.85,\"\",VLOOKUP(T660,H!A$2:X$23,VLOOKUP(F660,ages!B$1:C$23,2,1),1)),\"\")","v":""},{"$f":"IF(ISNUMBER(F660),IF(AT660<0.85,\"\",VLOOKUP(U660,I!A$2:X$23,VLOOKUP(F660,ages!B$1:C$23,2,1),1)),\"\")","v":""},{"$f":"IF(ISNUMBER(F660),IF(AU660<0.85,\"\",VLOOKUP(V660,J!A$2:X$23,VLOOKUP(F660,ages!B$1:C$23,2,1),1)),\"\")","v":""},"","","","",-1.0000000000000002E-6,0,0,0,0,0,0,0,0,0,0,0,null,null,null,null,null,null,null,null,null,null,null,null,null,null,null,null,null,null,null,null,null,null,null,null,null,null,null,null,null,null,null,null,null,null,null,null,null,null,null,null,null,null,null,null,null,null,null,null,null,null,null,null,null,null,null,null,null,null,null,null,null,null,null,null,null,null,null,null,null,null,-9.9999999999999995E-7,-9.9999999999999995E-7,-9.9999999999999995E-7,-9.9999999999999995E-7,-9.9999999999999995E-7,-9.9999999999999995E-7,-9.9999999999999995E-7,-9.9999999999999995E-7,-9.9999999999999995E-7,-9.9999999999999995E-7,-9.9999999999999995E-7,-9.9999999999999995E-7,-9.9999999999999995E-7,-9.9999999999999995E-7,-9.9999999999999995E-7,-9.9999999999999995E-7,-9.9999999999999995E-7,-9.9999999999999995E-7,-9.9999999999999995E-7,-9.9999999999999995E-7,{"$f":"IF(ISERROR(VLOOKUP(F660,ages!B$1:B$23,1,1)),\"\",VLOOKUP(F660,ages!B$1:B$23,1,1))","v":""},{"$f":"IF(ISERROR(VLOOKUP(F660,ages!B$1:D$23,3,1)),\"\",VLOOKUP(F660,ages!B$1:D$23,3,1))","v":""},0,0,0,0,0]
[null,null,null,null,null,"",null,null,null,null,null,null,"","","","","","","","","","",{"$f":"IF(ISNUMBER(F665),IF(AL665<0.85,\"\",VLOOKUP(M665,A!A$2:X$23,VLOOKUP(F665,ages!B$1:C$23,2,1),1)),\"\")","v":""},{"$f":"IF(ISNUMBER(F665),IF(AM665<0.85,\"\",VLOOKUP(N665,B!A$2:X$23,VLOOKUP(F665,ages!B$1:C$23,2,1),1)),\"\")","v":""},{"$f":"IF(ISNUMBER(F665),IF(AN665<0.85,\"\",VLOOKUP(O665,'C'!A$2:X$23,VLOOKUP(F665,ages!B$1:C$23,2,1),1)),\"\")","v":""},{"$f":"IF(ISNUMBER(F665),IF(AO665<0.85,\"\",VLOOKUP(P665,D!A$2:X$23,VLOOKUP(F665,ages!B$1:C$23,2,1),1)),\"\")","v":""},{"$f":"IF(ISNUMBER(F665),IF(AP665<0.85,\"\",VLOOKUP(Q665,E!A$2:X$23,VLOOKUP(F665,ages!B$1:C$23,2,1),1)),\"\")","v":""},{"$f":"IF(ISNUMBER(F665),IF(AQ665<0.85,\"\",VLOOKUP(R665,F!A$2:X$23,VLOOKUP(F665,ages!B$1:C$23,2,1),1)),\"\")","v":""},{"$f":"IF(ISNUMBER(F665),IF(AR665<0.85,\"\",VLOOKUP(S665,G!A$2:X$23,VLOOKUP(F665,ages!B$1:C$23,2,1),1)),\"\")","v":""},{"$f":"IF(ISNUMBER(F665),IF(AS665<0.85,\"\",VLOOKUP(T665,H!A$2:X$23,VLOOKUP(F665,ages!B$1:C$23,2,1),1)),\"\")","v":""},{"$f":"IF(ISNUMBER(F665),IF(AT665<0.85,\"\",VLOOKUP(U665,I!A$2:X$23,VLOOKUP(F665,ages!B$1:C$23,2,1),1)),\"\")","v":""},{"$f":"IF(ISNUMBER(F665),IF(AU665<0.85,\"\",VLOOKUP(V665,J!A$2:X$23,VLOOKUP(F665,ages!B$1:C$23,2,1),1)),\"\")","v":""},"","","","",-1.0000000000000002E-6,0,0,0,0,0,0,0,0,0,0,0,null,null,null,null,null,null,null,null,null,null,null,null,null,null,null,null,null,null,null,null,null,null,null,null,null,null,null,null,null,null,null,null,null,null,null,null,null,null,null,null,null,null,null,null,null,null,null,null,null,null,null,null,null,null,null,null,null,null,null,null,null,null,null,null,null,null,null,null,null,null,-9.9999999999999995E-7,-9.9999999999999995E-7,-9.9999999999999995E-7,-9.9999999999999995E-7,-9.9999999999999995E-7,-9.9999999999999995E-7,-9.9999999999999995E-7,-9.9999999999999995E-7,-9.9999999999999995E-7,-9.9999999999999995E-7,-9.9999999999999995E-7,-9.9999999999999995E-7,-9.9999999999999995E-7,-9.9999999999999995E-7,-9.9999999999999995E-7,-9.9999999999999995E-7,-9.9999999999999995E-7,-9.9999999999999995E-7,-9.9999999999999995E-7,-9.9999999999999995E-7,{"$f":"IF(ISERROR(VLOOKUP(F665,ages!B$1:B$23,1,1)),\"\",VLOOKUP(F665,ages!B$1:B$23,1,1))","v":""},{"$f":"IF(ISERROR(VLOOKUP(F665,ages!B$1:D$23,3,1)),\"\",VLOOKUP(F665,ages!B$1:D$23,3,1))","v":""},0,0,0,0,0]
[null,null,null,null,null,"",null,null,null,null,null,null,"","","","","","","","","","",{"$f":"IF(ISNUMBER(F670),IF(AL670<0.85,\"\",VLOOKUP(M670,A!A$2:X$23,VLOOKUP(F670,ages!B$1:C$23,2,1),1)),\"\")","v":""},{"$f":"IF(ISNUMBER(F670),IF(AM670<0.85,\"\",VLOOKUP(N670,B!A$2:X$23,VLOOKUP(F670,ages!B$1:C$23,2,1),1)),\"\")","v":""},{"$f":"IF(ISNUMBER(F670),IF(AN670<0.85,\"\",VLOOKUP(O670,'C'!A$2:X$23,VLOOKUP(F670,ages!B$1:C$23,2,1),1)),\"\")","v":""},{"$f":"IF(ISNUMBER(F670),IF(AO670<0.85,\"\",VLOOKUP(P670,D!A$2:X$23,VLOOKUP(F670,ages!B$1:C$23,2,1),1)),\"\")","v":""},{"$f":"IF(ISNUMBER(F670),IF(AP670<0.85,\"\",VLOOKUP(Q670,E!A$2:X$23,VLOOKUP(F670,ages!B$1:C$23,2,1),1)),\"\")","v":""},{"$f":"IF(ISNUMBER(F670),IF(AQ670<0.85,\"\",VLOOKUP(R670,F!A$2:X$23,VLOOKUP(F670,ages!B$1:C$23,2,1),1)),\"\")","v":""},{"$f":"IF(ISNUMBER(F670),IF(AR670<0.85,\"\",VLOOKUP(S670,G!A$2:X$23,VLOOKUP(F670,ages!B$1:C$23,2,1),1)),\"\")","v":""},{"$f":"IF(ISNUMBER(F670),IF(AS670<0.85,\"\",VLOOKUP(T670,H!A$2:X$23,VLOOKUP(F670,ages!B$1:C$23,2,1),1)),\"\")","v":""},{"$f":"IF(ISNUMBER(F670),IF(AT670<0.85,\"\",VLOOKUP(U670,I!A$2:X$23,VLOOKUP(F670,ages!B$1:C$23,2,1),1)),\"\")","v":""},{"$f":"IF(ISNUMBER(F670),IF(AU670<0.85,\"\",VLOOKUP(V670,J!A$2:X$23,VLOOKUP(F670,ages!B$1:C$23,2,1),1)),\"\")","v":""},"","","","",-1.0000000000000002E-6,0,0,0,0,0,0,0,0,0,0,0,null,null,null,null,null,null,null,null,null,null,null,null,null,null,null,null,null,null,null,null,null,null,null,null,null,null,null,null,null,null,null,null,null,null,null,null,null,null,null,null,null,null,null,null,null,null,null,null,null,null,null,null,null,null,null,null,null,null,null,null,null,null,null,null,null,null,null,null,null,null,-9.9999999999999995E-7,-9.9999999999999995E-7,-9.9999999999999995E-7,-9.9999999999999995E-7,-9.9999999999999995E-7,-9.9999999999999995E-7,-9.9999999999999995E-7,-9.9999999999999995E-7,-9.9999999999999995E-7,-9.9999999999999995E-7,-9.9999999999999995E-7,-9.9999999999999995E-7,-9.9999999999999995E-7,-9.9999999999999995E-7,-9.9999999999999995E-7,-9.9999999999999995E-7,-9.9999999999999995E-7,-9.9999999999999995E-7,-9.9999999999999995E-7,-9.9999999999999995E-7,{"$f":"IF(ISERROR(VLOOKUP(F670,ages!B$1:B$23,1,1)),\"\",VLOOKUP(F670,ages!B$1:B$23,1,1))","v":""},{"$f":"IF(ISERROR(VLOOKUP(F670,ages!B$1:D$23,3,1)),\"\",VLOOKUP(F670,ages!B$1:D$23,3,1))","v":""},0,0,0,0,0]
[null,null,null,null,null,"",null,null,null,null,null,null,"","","","","","","","","","",{"$f":"IF(ISNUMBER(F675),IF(AL675<0.85,\"\",VLOOKUP(M675,A!A$2:X$23,VLOOKUP(F675,ages!B$1:C$23,2,1),1)),\"\")","v":""},{"$f":"IF(ISNUMBER(F675),IF(AM675<0.85,\"\",VLOOKUP(N675,B!A$2:X$23,VLOOKUP(F675,ages!B$1:C$23,2,1),1)),\"\")","v":""},{"$f":"IF(ISNUMBER(F675),IF(AN675<0.85,\"\",VLOOKUP(O675,'C'!A$2:X$23,VLOOKUP(F675,ages!B$1:C$23,2,1),1)),\"\")","v":""},{"$f":"IF(ISNUMBER(F675),IF(AO675<0.85,\"\",VLOOKUP(P675,D!A$2:X$23,VLOOKUP(F675,ages!B$1:C$23,2,1),1)),\"\")","v":""},{"$f":"IF(ISNUMBER(F675),IF(AP675<0.85,\"\",VLOOKUP(Q675,E!A$2:X$23,VLOOKUP(F675,ages!B$1:C$23,2,1),1)),\"\")","v":""},{"$f":"IF(ISNUMBER(F675),IF(AQ675<0.85,\"\",VLOOKUP(R675,F!A$2:X$23,VLOOKUP(F675,ages!B$1:C$23,2,1),1)),\"\")","v":""},{"$f":"IF(ISNUMBER(F675),IF(AR675<0.85,\"\",VLOOKUP(S675,G!A$2:X$23,VLOOKUP(F675,ages!B$1:C$23,2,1),1)),\"\")","v":""},{"$f":"IF(ISNUMBER(F675),IF(AS675<0.85,\"\",VLOOKUP(T675,H!A$2:X$23,VLOOKUP(F675,ages!B$1:C$23,2,1),1)),\"\")","v":""},{"$f":"IF(ISNUMBER(F675),IF(AT675<0.85,\"\",VLOOKUP(U675,I!A$2:X$23,VLOOKUP(F675,ages!B$1:C$23,2,1),1)),\"\")","v":""},{"$f":"IF(ISNUMBER(F675),IF(AU675<0.85,\"\",VLOOKUP(V675,J!A$2:X$23,VLOOKUP(F675,ages!B$1:C$23,2,1),1)),\"\")","v":""},"","","","",-1.0000000000000002E-6,0,0,0,0,0,0,0,0,0,0,0,null,null,null,null,null,null,null,null,null,null,null,null,null,null,null,null,null,null,null,null,null,null,null,null,null,null,null,null,null,null,null,null,null,null,null,null,null,null,null,null,null,null,null,null,null,null,null,null,null,null,null,null,null,null,null,null,null,null,null,null,null,null,null,null,null,null,null,null,null,null,-9.9999999999999995E-7,-9.9999999999999995E-7,-9.9999999999999995E-7,-9.9999999999999995E-7,-9.9999999999999995E-7,-9.9999999999999995E-7,-9.9999999999999995E-7,-9.9999999999999995E-7,-9.9999999999999995E-7,-9.9999999999999995E-7,-9.9999999999999995E-7,-9.9999999999999995E-7,-9.9999999999999995E-7,-9.9999999999999995E-7,-9.9999999999999995E-7,-9.9999999999999995E-7,-9.9999999999999995E-7,-9.9999999999999995E-7,-9.9999999999999995E-7,-9.9999999999999995E-7,{"$f":"IF(ISERROR(VLOOKUP(F675,ages!B$1:B$23,1,1)),\"\",VLOOKUP(F675,ages!B$1:B$23,1,1))","v":""},{"$f":"IF(ISERROR(VLOOKUP(F675,ages!B$1:D$23,3,1)),\"\",VLOOKUP(F675,ages!B$1:D$23,3,1))","v":""},0,0,0,0,0]
[null,null,null,null,null,"",null,null,null,null,null,null,"","","","","","","","","","",{"$f":"IF(ISNUMBER(F680),IF(AL680<0.85,\"\",VLOOKUP(M680,A!A$2:X$23,VLOOKUP(F680,ages!B$1:C$23,2,1),1)),\"\")","v":""},{"$f":"IF(ISNUMBER(F680),IF(AM680<0.85,\"\",VLOOKUP(N680,B!A$2:X$23,VLOOKUP(F680,ages!B$1:C$23,2,1),1)),\"\")","v":""},{"$f":"IF(ISNUMBER(F680),IF(AN680<0.85,\"\",VLOOKUP(O680,'C'!A$2:X$23,VLOOKUP(F680,ages!B$1:C$23,2,1),1)),\"\")","v":""},{"$f":"IF(ISNUMBER(F680),IF(AO680<0.85,\"\",VLOOKUP(P680,D!A$2:X$23,VLOOKUP(F680,ages!B$1:C$23,2,1),1)),\"\")","v":""},{"$f":"IF(ISNUMBER(F680),IF(AP680<0.85,\"\",VLOOKUP(Q680,E!A$2:X$23,VLOOKUP(F680,ages!B$1:C$23,2,1),1)),\"\")","v":""},{"$f":"IF(ISNUMBER(F680),IF(AQ680<0.85,\"\",VLOOKUP(R680,F!A$2:X$23,VLOOKUP(F680,ages!B$1:C$23,2,1),1)),\"\")","v":""},{"$f":"IF(ISNUMBER(F680),IF(AR680<0.85,\"\",VLOOKUP(S680,G!A$2:X$23,VLOOKUP(F680,ages!B$1:C$23,2,1),1)),\"\")","v":""},{"$f":"IF(ISNUMBER(F680),IF(AS680<0.85,\"\",VLOOKUP(T680,H!A$2:X$23,VLOOKUP(F680,ages!B$1:C$23,2,1),1)),\"\")","v":""},{"$f":"IF(ISNUMBER(F680),IF(AT680<0.85,\"\",VLOOKUP(U680,I!A$2:X$23,VLOOKUP(F680,ages!B$1:C$23,2,1),1)),\"\")","v":""},{"$f":"IF(ISNUMBER(F680),IF(AU680<0.85,\"\",VLOOKUP(V680,J!A$2:X$23,VLOOKUP(F680,ages!B$1:C$23,2,1),1)),\"\")","v":""},"","","","",-1.0000000000000002E-6,0,0,0,0,0,0,0,0,0,0,0,null,null,null,null,null,null,null,null,null,null,null,null,null,null,null,null,null,null,null,null,null,null,null,null,null,null,null,null,null,null,null,null,null,null,null,null,null,null,null,null,null,null,null,null,null,null,null,null,null,null,null,null,null,null,null,null,null,null,null,null,null,null,null,null,null,null,null,null,null,null,-9.9999999999999995E-7,-9.9999999999999995E-7,-9.9999999999999995E-7,-9.9999999999999995E-7,-9.9999999999999995E-7,-9.9999999999999995E-7,-9.9999999999999995E-7,-9.9999999999999995E-7,-9.9999999999999995E-7,-9.9999999999999995E-7,-9.9999999999999995E-7,-9.9999999999999995E-7,-9.9999999999999995E-7,-9.9999999999999995E-7,-9.9999999999999995E-7,-9.9999999999999995E-7,-9.9999999999999995E-7,-9.9999999999999995E-7,-9.9999999999999995E-7,-9.9999999999999995E-7,{"$f":"IF(ISERROR(VLOOKUP(F680,ages!B$1:B$23,1,1)),\"\",VLOOKUP(F680,ages!B$1:B$23,1,1))","v":""},{"$f":"IF(ISERROR(VLOOKUP(F680,ages!B$1:D$23,3,1)),\"\",VLOOKUP(F680,ages!B$1:D$23,3,1))","v":""},0,0,0,0,0]
[null,null,null,null,null,"",null,null,null,null,null,null,"","","","","","","","","","",{"$f":"IF(ISNUMBER(F684),IF(AL684<0.85,\"\",VLOOKUP(M684,A!A$2:X$23,VLOOKUP(F684,ages!B$1:C$23,2,1),1)),\"\")","v":""},{"$f":"IF(ISNUMBER(F684),IF(AM684<0.85,\"\",VLOOKUP(N684,B!A$2:X$23,VLOOKUP(F684,ages!B$1:C$23,2,1),1)),\"\")","v":""},{"$f":"IF(ISNUMBER(F684),IF(AN684<0.85,\"\",VLOOKUP(O684,'C'!A$2:X$23,VLOOKUP(F684,ages!B$1:C$23,2,1),1)),\"\")","v":""},{"$f":"IF(ISNUMBER(F684),IF(AO684<0.85,\"\",VLOOKUP(P684,D!A$2:X$23,VLOOKUP(F684,ages!B$1:C$23,2,1),1)),\"\")","v":""},{"$f":"IF(ISNUMBER(F684),IF(AP684<0.85,\"\",VLOOKUP(Q684,E!A$2:X$23,VLOOKUP(F684,ages!B$1:C$23,2,1),1)),\"\")","v":""},{"$f":"IF(ISNUMBER(F684),IF(AQ684<0.85,\"\",VLOOKUP(R684,F!A$2:X$23,VLOOKUP(F684,ages!B$1:C$23,2,1),1)),\"\")","v":""},{"$f":"IF(ISNUMBER(F684),IF(AR684<0.85,\"\",VLOOKUP(S684,G!A$2:X$23,VLOOKUP(F684,ages!B$1:C$23,2,1),1)),\"\")","v":""},{"$f":"IF(ISNUMBER(F684),IF(AS684<0.85,\"\",VLOOKUP(T684,H!A$2:X$23,VLOOKUP(F684,ages!B$1:C$23,2,1),1)),\"\")","v":""},{"$f":"IF(ISNUMBER(F684),IF(AT684<0.85,\"\",VLOOKUP(U684,I!A$2:X$23,VLOOKUP(F684,ages!B$1:C$23,2,1),1)),\"\")","v":""},{"$f":"IF(ISNUMBER(F684),IF(AU684<0.85,\"\",VLOOKUP(V684,J!A$2:X$23,VLOOKUP(F684,ages!B$1:C$23,2,1),1)),\"\")","v":""},"","","","",-1.0000000000000002E-6,0,0,0,0,0,0,0,0,0,0,0,null,null,null,null,null,null,null,null,null,null,null,null,null,null,null,null,null,null,null,null,null,null,null,null,null,null,null,null,null,null,null,null,null,null,null,null,null,null,null,null,null,null,null,null,null,null,null,null,null,null,null,null,null,null,null,null,null,null,null,null,null,null,null,null,null,null,null,null,null,null,-9.9999999999999995E-7,-9.9999999999999995E-7,-9.9999999999999995E-7,-9.9999999999999995E-7,-9.9999999999999995E-7,-9.9999999999999995E-7,-9.9999999999999995E-7,-9.9999999999999995E-7,-9.9999999999999995E-7,-9.9999999999999995E-7,-9.9999999999999995E-7,-9.9999999999999995E-7,-9.9999999999999995E-7,-9.9999999999999995E-7,-9.9999999999999995E-7,-9.9999999999999995E-7,-9.9999999999999995E-7,-9.9999999999999995E-7,-9.9999999999999995E-7,-9.9999999999999995E-7,{"$f":"IF(ISERROR(VLOOKUP(F684,ages!B$1:B$23,1,1)),\"\",VLOOKUP(F684,ages!B$1:B$23,1,1))","v":""},{"$f":"IF(ISERROR(VLOOKUP(F684,ages!B$1:D$23,3,1)),\"\",VLOOKUP(F684,ages!B$1:D$23,3,1))","v":""},0,0,0,0,0]
[null,null,null,null,null,"",null,null,null,null,null,null,"","","","","","","","","","",{"$f":"IF(ISNUMBER(F685),IF(AL685<0.85,\"\",VLOOKUP(M685,A!A$2:X$23,VLOOKUP(F685,ages!B$1:C$23,2,1),1)),\"\")","v":""},{"$f":"IF(ISNUMBER(F685),IF(AM685<0.85,\"\",VLOOKUP(N685,B!A$2:X$23,VLOOKUP(F685,ages!B$1:C$23,2,1),1)),\"\")","v":""},{"$f":"IF(ISNUMBER(F685),IF(AN685<0.85,\"\",VLOOKUP(O685,'C'!A$2:X$23,VLOOKUP(F685,ages!B$1:C$23,2,1),1)),\"\")","v":""},{"$f":"IF(ISNUMBER(F685),IF(AO685<0.85,\"\",VLOOKUP(P685,D!A$2:X$23,VLOOKUP(F685,ages!B$1:C$23,2,1),1)),\"\")","v":""},{"$f":"IF(ISNUMBER(F685),IF(AP685<0.85,\"\",VLOOKUP(Q685,E!A$2:X$23,VLOOKUP(F685,ages!B$1:C$23,2,1),1)),\"\")","v":""},{"$f":"IF(ISNUMBER(F685),IF(AQ685<0.85,\"\",VLOOKUP(R685,F!A$2:X$23,VLOOKUP(F685,ages!B$1:C$23,2,1),1)),\"\")","v":""},{"$f":"IF(ISNUMBER(F685),IF(AR685<0.85,\"\",VLOOKUP(S685,G!A$2:X$23,VLOOKUP(F685,ages!B$1:C$23,2,1),1)),\"\")","v":""},{"$f":"IF(ISNUMBER(F685),IF(AS685<0.85,\"\",VLOOKUP(T685,H!A$2:X$23,VLOOKUP(F685,ages!B$1:C$23,2,1),1)),\"\")","v":""},{"$f":"IF(ISNUMBER(F685),IF(AT685<0.85,\"\",VLOOKUP(U685,I!A$2:X$23,VLOOKUP(F685,ages!B$1:C$23,2,1),1)),\"\")","v":""},{"$f":"IF(ISNUMBER(F685),IF(AU685<0.85,\"\",VLOOKUP(V685,J!A$2:X$23,VLOOKUP(F685,ages!B$1:C$23,2,1),1)),\"\")","v":""},"","","","",-1.0000000000000002E-6,0,0,0,0,0,0,0,0,0,0,0,null,null,null,null,null,null,null,null,null,null,null,null,null,null,null,null,null,null,null,null,null,null,null,null,null,null,null,null,null,null,null,null,null,null,null,null,null,null,null,null,null,null,null,null,null,null,null,null,null,null,null,null,null,null,null,null,null,null,null,null,null,null,null,null,null,null,null,null,null,null,-9.9999999999999995E-7,-9.9999999999999995E-7,-9.9999999999999995E-7,-9.9999999999999995E-7,-9.9999999999999995E-7,-9.9999999999999995E-7,-9.9999999999999995E-7,-9.9999999999999995E-7,-9.9999999999999995E-7,-9.9999999999999995E-7,-9.9999999999999995E-7,-9.9999999999999995E-7,-9.9999999999999995E-7,-9.9999999999999995E-7,-9.9999999999999995E-7,-9.9999999999999995E-7,-9.9999999999999995E-7,-9.9999999999999995E-7,-9.9999999999999995E-7,-9.9999999999999995E-7,{"$f":"IF(ISERROR(VLOOKUP(F685,ages!B$1:B$23,1,1)),\"\",VLOOKUP(F685,ages!B$1:B$23,1,1))","v":""},{"$f":"IF(ISERROR(VLOOKUP(F685,ages!B$1:D$23,3,1)),\"\",VLOOKUP(F685,ages!B$1:D$23,3,1))","v":""},0,0,0,0,0]
[null,null,null,null,null,"",null,null,null,null,null,null,"","","","","","","","","","",{"$f":"IF(ISNUMBER(F691),IF(AL691<0.85,\"\",VLOOKUP(M691,A!A$2:X$23,VLOOKUP(F691,ages!B$1:C$23,2,1),1)),\"\")","v":""},{"$f":"IF(ISNUMBER(F691),IF(AM691<0.85,\"\",VLOOKUP(N691,B!A$2:X$23,VLOOKUP(F691,ages!B$1:C$23,2,1),1)),\"\")","v":""},{"$f":"IF(ISNUMBER(F691),IF(AN691<0.85,\"\",VLOOKUP(O691,'C'!A$2:X$23,VLOOKUP(F691,ages!B$1:C$23,2,1),1)),\"\")","v":""},{"$f":"IF(ISNUMBER(F691),IF(AO691<0.85,\"\",VLOOKUP(P691,D!A$2:X$23,VLOOKUP(F691,ages!B$1:C$23,2,1),1)),\"\")","v":""},{"$f":"IF(ISNUMBER(F691),IF(AP691<0.85,\"\",VLOOKUP(Q691,E!A$2:X$23,VLOOKUP(F691,ages!B$1:C$23,2,1),1)),\"\")","v":""},{"$f":"IF(ISNUMBER(F691),IF(AQ691<0.85,\"\",VLOOKUP(R691,F!A$2:X$23,VLOOKUP(F691,ages!B$1:C$23,2,1),1)),\"\")","v":""},{"$f":"IF(ISNUMBER(F691),IF(AR691<0.85,\"\",VLOOKUP(S691,G!A$2:X$23,VLOOKUP(F691,ages!B$1:C$23,2,1),1)),\"\")","v":""},{"$f":"IF(ISNUMBER(F691),IF(AS691<0.85,\"\",VLOOKUP(T691,H!A$2:X$23,VLOOKUP(F691,ages!B$1:C$23,2,1),1)),\"\")","v":""},{"$f":"IF(ISNUMBER(F691),IF(AT691<0.85,\"\",VLOOKUP(U691,I!A$2:X$23,VLOOKUP(F691,ages!B$1:C$23,2,1),1)),\"\")","v":""},{"$f":"IF(ISNUMBER(F691),IF(AU691<0.85,\"\",VLOOKUP(V691,J!A$2:X$23,VLOOKUP(F691,ages!B$1:C$23,2,1),1)),\"\")","v":""},"","","","",-1.0000000000000002E-6,0,0,0,0,0,0,0,0,0,0,0,null,null,null,null,null,null,null,null,null,null,null,null,null,null,null,null,null,null,null,null,null,null,null,null,null,null,null,null,null,null,null,null,null,null,null,null,null,null,null,null,null,null,null,null,null,null,null,null,null,null,null,null,null,null,null,null,null,null,null,null,null,null,null,null,null,null,null,null,null,null,-9.9999999999999995E-7,-9.9999999999999995E-7,-9.9999999999999995E-7,-9.9999999999999995E-7,-9.9999999999999995E-7,-9.9999999999999995E-7,-9.9999999999999995E-7,-9.9999999999999995E-7,-9.9999999999999995E-7,-9.9999999999999995E-7,-9.9999999999999995E-7,-9.9999999999999995E-7,-9.9999999999999995E-7,-9.9999999999999995E-7,-9.9999999999999995E-7,-9.9999999999999995E-7,-9.9999999999999995E-7,-9.9999999999999995E-7,-9.9999999999999995E-7,-9.9999999999999995E-7,{"$f":"IF(ISERROR(VLOOKUP(F691,ages!B$1:B$23,1,1)),\"\",VLOOKUP(F691,ages!B$1:B$23,1,1))","v":""},{"$f":"IF(ISERROR(VLOOKUP(F691,ages!B$1:D$23,3,1)),\"\",VLOOKUP(F691,ages!B$1:D$23,3,1))","v":""},0,0,0,0,0]
[null,null,null,null,null,"",null,null,null,null,null,null,"","","","","","","","","","",{"$f":"IF(ISNUMBER(F696),IF(AL696<0.85,\"\",VLOOKUP(M696,A!A$2:X$23,VLOOKUP(F696,ages!B$1:C$23,2,1),1)),\"\")","v":""},{"$f":"IF(ISNUMBER(F696),IF(AM696<0.85,\"\",VLOOKUP(N696,B!A$2:X$23,VLOOKUP(F696,ages!B$1:C$23,2,1),1)),\"\")","v":""},{"$f":"IF(ISNUMBER(F696),IF(AN696<0.85,\"\",VLOOKUP(O696,'C'!A$2:X$23,VLOOKUP(F696,ages!B$1:C$23,2,1),1)),\"\")","v":""},{"$f":"IF(ISNUMBER(F696),IF(AO696<0.85,\"\",VLOOKUP(P696,D!A$2:X$23,VLOOKUP(F696,ages!B$1:C$23,2,1),1)),\"\")","v":""},{"$f":"IF(ISNUMBER(F696),IF(AP696<0.85,\"\",VLOOKUP(Q696,E!A$2:X$23,VLOOKUP(F696,ages!B$1:C$23,2,1),1)),\"\")","v":""},{"$f":"IF(ISNUMBER(F696),IF(AQ696<0.85,\"\",VLOOKUP(R696,F!A$2:X$23,VLOOKUP(F696,ages!B$1:C$23,2,1),1)),\"\")","v":""},{"$f":"IF(ISNUMBER(F696),IF(AR696<0.85,\"\",VLOOKUP(S696,G!A$2:X$23,VLOOKUP(F696,ages!B$1:C$23,2,1),1)),\"\")","v":""},{"$f":"IF(ISNUMBER(F696),IF(AS696<0.85,\"\",VLOOKUP(T696,H!A$2:X$23,VLOOKUP(F696,ages!B$1:C$23,2,1),1)),\"\")","v":""},{"$f":"IF(ISNUMBER(F696),IF(AT696<0.85,\"\",VLOOKUP(U696,I!A$2:X$23,VLOOKUP(F696,ages!B$1:C$23,2,1),1)),\"\")","v":""},{"$f":"IF(ISNUMBER(F696),IF(AU696<0.85,\"\",VLOOKUP(V696,J!A$2:X$23,VLOOKUP(F696,ages!B$1:C$23,2,1),1)),\"\")","v":""},"","","","",-1.0000000000000002E-6,0,0,0,0,0,0,0,0,0,0,0,null,null,null,null,null,null,null,null,null,null,null,null,null,null,null,null,null,null,null,null,null,null,null,null,null,null,null,null,null,null,null,null,null,null,null,null,null,null,null,null,null,null,null,null,null,null,null,null,null,null,null,null,null,null,null,null,null,null,null,null,null,null,null,null,null,null,null,null,null,null,-9.9999999999999995E-7,-9.9999999999999995E-7,-9.9999999999999995E-7,-9.9999999999999995E-7,-9.9999999999999995E-7,-9.9999999999999995E-7,-9.9999999999999995E-7,-9.9999999999999995E-7,-9.9999999999999995E-7,-9.9999999999999995E-7,-9.9999999999999995E-7,-9.9999999999999995E-7,-9.9999999999999995E-7,-9.9999999999999995E-7,-9.9999999999999995E-7,-9.9999999999999995E-7,-9.9999999999999995E-7,-9.9999999999999995E-7,-9.9999999999999995E-7,-9.9999999999999995E-7,{"$f":"IF(ISERROR(VLOOKUP(F696,ages!B$1:B$23,1,1)),\"\",VLOOKUP(F696,ages!B$1:B$23,1,1))","v":""},{"$f":"IF(ISERROR(VLOOKUP(F696,ages!B$1:D$23,3,1)),\"\",VLOOKUP(F696,ages!B$1:D$23,3,1))","v":""},0,0,0,0,0]
[null,null,null,null,null,"",null,null,null,null,null,null,"","","","","","","","","","",{"$f":"IF(ISNUMBER(F701),IF(AL701<0.85,\"\",VLOOKUP(M701,A!A$2:X$23,VLOOKUP(F701,ages!B$1:C$23,2,1),1)),\"\")","v":""},{"$f":"IF(ISNUMBER(F701),IF(AM701<0.85,\"\",VLOOKUP(N701,B!A$2:X$23,VLOOKUP(F701,ages!B$1:C$23,2,1),1)),\"\")","v":""},{"$f":"IF(ISNUMBER(F701),IF(AN701<0.85,\"\",VLOOKUP(O701,'C'!A$2:X$23,VLOOKUP(F701,ages!B$1:C$23,2,1),1)),\"\")","v":""},{"$f":"IF(ISNUMBER(F701),IF(AO701<0.85,\"\",VLOOKUP(P701,D!A$2:X$23,VLOOKUP(F701,ages!B$1:C$23,2,1),1)),\"\")","v":""},{"$f":"IF(ISNUMBER(F701),IF(AP701<0.85,\"\",VLOOKUP(Q701,E!A$2:X$23,VLOOKUP(F701,ages!B$1:C$23,2,1),1)),\"\")","v":""},{"$f":"IF(ISNUMBER(F701),IF(AQ701<0.85,\"\",VLOOKUP(R701,F!A$2:X$23,VLOOKUP(F701,ages!B$1:C$23,2,1),1)),\"\")","v":""},{"$f":"IF(ISNUMBER(F701),IF(AR701<0.85,\"\",VLOOKUP(S701,G!A$2:X$23,VLOOKUP(F701,ages!B$1:C$23,2,1),1)),\"\")","v":""},{"$f":"IF(ISNUMBER(F701),IF(AS701<0.85,\"\",VLOOKUP(T701,H!A$2:X$23,VLOOKUP(F701,ages!B$1:C$23,2,1),1)),\"\")","v":""},{"$f":"IF(ISNUMBER(F701),IF(AT701<0.85,\"\",VLOOKUP(U701,I!A$2:X$23,VLOOKUP(F701,ages!B$1:C$23,2,1),1)),\"\")","v":""},{"$f":"IF(ISNUMBER(F701),IF(AU701<0.85,\"\",VLOOKUP(V701,J!A$2:X$23,VLOOKUP(F701,ages!B$1:C$23,2,1),1)),\"\")","v":""},"","","","",-1.0000000000000002E-6,0,0,0,0,0,0,0,0,0,0,0,null,null,null,null,null,null,null,null,null,null,null,null,null,null,null,null,null,null,null,null,null,null,null,null,null,null,null,null,null,null,null,null,null,null,null,null,null,null,null,null,null,null,null,null,null,null,null,null,null,null,null,null,null,null,null,null,null,null,null,null,null,null,null,null,null,null,null,null,null,null,-9.9999999999999995E-7,-9.9999999999999995E-7,-9.9999999999999995E-7,-9.9999999999999995E-7,-9.9999999999999995E-7,-9.9999999999999995E-7,-9.9999999999999995E-7,-9.9999999999999995E-7,-9.9999999999999995E-7,-9.9999999999999995E-7,-9.9999999999999995E-7,-9.9999999999999995E-7,-9.9999999999999995E-7,-9.9999999999999995E-7,-9.9999999999999995E-7,-9.9999999999999995E-7,-9.9999999999999995E-7,-9.9999999999999995E-7,-9.9999999999999995E-7,-9.9999999999999995E-7,{"$f":"IF(ISERROR(VLOOKUP(F701,ages!B$1:B$23,1,1)),\"\",VLOOKUP(F701,ages!B$1:B$23,1,1))","v":""},{"$f":"IF(ISERROR(VLOOKUP(F701,ages!B$1:D$23,3,1)),\"\",VLOOKUP(F701,ages!B$1:D$23,3,1))","v":""},0,0,0,0,0]
[null,null,null,null,null,"",null,null,null,null,null,null,"","","","","","","","","","",{"$f":"IF(ISNUMBER(F705),IF(AL705<0.85,\"\",VLOOKUP(M705,A!A$2:X$23,VLOOKUP(F705,ages!B$1:C$23,2,1),1)),\"\")","v":""},{"$f":"IF(ISNUMBER(F705),IF(AM705<0.85,\"\",VLOOKUP(N705,B!A$2:X$23,VLOOKUP(F705,ages!B$1:C$23,2,1),1)),\"\")","v":""},{"$f":"IF(ISNUMBER(F705),IF(AN705<0.85,\"\",VLOOKUP(O705,'C'!A$2:X$23,VLOOKUP(F705,ages!B$1:C$23,2,1),1)),\"\")","v":""},{"$f":"IF(ISNUMBER(F705),IF(AO705<0.85,\"\",VLOOKUP(P705,D!A$2:X$23,VLOOKUP(F705,ages!B$1:C$23,2,1),1)),\"\")","v":""},{"$f":"IF(ISNUMBER(F705),IF(AP705<0.85,\"\",VLOOKUP(Q705,E!A$2:X$23,VLOOKUP(F705,ages!B$1:C$23,2,1),1)),\"\")","v":""},{"$f":"IF(ISNUMBER(F705),IF(AQ705<0.85,\"\",VLOOKUP(R705,F!A$2:X$23,VLOOKUP(F705,ages!B$1:C$23,2,1),1)),\"\")","v":""},{"$f":"IF(ISNUMBER(F705),IF(AR705<0.85,\"\",VLOOKUP(S705,G!A$2:X$23,VLOOKUP(F705,ages!B$1:C$23,2,1),1)),\"\")","v":""},{"$f":"IF(ISNUMBER(F705),IF(AS705<0.85,\"\",VLOOKUP(T705,H!A$2:X$23,VLOOKUP(F705,ages!B$1:C$23,2,1),1)),\"\")","v":""},{"$f":"IF(ISNUMBER(F705),IF(AT705<0.85,\"\",VLOOKUP(U705,I!A$2:X$23,VLOOKUP(F705,ages!B$1:C$23,2,1),1)),\"\")","v":""},{"$f":"IF(ISNUMBER(F705),IF(AU705<0.85,\"\",VLOOKUP(V705,J!A$2:X$23,VLOOKUP(F705,ages!B$1:C$23,2,1),1)),\"\")","v":""},"","","","",-1.0000000000000002E-6,0,0,0,0,0,0,0,0,0,0,0,null,null,null,null,null,null,null,null,null,null,null,null,null,null,null,null,null,null,null,null,null,null,null,null,null,null,null,null,null,null,null,null,null,null,null,null,null,null,null,null,null,null,null,null,null,null,null,null,null,null,null,null,null,null,null,null,null,null,null,null,null,null,null,null,null,null,null,null,null,null,-9.9999999999999995E-7,-9.9999999999999995E-7,-9.9999999999999995E-7,-9.9999999999999995E-7,-9.9999999999999995E-7,-9.9999999999999995E-7,-9.9999999999999995E-7,-9.9999999999999995E-7,-9.9999999999999995E-7,-9.9999999999999995E-7,-9.9999999999999995E-7,-9.9999999999999995E-7,-9.9999999999999995E-7,-9.9999999999999995E-7,-9.9999999999999995E-7,-9.9999999999999995E-7,-9.9999999999999995E-7,-9.9999999999999995E-7,-9.9999999999999995E-7,-9.9999999999999995E-7,{"$f":"IF(ISERROR(VLOOKUP(F705,ages!B$1:B$23,1,1)),\"\",VLOOKUP(F705,ages!B$1:B$23,1,1))","v":""},{"$f":"IF(ISERROR(VLOOKUP(F705,ages!B$1:D$23,3,1)),\"\",VLOOKUP(F705,ages!B$1:D$23,3,1))","v":""},0,0,0,0,0]
[null,null,null,null,null,"",null,null,null,null,null,null,"","","","","","","","","","",{"$f":"IF(ISNUMBER(F711),IF(AL711<0.85,\"\",VLOOKUP(M711,A!A$2:X$23,VLOOKUP(F711,ages!B$1:C$23,2,1),1)),\"\")","v":""},{"$f":"IF(ISNUMBER(F711),IF(AM711<0.85,\"\",VLOOKUP(N711,B!A$2:X$23,VLOOKUP(F711,ages!B$1:C$23,2,1),1)),\"\")","v":""},{"$f":"IF(ISNUMBER(F711),IF(AN711<0.85,\"\",VLOOKUP(O711,'C'!A$2:X$23,VLOOKUP(F711,ages!B$1:C$23,2,1),1)),\"\")","v":""},{"$f":"IF(ISNUMBER(F711),IF(AO711<0.85,\"\",VLOOKUP(P711,D!A$2:X$23,VLOOKUP(F711,ages!B$1:C$23,2,1),1)),\"\")","v":""},{"$f":"IF(ISNUMBER(F711),IF(AP711<0.85,\"\",VLOOKUP(Q711,E!A$2:X$23,VLOOKUP(F711,ages!B$1:C$23,2,1),1)),\"\")","v":""},{"$f":"IF(ISNUMBER(F711),IF(AQ711<0.85,\"\",VLOOKUP(R711,F!A$2:X$23,VLOOKUP(F711,ages!B$1:C$23,2,1),1)),\"\")","v":""},{"$f":"IF(ISNUMBER(F711),IF(AR711<0.85,\"\",VLOOKUP(S711,G!A$2:X$23,VLOOKUP(F711,ages!B$1:C$23,2,1),1)),\"\")","v":""},{"$f":"IF(ISNUMBER(F711),IF(AS711<0.85,\"\",VLOOKUP(T711,H!A$2:X$23,VLOOKUP(F711,ages!B$1:C$23,2,1),1)),\"\")","v":""},{"$f":"IF(ISNUMBER(F711),IF(AT711<0.85,\"\",VLOOKUP(U711,I!A$2:X$23,VLOOKUP(F711,ages!B$1:C$23,2,1),1)),\"\")","v":""},{"$f":"IF(ISNUMBER(F711),IF(AU711<0.85,\"\",VLOOKUP(V711,J!A$2:X$23,VLOOKUP(F711,ages!B$1:C$23,2,1),1)),\"\")","v":""},"","","","",-1.0000000000000002E-6,0,0,0,0,0,0,0,0,0,0,0,null,null,null,null,null,null,null,null,null,null,null,null,null,null,null,null,null,null,null,null,null,null,null,null,null,null,null,null,null,null,null,null,null,null,null,null,null,null,null,null,null,null,null,null,null,null,null,null,null,null,null,null,null,null,null,null,null,null,null,null,null,null,null,null,null,null,null,null,null,null,-9.9999999999999995E-7,-9.9999999999999995E-7,-9.9999999999999995E-7,-9.9999999999999995E-7,-9.9999999999999995E-7,-9.9999999999999995E-7,-9.9999999999999995E-7,-9.9999999999999995E-7,-9.9999999999999995E-7,-9.9999999999999995E-7,-9.9999999999999995E-7,-9.9999999999999995E-7,-9.9999999999999995E-7,-9.9999999999999995E-7,-9.9999999999999995E-7,-9.9999999999999995E-7,-9.9999999999999995E-7,-9.9999999999999995E-7,-9.9999999999999995E-7,-9.9999999999999995E-7,{"$f":"IF(ISERROR(VLOOKUP(F711,ages!B$1:B$23,1,1)),\"\",VLOOKUP(F711,ages!B$1:B$23,1,1))","v":""},{"$f":"IF(ISERROR(VLOOKUP(F711,ages!B$1:D$23,3,1)),\"\",VLOOKUP(F711,ages!B$1:D$23,3,1))","v":""},0,0,0,0,0]
[null,null,null,null,null,"",null,null,null,null,null,null,"","","","","","","","","","",{"$f":"IF(ISNUMBER(F717),IF(AL717<0.85,\"\",VLOOKUP(M717,A!A$2:X$23,VLOOKUP(F717,ages!B$1:C$23,2,1),1)),\"\")","v":""},{"$f":"IF(ISNUMBER(F717),IF(AM717<0.85,\"\",VLOOKUP(N717,B!A$2:X$23,VLOOKUP(F717,ages!B$1:C$23,2,1),1)),\"\")","v":""},{"$f":"IF(ISNUMBER(F717),IF(AN717<0.85,\"\",VLOOKUP(O717,'C'!A$2:X$23,VLOOKUP(F717,ages!B$1:C$23,2,1),1)),\"\")","v":""},{"$f":"IF(ISNUMBER(F717),IF(AO717<0.85,\"\",VLOOKUP(P717,D!A$2:X$23,VLOOKUP(F717,ages!B$1:C$23,2,1),1)),\"\")","v":""},{"$f":"IF(ISNUMBER(F717),IF(AP717<0.85,\"\",VLOOKUP(Q717,E!A$2:X$23,VLOOKUP(F717,ages!B$1:C$23,2,1),1)),\"\")","v":""},{"$f":"IF(ISNUMBER(F717),IF(AQ717<0.85,\"\",VLOOKUP(R717,F!A$2:X$23,VLOOKUP(F717,ages!B$1:C$23,2,1),1)),\"\")","v":""},{"$f":"IF(ISNUMBER(F717),IF(AR717<0.85,\"\",VLOOKUP(S717,G!A$2:X$23,VLOOKUP(F717,ages!B$1:C$23,2,1),1)),\"\")","v":""},{"$f":"IF(ISNUMBER(F717),IF(AS717<0.85,\"\",VLOOKUP(T717,H!A$2:X$23,VLOOKUP(F717,ages!B$1:C$23,2,1),1)),\"\")","v":""},{"$f":"IF(ISNUMBER(F717),IF(AT717<0.85,\"\",VLOOKUP(U717,I!A$2:X$23,VLOOKUP(F717,ages!B$1:C$23,2,1),1)),\"\")","v":""},{"$f":"IF(ISNUMBER(F717),IF(AU717<0.85,\"\",VLOOKUP(V717,J!A$2:X$23,VLOOKUP(F717,ages!B$1:C$23,2,1),1)),\"\")","v":""},"","","","",-1.0000000000000002E-6,0,0,0,0,0,0,0,0,0,0,0,null,null,null,null,null,null,null,null,null,null,null,null,null,null,null,null,null,null,null,null,null,null,null,null,null,null,null,null,null,null,null,null,null,null,null,null,null,null,null,null,null,null,null,null,null,null,null,null,null,null,null,null,null,null,null,null,null,null,null,null,null,null,null,null,null,null,null,null,null,null,-9.9999999999999995E-7,-9.9999999999999995E-7,-9.9999999999999995E-7,-9.9999999999999995E-7,-9.9999999999999995E-7,-9.9999999999999995E-7,-9.9999999999999995E-7,-9.9999999999999995E-7,-9.9999999999999995E-7,-9.9999999999999995E-7,-9.9999999999999995E-7,-9.9999999999999995E-7,-9.9999999999999995E-7,-9.9999999999999995E-7,-9.9999999999999995E-7,-9.9999999999999995E-7,-9.9999999999999995E-7,-9.9999999999999995E-7,-9.9999999999999995E-7,-9.9999999999999995E-7,{"$f":"IF(ISERROR(VLOOKUP(F717,ages!B$1:B$23,1,1)),\"\",VLOOKUP(F717,ages!B$1:B$23,1,1))","v":""},{"$f":"IF(ISERROR(VLOOKUP(F717,ages!B$1:D$23,3,1)),\"\",VLOOKUP(F717,ages!B$1:D$23,3,1))","v":""},0,0,0,0,0]
[null,null,null,null,null,"",null,null,null,null,null,null,"","","","","","","","","","",{"$f":"IF(ISNUMBER(F722),IF(AL722<0.85,\"\",VLOOKUP(M722,A!A$2:X$23,VLOOKUP(F722,ages!B$1:C$23,2,1),1)),\"\")","v":""},{"$f":"IF(ISNUMBER(F722),IF(AM722<0.85,\"\",VLOOKUP(N722,B!A$2:X$23,VLOOKUP(F722,ages!B$1:C$23,2,1),1)),\"\")","v":""},{"$f":"IF(ISNUMBER(F722),IF(AN722<0.85,\"\",VLOOKUP(O722,'C'!A$2:X$23,VLOOKUP(F722,ages!B$1:C$23,2,1),1)),\"\")","v":""},{"$f":"IF(ISNUMBER(F722),IF(AO722<0.85,\"\",VLOOKUP(P722,D!A$2:X$23,VLOOKUP(F722,ages!B$1:C$23,2,1),1)),\"\")","v":""},{"$f":"IF(ISNUMBER(F722),IF(AP722<0.85,\"\",VLOOKUP(Q722,E!A$2:X$23,VLOOKUP(F722,ages!B$1:C$23,2,1),1)),\"\")","v":""},{"$f":"IF(ISNUMBER(F722),IF(AQ722<0.85,\"\",VLOOKUP(R722,F!A$2:X$23,VLOOKUP(F722,ages!B$1:C$23,2,1),1)),\"\")","v":""},{"$f":"IF(ISNUMBER(F722),IF(AR722<0.85,\"\",VLOOKUP(S722,G!A$2:X$23,VLOOKUP(F722,ages!B$1:C$23,2,1),1)),\"\")","v":""},{"$f":"IF(ISNUMBER(F722),IF(AS722<0.85,\"\",VLOOKUP(T722,H!A$2:X$23,VLOOKUP(F722,ages!B$1:C$23,2,1),1)),\"\")","v":""},{"$f":"IF(ISNUMBER(F722),IF(AT722<0.85,\"\",VLOOKUP(U722,I!A$2:X$23,VLOOKUP(F722,ages!B$1:C$23,2,1),1)),\"\")","v":""},{"$f":"IF(ISNUMBER(F722),IF(AU722<0.85,\"\",VLOOKUP(V722,J!A$2:X$23,VLOOKUP(F722,ages!B$1:C$23,2,1),1)),\"\")","v":""},"","","","",-1.0000000000000002E-6,0,0,0,0,0,0,0,0,0,0,0,null,null,null,null,null,null,null,null,null,null,null,null,null,null,null,null,null,null,null,null,null,null,null,null,null,null,null,null,null,null,null,null,null,null,null,null,null,null,null,null,null,null,null,null,null,null,null,null,null,null,null,null,null,null,null,null,null,null,null,null,null,null,null,null,null,null,null,null,null,null,-9.9999999999999995E-7,-9.9999999999999995E-7,-9.9999999999999995E-7,-9.9999999999999995E-7,-9.9999999999999995E-7,-9.9999999999999995E-7,-9.9999999999999995E-7,-9.9999999999999995E-7,-9.9999999999999995E-7,-9.9999999999999995E-7,-9.9999999999999995E-7,-9.9999999999999995E-7,-9.9999999999999995E-7,-9.9999999999999995E-7,-9.9999999999999995E-7,-9.9999999999999995E-7,-9.9999999999999995E-7,-9.9999999999999995E-7,-9.9999999999999995E-7,-9.9999999999999995E-7,{"$f":"IF(ISERROR(VLOOKUP(F722,ages!B$1:B$23,1,1)),\"\",VLOOKUP(F722,ages!B$1:B$23,1,1))","v":""},{"$f":"IF(ISERROR(VLOOKUP(F722,ages!B$1:D$23,3,1)),\"\",VLOOKUP(F722,ages!B$1:D$23,3,1))","v":""},0,0,0,0,0]
[null,null,null,null,null,"",null,null,null,null,null,null,"","","","","","","","","","",{"$f":"IF(ISNUMBER(F727),IF(AL727<0.85,\"\",VLOOKUP(M727,A!A$2:X$23,VLOOKUP(F727,ages!B$1:C$23,2,1),1)),\"\")","v":""},{"$f":"IF(ISNUMBER(F727),IF(AM727<0.85,\"\",VLOOKUP(N727,B!A$2:X$23,VLOOKUP(F727,ages!B$1:C$23,2,1),1)),\"\")","v":""},{"$f":"IF(ISNUMBER(F727),IF(AN727<0.85,\"\",VLOOKUP(O727,'C'!A$2:X$23,VLOOKUP(F727,ages!B$1:C$23,2,1),1)),\"\")","v":""},{"$f":"IF(ISNUMBER(F727),IF(AO727<0.85,\"\",VLOOKUP(P727,D!A$2:X$23,VLOOKUP(F727,ages!B$1:C$23,2,1),1)),\"\")","v":""},{"$f":"IF(ISNUMBER(F727),IF(AP727<0.85,\"\",VLOOKUP(Q727,E!A$2:X$23,VLOOKUP(F727,ages!B$1:C$23,2,1),1)),\"\")","v":""},{"$f":"IF(ISNUMBER(F727),IF(AQ727<0.85,\"\",VLOOKUP(R727,F!A$2:X$23,VLOOKUP(F727,ages!B$1:C$23,2,1),1)),\"\")","v":""},{"$f":"IF(ISNUMBER(F727),IF(AR727<0.85,\"\",VLOOKUP(S727,G!A$2:X$23,VLOOKUP(F727,ages!B$1:C$23,2,1),1)),\"\")","v":""},{"$f":"IF(ISNUMBER(F727),IF(AS727<0.85,\"\",VLOOKUP(T727,H!A$2:X$23,VLOOKUP(F727,ages!B$1:C$23,2,1),1)),\"\")","v":""},{"$f":"IF(ISNUMBER(F727),IF(AT727<0.85,\"\",VLOOKUP(U727,I!A$2:X$23,VLOOKUP(F727,ages!B$1:C$23,2,1),1)),\"\")","v":""},{"$f":"IF(ISNUMBER(F727),IF(AU727<0.85,\"\",VLOOKUP(V727,J!A$2:X$23,VLOOKUP(F727,ages!B$1:C$23,2,1),1)),\"\")","v":""},"","","","",-1.0000000000000002E-6,0,0,0,0,0,0,0,0,0,0,0,null,null,null,null,null,null,null,null,null,null,null,null,null,null,null,null,null,null,null,null,null,null,null,null,null,null,null,null,null,null,null,null,null,null,null,null,null,null,null,null,null,null,null,null,null,null,null,null,null,null,null,null,null,null,null,null,null,null,null,null,null,null,null,null,null,null,null,null,null,null,-9.9999999999999995E-7,-9.9999999999999995E-7,-9.9999999999999995E-7,-9.9999999999999995E-7,-9.9999999999999995E-7,-9.9999999999999995E-7,-9.9999999999999995E-7,-9.9999999999999995E-7,-9.9999999999999995E-7,-9.9999999999999995E-7,-9.9999999999999995E-7,-9.9999999999999995E-7,-9.9999999999999995E-7,-9.9999999999999995E-7,-9.9999999999999995E-7,-9.9999999999999995E-7,-9.9999999999999995E-7,-9.9999999999999995E-7,-9.9999999999999995E-7,-9.9999999999999995E-7,{"$f":"IF(ISERROR(VLOOKUP(F727,ages!B$1:B$23,1,1)),\"\",VLOOKUP(F727,ages!B$1:B$23,1,1))","v":""},{"$f":"IF(ISERROR(VLOOKUP(F727,ages!B$1:D$23,3,1)),\"\",VLOOKUP(F727,ages!B$1:D$23,3,1))","v":""},0,0,0,0,0]
[null,null,null,null,null,"",null,null,null,null,null,null,"","","","","","","","","","",{"$f":"IF(ISNUMBER(F730),IF(AL730<0.85,\"\",VLOOKUP(M730,A!A$2:X$23,VLOOKUP(F730,ages!B$1:C$23,2,1),1)),\"\")","v":""},{"$f":"IF(ISNUMBER(F730),IF(AM730<0.85,\"\",VLOOKUP(N730,B!A$2:X$23,VLOOKUP(F730,ages!B$1:C$23,2,1),1)),\"\")","v":""},{"$f":"IF(ISNUMBER(F730),IF(AN730<0.85,\"\",VLOOKUP(O730,'C'!A$2:X$23,VLOOKUP(F730,ages!B$1:C$23,2,1),1)),\"\")","v":""},{"$f":"IF(ISNUMBER(F730),IF(AO730<0.85,\"\",VLOOKUP(P730,D!A$2:X$23,VLOOKUP(F730,ages!B$1:C$23,2,1),1)),\"\")","v":""},{"$f":"IF(ISNUMBER(F730),IF(AP730<0.85,\"\",VLOOKUP(Q730,E!A$2:X$23,VLOOKUP(F730,ages!B$1:C$23,2,1),1)),\"\")","v":""},{"$f":"IF(ISNUMBER(F730),IF(AQ730<0.85,\"\",VLOOKUP(R730,F!A$2:X$23,VLOOKUP(F730,ages!B$1:C$23,2,1),1)),\"\")","v":""},{"$f":"IF(ISNUMBER(F730),IF(AR730<0.85,\"\",VLOOKUP(S730,G!A$2:X$23,VLOOKUP(F730,ages!B$1:C$23,2,1),1)),\"\")","v":""},{"$f":"IF(ISNUMBER(F730),IF(AS730<0.85,\"\",VLOOKUP(T730,H!A$2:X$23,VLOOKUP(F730,ages!B$1:C$23,2,1),1)),\"\")","v":""},{"$f":"IF(ISNUMBER(F730),IF(AT730<0.85,\"\",VLOOKUP(U730,I!A$2:X$23,VLOOKUP(F730,ages!B$1:C$23,2,1),1)),\"\")","v":""},{"$f":"IF(ISNUMBER(F730),IF(AU730<0.85,\"\",VLOOKUP(V730,J!A$2:X$23,VLOOKUP(F730,ages!B$1:C$23,2,1),1)),\"\")","v":""},"","","","",-1.0000000000000002E-6,0,0,0,0,0,0,0,0,0,0,0,null,null,null,null,null,null,null,null,null,null,null,null,null,null,null,null,null,null,null,null,null,null,null,null,null,null,null,null,null,null,null,null,null,null,null,null,null,null,null,null,null,null,null,null,null,null,null,null,null,null,null,null,null,null,null,null,null,null,null,null,null,null,null,null,null,null,null,null,null,null,-9.9999999999999995E-7,-9.9999999999999995E-7,-9.9999999999999995E-7,-9.9999999999999995E-7,-9.9999999999999995E-7,-9.9999999999999995E-7,-9.9999999999999995E-7,-9.9999999999999995E-7,-9.9999999999999995E-7,-9.9999999999999995E-7,-9.9999999999999995E-7,-9.9999999999999995E-7,-9.9999999999999995E-7,-9.9999999999999995E-7,-9.9999999999999995E-7,-9.9999999999999995E-7,-9.9999999999999995E-7,-9.9999999999999995E-7,-9.9999999999999995E-7,-9.9999999999999995E-7,{"$f":"IF(ISERROR(VLOOKUP(F730,ages!B$1:B$23,1,1)),\"\",VLOOKUP(F730,ages!B$1:B$23,1,1))","v":""},{"$f":"IF(ISERROR(VLOOKUP(F730,ages!B$1:D$23,3,1)),\"\",VLOOKUP(F730,ages!B$1:D$23,3,1))","v":""},0,0,0,0,0]
[null,null,null,null,null,"",null,null,null,null,null,null,"","","","","","","","","","",{"$f":"IF(ISNUMBER(F737),IF(AL737<0.85,\"\",VLOOKUP(M737,A!A$2:X$23,VLOOKUP(F737,ages!B$1:C$23,2,1),1)),\"\")","v":""},{"$f":"IF(ISNUMBER(F737),IF(AM737<0.85,\"\",VLOOKUP(N737,B!A$2:X$23,VLOOKUP(F737,ages!B$1:C$23,2,1),1)),\"\")","v":""},{"$f":"IF(ISNUMBER(F737),IF(AN737<0.85,\"\",VLOOKUP(O737,'C'!A$2:X$23,VLOOKUP(F737,ages!B$1:C$23,2,1),1)),\"\")","v":""},{"$f":"IF(ISNUMBER(F737),IF(AO737<0.85,\"\",VLOOKUP(P737,D!A$2:X$23,VLOOKUP(F737,ages!B$1:C$23,2,1),1)),\"\")","v":""},{"$f":"IF(ISNUMBER(F737),IF(AP737<0.85,\"\",VLOOKUP(Q737,E!A$2:X$23,VLOOKUP(F737,ages!B$1:C$23,2,1),1)),\"\")","v":""},{"$f":"IF(ISNUMBER(F737),IF(AQ737<0.85,\"\",VLOOKUP(R737,F!A$2:X$23,VLOOKUP(F737,ages!B$1:C$23,2,1),1)),\"\")","v":""},{"$f":"IF(ISNUMBER(F737),IF(AR737<0.85,\"\",VLOOKUP(S737,G!A$2:X$23,VLOOKUP(F737,ages!B$1:C$23,2,1),1)),\"\")","v":""},{"$f":"IF(ISNUMBER(F737),IF(AS737<0.85,\"\",VLOOKUP(T737,H!A$2:X$23,VLOOKUP(F737,ages!B$1:C$23,2,1),1)),\"\")","v":""},{"$f":"IF(ISNUMBER(F737),IF(AT737<0.85,\"\",VLOOKUP(U737,I!A$2:X$23,VLOOKUP(F737,ages!B$1:C$23,2,1),1)),\"\")","v":""},{"$f":"IF(ISNUMBER(F737),IF(AU737<0.85,\"\",VLOOKUP(V737,J!A$2:X$23,VLOOKUP(F737,ages!B$1:C$23,2,1),1)),\"\")","v":""},"","","","",-1.0000000000000002E-6,0,0,0,0,0,0,0,0,0,0,0,null,null,null,null,null,null,null,null,null,null,null,null,null,null,null,null,null,null,null,null,null,null,null,null,null,null,null,null,null,null,null,null,null,null,null,null,null,null,null,null,null,null,null,null,null,null,null,null,null,null,null,null,null,null,null,null,null,null,null,null,null,null,null,null,null,null,null,null,null,null,-9.9999999999999995E-7,-9.9999999999999995E-7,-9.9999999999999995E-7,-9.9999999999999995E-7,-9.9999999999999995E-7,-9.9999999999999995E-7,-9.9999999999999995E-7,-9.9999999999999995E-7,-9.9999999999999995E-7,-9.9999999999999995E-7,-9.9999999999999995E-7,-9.9999999999999995E-7,-9.9999999999999995E-7,-9.9999999999999995E-7,-9.9999999999999995E-7,-9.9999999999999995E-7,-9.9999999999999995E-7,-9.9999999999999995E-7,-9.9999999999999995E-7,-9.9999999999999995E-7,{"$f":"IF(ISERROR(VLOOKUP(F737,ages!B$1:B$23,1,1)),\"\",VLOOKUP(F737,ages!B$1:B$23,1,1))","v":""},{"$f":"IF(ISERROR(VLOOKUP(F737,ages!B$1:D$23,3,1)),\"\",VLOOKUP(F737,ages!B$1:D$23,3,1))","v":""},0,0,0,0,0]
[null,null,null,null,null,"",null,null,null,null,null,null,"","","","","","","","","","",{"$f":"IF(ISNUMBER(F742),IF(AL742<0.85,\"\",VLOOKUP(M742,A!A$2:X$23,VLOOKUP(F742,ages!B$1:C$23,2,1),1)),\"\")","v":""},{"$f":"IF(ISNUMBER(F742),IF(AM742<0.85,\"\",VLOOKUP(N742,B!A$2:X$23,VLOOKUP(F742,ages!B$1:C$23,2,1),1)),\"\")","v":""},{"$f":"IF(ISNUMBER(F742),IF(AN742<0.85,\"\",VLOOKUP(O742,'C'!A$2:X$23,VLOOKUP(F742,ages!B$1:C$23,2,1),1)),\"\")","v":""},{"$f":"IF(ISNUMBER(F742),IF(AO742<0.85,\"\",VLOOKUP(P742,D!A$2:X$23,VLOOKUP(F742,ages!B$1:C$23,2,1),1)),\"\")","v":""},{"$f":"IF(ISNUMBER(F742),IF(AP742<0.85,\"\",VLOOKUP(Q742,E!A$2:X$23,VLOOKUP(F742,ages!B$1:C$23,2,1),1)),\"\")","v":""},{"$f":"IF(ISNUMBER(F742),IF(AQ742<0.85,\"\",VLOOKUP(R742,F!A$2:X$23,VLOOKUP(F742,ages!B$1:C$23,2,1),1)),\"\")","v":""},{"$f":"IF(ISNUMBER(F742),IF(AR742<0.85,\"\",VLOOKUP(S742,G!A$2:X$23,VLOOKUP(F742,ages!B$1:C$23,2,1),1)),\"\")","v":""},{"$f":"IF(ISNUMBER(F742),IF(AS742<0.85,\"\",VLOOKUP(T742,H!A$2:X$23,VLOOKUP(F742,ages!B$1:C$23,2,1),1)),\"\")","v":""},{"$f":"IF(ISNUMBER(F742),IF(AT742<0.85,\"\",VLOOKUP(U742,I!A$2:X$23,VLOOKUP(F742,ages!B$1:C$23,2,1),1)),\"\")","v":""},{"$f":"IF(ISNUMBER(F742),IF(AU742<0.85,\"\",VLOOKUP(V742,J!A$2:X$23,VLOOKUP(F742,ages!B$1:C$23,2,1),1)),\"\")","v":""},"","","","",-1.0000000000000002E-6,0,0,0,0,0,0,0,0,0,0,0,null,null,null,null,null,null,null,null,null,null,null,null,null,null,null,null,null,null,null,null,null,null,null,null,null,null,null,null,null,null,null,null,null,null,null,null,null,null,null,null,null,null,null,null,null,null,null,null,null,null,null,null,null,null,null,null,null,null,null,null,null,null,null,null,null,null,null,null,null,null,-9.9999999999999995E-7,-9.9999999999999995E-7,-9.9999999999999995E-7,-9.9999999999999995E-7,-9.9999999999999995E-7,-9.9999999999999995E-7,-9.9999999999999995E-7,-9.9999999999999995E-7,-9.9999999999999995E-7,-9.9999999999999995E-7,-9.9999999999999995E-7,-9.9999999999999995E-7,-9.9999999999999995E-7,-9.9999999999999995E-7,-9.9999999999999995E-7,-9.9999999999999995E-7,-9.9999999999999995E-7,-9.9999999999999995E-7,-9.9999999999999995E-7,-9.9999999999999995E-7,{"$f":"IF(ISERROR(VLOOKUP(F742,ages!B$1:B$23,1,1)),\"\",VLOOKUP(F742,ages!B$1:B$23,1,1))","v":""},{"$f":"IF(ISERROR(VLOOKUP(F742,ages!B$1:D$23,3,1)),\"\",VLOOKUP(F742,ages!B$1:D$23,3,1))","v":""},0,0,0,0,0]
[null,null,null,null,null,"",null,null,null,null,null,null,"","","","","","","","","","",{"$f":"IF(ISNUMBER(F743),IF(AL743<0.85,\"\",VLOOKUP(M743,A!A$2:X$23,VLOOKUP(F743,ages!B$1:C$23,2,1),1)),\"\")","v":""},{"$f":"IF(ISNUMBER(F743),IF(AM743<0.85,\"\",VLOOKUP(N743,B!A$2:X$23,VLOOKUP(F743,ages!B$1:C$23,2,1),1)),\"\")","v":""},{"$f":"IF(ISNUMBER(F743),IF(AN743<0.85,\"\",VLOOKUP(O743,'C'!A$2:X$23,VLOOKUP(F743,ages!B$1:C$23,2,1),1)),\"\")","v":""},{"$f":"IF(ISNUMBER(F743),IF(AO743<0.85,\"\",VLOOKUP(P743,D!A$2:X$23,VLOOKUP(F743,ages!B$1:C$23,2,1),1)),\"\")","v":""},{"$f":"IF(ISNUMBER(F743),IF(AP743<0.85,\"\",VLOOKUP(Q743,E!A$2:X$23,VLOOKUP(F743,ages!B$1:C$23,2,1),1)),\"\")","v":""},{"$f":"IF(ISNUMBER(F743),IF(AQ743<0.85,\"\",VLOOKUP(R743,F!A$2:X$23,VLOOKUP(F743,ages!B$1:C$23,2,1),1)),\"\")","v":""},{"$f":"IF(ISNUMBER(F743),IF(AR743<0.85,\"\",VLOOKUP(S743,G!A$2:X$23,VLOOKUP(F743,ages!B$1:C$23,2,1),1)),\"\")","v":""},{"$f":"IF(ISNUMBER(F743),IF(AS743<0.85,\"\",VLOOKUP(T743,H!A$2:X$23,VLOOKUP(F743,ages!B$1:C$23,2,1),1)),\"\")","v":""},{"$f":"IF(ISNUMBER(F743),IF(AT743<0.85,\"\",VLOOKUP(U743,I!A$2:X$23,VLOOKUP(F743,ages!B$1:C$23,2,1),1)),\"\")","v":""},{"$f":"IF(ISNUMBER(F743),IF(AU743<0.85,\"\",VLOOKUP(V743,J!A$2:X$23,VLOOKUP(F743,ages!B$1:C$23,2,1),1)),\"\")","v":""},"","","","",-1.0000000000000002E-6,0,0,0,0,0,0,0,0,0,0,0,null,null,null,null,null,null,null,null,null,null,null,null,null,null,null,null,null,null,null,null,null,null,null,null,null,null,null,null,null,null,null,null,null,null,null,null,null,null,null,null,null,null,null,null,null,null,null,null,null,null,null,null,null,null,null,null,null,null,null,null,null,null,null,null,null,null,null,null,null,null,-9.9999999999999995E-7,-9.9999999999999995E-7,-9.9999999999999995E-7,-9.9999999999999995E-7,-9.9999999999999995E-7,-9.9999999999999995E-7,-9.9999999999999995E-7,-9.9999999999999995E-7,-9.9999999999999995E-7,-9.9999999999999995E-7,-9.9999999999999995E-7,-9.9999999999999995E-7,-9.9999999999999995E-7,-9.9999999999999995E-7,-9.9999999999999995E-7,-9.9999999999999995E-7,-9.9999999999999995E-7,-9.9999999999999995E-7,-9.9999999999999995E-7,-9.9999999999999995E-7,{"$f":"IF(ISERROR(VLOOKUP(F743,ages!B$1:B$23,1,1)),\"\",VLOOKUP(F743,ages!B$1:B$23,1,1))","v":""},{"$f":"IF(ISERROR(VLOOKUP(F743,ages!B$1:D$23,3,1)),\"\",VLOOKUP(F743,ages!B$1:D$23,3,1))","v":""},0,0,0,0,0]
[null,null,null,null,null,"",null,null,null,null,null,null,"","","","","","","","","","",{"$f":"IF(ISNUMBER(F749),IF(AL749<0.85,\"\",VLOOKUP(M749,A!A$2:X$23,VLOOKUP(F749,ages!B$1:C$23,2,1),1)),\"\")","v":""},{"$f":"IF(ISNUMBER(F749),IF(AM749<0.85,\"\",VLOOKUP(N749,B!A$2:X$23,VLOOKUP(F749,ages!B$1:C$23,2,1),1)),\"\")","v":""},{"$f":"IF(ISNUMBER(F749),IF(AN749<0.85,\"\",VLOOKUP(O749,'C'!A$2:X$23,VLOOKUP(F749,ages!B$1:C$23,2,1),1)),\"\")","v":""},{"$f":"IF(ISNUMBER(F749),IF(AO749<0.85,\"\",VLOOKUP(P749,D!A$2:X$23,VLOOKUP(F749,ages!B$1:C$23,2,1),1)),\"\")","v":""},{"$f":"IF(ISNUMBER(F749),IF(AP749<0.85,\"\",VLOOKUP(Q749,E!A$2:X$23,VLOOKUP(F749,ages!B$1:C$23,2,1),1)),\"\")","v":""},{"$f":"IF(ISNUMBER(F749),IF(AQ749<0.85,\"\",VLOOKUP(R749,F!A$2:X$23,VLOOKUP(F749,ages!B$1:C$23,2,1),1)),\"\")","v":""},{"$f":"IF(ISNUMBER(F749),IF(AR749<0.85,\"\",VLOOKUP(S749,G!A$2:X$23,VLOOKUP(F749,ages!B$1:C$23,2,1),1)),\"\")","v":""},{"$f":"IF(ISNUMBER(F749),IF(AS749<0.85,\"\",VLOOKUP(T749,H!A$2:X$23,VLOOKUP(F749,ages!B$1:C$23,2,1),1)),\"\")","v":""},{"$f":"IF(ISNUMBER(F749),IF(AT749<0.85,\"\",VLOOKUP(U749,I!A$2:X$23,VLOOKUP(F749,ages!B$1:C$23,2,1),1)),\"\")","v":""},{"$f":"IF(ISNUMBER(F749),IF(AU749<0.85,\"\",VLOOKUP(V749,J!A$2:X$23,VLOOKUP(F749,ages!B$1:C$23,2,1),1)),\"\")","v":""},"","","","",-1.0000000000000002E-6,0,0,0,0,0,0,0,0,0,0,0,null,null,null,null,null,null,null,null,null,null,null,null,null,null,null,null,null,null,null,null,null,null,null,null,null,null,null,null,null,null,null,null,null,null,null,null,null,null,null,null,null,null,null,null,null,null,null,null,null,null,null,null,null,null,null,null,null,null,null,null,null,null,null,null,null,null,null,null,null,null,-9.9999999999999995E-7,-9.9999999999999995E-7,-9.9999999999999995E-7,-9.9999999999999995E-7,-9.9999999999999995E-7,-9.9999999999999995E-7,-9.9999999999999995E-7,-9.9999999999999995E-7,-9.9999999999999995E-7,-9.9999999999999995E-7,-9.9999999999999995E-7,-9.9999999999999995E-7,-9.9999999999999995E-7,-9.9999999999999995E-7,-9.9999999999999995E-7,-9.9999999999999995E-7,-9.9999999999999995E-7,-9.9999999999999995E-7,-9.9999999999999995E-7,-9.9999999999999995E-7,{"$f":"IF(ISERROR(VLOOKUP(F749,ages!B$1:B$23,1,1)),\"\",VLOOKUP(F749,ages!B$1:B$23,1,1))","v":""},{"$f":"IF(ISERROR(VLOOKUP(F749,ages!B$1:D$23,3,1)),\"\",VLOOKUP(F749,ages!B$1:D$23,3,1))","v":""},0,0,0,0,0]
[null,null,null,null,null,"",null,null,null,null,null,null,"","","","","","","","","","",{"$f":"IF(ISNUMBER(F753),IF(AL753<0.85,\"\",VLOOKUP(M753,A!A$2:X$23,VLOOKUP(F753,ages!B$1:C$23,2,1),1)),\"\")","v":""},{"$f":"IF(ISNUMBER(F753),IF(AM753<0.85,\"\",VLOOKUP(N753,B!A$2:X$23,VLOOKUP(F753,ages!B$1:C$23,2,1),1)),\"\")","v":""},{"$f":"IF(ISNUMBER(F753),IF(AN753<0.85,\"\",VLOOKUP(O753,'C'!A$2:X$23,VLOOKUP(F753,ages!B$1:C$23,2,1),1)),\"\")","v":""},{"$f":"IF(ISNUMBER(F753),IF(AO753<0.85,\"\",VLOOKUP(P753,D!A$2:X$23,VLOOKUP(F753,ages!B$1:C$23,2,1),1)),\"\")","v":""},{"$f":"IF(ISNUMBER(F753),IF(AP753<0.85,\"\",VLOOKUP(Q753,E!A$2:X$23,VLOOKUP(F753,ages!B$1:C$23,2,1),1)),\"\")","v":""},{"$f":"IF(ISNUMBER(F753),IF(AQ753<0.85,\"\",VLOOKUP(R753,F!A$2:X$23,VLOOKUP(F753,ages!B$1:C$23,2,1),1)),\"\")","v":""},{"$f":"IF(ISNUMBER(F753),IF(AR753<0.85,\"\",VLOOKUP(S753,G!A$2:X$23,VLOOKUP(F753,ages!B$1:C$23,2,1),1)),\"\")","v":""},{"$f":"IF(ISNUMBER(F753),IF(AS753<0.85,\"\",VLOOKUP(T753,H!A$2:X$23,VLOOKUP(F753,ages!B$1:C$23,2,1),1)),\"\")","v":""},{"$f":"IF(ISNUMBER(F753),IF(AT753<0.85,\"\",VLOOKUP(U753,I!A$2:X$23,VLOOKUP(F753,ages!B$1:C$23,2,1),1)),\"\")","v":""},{"$f":"IF(ISNUMBER(F753),IF(AU753<0.85,\"\",VLOOKUP(V753,J!A$2:X$23,VLOOKUP(F753,ages!B$1:C$23,2,1),1)),\"\")","v":""},"","","","",-1.0000000000000002E-6,0,0,0,0,0,0,0,0,0,0,0,null,null,null,null,null,null,null,null,null,null,null,null,null,null,null,null,null,null,null,null,null,null,null,null,null,null,null,null,null,null,null,null,null,null,null,null,null,null,null,null,null,null,null,null,null,null,null,null,null,null,null,null,null,null,null,null,null,null,null,null,null,null,null,null,null,null,null,null,null,null,-9.9999999999999995E-7,-9.9999999999999995E-7,-9.9999999999999995E-7,-9.9999999999999995E-7,-9.9999999999999995E-7,-9.9999999999999995E-7,-9.9999999999999995E-7,-9.9999999999999995E-7,-9.9999999999999995E-7,-9.9999999999999995E-7,-9.9999999999999995E-7,-9.9999999999999995E-7,-9.9999999999999995E-7,-9.9999999999999995E-7,-9.9999999999999995E-7,-9.9999999999999995E-7,-9.9999999999999995E-7,-9.9999999999999995E-7,-9.9999999999999995E-7,-9.9999999999999995E-7,{"$f":"IF(ISERROR(VLOOKUP(F753,ages!B$1:B$23,1,1)),\"\",VLOOKUP(F753,ages!B$1:B$23,1,1))","v":""},{"$f":"IF(ISERROR(VLOOKUP(F753,ages!B$1:D$23,3,1)),\"\",VLOOKUP(F753,ages!B$1:D$23,3,1))","v":""},0,0,0,0,0]
[null,null,null,null,null,"",null,null,null,null,null,null,"","","","","","","","","","",{"$f":"IF(ISNUMBER(F758),IF(AL758<0.85,\"\",VLOOKUP(M758,A!A$2:X$23,VLOOKUP(F758,ages!B$1:C$23,2,1),1)),\"\")","v":""},{"$f":"IF(ISNUMBER(F758),IF(AM758<0.85,\"\",VLOOKUP(N758,B!A$2:X$23,VLOOKUP(F758,ages!B$1:C$23,2,1),1)),\"\")","v":""},{"$f":"IF(ISNUMBER(F758),IF(AN758<0.85,\"\",VLOOKUP(O758,'C'!A$2:X$23,VLOOKUP(F758,ages!B$1:C$23,2,1),1)),\"\")","v":""},{"$f":"IF(ISNUMBER(F758),IF(AO758<0.85,\"\",VLOOKUP(P758,D!A$2:X$23,VLOOKUP(F758,ages!B$1:C$23,2,1),1)),\"\")","v":""},{"$f":"IF(ISNUMBER(F758),IF(AP758<0.85,\"\",VLOOKUP(Q758,E!A$2:X$23,VLOOKUP(F758,ages!B$1:C$23,2,1),1)),\"\")","v":""},{"$f":"IF(ISNUMBER(F758),IF(AQ758<0.85,\"\",VLOOKUP(R758,F!A$2:X$23,VLOOKUP(F758,ages!B$1:C$23,2,1),1)),\"\")","v":""},{"$f":"IF(ISNUMBER(F758),IF(AR758<0.85,\"\",VLOOKUP(S758,G!A$2:X$23,VLOOKUP(F758,ages!B$1:C$23,2,1),1)),\"\")","v":""},{"$f":"IF(ISNUMBER(F758),IF(AS758<0.85,\"\",VLOOKUP(T758,H!A$2:X$23,VLOOKUP(F758,ages!B$1:C$23,2,1),1)),\"\")","v":""},{"$f":"IF(ISNUMBER(F758),IF(AT758<0.85,\"\",VLOOKUP(U758,I!A$2:X$23,VLOOKUP(F758,ages!B$1:C$23,2,1),1)),\"\")","v":""},{"$f":"IF(ISNUMBER(F758),IF(AU758<0.85,\"\",VLOOKUP(V758,J!A$2:X$23,VLOOKUP(F758,ages!B$1:C$23,2,1),1)),\"\")","v":""},"","","","",-1.0000000000000002E-6,0,0,0,0,0,0,0,0,0,0,0,null,null,null,null,null,null,null,null,null,null,null,null,null,null,null,null,null,null,null,null,null,null,null,null,null,null,null,null,null,null,null,null,null,null,null,null,null,null,null,null,null,null,null,null,null,null,null,null,null,null,null,null,null,null,null,null,null,null,null,null,null,null,null,null,null,null,null,null,null,null,-9.9999999999999995E-7,-9.9999999999999995E-7,-9.9999999999999995E-7,-9.9999999999999995E-7,-9.9999999999999995E-7,-9.9999999999999995E-7,-9.9999999999999995E-7,-9.9999999999999995E-7,-9.9999999999999995E-7,-9.9999999999999995E-7,-9.9999999999999995E-7,-9.9999999999999995E-7,-9.9999999999999995E-7,-9.9999999999999995E-7,-9.9999999999999995E-7,-9.9999999999999995E-7,-9.9999999999999995E-7,-9.9999999999999995E-7,-9.9999999999999995E-7,-9.9999999999999995E-7,{"$f":"IF(ISERROR(VLOOKUP(F758,ages!B$1:B$23,1,1)),\"\",VLOOKUP(F758,ages!B$1:B$23,1,1))","v":""},{"$f":"IF(ISERROR(VLOOKUP(F758,ages!B$1:D$23,3,1)),\"\",VLOOKUP(F758,ages!B$1:D$23,3,1))","v":""},0,0,0,0,0]
[null,null,null,null,null,"",null,null,null,null,null,null,"","","","","","","","","","",{"$f":"IF(ISNUMBER(F763),IF(AL763<0.85,\"\",VLOOKUP(M763,A!A$2:X$23,VLOOKUP(F763,ages!B$1:C$23,2,1),1)),\"\")","v":""},{"$f":"IF(ISNUMBER(F763),IF(AM763<0.85,\"\",VLOOKUP(N763,B!A$2:X$23,VLOOKUP(F763,ages!B$1:C$23,2,1),1)),\"\")","v":""},{"$f":"IF(ISNUMBER(F763),IF(AN763<0.85,\"\",VLOOKUP(O763,'C'!A$2:X$23,VLOOKUP(F763,ages!B$1:C$23,2,1),1)),\"\")","v":""},{"$f":"IF(ISNUMBER(F763),IF(AO763<0.85,\"\",VLOOKUP(P763,D!A$2:X$23,VLOOKUP(F763,ages!B$1:C$23,2,1),1)),\"\")","v":""},{"$f":"IF(ISNUMBER(F763),IF(AP763<0.85,\"\",VLOOKUP(Q763,E!A$2:X$23,VLOOKUP(F763,ages!B$1:C$23,2,1),1)),\"\")","v":""},{"$f":"IF(ISNUMBER(F763),IF(AQ763<0.85,\"\",VLOOKUP(R763,F!A$2:X$23,VLOOKUP(F763,ages!B$1:C$23,2,1),1)),\"\")","v":""},{"$f":"IF(ISNUMBER(F763),IF(AR763<0.85,\"\",VLOOKUP(S763,G!A$2:X$23,VLOOKUP(F763,ages!B$1:C$23,2,1),1)),\"\")","v":""},{"$f":"IF(ISNUMBER(F763),IF(AS763<0.85,\"\",VLOOKUP(T763,H!A$2:X$23,VLOOKUP(F763,ages!B$1:C$23,2,1),1)),\"\")","v":""},{"$f":"IF(ISNUMBER(F763),IF(AT763<0.85,\"\",VLOOKUP(U763,I!A$2:X$23,VLOOKUP(F763,ages!B$1:C$23,2,1),1)),\"\")","v":""},{"$f":"IF(ISNUMBER(F763),IF(AU763<0.85,\"\",VLOOKUP(V763,J!A$2:X$23,VLOOKUP(F763,ages!B$1:C$23,2,1),1)),\"\")","v":""},"","","","",-1.0000000000000002E-6,0,0,0,0,0,0,0,0,0,0,0,null,null,null,null,null,null,null,null,null,null,null,null,null,null,null,null,null,null,null,null,null,null,null,null,null,null,null,null,null,null,null,null,null,null,null,null,null,null,null,null,null,null,null,null,null,null,null,null,null,null,null,null,null,null,null,null,null,null,null,null,null,null,null,null,null,null,null,null,null,null,-9.9999999999999995E-7,-9.9999999999999995E-7,-9.9999999999999995E-7,-9.9999999999999995E-7,-9.9999999999999995E-7,-9.9999999999999995E-7,-9.9999999999999995E-7,-9.9999999999999995E-7,-9.9999999999999995E-7,-9.9999999999999995E-7,-9.9999999999999995E-7,-9.9999999999999995E-7,-9.9999999999999995E-7,-9.9999999999999995E-7,-9.9999999999999995E-7,-9.9999999999999995E-7,-9.9999999999999995E-7,-9.9999999999999995E-7,-9.9999999999999995E-7,-9.9999999999999995E-7,{"$f":"IF(ISERROR(VLOOKUP(F763,ages!B$1:B$23,1,1)),\"\",VLOOKUP(F763,ages!B$1:B$23,1,1))","v":""},{"$f":"IF(ISERROR(VLOOKUP(F763,ages!B$1:D$23,3,1)),\"\",VLOOKUP(F763,ages!B$1:D$23,3,1))","v":""},0,0,0,0,0]
[null,null,null,null,null,"",null,null,null,null,null,null,"","","","","","","","","","",{"$f":"IF(ISNUMBER(F769),IF(AL769<0.85,\"\",VLOOKUP(M769,A!A$2:X$23,VLOOKUP(F769,ages!B$1:C$23,2,1),1)),\"\")","v":""},{"$f":"IF(ISNUMBER(F769),IF(AM769<0.85,\"\",VLOOKUP(N769,B!A$2:X$23,VLOOKUP(F769,ages!B$1:C$23,2,1),1)),\"\")","v":""},{"$f":"IF(ISNUMBER(F769),IF(AN769<0.85,\"\",VLOOKUP(O769,'C'!A$2:X$23,VLOOKUP(F769,ages!B$1:C$23,2,1),1)),\"\")","v":""},{"$f":"IF(ISNUMBER(F769),IF(AO769<0.85,\"\",VLOOKUP(P769,D!A$2:X$23,VLOOKUP(F769,ages!B$1:C$23,2,1),1)),\"\")","v":""},{"$f":"IF(ISNUMBER(F769),IF(AP769<0.85,\"\",VLOOKUP(Q769,E!A$2:X$23,VLOOKUP(F769,ages!B$1:C$23,2,1),1)),\"\")","v":""},{"$f":"IF(ISNUMBER(F769),IF(AQ769<0.85,\"\",VLOOKUP(R769,F!A$2:X$23,VLOOKUP(F769,ages!B$1:C$23,2,1),1)),\"\")","v":""},{"$f":"IF(ISNUMBER(F769),IF(AR769<0.85,\"\",VLOOKUP(S769,G!A$2:X$23,VLOOKUP(F769,ages!B$1:C$23,2,1),1)),\"\")","v":""},{"$f":"IF(ISNUMBER(F769),IF(AS769<0.85,\"\",VLOOKUP(T769,H!A$2:X$23,VLOOKUP(F769,ages!B$1:C$23,2,1),1)),\"\")","v":""},{"$f":"IF(ISNUMBER(F769),IF(AT769<0.85,\"\",VLOOKUP(U769,I!A$2:X$23,VLOOKUP(F769,ages!B$1:C$23,2,1),1)),\"\")","v":""},{"$f":"IF(ISNUMBER(F769),IF(AU769<0.85,\"\",VLOOKUP(V769,J!A$2:X$23,VLOOKUP(F769,ages!B$1:C$23,2,1),1)),\"\")","v":""},"","","","",-1.0000000000000002E-6,0,0,0,0,0,0,0,0,0,0,0,null,null,null,null,null,null,null,null,null,null,null,null,null,null,null,null,null,null,null,null,null,null,null,null,null,null,null,null,null,null,null,null,null,null,null,null,null,null,null,null,null,null,null,null,null,null,null,null,null,null,null,null,null,null,null,null,null,null,null,null,null,null,null,null,null,null,null,null,null,null,-9.9999999999999995E-7,-9.9999999999999995E-7,-9.9999999999999995E-7,-9.9999999999999995E-7,-9.9999999999999995E-7,-9.9999999999999995E-7,-9.9999999999999995E-7,-9.9999999999999995E-7,-9.9999999999999995E-7,-9.9999999999999995E-7,-9.9999999999999995E-7,-9.9999999999999995E-7,-9.9999999999999995E-7,-9.9999999999999995E-7,-9.9999999999999995E-7,-9.9999999999999995E-7,-9.9999999999999995E-7,-9.9999999999999995E-7,-9.9999999999999995E-7,-9.9999999999999995E-7,{"$f":"IF(ISERROR(VLOOKUP(F769,ages!B$1:B$23,1,1)),\"\",VLOOKUP(F769,ages!B$1:B$23,1,1))","v":""},{"$f":"IF(ISERROR(VLOOKUP(F769,ages!B$1:D$23,3,1)),\"\",VLOOKUP(F769,ages!B$1:D$23,3,1))","v":""},0,0,0,0,0]
[null,null,null,null,null,"",null,null,null,null,null,null,"","","","","","","","","","",{"$f":"IF(ISNUMBER(F774),IF(AL774<0.85,\"\",VLOOKUP(M774,A!A$2:X$23,VLOOKUP(F774,ages!B$1:C$23,2,1),1)),\"\")","v":""},{"$f":"IF(ISNUMBER(F774),IF(AM774<0.85,\"\",VLOOKUP(N774,B!A$2:X$23,VLOOKUP(F774,ages!B$1:C$23,2,1),1)),\"\")","v":""},{"$f":"IF(ISNUMBER(F774),IF(AN774<0.85,\"\",VLOOKUP(O774,'C'!A$2:X$23,VLOOKUP(F774,ages!B$1:C$23,2,1),1)),\"\")","v":""},{"$f":"IF(ISNUMBER(F774),IF(AO774<0.85,\"\",VLOOKUP(P774,D!A$2:X$23,VLOOKUP(F774,ages!B$1:C$23,2,1),1)),\"\")","v":""},{"$f":"IF(ISNUMBER(F774),IF(AP774<0.85,\"\",VLOOKUP(Q774,E!A$2:X$23,VLOOKUP(F774,ages!B$1:C$23,2,1),1)),\"\")","v":""},{"$f":"IF(ISNUMBER(F774),IF(AQ774<0.85,\"\",VLOOKUP(R774,F!A$2:X$23,VLOOKUP(F774,ages!B$1:C$23,2,1),1)),\"\")","v":""},{"$f":"IF(ISNUMBER(F774),IF(AR774<0.85,\"\",VLOOKUP(S774,G!A$2:X$23,VLOOKUP(F774,ages!B$1:C$23,2,1),1)),\"\")","v":""},{"$f":"IF(ISNUMBER(F774),IF(AS774<0.85,\"\",VLOOKUP(T774,H!A$2:X$23,VLOOKUP(F774,ages!B$1:C$23,2,1),1)),\"\")","v":""},{"$f":"IF(ISNUMBER(F774),IF(AT774<0.85,\"\",VLOOKUP(U774,I!A$2:X$23,VLOOKUP(F774,ages!B$1:C$23,2,1),1)),\"\")","v":""},{"$f":"IF(ISNUMBER(F774),IF(AU774<0.85,\"\",VLOOKUP(V774,J!A$2:X$23,VLOOKUP(F774,ages!B$1:C$23,2,1),1)),\"\")","v":""},"","","","",-1.0000000000000002E-6,0,0,0,0,0,0,0,0,0,0,0,null,null,null,null,null,null,null,null,null,null,null,null,null,null,null,null,null,null,null,null,null,null,null,null,null,null,null,null,null,null,null,null,null,null,null,null,null,null,null,null,null,null,null,null,null,null,null,null,null,null,null,null,null,null,null,null,null,null,null,null,null,null,null,null,null,null,null,null,null,null,-9.9999999999999995E-7,-9.9999999999999995E-7,-9.9999999999999995E-7,-9.9999999999999995E-7,-9.9999999999999995E-7,-9.9999999999999995E-7,-9.9999999999999995E-7,-9.9999999999999995E-7,-9.9999999999999995E-7,-9.9999999999999995E-7,-9.9999999999999995E-7,-9.9999999999999995E-7,-9.9999999999999995E-7,-9.9999999999999995E-7,-9.9999999999999995E-7,-9.9999999999999995E-7,-9.9999999999999995E-7,-9.9999999999999995E-7,-9.9999999999999995E-7,-9.9999999999999995E-7,{"$f":"IF(ISERROR(VLOOKUP(F774,ages!B$1:B$23,1,1)),\"\",VLOOKUP(F774,ages!B$1:B$23,1,1))","v":""},{"$f":"IF(ISERROR(VLOOKUP(F774,ages!B$1:D$23,3,1)),\"\",VLOOKUP(F774,ages!B$1:D$23,3,1))","v":""},0,0,0,0,0]
[null,null,null,null,null,"",null,null,null,null,null,null,"","","","","","","","","","",{"$f":"IF(ISNUMBER(F779),IF(AL779<0.85,\"\",VLOOKUP(M779,A!A$2:X$23,VLOOKUP(F779,ages!B$1:C$23,2,1),1)),\"\")","v":""},{"$f":"IF(ISNUMBER(F779),IF(AM779<0.85,\"\",VLOOKUP(N779,B!A$2:X$23,VLOOKUP(F779,ages!B$1:C$23,2,1),1)),\"\")","v":""},{"$f":"IF(ISNUMBER(F779),IF(AN779<0.85,\"\",VLOOKUP(O779,'C'!A$2:X$23,VLOOKUP(F779,ages!B$1:C$23,2,1),1)),\"\")","v":""},{"$f":"IF(ISNUMBER(F779),IF(AO779<0.85,\"\",VLOOKUP(P779,D!A$2:X$23,VLOOKUP(F779,ages!B$1:C$23,2,1),1)),\"\")","v":""},{"$f":"IF(ISNUMBER(F779),IF(AP779<0.85,\"\",VLOOKUP(Q779,E!A$2:X$23,VLOOKUP(F779,ages!B$1:C$23,2,1),1)),\"\")","v":""},{"$f":"IF(ISNUMBER(F779),IF(AQ779<0.85,\"\",VLOOKUP(R779,F!A$2:X$23,VLOOKUP(F779,ages!B$1:C$23,2,1),1)),\"\")","v":""},{"$f":"IF(ISNUMBER(F779),IF(AR779<0.85,\"\",VLOOKUP(S779,G!A$2:X$23,VLOOKUP(F779,ages!B$1:C$23,2,1),1)),\"\")","v":""},{"$f":"IF(ISNUMBER(F779),IF(AS779<0.85,\"\",VLOOKUP(T779,H!A$2:X$23,VLOOKUP(F779,ages!B$1:C$23,2,1),1)),\"\")","v":""},{"$f":"IF(ISNUMBER(F779),IF(AT779<0.85,\"\",VLOOKUP(U779,I!A$2:X$23,VLOOKUP(F779,ages!B$1:C$23,2,1),1)),\"\")","v":""},{"$f":"IF(ISNUMBER(F779),IF(AU779<0.85,\"\",VLOOKUP(V779,J!A$2:X$23,VLOOKUP(F779,ages!B$1:C$23,2,1),1)),\"\")","v":""},"","","","",-1.0000000000000002E-6,0,0,0,0,0,0,0,0,0,0,0,null,null,null,null,null,null,null,null,null,null,null,null,null,null,null,null,null,null,null,null,null,null,null,null,null,null,null,null,null,null,null,null,null,null,null,null,null,null,null,null,null,null,null,null,null,null,null,null,null,null,null,null,null,null,null,null,null,null,null,null,null,null,null,null,null,null,null,null,null,null,-9.9999999999999995E-7,-9.9999999999999995E-7,-9.9999999999999995E-7,-9.9999999999999995E-7,-9.9999999999999995E-7,-9.9999999999999995E-7,-9.9999999999999995E-7,-9.9999999999999995E-7,-9.9999999999999995E-7,-9.9999999999999995E-7,-9.9999999999999995E-7,-9.9999999999999995E-7,-9.9999999999999995E-7,-9.9999999999999995E-7,-9.9999999999999995E-7,-9.9999999999999995E-7,-9.9999999999999995E-7,-9.9999999999999995E-7,-9.9999999999999995E-7,-9.9999999999999995E-7,{"$f":"IF(ISERROR(VLOOKUP(F779,ages!B$1:B$23,1,1)),\"\",VLOOKUP(F779,ages!B$1:B$23,1,1))","v":""},{"$f":"IF(ISERROR(VLOOKUP(F779,ages!B$1:D$23,3,1)),\"\",VLOOKUP(F779,ages!B$1:D$23,3,1))","v":""},0,0,0,0,0]
[null,null,null,null,null,"",null,null,null,null,null,null,"","","","","","","","","","",{"$f":"IF(ISNUMBER(F784),IF(AL784<0.85,\"\",VLOOKUP(M784,A!A$2:X$23,VLOOKUP(F784,ages!B$1:C$23,2,1),1)),\"\")","v":""},{"$f":"IF(ISNUMBER(F784),IF(AM784<0.85,\"\",VLOOKUP(N784,B!A$2:X$23,VLOOKUP(F784,ages!B$1:C$23,2,1),1)),\"\")","v":""},{"$f":"IF(ISNUMBER(F784),IF(AN784<0.85,\"\",VLOOKUP(O784,'C'!A$2:X$23,VLOOKUP(F784,ages!B$1:C$23,2,1),1)),\"\")","v":""},{"$f":"IF(ISNUMBER(F784),IF(AO784<0.85,\"\",VLOOKUP(P784,D!A$2:X$23,VLOOKUP(F784,ages!B$1:C$23,2,1),1)),\"\")","v":""},{"$f":"IF(ISNUMBER(F784),IF(AP784<0.85,\"\",VLOOKUP(Q784,E!A$2:X$23,VLOOKUP(F784,ages!B$1:C$23,2,1),1)),\"\")","v":""},{"$f":"IF(ISNUMBER(F784),IF(AQ784<0.85,\"\",VLOOKUP(R784,F!A$2:X$23,VLOOKUP(F784,ages!B$1:C$23,2,1),1)),\"\")","v":""},{"$f":"IF(ISNUMBER(F784),IF(AR784<0.85,\"\",VLOOKUP(S784,G!A$2:X$23,VLOOKUP(F784,ages!B$1:C$23,2,1),1)),\"\")","v":""},{"$f":"IF(ISNUMBER(F784),IF(AS784<0.85,\"\",VLOOKUP(T784,H!A$2:X$23,VLOOKUP(F784,ages!B$1:C$23,2,1),1)),\"\")","v":""},{"$f":"IF(ISNUMBER(F784),IF(AT784<0.85,\"\",VLOOKUP(U784,I!A$2:X$23,VLOOKUP(F784,ages!B$1:C$23,2,1),1)),\"\")","v":""},{"$f":"IF(ISNUMBER(F784),IF(AU784<0.85,\"\",VLOOKUP(V784,J!A$2:X$23,VLOOKUP(F784,ages!B$1:C$23,2,1),1)),\"\")","v":""},"","","","",-1.0000000000000002E-6,0,0,0,0,0,0,0,0,0,0,0,null,null,null,null,null,null,null,null,null,null,null,null,null,null,null,null,null,null,null,null,null,null,null,null,null,null,null,null,null,null,null,null,null,null,null,null,null,null,null,null,null,null,null,null,null,null,null,null,null,null,null,null,null,null,null,null,null,null,null,null,null,null,null,null,null,null,null,null,null,null,-9.9999999999999995E-7,-9.9999999999999995E-7,-9.9999999999999995E-7,-9.9999999999999995E-7,-9.9999999999999995E-7,-9.9999999999999995E-7,-9.9999999999999995E-7,-9.9999999999999995E-7,-9.9999999999999995E-7,-9.9999999999999995E-7,-9.9999999999999995E-7,-9.9999999999999995E-7,-9.9999999999999995E-7,-9.9999999999999995E-7,-9.9999999999999995E-7,-9.9999999999999995E-7,-9.9999999999999995E-7,-9.9999999999999995E-7,-9.9999999999999995E-7,-9.9999999999999995E-7,{"$f":"IF(ISERROR(VLOOKUP(F784,ages!B$1:B$23,1,1)),\"\",VLOOKUP(F784,ages!B$1:B$23,1,1))","v":""},{"$f":"IF(ISERROR(VLOOKUP(F784,ages!B$1:D$23,3,1)),\"\",VLOOKUP(F784,ages!B$1:D$23,3,1))","v":""},0,0,0,0,0]
[null,null,null,null,null,"",null,null,null,null,null,null,"","","","","","","","","","",{"$f":"IF(ISNUMBER(F789),IF(AL789<0.85,\"\",VLOOKUP(M789,A!A$2:X$23,VLOOKUP(F789,ages!B$1:C$23,2,1),1)),\"\")","v":""},{"$f":"IF(ISNUMBER(F789),IF(AM789<0.85,\"\",VLOOKUP(N789,B!A$2:X$23,VLOOKUP(F789,ages!B$1:C$23,2,1),1)),\"\")","v":""},{"$f":"IF(ISNUMBER(F789),IF(AN789<0.85,\"\",VLOOKUP(O789,'C'!A$2:X$23,VLOOKUP(F789,ages!B$1:C$23,2,1),1)),\"\")","v":""},{"$f":"IF(ISNUMBER(F789),IF(AO789<0.85,\"\",VLOOKUP(P789,D!A$2:X$23,VLOOKUP(F789,ages!B$1:C$23,2,1),1)),\"\")","v":""},{"$f":"IF(ISNUMBER(F789),IF(AP789<0.85,\"\",VLOOKUP(Q789,E!A$2:X$23,VLOOKUP(F789,ages!B$1:C$23,2,1),1)),\"\")","v":""},{"$f":"IF(ISNUMBER(F789),IF(AQ789<0.85,\"\",VLOOKUP(R789,F!A$2:X$23,VLOOKUP(F789,ages!B$1:C$23,2,1),1)),\"\")","v":""},{"$f":"IF(ISNUMBER(F789),IF(AR789<0.85,\"\",VLOOKUP(S789,G!A$2:X$23,VLOOKUP(F789,ages!B$1:C$23,2,1),1)),\"\")","v":""},{"$f":"IF(ISNUMBER(F789),IF(AS789<0.85,\"\",VLOOKUP(T789,H!A$2:X$23,VLOOKUP(F789,ages!B$1:C$23,2,1),1)),\"\")","v":""},{"$f":"IF(ISNUMBER(F789),IF(AT789<0.85,\"\",VLOOKUP(U789,I!A$2:X$23,VLOOKUP(F789,ages!B$1:C$23,2,1),1)),\"\")","v":""},{"$f":"IF(ISNUMBER(F789),IF(AU789<0.85,\"\",VLOOKUP(V789,J!A$2:X$23,VLOOKUP(F789,ages!B$1:C$23,2,1),1)),\"\")","v":""},"","","","",-1.0000000000000002E-6,0,0,0,0,0,0,0,0,0,0,0,null,null,null,null,null,null,null,null,null,null,null,null,null,null,null,null,null,null,null,null,null,null,null,null,null,null,null,null,null,null,null,null,null,null,null,null,null,null,null,null,null,null,null,null,null,null,null,null,null,null,null,null,null,null,null,null,null,null,null,null,null,null,null,null,null,null,null,null,null,null,-9.9999999999999995E-7,-9.9999999999999995E-7,-9.9999999999999995E-7,-9.9999999999999995E-7,-9.9999999999999995E-7,-9.9999999999999995E-7,-9.9999999999999995E-7,-9.9999999999999995E-7,-9.9999999999999995E-7,-9.9999999999999995E-7,-9.9999999999999995E-7,-9.9999999999999995E-7,-9.9999999999999995E-7,-9.9999999999999995E-7,-9.9999999999999995E-7,-9.9999999999999995E-7,-9.9999999999999995E-7,-9.9999999999999995E-7,-9.9999999999999995E-7,-9.9999999999999995E-7,{"$f":"IF(ISERROR(VLOOKUP(F789,ages!B$1:B$23,1,1)),\"\",VLOOKUP(F789,ages!B$1:B$23,1,1))","v":""},{"$f":"IF(ISERROR(VLOOKUP(F789,ages!B$1:D$23,3,1)),\"\",VLOOKUP(F789,ages!B$1:D$23,3,1))","v":""},0,0,0,0,0]
[null,null,null,null,null,"",null,null,null,null,null,null,"","","","","","","","","","",{"$f":"IF(ISNUMBER(F793),IF(AL793<0.85,\"\",VLOOKUP(M793,A!A$2:X$23,VLOOKUP(F793,ages!B$1:C$23,2,1),1)),\"\")","v":""},{"$f":"IF(ISNUMBER(F793),IF(AM793<0.85,\"\",VLOOKUP(N793,B!A$2:X$23,VLOOKUP(F793,ages!B$1:C$23,2,1),1)),\"\")","v":""},{"$f":"IF(ISNUMBER(F793),IF(AN793<0.85,\"\",VLOOKUP(O793,'C'!A$2:X$23,VLOOKUP(F793,ages!B$1:C$23,2,1),1)),\"\")","v":""},{"$f":"IF(ISNUMBER(F793),IF(AO793<0.85,\"\",VLOOKUP(P793,D!A$2:X$23,VLOOKUP(F793,ages!B$1:C$23,2,1),1)),\"\")","v":""},{"$f":"IF(ISNUMBER(F793),IF(AP793<0.85,\"\",VLOOKUP(Q793,E!A$2:X$23,VLOOKUP(F793,ages!B$1:C$23,2,1),1)),\"\")","v":""},{"$f":"IF(ISNUMBER(F793),IF(AQ793<0.85,\"\",VLOOKUP(R793,F!A$2:X$23,VLOOKUP(F793,ages!B$1:C$23,2,1),1)),\"\")","v":""},{"$f":"IF(ISNUMBER(F793),IF(AR793<0.85,\"\",VLOOKUP(S793,G!A$2:X$23,VLOOKUP(F793,ages!B$1:C$23,2,1),1)),\"\")","v":""},{"$f":"IF(ISNUMBER(F793),IF(AS793<0.85,\"\",VLOOKUP(T793,H!A$2:X$23,VLOOKUP(F793,ages!B$1:C$23,2,1),1)),\"\")","v":""},{"$f":"IF(ISNUMBER(F793),IF(AT793<0.85,\"\",VLOOKUP(U793,I!A$2:X$23,VLOOKUP(F793,ages!B$1:C$23,2,1),1)),\"\")","v":""},{"$f":"IF(ISNUMBER(F793),IF(AU793<0.85,\"\",VLOOKUP(V793,J!A$2:X$23,VLOOKUP(F793,ages!B$1:C$23,2,1),1)),\"\")","v":""},"","","","",-1.0000000000000002E-6,0,0,0,0,0,0,0,0,0,0,0,null,null,null,null,null,null,null,null,null,null,null,null,null,null,null,null,null,null,null,null,null,null,null,null,null,null,null,null,null,null,null,null,null,null,null,null,null,null,null,null,null,null,null,null,null,null,null,null,null,null,null,null,null,null,null,null,null,null,null,null,null,null,null,null,null,null,null,null,null,null,-9.9999999999999995E-7,-9.9999999999999995E-7,-9.9999999999999995E-7,-9.9999999999999995E-7,-9.9999999999999995E-7,-9.9999999999999995E-7,-9.9999999999999995E-7,-9.9999999999999995E-7,-9.9999999999999995E-7,-9.9999999999999995E-7,-9.9999999999999995E-7,-9.9999999999999995E-7,-9.9999999999999995E-7,-9.9999999999999995E-7,-9.9999999999999995E-7,-9.9999999999999995E-7,-9.9999999999999995E-7,-9.9999999999999995E-7,-9.9999999999999995E-7,-9.9999999999999995E-7,{"$f":"IF(ISERROR(VLOOKUP(F793,ages!B$1:B$23,1,1)),\"\",VLOOKUP(F793,ages!B$1:B$23,1,1))","v":""},{"$f":"IF(ISERROR(VLOOKUP(F793,ages!B$1:D$23,3,1)),\"\",VLOOKUP(F793,ages!B$1:D$23,3,1))","v":""},0,0,0,0,0]
[null,null,null,null,null,"",null,null,null,null,null,null,"","","","","","","","","","",{"$f":"IF(ISNUMBER(F799),IF(AL799<0.85,\"\",VLOOKUP(M799,A!A$2:X$23,VLOOKUP(F799,ages!B$1:C$23,2,1),1)),\"\")","v":""},{"$f":"IF(ISNUMBER(F799),IF(AM799<0.85,\"\",VLOOKUP(N799,B!A$2:X$23,VLOOKUP(F799,ages!B$1:C$23,2,1),1)),\"\")","v":""},{"$f":"IF(ISNUMBER(F799),IF(AN799<0.85,\"\",VLOOKUP(O799,'C'!A$2:X$23,VLOOKUP(F799,ages!B$1:C$23,2,1),1)),\"\")","v":""},{"$f":"IF(ISNUMBER(F799),IF(AO799<0.85,\"\",VLOOKUP(P799,D!A$2:X$23,VLOOKUP(F799,ages!B$1:C$23,2,1),1)),\"\")","v":""},{"$f":"IF(ISNUMBER(F799),IF(AP799<0.85,\"\",VLOOKUP(Q799,E!A$2:X$23,VLOOKUP(F799,ages!B$1:C$23,2,1),1)),\"\")","v":""},{"$f":"IF(ISNUMBER(F799),IF(AQ799<0.85,\"\",VLOOKUP(R799,F!A$2:X$23,VLOOKUP(F799,ages!B$1:C$23,2,1),1)),\"\")","v":""},{"$f":"IF(ISNUMBER(F799),IF(AR799<0.85,\"\",VLOOKUP(S799,G!A$2:X$23,VLOOKUP(F799,ages!B$1:C$23,2,1),1)),\"\")","v":""},{"$f":"IF(ISNUMBER(F799),IF(AS799<0.85,\"\",VLOOKUP(T799,H!A$2:X$23,VLOOKUP(F799,ages!B$1:C$23,2,1),1)),\"\")","v":""},{"$f":"IF(ISNUMBER(F799),IF(AT799<0.85,\"\",VLOOKUP(U799,I!A$2:X$23,VLOOKUP(F799,ages!B$1:C$23,2,1),1)),\"\")","v":""},{"$f":"IF(ISNUMBER(F799),IF(AU799<0.85,\"\",VLOOKUP(V799,J!A$2:X$23,VLOOKUP(F799,ages!B$1:C$23,2,1),1)),\"\")","v":""},"","","","",-1.0000000000000002E-6,0,0,0,0,0,0,0,0,0,0,0,null,null,null,null,null,null,null,null,null,null,null,null,null,null,null,null,null,null,null,null,null,null,null,null,null,null,null,null,null,null,null,null,null,null,null,null,null,null,null,null,null,null,null,null,null,null,null,null,null,null,null,null,null,null,null,null,null,null,null,null,null,null,null,null,null,null,null,null,null,null,-9.9999999999999995E-7,-9.9999999999999995E-7,-9.9999999999999995E-7,-9.9999999999999995E-7,-9.9999999999999995E-7,-9.9999999999999995E-7,-9.9999999999999995E-7,-9.9999999999999995E-7,-9.9999999999999995E-7,-9.9999999999999995E-7,-9.9999999999999995E-7,-9.9999999999999995E-7,-9.9999999999999995E-7,-9.9999999999999995E-7,-9.9999999999999995E-7,-9.9999999999999995E-7,-9.9999999999999995E-7,-9.9999999999999995E-7,-9.9999999999999995E-7,-9.9999999999999995E-7,{"$f":"IF(ISERROR(VLOOKUP(F799,ages!B$1:B$23,1,1)),\"\",VLOOKUP(F799,ages!B$1:B$23,1,1))","v":""},{"$f":"IF(ISERROR(VLOOKUP(F799,ages!B$1:D$23,3,1)),\"\",VLOOKUP(F799,ages!B$1:D$23,3,1))","v":""},0,0,0,0,0]
[null,null,null,null,null,"",null,null,null,null,null,null,"","","","","","","","","","",{"$f":"IF(ISNUMBER(F804),IF(AL804<0.85,\"\",VLOOKUP(M804,A!A$2:X$23,VLOOKUP(F804,ages!B$1:C$23,2,1),1)),\"\")","v":""},{"$f":"IF(ISNUMBER(F804),IF(AM804<0.85,\"\",VLOOKUP(N804,B!A$2:X$23,VLOOKUP(F804,ages!B$1:C$23,2,1),1)),\"\")","v":""},{"$f":"IF(ISNUMBER(F804),IF(AN804<0.85,\"\",VLOOKUP(O804,'C'!A$2:X$23,VLOOKUP(F804,ages!B$1:C$23,2,1),1)),\"\")","v":""},{"$f":"IF(ISNUMBER(F804),IF(AO804<0.85,\"\",VLOOKUP(P804,D!A$2:X$23,VLOOKUP(F804,ages!B$1:C$23,2,1),1)),\"\")","v":""},{"$f":"IF(ISNUMBER(F804),IF(AP804<0.85,\"\",VLOOKUP(Q804,E!A$2:X$23,VLOOKUP(F804,ages!B$1:C$23,2,1),1)),\"\")","v":""},{"$f":"IF(ISNUMBER(F804),IF(AQ804<0.85,\"\",VLOOKUP(R804,F!A$2:X$23,VLOOKUP(F804,ages!B$1:C$23,2,1),1)),\"\")","v":""},{"$f":"IF(ISNUMBER(F804),IF(AR804<0.85,\"\",VLOOKUP(S804,G!A$2:X$23,VLOOKUP(F804,ages!B$1:C$23,2,1),1)),\"\")","v":""},{"$f":"IF(ISNUMBER(F804),IF(AS804<0.85,\"\",VLOOKUP(T804,H!A$2:X$23,VLOOKUP(F804,ages!B$1:C$23,2,1),1)),\"\")","v":""},{"$f":"IF(ISNUMBER(F804),IF(AT804<0.85,\"\",VLOOKUP(U804,I!A$2:X$23,VLOOKUP(F804,ages!B$1:C$23,2,1),1)),\"\")","v":""},{"$f":"IF(ISNUMBER(F804),IF(AU804<0.85,\"\",VLOOKUP(V804,J!A$2:X$23,VLOOKUP(F804,ages!B$1:C$23,2,1),1)),\"\")","v":""},"","","","",-1.0000000000000002E-6,0,0,0,0,0,0,0,0,0,0,0,null,null,null,null,null,null,null,null,null,null,null,null,null,null,null,null,null,null,null,null,null,null,null,null,null,null,null,null,null,null,null,null,null,null,null,null,null,null,null,null,null,null,null,null,null,null,null,null,null,null,null,null,null,null,null,null,null,null,null,null,null,null,null,null,null,null,null,null,null,null,-9.9999999999999995E-7,-9.9999999999999995E-7,-9.9999999999999995E-7,-9.9999999999999995E-7,-9.9999999999999995E-7,-9.9999999999999995E-7,-9.9999999999999995E-7,-9.9999999999999995E-7,-9.9999999999999995E-7,-9.9999999999999995E-7,-9.9999999999999995E-7,-9.9999999999999995E-7,-9.9999999999999995E-7,-9.9999999999999995E-7,-9.9999999999999995E-7,-9.9999999999999995E-7,-9.9999999999999995E-7,-9.9999999999999995E-7,-9.9999999999999995E-7,-9.9999999999999995E-7,{"$f":"IF(ISERROR(VLOOKUP(F804,ages!B$1:B$23,1,1)),\"\",VLOOKUP(F804,ages!B$1:B$23,1,1))","v":""},{"$f":"IF(ISERROR(VLOOKUP(F804,ages!B$1:D$23,3,1)),\"\",VLOOKUP(F804,ages!B$1:D$23,3,1))","v":""},0,0,0,0,0]
[null,null,null,null,null,"",null,null,null,null,null,null,"","","","","","","","","","",{"$f":"IF(ISNUMBER(F805),IF(AL805<0.85,\"\",VLOOKUP(M805,A!A$2:X$23,VLOOKUP(F805,ages!B$1:C$23,2,1),1)),\"\")","v":""},{"$f":"IF(ISNUMBER(F805),IF(AM805<0.85,\"\",VLOOKUP(N805,B!A$2:X$23,VLOOKUP(F805,ages!B$1:C$23,2,1),1)),\"\")","v":""},{"$f":"IF(ISNUMBER(F805),IF(AN805<0.85,\"\",VLOOKUP(O805,'C'!A$2:X$23,VLOOKUP(F805,ages!B$1:C$23,2,1),1)),\"\")","v":""},{"$f":"IF(ISNUMBER(F805),IF(AO805<0.85,\"\",VLOOKUP(P805,D!A$2:X$23,VLOOKUP(F805,ages!B$1:C$23,2,1),1)),\"\")","v":""},{"$f":"IF(ISNUMBER(F805),IF(AP805<0.85,\"\",VLOOKUP(Q805,E!A$2:X$23,VLOOKUP(F805,ages!B$1:C$23,2,1),1)),\"\")","v":""},{"$f":"IF(ISNUMBER(F805),IF(AQ805<0.85,\"\",VLOOKUP(R805,F!A$2:X$23,VLOOKUP(F805,ages!B$1:C$23,2,1),1)),\"\")","v":""},{"$f":"IF(ISNUMBER(F805),IF(AR805<0.85,\"\",VLOOKUP(S805,G!A$2:X$23,VLOOKUP(F805,ages!B$1:C$23,2,1),1)),\"\")","v":""},{"$f":"IF(ISNUMBER(F805),IF(AS805<0.85,\"\",VLOOKUP(T805,H!A$2:X$23,VLOOKUP(F805,ages!B$1:C$23,2,1),1)),\"\")","v":""},{"$f":"IF(ISNUMBER(F805),IF(AT805<0.85,\"\",VLOOKUP(U805,I!A$2:X$23,VLOOKUP(F805,ages!B$1:C$23,2,1),1)),\"\")","v":""},{"$f":"IF(ISNUMBER(F805),IF(AU805<0.85,\"\",VLOOKUP(V805,J!A$2:X$23,VLOOKUP(F805,ages!B$1:C$23,2,1),1)),\"\")","v":""},"","","","",-1.0000000000000002E-6,0,0,0,0,0,0,0,0,0,0,0,null,null,null,null,null,null,null,null,null,null,null,null,null,null,null,null,null,null,null,null,null,null,null,null,null,null,null,null,null,null,null,null,null,null,null,null,null,null,null,null,null,null,null,null,null,null,null,null,null,null,null,null,null,null,null,null,null,null,null,null,null,null,null,null,null,null,null,null,null,null,-9.9999999999999995E-7,-9.9999999999999995E-7,-9.9999999999999995E-7,-9.9999999999999995E-7,-9.9999999999999995E-7,-9.9999999999999995E-7,-9.9999999999999995E-7,-9.9999999999999995E-7,-9.9999999999999995E-7,-9.9999999999999995E-7,-9.9999999999999995E-7,-9.9999999999999995E-7,-9.9999999999999995E-7,-9.9999999999999995E-7,-9.9999999999999995E-7,-9.9999999999999995E-7,-9.9999999999999995E-7,-9.9999999999999995E-7,-9.9999999999999995E-7,-9.9999999999999995E-7,{"$f":"IF(ISERROR(VLOOKUP(F805,ages!B$1:B$23,1,1)),\"\",VLOOKUP(F805,ages!B$1:B$23,1,1))","v":""},{"$f":"IF(ISERROR(VLOOKUP(F805,ages!B$1:D$23,3,1)),\"\",VLOOKUP(F805,ages!B$1:D$23,3,1))","v":""},0,0,0,0,0]
[null,null,null,null,null,"",null,null,null,null,null,null,"","","","","","","","","","",{"$f":"IF(ISNUMBER(F810),IF(AL810<0.85,\"\",VLOOKUP(M810,A!A$2:X$23,VLOOKUP(F810,ages!B$1:C$23,2,1),1)),\"\")","v":""},{"$f":"IF(ISNUMBER(F810),IF(AM810<0.85,\"\",VLOOKUP(N810,B!A$2:X$23,VLOOKUP(F810,ages!B$1:C$23,2,1),1)),\"\")","v":""},{"$f":"IF(ISNUMBER(F810),IF(AN810<0.85,\"\",VLOOKUP(O810,'C'!A$2:X$23,VLOOKUP(F810,ages!B$1:C$23,2,1),1)),\"\")","v":""},{"$f":"IF(ISNUMBER(F810),IF(AO810<0.85,\"\",VLOOKUP(P810,D!A$2:X$23,VLOOKUP(F810,ages!B$1:C$23,2,1),1)),\"\")","v":""},{"$f":"IF(ISNUMBER(F810),IF(AP810<0.85,\"\",VLOOKUP(Q810,E!A$2:X$23,VLOOKUP(F810,ages!B$1:C$23,2,1),1)),\"\")","v":""},{"$f":"IF(ISNUMBER(F810),IF(AQ810<0.85,\"\",VLOOKUP(R810,F!A$2:X$23,VLOOKUP(F810,ages!B$1:C$23,2,1),1)),\"\")","v":""},{"$f":"IF(ISNUMBER(F810),IF(AR810<0.85,\"\",VLOOKUP(S810,G!A$2:X$23,VLOOKUP(F810,ages!B$1:C$23,2,1),1)),\"\")","v":""},{"$f":"IF(ISNUMBER(F810),IF(AS810<0.85,\"\",VLOOKUP(T810,H!A$2:X$23,VLOOKUP(F810,ages!B$1:C$23,2,1),1)),\"\")","v":""},{"$f":"IF(ISNUMBER(F810),IF(AT810<0.85,\"\",VLOOKUP(U810,I!A$2:X$23,VLOOKUP(F810,ages!B$1:C$23,2,1),1)),\"\")","v":""},{"$f":"IF(ISNUMBER(F810),IF(AU810<0.85,\"\",VLOOKUP(V810,J!A$2:X$23,VLOOKUP(F810,ages!B$1:C$23,2,1),1)),\"\")","v":""},"","","","",-1.0000000000000002E-6,0,0,0,0,0,0,0,0,0,0,0,null,null,null,null,null,null,null,null,null,null,null,null,null,null,null,null,null,null,null,null,null,null,null,null,null,null,null,null,null,null,null,null,null,null,null,null,null,null,null,null,null,null,null,null,null,null,null,null,null,null,null,null,null,null,null,null,null,null,null,null,null,null,null,null,null,null,null,null,null,null,-9.9999999999999995E-7,-9.9999999999999995E-7,-9.9999999999999995E-7,-9.9999999999999995E-7,-9.9999999999999995E-7,-9.9999999999999995E-7,-9.9999999999999995E-7,-9.9999999999999995E-7,-9.9999999999999995E-7,-9.9999999999999995E-7,-9.9999999999999995E-7,-9.9999999999999995E-7,-9.9999999999999995E-7,-9.9999999999999995E-7,-9.9999999999999995E-7,-9.9999999999999995E-7,-9.9999999999999995E-7,-9.9999999999999995E-7,-9.9999999999999995E-7,-9.9999999999999995E-7,{"$f":"IF(ISERROR(VLOOKUP(F810,ages!B$1:B$23,1,1)),\"\",VLOOKUP(F810,ages!B$1:B$23,1,1))","v":""},{"$f":"IF(ISERROR(VLOOKUP(F810,ages!B$1:D$23,3,1)),\"\",VLOOKUP(F810,ages!B$1:D$23,3,1))","v":""},0,0,0,0,0]
[null,null,null,null,null,"",null,null,null,null,null,null,"","","","","","","","","","",{"$f":"IF(ISNUMBER(F818),IF(AL818<0.85,\"\",VLOOKUP(M818,A!A$2:X$23,VLOOKUP(F818,ages!B$1:C$23,2,1),1)),\"\")","v":""},{"$f":"IF(ISNUMBER(F818),IF(AM818<0.85,\"\",VLOOKUP(N818,B!A$2:X$23,VLOOKUP(F818,ages!B$1:C$23,2,1),1)),\"\")","v":""},{"$f":"IF(ISNUMBER(F818),IF(AN818<0.85,\"\",VLOOKUP(O818,'C'!A$2:X$23,VLOOKUP(F818,ages!B$1:C$23,2,1),1)),\"\")","v":""},{"$f":"IF(ISNUMBER(F818),IF(AO818<0.85,\"\",VLOOKUP(P818,D!A$2:X$23,VLOOKUP(F818,ages!B$1:C$23,2,1),1)),\"\")","v":""},{"$f":"IF(ISNUMBER(F818),IF(AP818<0.85,\"\",VLOOKUP(Q818,E!A$2:X$23,VLOOKUP(F818,ages!B$1:C$23,2,1),1)),\"\")","v":""},{"$f":"IF(ISNUMBER(F818),IF(AQ818<0.85,\"\",VLOOKUP(R818,F!A$2:X$23,VLOOKUP(F818,ages!B$1:C$23,2,1),1)),\"\")","v":""},{"$f":"IF(ISNUMBER(F818),IF(AR818<0.85,\"\",VLOOKUP(S818,G!A$2:X$23,VLOOKUP(F818,ages!B$1:C$23,2,1),1)),\"\")","v":""},{"$f":"IF(ISNUMBER(F818),IF(AS818<0.85,\"\",VLOOKUP(T818,H!A$2:X$23,VLOOKUP(F818,ages!B$1:C$23,2,1),1)),\"\")","v":""},{"$f":"IF(ISNUMBER(F818),IF(AT818<0.85,\"\",VLOOKUP(U818,I!A$2:X$23,VLOOKUP(F818,ages!B$1:C$23,2,1),1)),\"\")","v":""},{"$f":"IF(ISNUMBER(F818),IF(AU818<0.85,\"\",VLOOKUP(V818,J!A$2:X$23,VLOOKUP(F818,ages!B$1:C$23,2,1),1)),\"\")","v":""},"","","","",-1.0000000000000002E-6,0,0,0,0,0,0,0,0,0,0,0,null,null,null,null,null,null,null,null,null,null,null,null,null,null,null,null,null,null,null,null,null,null,null,null,null,null,null,null,null,null,null,null,null,null,null,null,null,null,null,null,null,null,null,null,null,null,null,null,null,null,null,null,null,null,null,null,null,null,null,null,null,null,null,null,null,null,null,null,null,null,-9.9999999999999995E-7,-9.9999999999999995E-7,-9.9999999999999995E-7,-9.9999999999999995E-7,-9.9999999999999995E-7,-9.9999999999999995E-7,-9.9999999999999995E-7,-9.9999999999999995E-7,-9.9999999999999995E-7,-9.9999999999999995E-7,-9.9999999999999995E-7,-9.9999999999999995E-7,-9.9999999999999995E-7,-9.9999999999999995E-7,-9.9999999999999995E-7,-9.9999999999999995E-7,-9.9999999999999995E-7,-9.9999999999999995E-7,-9.9999999999999995E-7,-9.9999999999999995E-7,{"$f":"IF(ISERROR(VLOOKUP(F818,ages!B$1:B$23,1,1)),\"\",VLOOKUP(F818,ages!B$1:B$23,1,1))","v":""},{"$f":"IF(ISERROR(VLOOKUP(F818,ages!B$1:D$23,3,1)),\"\",VLOOKUP(F818,ages!B$1:D$23,3,1))","v":""},0,0,0,0,0]
[null,null,null,null,null,"",null,null,null,null,null,null,"","","","","","","","","","",{"$f":"IF(ISNUMBER(F820),IF(AL820<0.85,\"\",VLOOKUP(M820,A!A$2:X$23,VLOOKUP(F820,ages!B$1:C$23,2,1),1)),\"\")","v":""},{"$f":"IF(ISNUMBER(F820),IF(AM820<0.85,\"\",VLOOKUP(N820,B!A$2:X$23,VLOOKUP(F820,ages!B$1:C$23,2,1),1)),\"\")","v":""},{"$f":"IF(ISNUMBER(F820),IF(AN820<0.85,\"\",VLOOKUP(O820,'C'!A$2:X$23,VLOOKUP(F820,ages!B$1:C$23,2,1),1)),\"\")","v":""},{"$f":"IF(ISNUMBER(F820),IF(AO820<0.85,\"\",VLOOKUP(P820,D!A$2:X$23,VLOOKUP(F820,ages!B$1:C$23,2,1),1)),\"\")","v":""},{"$f":"IF(ISNUMBER(F820),IF(AP820<0.85,\"\",VLOOKUP(Q820,E!A$2:X$23,VLOOKUP(F820,ages!B$1:C$23,2,1),1)),\"\")","v":""},{"$f":"IF(ISNUMBER(F820),IF(AQ820<0.85,\"\",VLOOKUP(R820,F!A$2:X$23,VLOOKUP(F820,ages!B$1:C$23,2,1),1)),\"\")","v":""},{"$f":"IF(ISNUMBER(F820),IF(AR820<0.85,\"\",VLOOKUP(S820,G!A$2:X$23,VLOOKUP(F820,ages!B$1:C$23,2,1),1)),\"\")","v":""},{"$f":"IF(ISNUMBER(F820),IF(AS820<0.85,\"\",VLOOKUP(T820,H!A$2:X$23,VLOOKUP(F820,ages!B$1:C$23,2,1),1)),\"\")","v":""},{"$f":"IF(ISNUMBER(F820),IF(AT820<0.85,\"\",VLOOKUP(U820,I!A$2:X$23,VLOOKUP(F820,ages!B$1:C$23,2,1),1)),\"\")","v":""},{"$f":"IF(ISNUMBER(F820),IF(AU820<0.85,\"\",VLOOKUP(V820,J!A$2:X$23,VLOOKUP(F820,ages!B$1:C$23,2,1),1)),\"\")","v":""},"","","","",-1.0000000000000002E-6,0,0,0,0,0,0,0,0,0,0,0,null,null,null,null,null,null,null,null,null,null,null,null,null,null,null,null,null,null,null,null,null,null,null,null,null,null,null,null,null,null,null,null,null,null,null,null,null,null,null,null,null,null,null,null,null,null,null,null,null,null,null,null,null,null,null,null,null,null,null,null,null,null,null,null,null,null,null,null,null,null,-9.9999999999999995E-7,-9.9999999999999995E-7,-9.9999999999999995E-7,-9.9999999999999995E-7,-9.9999999999999995E-7,-9.9999999999999995E-7,-9.9999999999999995E-7,-9.9999999999999995E-7,-9.9999999999999995E-7,-9.9999999999999995E-7,-9.9999999999999995E-7,-9.9999999999999995E-7,-9.9999999999999995E-7,-9.9999999999999995E-7,-9.9999999999999995E-7,-9.9999999999999995E-7,-9.9999999999999995E-7,-9.9999999999999995E-7,-9.9999999999999995E-7,-9.9999999999999995E-7,{"$f":"IF(ISERROR(VLOOKUP(F820,ages!B$1:B$23,1,1)),\"\",VLOOKUP(F820,ages!B$1:B$23,1,1))","v":""},{"$f":"IF(ISERROR(VLOOKUP(F820,ages!B$1:D$23,3,1)),\"\",VLOOKUP(F820,ages!B$1:D$23,3,1))","v":""},0,0,0,0,0]
[null,null,null,null,null,"",null,null,null,null,null,null,"","","","","","","","","","",{"$f":"IF(ISNUMBER(F825),IF(AL825<0.85,\"\",VLOOKUP(M825,A!A$2:X$23,VLOOKUP(F825,ages!B$1:C$23,2,1),1)),\"\")","v":""},{"$f":"IF(ISNUMBER(F825),IF(AM825<0.85,\"\",VLOOKUP(N825,B!A$2:X$23,VLOOKUP(F825,ages!B$1:C$23,2,1),1)),\"\")","v":""},{"$f":"IF(ISNUMBER(F825),IF(AN825<0.85,\"\",VLOOKUP(O825,'C'!A$2:X$23,VLOOKUP(F825,ages!B$1:C$23,2,1),1)),\"\")","v":""},{"$f":"IF(ISNUMBER(F825),IF(AO825<0.85,\"\",VLOOKUP(P825,D!A$2:X$23,VLOOKUP(F825,ages!B$1:C$23,2,1),1)),\"\")","v":""},{"$f":"IF(ISNUMBER(F825),IF(AP825<0.85,\"\",VLOOKUP(Q825,E!A$2:X$23,VLOOKUP(F825,ages!B$1:C$23,2,1),1)),\"\")","v":""},{"$f":"IF(ISNUMBER(F825),IF(AQ825<0.85,\"\",VLOOKUP(R825,F!A$2:X$23,VLOOKUP(F825,ages!B$1:C$23,2,1),1)),\"\")","v":""},{"$f":"IF(ISNUMBER(F825),IF(AR825<0.85,\"\",VLOOKUP(S825,G!A$2:X$23,VLOOKUP(F825,ages!B$1:C$23,2,1),1)),\"\")","v":""},{"$f":"IF(ISNUMBER(F825),IF(AS825<0.85,\"\",VLOOKUP(T825,H!A$2:X$23,VLOOKUP(F825,ages!B$1:C$23,2,1),1)),\"\")","v":""},{"$f":"IF(ISNUMBER(F825),IF(AT825<0.85,\"\",VLOOKUP(U825,I!A$2:X$23,VLOOKUP(F825,ages!B$1:C$23,2,1),1)),\"\")","v":""},{"$f":"IF(ISNUMBER(F825),IF(AU825<0.85,\"\",VLOOKUP(V825,J!A$2:X$23,VLOOKUP(F825,ages!B$1:C$23,2,1),1)),\"\")","v":""},"","","","",-1.0000000000000002E-6,0,0,0,0,0,0,0,0,0,0,0,null,null,null,null,null,null,null,null,null,null,null,null,null,null,null,null,null,null,null,null,null,null,null,null,null,null,null,null,null,null,null,null,null,null,null,null,null,null,null,null,null,null,null,null,null,null,null,null,null,null,null,null,null,null,null,null,null,null,null,null,null,null,null,null,null,null,null,null,null,null,-9.9999999999999995E-7,-9.9999999999999995E-7,-9.9999999999999995E-7,-9.9999999999999995E-7,-9.9999999999999995E-7,-9.9999999999999995E-7,-9.9999999999999995E-7,-9.9999999999999995E-7,-9.9999999999999995E-7,-9.9999999999999995E-7,-9.9999999999999995E-7,-9.9999999999999995E-7,-9.9999999999999995E-7,-9.9999999999999995E-7,-9.9999999999999995E-7,-9.9999999999999995E-7,-9.9999999999999995E-7,-9.9999999999999995E-7,-9.9999999999999995E-7,-9.9999999999999995E-7,{"$f":"IF(ISERROR(VLOOKUP(F825,ages!B$1:B$23,1,1)),\"\",VLOOKUP(F825,ages!B$1:B$23,1,1))","v":""},{"$f":"IF(ISERROR(VLOOKUP(F825,ages!B$1:D$23,3,1)),\"\",VLOOKUP(F825,ages!B$1:D$23,3,1))","v":""},0,0,0,0,0]
[null,null,null,null,null,"",null,null,null,null,null,null,"","","","","","","","","","",{"$f":"IF(ISNUMBER(F831),IF(AL831<0.85,\"\",VLOOKUP(M831,A!A$2:X$23,VLOOKUP(F831,ages!B$1:C$23,2,1),1)),\"\")","v":""},{"$f":"IF(ISNUMBER(F831),IF(AM831<0.85,\"\",VLOOKUP(N831,B!A$2:X$23,VLOOKUP(F831,ages!B$1:C$23,2,1),1)),\"\")","v":""},{"$f":"IF(ISNUMBER(F831),IF(AN831<0.85,\"\",VLOOKUP(O831,'C'!A$2:X$23,VLOOKUP(F831,ages!B$1:C$23,2,1),1)),\"\")","v":""},{"$f":"IF(ISNUMBER(F831),IF(AO831<0.85,\"\",VLOOKUP(P831,D!A$2:X$23,VLOOKUP(F831,ages!B$1:C$23,2,1),1)),\"\")","v":""},{"$f":"IF(ISNUMBER(F831),IF(AP831<0.85,\"\",VLOOKUP(Q831,E!A$2:X$23,VLOOKUP(F831,ages!B$1:C$23,2,1),1)),\"\")","v":""},{"$f":"IF(ISNUMBER(F831),IF(AQ831<0.85,\"\",VLOOKUP(R831,F!A$2:X$23,VLOOKUP(F831,ages!B$1:C$23,2,1),1)),\"\")","v":""},{"$f":"IF(ISNUMBER(F831),IF(AR831<0.85,\"\",VLOOKUP(S831,G!A$2:X$23,VLOOKUP(F831,ages!B$1:C$23,2,1),1)),\"\")","v":""},{"$f":"IF(ISNUMBER(F831),IF(AS831<0.85,\"\",VLOOKUP(T831,H!A$2:X$23,VLOOKUP(F831,ages!B$1:C$23,2,1),1)),\"\")","v":""},{"$f":"IF(ISNUMBER(F831),IF(AT831<0.85,\"\",VLOOKUP(U831,I!A$2:X$23,VLOOKUP(F831,ages!B$1:C$23,2,1),1)),\"\")","v":""},{"$f":"IF(ISNUMBER(F831),IF(AU831<0.85,\"\",VLOOKUP(V831,J!A$2:X$23,VLOOKUP(F831,ages!B$1:C$23,2,1),1)),\"\")","v":""},"","","","",-1.0000000000000002E-6,0,0,0,0,0,0,0,0,0,0,0,null,null,null,null,null,null,null,null,null,null,null,null,null,null,null,null,null,null,null,null,null,null,null,null,null,null,null,null,null,null,null,null,null,null,null,null,null,null,null,null,null,null,null,null,null,null,null,null,null,null,null,null,null,null,null,null,null,null,null,null,null,null,null,null,null,null,null,null,null,null,-9.9999999999999995E-7,-9.9999999999999995E-7,-9.9999999999999995E-7,-9.9999999999999995E-7,-9.9999999999999995E-7,-9.9999999999999995E-7,-9.9999999999999995E-7,-9.9999999999999995E-7,-9.9999999999999995E-7,-9.9999999999999995E-7,-9.9999999999999995E-7,-9.9999999999999995E-7,-9.9999999999999995E-7,-9.9999999999999995E-7,-9.9999999999999995E-7,-9.9999999999999995E-7,-9.9999999999999995E-7,-9.9999999999999995E-7,-9.9999999999999995E-7,-9.9999999999999995E-7,{"$f":"IF(ISERROR(VLOOKUP(F831,ages!B$1:B$23,1,1)),\"\",VLOOKUP(F831,ages!B$1:B$23,1,1))","v":""},{"$f":"IF(ISERROR(VLOOKUP(F831,ages!B$1:D$23,3,1)),\"\",VLOOKUP(F831,ages!B$1:D$23,3,1))","v":""},0,0,0,0,0]
[null,null,null,null,null,"",null,null,null,null,null,null,"","","","","","","","","","",{"$f":"IF(ISNUMBER(F837),IF(AL837<0.85,\"\",VLOOKUP(M837,A!A$2:X$23,VLOOKUP(F837,ages!B$1:C$23,2,1),1)),\"\")","v":""},{"$f":"IF(ISNUMBER(F837),IF(AM837<0.85,\"\",VLOOKUP(N837,B!A$2:X$23,VLOOKUP(F837,ages!B$1:C$23,2,1),1)),\"\")","v":""},{"$f":"IF(ISNUMBER(F837),IF(AN837<0.85,\"\",VLOOKUP(O837,'C'!A$2:X$23,VLOOKUP(F837,ages!B$1:C$23,2,1),1)),\"\")","v":""},{"$f":"IF(ISNUMBER(F837),IF(AO837<0.85,\"\",VLOOKUP(P837,D!A$2:X$23,VLOOKUP(F837,ages!B$1:C$23,2,1),1)),\"\")","v":""},{"$f":"IF(ISNUMBER(F837),IF(AP837<0.85,\"\",VLOOKUP(Q837,E!A$2:X$23,VLOOKUP(F837,ages!B$1:C$23,2,1),1)),\"\")","v":""},{"$f":"IF(ISNUMBER(F837),IF(AQ837<0.85,\"\",VLOOKUP(R837,F!A$2:X$23,VLOOKUP(F837,ages!B$1:C$23,2,1),1)),\"\")","v":""},{"$f":"IF(ISNUMBER(F837),IF(AR837<0.85,\"\",VLOOKUP(S837,G!A$2:X$23,VLOOKUP(F837,ages!B$1:C$23,2,1),1)),\"\")","v":""},{"$f":"IF(ISNUMBER(F837),IF(AS837<0.85,\"\",VLOOKUP(T837,H!A$2:X$23,VLOOKUP(F837,ages!B$1:C$23,2,1),1)),\"\")","v":""},{"$f":"IF(ISNUMBER(F837),IF(AT837<0.85,\"\",VLOOKUP(U837,I!A$2:X$23,VLOOKUP(F837,ages!B$1:C$23,2,1),1)),\"\")","v":""},{"$f":"IF(ISNUMBER(F837),IF(AU837<0.85,\"\",VLOOKUP(V837,J!A$2:X$23,VLOOKUP(F837,ages!B$1:C$23,2,1),1)),\"\")","v":""},"","","","",-1.0000000000000002E-6,0,0,0,0,0,0,0,0,0,0,0,null,null,null,null,null,null,null,null,null,null,null,null,null,null,null,null,null,null,null,null,null,null,null,null,null,null,null,null,null,null,null,null,null,null,null,null,null,null,null,null,null,null,null,null,null,null,null,null,null,null,null,null,null,null,null,null,null,null,null,null,null,null,null,null,null,null,null,null,null,null,-9.9999999999999995E-7,-9.9999999999999995E-7,-9.9999999999999995E-7,-9.9999999999999995E-7,-9.9999999999999995E-7,-9.9999999999999995E-7,-9.9999999999999995E-7,-9.9999999999999995E-7,-9.9999999999999995E-7,-9.9999999999999995E-7,-9.9999999999999995E-7,-9.9999999999999995E-7,-9.9999999999999995E-7,-9.9999999999999995E-7,-9.9999999999999995E-7,-9.9999999999999995E-7,-9.9999999999999995E-7,-9.9999999999999995E-7,-9.9999999999999995E-7,-9.9999999999999995E-7,{"$f":"IF(ISERROR(VLOOKUP(F837,ages!B$1:B$23,1,1)),\"\",VLOOKUP(F837,ages!B$1:B$23,1,1))","v":""},{"$f":"IF(ISERROR(VLOOKUP(F837,ages!B$1:D$23,3,1)),\"\",VLOOKUP(F837,ages!B$1:D$23,3,1))","v":""},0,0,0,0,0]
[null,null,null,null,null,"",null,null,null,null,null,null,"","","","","","","","","","",{"$f":"IF(ISNUMBER(F840),IF(AL840<0.85,\"\",VLOOKUP(M840,A!A$2:X$23,VLOOKUP(F840,ages!B$1:C$23,2,1),1)),\"\")","v":""},{"$f":"IF(ISNUMBER(F840),IF(AM840<0.85,\"\",VLOOKUP(N840,B!A$2:X$23,VLOOKUP(F840,ages!B$1:C$23,2,1),1)),\"\")","v":""},{"$f":"IF(ISNUMBER(F840),IF(AN840<0.85,\"\",VLOOKUP(O840,'C'!A$2:X$23,VLOOKUP(F840,ages!B$1:C$23,2,1),1)),\"\")","v":""},{"$f":"IF(ISNUMBER(F840),IF(AO840<0.85,\"\",VLOOKUP(P840,D!A$2:X$23,VLOOKUP(F840,ages!B$1:C$23,2,1),1)),\"\")","v":""},{"$f":"IF(ISNUMBER(F840),IF(AP840<0.85,\"\",VLOOKUP(Q840,E!A$2:X$23,VLOOKUP(F840,ages!B$1:C$23,2,1),1)),\"\")","v":""},{"$f":"IF(ISNUMBER(F840),IF(AQ840<0.85,\"\",VLOOKUP(R840,F!A$2:X$23,VLOOKUP(F840,ages!B$1:C$23,2,1),1)),\"\")","v":""},{"$f":"IF(ISNUMBER(F840),IF(AR840<0.85,\"\",VLOOKUP(S840,G!A$2:X$23,VLOOKUP(F840,ages!B$1:C$23,2,1),1)),\"\")","v":""},{"$f":"IF(ISNUMBER(F840),IF(AS840<0.85,\"\",VLOOKUP(T840,H!A$2:X$23,VLOOKUP(F840,ages!B$1:C$23,2,1),1)),\"\")","v":""},{"$f":"IF(ISNUMBER(F840),IF(AT840<0.85,\"\",VLOOKUP(U840,I!A$2:X$23,VLOOKUP(F840,ages!B$1:C$23,2,1),1)),\"\")","v":""},{"$f":"IF(ISNUMBER(F840),IF(AU840<0.85,\"\",VLOOKUP(V840,J!A$2:X$23,VLOOKUP(F840,ages!B$1:C$23,2,1),1)),\"\")","v":""},"","","","",{"$f":"IF(COUNT(DO840:EH840)>15,SUM(DO840:EH840)/COUNT(DO840:EH840),\"\")","v":-1.0000000000000002E-6},0,0,0,0,0,0,0,0,0,0,0,null,null,null,null,null,null,null,null,null,null,null,null,null,null,null,null,null,null,null,null,null,null,null,null,null,null,null,null,null,null,null,null,null,null,null,null,null,null,null,null,null,null,null,null,null,null,null,null,null,null,null,null,null,null,null,null,null,null,null,null,null,null,null,null,null,null,null,null,null,null,-9.9999999999999995E-7,{"$f":"IF(ISNUMBER(CV840),3-CV840,-0.000001)","v":-9.9999999999999995E-7},{"$f":"IF(ISNUMBER(CW840),3-CW840,-0.000001)","v":-9.9999999999999995E-7},{"$f":"IF(ISNUMBER(CX840),3-CX840,-0.000001)","v":-9.9999999999999995E-7},{"$f":"IF(ISNUMBER(CY840),3-CY840,-0.000001)","v":-9.9999999999999995E-7},{"$f":"IF(ISNUMBER(CZ840),3-CZ840,-0.000001)","v":-9.9999999999999995E-7},{"$f":"IF(ISNUMBER(DA840),3-DA840,-0.000001)","v":-9.9999999999999995E-7},{"$f":"IF(ISNUMBER(DB840),3-DB840,-0.000001)","v":-9.9999999999999995E-7},{"$f":"IF(ISNUMBER(DC840),3-DC840,-0.000001)","v":-9.9999999999999995E-7},{"$f":"IF(ISNUMBER(DD840),3-DD840,-0.000001)","v":-9.9999999999999995E-7},{"$f":"IF(ISNUMBER(DE840),3-DE840,-0.000001)","v":-9.9999999999999995E-7},{"$f":"IF(ISNUMBER(DF840),3-DF840,-0.000001)","v":-9.9999999999999995E-7},{"$f":"IF(ISNUMBER(DG840),3-DG840,-0.000001)","v":-9.9999999999999995E-7},{"$f":"IF(ISNUMBER(DH840),3-DH840,-0.000001)","v":-9.9999999999999995E-7},{"$f":"IF(ISNUMBER(DI840),3-DI840,-0.000001)","v":-9.9999999999999995E-7},{"$f":"IF(ISNUMBER(DJ840),3-DJ840,-0.000001)","v":-9.9999999999999995E-7},{"$f":"IF(ISNUMBER(DK840),3-DK840,-0.000001)","v":-9.9999999999999995E-7},{"$f":"IF(ISNUMBER(DL840),3-DL840,-0.000001)","v":-9.9999999999999995E-7},{"$f":"IF(ISNUMBER(DM840),3-DM840,-0.000001)","v":-9.9999999999999995E-7},{"$f":"IF(ISNUMBER(DN840),3-DN840,-0.000001)","v":-9.9999999999999995E-7},{"$f":"IF(ISERROR(VLOOKUP(F840,ages!B$1:B$23,1,1)),\"\",VLOOKUP(F840,ages!B$1:B$23,1,1))","v":""},{"$f":"IF(ISERROR(VLOOKUP(F840,ages!B$1:D$23,3,1)),\"\",VLOOKUP(F840,ages!B$1:D$23,3,1))","v":""},0,0,0,0,0]
[null,null,null,null,null,"",null,null,null,null,null,null,"","","","","","","","","","",{"$f":"IF(ISNUMBER(F846),IF(AL846<0.85,\"\",VLOOKUP(M846,A!A$2:X$23,VLOOKUP(F846,ages!B$1:C$23,2,1),1)),\"\")","v":""},{"$f":"IF(ISNUMBER(F846),IF(AM846<0.85,\"\",VLOOKUP(N846,B!A$2:X$23,VLOOKUP(F846,ages!B$1:C$23,2,1),1)),\"\")","v":""},{"$f":"IF(ISNUMBER(F846),IF(AN846<0.85,\"\",VLOOKUP(O846,'C'!A$2:X$23,VLOOKUP(F846,ages!B$1:C$23,2,1),1)),\"\")","v":""},{"$f":"IF(ISNUMBER(F846),IF(AO846<0.85,\"\",VLOOKUP(P846,D!A$2:X$23,VLOOKUP(F846,ages!B$1:C$23,2,1),1)),\"\")","v":""},{"$f":"IF(ISNUMBER(F846),IF(AP846<0.85,\"\",VLOOKUP(Q846,E!A$2:X$23,VLOOKUP(F846,ages!B$1:C$23,2,1),1)),\"\")","v":""},{"$f":"IF(ISNUMBER(F846),IF(AQ846<0.85,\"\",VLOOKUP(R846,F!A$2:X$23,VLOOKUP(F846,ages!B$1:C$23,2,1),1)),\"\")","v":""},{"$f":"IF(ISNUMBER(F846),IF(AR846<0.85,\"\",VLOOKUP(S846,G!A$2:X$23,VLOOKUP(F846,ages!B$1:C$23,2,1),1)),\"\")","v":""},{"$f":"IF(ISNUMBER(F846),IF(AS846<0.85,\"\",VLOOKUP(T846,H!A$2:X$23,VLOOKUP(F846,ages!B$1:C$23,2,1),1)),\"\")","v":""},{"$f":"IF(ISNUMBER(F846),IF(AT846<0.85,\"\",VLOOKUP(U846,I!A$2:X$23,VLOOKUP(F846,ages!B$1:C$23,2,1),1)),\"\")","v":""},{"$f":"IF(ISNUMBER(F846),IF(AU846<0.85,\"\",VLOOKUP(V846,J!A$2:X$23,VLOOKUP(F846,ages!B$1:C$23,2,1),1)),\"\")","v":""},"","","","",-1.0000000000000002E-6,0,0,0,0,0,0,0,0,0,0,0,null,null,null,null,null,null,null,null,null,null,null,null,null,null,null,null,null,null,null,null,null,null,null,null,null,null,null,null,null,null,null,null,null,null,null,null,null,null,null,null,null,null,null,null,null,null,null,null,null,null,null,null,null,null,null,null,null,null,null,null,null,null,null,null,null,null,null,null,null,null,-9.9999999999999995E-7,-9.9999999999999995E-7,-9.9999999999999995E-7,-9.9999999999999995E-7,-9.9999999999999995E-7,-9.9999999999999995E-7,-9.9999999999999995E-7,-9.9999999999999995E-7,-9.9999999999999995E-7,-9.9999999999999995E-7,-9.9999999999999995E-7,-9.9999999999999995E-7,-9.9999999999999995E-7,-9.9999999999999995E-7,-9.9999999999999995E-7,-9.9999999999999995E-7,-9.9999999999999995E-7,-9.9999999999999995E-7,-9.9999999999999995E-7,-9.9999999999999995E-7,{"$f":"IF(ISERROR(VLOOKUP(F846,ages!B$1:B$23,1,1)),\"\",VLOOKUP(F846,ages!B$1:B$23,1,1))","v":""},{"$f":"IF(ISERROR(VLOOKUP(F846,ages!B$1:D$23,3,1)),\"\",VLOOKUP(F846,ages!B$1:D$23,3,1))","v":""},0,0,0,0,0]
[null,null,null,null,null,"",null,null,null,null,null,null,"","","","","","","","","","",{"$f":"IF(ISNUMBER(F851),IF(AL851<0.85,\"\",VLOOKUP(M851,A!A$2:X$23,VLOOKUP(F851,ages!B$1:C$23,2,1),1)),\"\")","v":""},{"$f":"IF(ISNUMBER(F851),IF(AM851<0.85,\"\",VLOOKUP(N851,B!A$2:X$23,VLOOKUP(F851,ages!B$1:C$23,2,1),1)),\"\")","v":""},{"$f":"IF(ISNUMBER(F851),IF(AN851<0.85,\"\",VLOOKUP(O851,'C'!A$2:X$23,VLOOKUP(F851,ages!B$1:C$23,2,1),1)),\"\")","v":""},{"$f":"IF(ISNUMBER(F851),IF(AO851<0.85,\"\",VLOOKUP(P851,D!A$2:X$23,VLOOKUP(F851,ages!B$1:C$23,2,1),1)),\"\")","v":""},{"$f":"IF(ISNUMBER(F851),IF(AP851<0.85,\"\",VLOOKUP(Q851,E!A$2:X$23,VLOOKUP(F851,ages!B$1:C$23,2,1),1)),\"\")","v":""},{"$f":"IF(ISNUMBER(F851),IF(AQ851<0.85,\"\",VLOOKUP(R851,F!A$2:X$23,VLOOKUP(F851,ages!B$1:C$23,2,1),1)),\"\")","v":""},{"$f":"IF(ISNUMBER(F851),IF(AR851<0.85,\"\",VLOOKUP(S851,G!A$2:X$23,VLOOKUP(F851,ages!B$1:C$23,2,1),1)),\"\")","v":""},{"$f":"IF(ISNUMBER(F851),IF(AS851<0.85,\"\",VLOOKUP(T851,H!A$2:X$23,VLOOKUP(F851,ages!B$1:C$23,2,1),1)),\"\")","v":""},{"$f":"IF(ISNUMBER(F851),IF(AT851<0.85,\"\",VLOOKUP(U851,I!A$2:X$23,VLOOKUP(F851,ages!B$1:C$23,2,1),1)),\"\")","v":""},{"$f":"IF(ISNUMBER(F851),IF(AU851<0.85,\"\",VLOOKUP(V851,J!A$2:X$23,VLOOKUP(F851,ages!B$1:C$23,2,1),1)),\"\")","v":""},"","","","",-1.0000000000000002E-6,0,0,0,0,0,0,0,0,0,0,0,null,null,null,null,null,null,null,null,null,null,null,null,null,null,null,null,null,null,null,null,null,null,null,null,null,null,null,null,null,null,null,null,null,null,null,null,null,null,null,null,null,null,null,null,null,null,null,null,null,null,null,null,null,null,null,null,null,null,null,null,null,null,null,null,null,null,null,null,null,null,-9.9999999999999995E-7,-9.9999999999999995E-7,-9.9999999999999995E-7,-9.9999999999999995E-7,-9.9999999999999995E-7,-9.9999999999999995E-7,-9.9999999999999995E-7,-9.9999999999999995E-7,-9.9999999999999995E-7,-9.9999999999999995E-7,-9.9999999999999995E-7,-9.9999999999999995E-7,-9.9999999999999995E-7,-9.9999999999999995E-7,-9.9999999999999995E-7,-9.9999999999999995E-7,-9.9999999999999995E-7,-9.9999999999999995E-7,-9.9999999999999995E-7,-9.9999999999999995E-7,{"$f":"IF(ISERROR(VLOOKUP(F851,ages!B$1:B$23,1,1)),\"\",VLOOKUP(F851,ages!B$1:B$23,1,1))","v":""},{"$f":"IF(ISERROR(VLOOKUP(F851,ages!B$1:D$23,3,1)),\"\",VLOOKUP(F851,ages!B$1:D$23,3,1))","v":""},0,0,0,0,0]
[null,null,null,null,null,"",null,null,null,null,null,null,"","","","","","","","","","",{"$f":"IF(ISNUMBER(F857),IF(AL857<0.85,\"\",VLOOKUP(M857,A!A$2:X$23,VLOOKUP(F857,ages!B$1:C$23,2,1),1)),\"\")","v":""},{"$f":"IF(ISNUMBER(F857),IF(AM857<0.85,\"\",VLOOKUP(N857,B!A$2:X$23,VLOOKUP(F857,ages!B$1:C$23,2,1),1)),\"\")","v":""},{"$f":"IF(ISNUMBER(F857),IF(AN857<0.85,\"\",VLOOKUP(O857,'C'!A$2:X$23,VLOOKUP(F857,ages!B$1:C$23,2,1),1)),\"\")","v":""},{"$f":"IF(ISNUMBER(F857),IF(AO857<0.85,\"\",VLOOKUP(P857,D!A$2:X$23,VLOOKUP(F857,ages!B$1:C$23,2,1),1)),\"\")","v":""},{"$f":"IF(ISNUMBER(F857),IF(AP857<0.85,\"\",VLOOKUP(Q857,E!A$2:X$23,VLOOKUP(F857,ages!B$1:C$23,2,1),1)),\"\")","v":""},{"$f":"IF(ISNUMBER(F857),IF(AQ857<0.85,\"\",VLOOKUP(R857,F!A$2:X$23,VLOOKUP(F857,ages!B$1:C$23,2,1),1)),\"\")","v":""},{"$f":"IF(ISNUMBER(F857),IF(AR857<0.85,\"\",VLOOKUP(S857,G!A$2:X$23,VLOOKUP(F857,ages!B$1:C$23,2,1),1)),\"\")","v":""},{"$f":"IF(ISNUMBER(F857),IF(AS857<0.85,\"\",VLOOKUP(T857,H!A$2:X$23,VLOOKUP(F857,ages!B$1:C$23,2,1),1)),\"\")","v":""},{"$f":"IF(ISNUMBER(F857),IF(AT857<0.85,\"\",VLOOKUP(U857,I!A$2:X$23,VLOOKUP(F857,ages!B$1:C$23,2,1),1)),\"\")","v":""},{"$f":"IF(ISNUMBER(F857),IF(AU857<0.85,\"\",VLOOKUP(V857,J!A$2:X$23,VLOOKUP(F857,ages!B$1:C$23,2,1),1)),\"\")","v":""},"","","","",-1.0000000000000002E-6,0,0,0,0,0,0,0,0,0,0,0,null,null,null,null,null,null,null,null,null,null,null,null,null,null,null,null,null,null,null,null,null,null,null,null,null,null,null,null,null,null,null,null,null,null,null,null,null,null,null,null,null,null,null,null,null,null,null,null,null,null,null,null,null,null,null,null,null,null,null,null,null,null,null,null,null,null,null,null,null,null,-9.9999999999999995E-7,-9.9999999999999995E-7,-9.9999999999999995E-7,-9.9999999999999995E-7,-9.9999999999999995E-7,-9.9999999999999995E-7,-9.9999999999999995E-7,-9.9999999999999995E-7,-9.9999999999999995E-7,-9.9999999999999995E-7,-9.9999999999999995E-7,-9.9999999999999995E-7,-9.9999999999999995E-7,-9.9999999999999995E-7,-9.9999999999999995E-7,-9.9999999999999995E-7,-9.9999999999999995E-7,-9.9999999999999995E-7,-9.9999999999999995E-7,-9.9999999999999995E-7,{"$f":"IF(ISERROR(VLOOKUP(F857,ages!B$1:B$23,1,1)),\"\",VLOOKUP(F857,ages!B$1:B$23,1,1))","v":""},{"$f":"IF(ISERROR(VLOOKUP(F857,ages!B$1:D$23,3,1)),\"\",VLOOKUP(F857,ages!B$1:D$23,3,1))","v":""},0,0,0,0,0]
[null,null,null,null,null,"",null,null,null,null,null,null,"","","","","","","","","","",{"$f":"IF(ISNUMBER(F858),IF(AL858<0.85,\"\",VLOOKUP(M858,A!A$2:X$23,VLOOKUP(F858,ages!B$1:C$23,2,1),1)),\"\")","v":""},{"$f":"IF(ISNUMBER(F858),IF(AM858<0.85,\"\",VLOOKUP(N858,B!A$2:X$23,VLOOKUP(F858,ages!B$1:C$23,2,1),1)),\"\")","v":""},{"$f":"IF(ISNUMBER(F858),IF(AN858<0.85,\"\",VLOOKUP(O858,'C'!A$2:X$23,VLOOKUP(F858,ages!B$1:C$23,2,1),1)),\"\")","v":""},{"$f":"IF(ISNUMBER(F858),IF(AO858<0.85,\"\",VLOOKUP(P858,D!A$2:X$23,VLOOKUP(F858,ages!B$1:C$23,2,1),1)),\"\")","v":""},{"$f":"IF(ISNUMBER(F858),IF(AP858<0.85,\"\",VLOOKUP(Q858,E!A$2:X$23,VLOOKUP(F858,ages!B$1:C$23,2,1),1)),\"\")","v":""},{"$f":"IF(ISNUMBER(F858),IF(AQ858<0.85,\"\",VLOOKUP(R858,F!A$2:X$23,VLOOKUP(F858,ages!B$1:C$23,2,1),1)),\"\")","v":""},{"$f":"IF(ISNUMBER(F858),IF(AR858<0.85,\"\",VLOOKUP(S858,G!A$2:X$23,VLOOKUP(F858,ages!B$1:C$23,2,1),1)),\"\")","v":""},{"$f":"IF(ISNUMBER(F858),IF(AS858<0.85,\"\",VLOOKUP(T858,H!A$2:X$23,VLOOKUP(F858,ages!B$1:C$23,2,1),1)),\"\")","v":""},{"$f":"IF(ISNUMBER(F858),IF(AT858<0.85,\"\",VLOOKUP(U858,I!A$2:X$23,VLOOKUP(F858,ages!B$1:C$23,2,1),1)),\"\")","v":""},{"$f":"IF(ISNUMBER(F858),IF(AU858<0.85,\"\",VLOOKUP(V858,J!A$2:X$23,VLOOKUP(F858,ages!B$1:C$23,2,1),1)),\"\")","v":""},"","","","",-1.0000000000000002E-6,0,0,0,0,0,0,0,0,0,0,0,null,null,null,null,null,null,null,null,null,null,null,null,null,null,null,null,null,null,null,null,null,null,null,null,null,null,null,null,null,null,null,null,null,null,null,null,null,null,null,null,null,null,null,null,null,null,null,null,null,null,null,null,null,null,null,null,null,null,null,null,null,null,null,null,null,null,null,null,null,null,-9.9999999999999995E-7,-9.9999999999999995E-7,-9.9999999999999995E-7,-9.9999999999999995E-7,-9.9999999999999995E-7,-9.9999999999999995E-7,-9.9999999999999995E-7,-9.9999999999999995E-7,-9.9999999999999995E-7,-9.9999999999999995E-7,-9.9999999999999995E-7,-9.9999999999999995E-7,-9.9999999999999995E-7,-9.9999999999999995E-7,-9.9999999999999995E-7,-9.9999999999999995E-7,-9.9999999999999995E-7,-9.9999999999999995E-7,-9.9999999999999995E-7,-9.9999999999999995E-7,{"$f":"IF(ISERROR(VLOOKUP(F858,ages!B$1:B$23,1,1)),\"\",VLOOKUP(F858,ages!B$1:B$23,1,1))","v":""},{"$f":"IF(ISERROR(VLOOKUP(F858,ages!B$1:D$23,3,1)),\"\",VLOOKUP(F858,ages!B$1:D$23,3,1))","v":""},0,0,0,0,0]
[null,null,null,null,null,"",null,null,null,null,null,null,"","","","","","","","","","",{"$f":"IF(ISNUMBER(F866),IF(AL866<0.85,\"\",VLOOKUP(M866,A!A$2:X$23,VLOOKUP(F866,ages!B$1:C$23,2,1),1)),\"\")","v":""},{"$f":"IF(ISNUMBER(F866),IF(AM866<0.85,\"\",VLOOKUP(N866,B!A$2:X$23,VLOOKUP(F866,ages!B$1:C$23,2,1),1)),\"\")","v":""},{"$f":"IF(ISNUMBER(F866),IF(AN866<0.85,\"\",VLOOKUP(O866,'C'!A$2:X$23,VLOOKUP(F866,ages!B$1:C$23,2,1),1)),\"\")","v":""},{"$f":"IF(ISNUMBER(F866),IF(AO866<0.85,\"\",VLOOKUP(P866,D!A$2:X$23,VLOOKUP(F866,ages!B$1:C$23,2,1),1)),\"\")","v":""},{"$f":"IF(ISNUMBER(F866),IF(AP866<0.85,\"\",VLOOKUP(Q866,E!A$2:X$23,VLOOKUP(F866,ages!B$1:C$23,2,1),1)),\"\")","v":""},{"$f":"IF(ISNUMBER(F866),IF(AQ866<0.85,\"\",VLOOKUP(R866,F!A$2:X$23,VLOOKUP(F866,ages!B$1:C$23,2,1),1)),\"\")","v":""},{"$f":"IF(ISNUMBER(F866),IF(AR866<0.85,\"\",VLOOKUP(S866,G!A$2:X$23,VLOOKUP(F866,ages!B$1:C$23,2,1),1)),\"\")","v":""},{"$f":"IF(ISNUMBER(F866),IF(AS866<0.85,\"\",VLOOKUP(T866,H!A$2:X$23,VLOOKUP(F866,ages!B$1:C$23,2,1),1)),\"\")","v":""},{"$f":"IF(ISNUMBER(F866),IF(AT866<0.85,\"\",VLOOKUP(U866,I!A$2:X$23,VLOOKUP(F866,ages!B$1:C$23,2,1),1)),\"\")","v":""},{"$f":"IF(ISNUMBER(F866),IF(AU866<0.85,\"\",VLOOKUP(V866,J!A$2:X$23,VLOOKUP(F866,ages!B$1:C$23,2,1),1)),\"\")","v":""},"","","","",-1.0000000000000002E-6,0,0,0,0,0,0,0,0,0,0,0,null,null,null,null,null,null,null,null,null,null,null,null,null,null,null,null,null,null,null,null,null,null,null,null,null,null,null,null,null,null,null,null,null,null,null,null,null,null,null,null,null,null,null,null,null,null,null,null,null,null,null,null,null,null,null,null,null,null,null,null,null,null,null,null,null,null,null,null,null,null,-9.9999999999999995E-7,-9.9999999999999995E-7,-9.9999999999999995E-7,-9.9999999999999995E-7,-9.9999999999999995E-7,-9.9999999999999995E-7,-9.9999999999999995E-7,-9.9999999999999995E-7,-9.9999999999999995E-7,-9.9999999999999995E-7,-9.9999999999999995E-7,-9.9999999999999995E-7,-9.9999999999999995E-7,-9.9999999999999995E-7,-9.9999999999999995E-7,-9.9999999999999995E-7,-9.9999999999999995E-7,-9.9999999999999995E-7,-9.9999999999999995E-7,-9.9999999999999995E-7,{"$f":"IF(ISERROR(VLOOKUP(F866,ages!B$1:B$23,1,1)),\"\",VLOOKUP(F866,ages!B$1:B$23,1,1))","v":""},{"$f":"IF(ISERROR(VLOOKUP(F866,ages!B$1:D$23,3,1)),\"\",VLOOKUP(F866,ages!B$1:D$23,3,1))","v":""},0,0,0,0,0]
[null,null,null,null,null,"",null,null,null,null,null,null,"","","","","","","","","","",{"$f":"IF(ISNUMBER(F867),IF(AL867<0.85,\"\",VLOOKUP(M867,A!A$2:X$23,VLOOKUP(F867,ages!B$1:C$23,2,1),1)),\"\")","v":""},{"$f":"IF(ISNUMBER(F867),IF(AM867<0.85,\"\",VLOOKUP(N867,B!A$2:X$23,VLOOKUP(F867,ages!B$1:C$23,2,1),1)),\"\")","v":""},{"$f":"IF(ISNUMBER(F867),IF(AN867<0.85,\"\",VLOOKUP(O867,'C'!A$2:X$23,VLOOKUP(F867,ages!B$1:C$23,2,1),1)),\"\")","v":""},{"$f":"IF(ISNUMBER(F867),IF(AO867<0.85,\"\",VLOOKUP(P867,D!A$2:X$23,VLOOKUP(F867,ages!B$1:C$23,2,1),1)),\"\")","v":""},{"$f":"IF(ISNUMBER(F867),IF(AP867<0.85,\"\",VLOOKUP(Q867,E!A$2:X$23,VLOOKUP(F867,ages!B$1:C$23,2,1),1)),\"\")","v":""},{"$f":"IF(ISNUMBER(F867),IF(AQ867<0.85,\"\",VLOOKUP(R867,F!A$2:X$23,VLOOKUP(F867,ages!B$1:C$23,2,1),1)),\"\")","v":""},{"$f":"IF(ISNUMBER(F867),IF(AR867<0.85,\"\",VLOOKUP(S867,G!A$2:X$23,VLOOKUP(F867,ages!B$1:C$23,2,1),1)),\"\")","v":""},{"$f":"IF(ISNUMBER(F867),IF(AS867<0.85,\"\",VLOOKUP(T867,H!A$2:X$23,VLOOKUP(F867,ages!B$1:C$23,2,1),1)),\"\")","v":""},{"$f":"IF(ISNUMBER(F867),IF(AT867<0.85,\"\",VLOOKUP(U867,I!A$2:X$23,VLOOKUP(F867,ages!B$1:C$23,2,1),1)),\"\")","v":""},{"$f":"IF(ISNUMBER(F867),IF(AU867<0.85,\"\",VLOOKUP(V867,J!A$2:X$23,VLOOKUP(F867,ages!B$1:C$23,2,1),1)),\"\")","v":""},"","","","",-1.0000000000000002E-6,0,0,0,0,0,0,0,0,0,0,0,null,null,null,null,null,null,null,null,null,null,null,null,null,null,null,null,null,null,null,null,null,null,null,null,null,null,null,null,null,null,null,null,null,null,null,null,null,null,null,null,null,null,null,null,null,null,null,null,null,null,null,null,null,null,null,null,null,null,null,null,null,null,null,null,null,null,null,null,null,null,-9.9999999999999995E-7,-9.9999999999999995E-7,-9.9999999999999995E-7,-9.9999999999999995E-7,-9.9999999999999995E-7,-9.9999999999999995E-7,-9.9999999999999995E-7,-9.9999999999999995E-7,-9.9999999999999995E-7,-9.9999999999999995E-7,-9.9999999999999995E-7,-9.9999999999999995E-7,-9.9999999999999995E-7,-9.9999999999999995E-7,-9.9999999999999995E-7,-9.9999999999999995E-7,-9.9999999999999995E-7,-9.9999999999999995E-7,-9.9999999999999995E-7,-9.9999999999999995E-7,{"$f":"IF(ISERROR(VLOOKUP(F867,ages!B$1:B$23,1,1)),\"\",VLOOKUP(F867,ages!B$1:B$23,1,1))","v":""},{"$f":"IF(ISERROR(VLOOKUP(F867,ages!B$1:D$23,3,1)),\"\",VLOOKUP(F867,ages!B$1:D$23,3,1))","v":""},0,0,0,0,0]
[null,null,null,null,null,"",null,null,null,null,null,null,"","","","","","","","","","",{"$f":"IF(ISNUMBER(F872),IF(AL872<0.85,\"\",VLOOKUP(M872,A!A$2:X$23,VLOOKUP(F872,ages!B$1:C$23,2,1),1)),\"\")","v":""},{"$f":"IF(ISNUMBER(F872),IF(AM872<0.85,\"\",VLOOKUP(N872,B!A$2:X$23,VLOOKUP(F872,ages!B$1:C$23,2,1),1)),\"\")","v":""},{"$f":"IF(ISNUMBER(F872),IF(AN872<0.85,\"\",VLOOKUP(O872,'C'!A$2:X$23,VLOOKUP(F872,ages!B$1:C$23,2,1),1)),\"\")","v":""},{"$f":"IF(ISNUMBER(F872),IF(AO872<0.85,\"\",VLOOKUP(P872,D!A$2:X$23,VLOOKUP(F872,ages!B$1:C$23,2,1),1)),\"\")","v":""},{"$f":"IF(ISNUMBER(F872),IF(AP872<0.85,\"\",VLOOKUP(Q872,E!A$2:X$23,VLOOKUP(F872,ages!B$1:C$23,2,1),1)),\"\")","v":""},{"$f":"IF(ISNUMBER(F872),IF(AQ872<0.85,\"\",VLOOKUP(R872,F!A$2:X$23,VLOOKUP(F872,ages!B$1:C$23,2,1),1)),\"\")","v":""},{"$f":"IF(ISNUMBER(F872),IF(AR872<0.85,\"\",VLOOKUP(S872,G!A$2:X$23,VLOOKUP(F872,ages!B$1:C$23,2,1),1)),\"\")","v":""},{"$f":"IF(ISNUMBER(F872),IF(AS872<0.85,\"\",VLOOKUP(T872,H!A$2:X$23,VLOOKUP(F872,ages!B$1:C$23,2,1),1)),\"\")","v":""},{"$f":"IF(ISNUMBER(F872),IF(AT872<0.85,\"\",VLOOKUP(U872,I!A$2:X$23,VLOOKUP(F872,ages!B$1:C$23,2,1),1)),\"\")","v":""},{"$f":"IF(ISNUMBER(F872),IF(AU872<0.85,\"\",VLOOKUP(V872,J!A$2:X$23,VLOOKUP(F872,ages!B$1:C$23,2,1),1)),\"\")","v":""},"","","","",-1.0000000000000002E-6,0,0,0,0,0,0,0,0,0,0,0,null,null,null,null,null,null,null,null,null,null,null,null,null,null,null,null,null,null,null,null,null,null,null,null,null,null,null,null,null,null,null,null,null,null,null,null,null,null,null,null,null,null,null,null,null,null,null,null,null,null,null,null,null,null,null,null,null,null,null,null,null,null,null,null,null,null,null,null,null,null,-9.9999999999999995E-7,-9.9999999999999995E-7,-9.9999999999999995E-7,-9.9999999999999995E-7,-9.9999999999999995E-7,-9.9999999999999995E-7,-9.9999999999999995E-7,-9.9999999999999995E-7,-9.9999999999999995E-7,-9.9999999999999995E-7,-9.9999999999999995E-7,-9.9999999999999995E-7,-9.9999999999999995E-7,-9.9999999999999995E-7,-9.9999999999999995E-7,-9.9999999999999995E-7,-9.9999999999999995E-7,-9.9999999999999995E-7,-9.9999999999999995E-7,-9.9999999999999995E-7,{"$f":"IF(ISERROR(VLOOKUP(F872,ages!B$1:B$23,1,1)),\"\",VLOOKUP(F872,ages!B$1:B$23,1,1))","v":""},{"$f":"IF(ISERROR(VLOOKUP(F872,ages!B$1:D$23,3,1)),\"\",VLOOKUP(F872,ages!B$1:D$23,3,1))","v":""},0,0,0,0,0]
[null,null,null,null,null,"",null,null,null,null,null,null,"","","","","","","","","","",{"$f":"IF(ISNUMBER(F877),IF(AL877<0.85,\"\",VLOOKUP(M877,A!A$2:X$23,VLOOKUP(F877,ages!B$1:C$23,2,1),1)),\"\")","v":""},{"$f":"IF(ISNUMBER(F877),IF(AM877<0.85,\"\",VLOOKUP(N877,B!A$2:X$23,VLOOKUP(F877,ages!B$1:C$23,2,1),1)),\"\")","v":""},{"$f":"IF(ISNUMBER(F877),IF(AN877<0.85,\"\",VLOOKUP(O877,'C'!A$2:X$23,VLOOKUP(F877,ages!B$1:C$23,2,1),1)),\"\")","v":""},{"$f":"IF(ISNUMBER(F877),IF(AO877<0.85,\"\",VLOOKUP(P877,D!A$2:X$23,VLOOKUP(F877,ages!B$1:C$23,2,1),1)),\"\")","v":""},{"$f":"IF(ISNUMBER(F877),IF(AP877<0.85,\"\",VLOOKUP(Q877,E!A$2:X$23,VLOOKUP(F877,ages!B$1:C$23,2,1),1)),\"\")","v":""},{"$f":"IF(ISNUMBER(F877),IF(AQ877<0.85,\"\",VLOOKUP(R877,F!A$2:X$23,VLOOKUP(F877,ages!B$1:C$23,2,1),1)),\"\")","v":""},{"$f":"IF(ISNUMBER(F877),IF(AR877<0.85,\"\",VLOOKUP(S877,G!A$2:X$23,VLOOKUP(F877,ages!B$1:C$23,2,1),1)),\"\")","v":""},{"$f":"IF(ISNUMBER(F877),IF(AS877<0.85,\"\",VLOOKUP(T877,H!A$2:X$23,VLOOKUP(F877,ages!B$1:C$23,2,1),1)),\"\")","v":""},{"$f":"IF(ISNUMBER(F877),IF(AT877<0.85,\"\",VLOOKUP(U877,I!A$2:X$23,VLOOKUP(F877,ages!B$1:C$23,2,1),1)),\"\")","v":""},{"$f":"IF(ISNUMBER(F877),IF(AU877<0.85,\"\",VLOOKUP(V877,J!A$2:X$23,VLOOKUP(F877,ages!B$1:C$23,2,1),1)),\"\")","v":""},"","","","",-1.0000000000000002E-6,0,0,0,0,0,0,0,0,0,0,0,null,null,null,null,null,null,null,null,null,null,null,null,null,null,null,null,null,null,null,null,null,null,null,null,null,null,null,null,null,null,null,null,null,null,null,null,null,null,null,null,null,null,null,null,null,null,null,null,null,null,null,null,null,null,null,null,null,null,null,null,null,null,null,null,null,null,null,null,null,null,-9.9999999999999995E-7,-9.9999999999999995E-7,-9.9999999999999995E-7,-9.9999999999999995E-7,-9.9999999999999995E-7,-9.9999999999999995E-7,-9.9999999999999995E-7,-9.9999999999999995E-7,-9.9999999999999995E-7,-9.9999999999999995E-7,-9.9999999999999995E-7,-9.9999999999999995E-7,-9.9999999999999995E-7,-9.9999999999999995E-7,-9.9999999999999995E-7,-9.9999999999999995E-7,-9.9999999999999995E-7,-9.9999999999999995E-7,-9.9999999999999995E-7,-9.9999999999999995E-7,{"$f":"IF(ISERROR(VLOOKUP(F877,ages!B$1:B$23,1,1)),\"\",VLOOKUP(F877,ages!B$1:B$23,1,1))","v":""},{"$f":"IF(ISERROR(VLOOKUP(F877,ages!B$1:D$23,3,1)),\"\",VLOOKUP(F877,ages!B$1:D$23,3,1))","v":""},0,0,0,0,0]
[null,null,null,null,null,"",null,null,null,null,null,null,"","","","","","","","","","",{"$f":"IF(ISNUMBER(F882),IF(AL882<0.85,\"\",VLOOKUP(M882,A!A$2:X$23,VLOOKUP(F882,ages!B$1:C$23,2,1),1)),\"\")","v":""},{"$f":"IF(ISNUMBER(F882),IF(AM882<0.85,\"\",VLOOKUP(N882,B!A$2:X$23,VLOOKUP(F882,ages!B$1:C$23,2,1),1)),\"\")","v":""},{"$f":"IF(ISNUMBER(F882),IF(AN882<0.85,\"\",VLOOKUP(O882,'C'!A$2:X$23,VLOOKUP(F882,ages!B$1:C$23,2,1),1)),\"\")","v":""},{"$f":"IF(ISNUMBER(F882),IF(AO882<0.85,\"\",VLOOKUP(P882,D!A$2:X$23,VLOOKUP(F882,ages!B$1:C$23,2,1),1)),\"\")","v":""},{"$f":"IF(ISNUMBER(F882),IF(AP882<0.85,\"\",VLOOKUP(Q882,E!A$2:X$23,VLOOKUP(F882,ages!B$1:C$23,2,1),1)),\"\")","v":""},{"$f":"IF(ISNUMBER(F882),IF(AQ882<0.85,\"\",VLOOKUP(R882,F!A$2:X$23,VLOOKUP(F882,ages!B$1:C$23,2,1),1)),\"\")","v":""},{"$f":"IF(ISNUMBER(F882),IF(AR882<0.85,\"\",VLOOKUP(S882,G!A$2:X$23,VLOOKUP(F882,ages!B$1:C$23,2,1),1)),\"\")","v":""},{"$f":"IF(ISNUMBER(F882),IF(AS882<0.85,\"\",VLOOKUP(T882,H!A$2:X$23,VLOOKUP(F882,ages!B$1:C$23,2,1),1)),\"\")","v":""},{"$f":"IF(ISNUMBER(F882),IF(AT882<0.85,\"\",VLOOKUP(U882,I!A$2:X$23,VLOOKUP(F882,ages!B$1:C$23,2,1),1)),\"\")","v":""},{"$f":"IF(ISNUMBER(F882),IF(AU882<0.85,\"\",VLOOKUP(V882,J!A$2:X$23,VLOOKUP(F882,ages!B$1:C$23,2,1),1)),\"\")","v":""},"","","","",-1.0000000000000002E-6,0,0,0,0,0,0,0,0,0,0,0,null,null,null,null,null,null,null,null,null,null,null,null,null,null,null,null,null,null,null,null,null,null,null,null,null,null,null,null,null,null,null,null,null,null,null,null,null,null,null,null,null,null,null,null,null,null,null,null,null,null,null,null,null,null,null,null,null,null,null,null,null,null,null,null,null,null,null,null,null,null,-9.9999999999999995E-7,-9.9999999999999995E-7,-9.9999999999999995E-7,-9.9999999999999995E-7,-9.9999999999999995E-7,-9.9999999999999995E-7,-9.9999999999999995E-7,-9.9999999999999995E-7,-9.9999999999999995E-7,-9.9999999999999995E-7,-9.9999999999999995E-7,-9.9999999999999995E-7,-9.9999999999999995E-7,-9.9999999999999995E-7,-9.9999999999999995E-7,-9.9999999999999995E-7,-9.9999999999999995E-7,-9.9999999999999995E-7,-9.9999999999999995E-7,-9.9999999999999995E-7,{"$f":"IF(ISERROR(VLOOKUP(F882,ages!B$1:B$23,1,1)),\"\",VLOOKUP(F882,ages!B$1:B$23,1,1))","v":""},{"$f":"IF(ISERROR(VLOOKUP(F882,ages!B$1:D$23,3,1)),\"\",VLOOKUP(F882,ages!B$1:D$23,3,1))","v":""},0,0,0,0,0]
[null,null,null,null,null,"",null,null,null,null,null,null,"","","","","","","","","","",{"$f":"IF(ISNUMBER(F887),IF(AL887<0.85,\"\",VLOOKUP(M887,A!A$2:X$23,VLOOKUP(F887,ages!B$1:C$23,2,1),1)),\"\")","v":""},{"$f":"IF(ISNUMBER(F887),IF(AM887<0.85,\"\",VLOOKUP(N887,B!A$2:X$23,VLOOKUP(F887,ages!B$1:C$23,2,1),1)),\"\")","v":""},{"$f":"IF(ISNUMBER(F887),IF(AN887<0.85,\"\",VLOOKUP(O887,'C'!A$2:X$23,VLOOKUP(F887,ages!B$1:C$23,2,1),1)),\"\")","v":""},{"$f":"IF(ISNUMBER(F887),IF(AO887<0.85,\"\",VLOOKUP(P887,D!A$2:X$23,VLOOKUP(F887,ages!B$1:C$23,2,1),1)),\"\")","v":""},{"$f":"IF(ISNUMBER(F887),IF(AP887<0.85,\"\",VLOOKUP(Q887,E!A$2:X$23,VLOOKUP(F887,ages!B$1:C$23,2,1),1)),\"\")","v":""},{"$f":"IF(ISNUMBER(F887),IF(AQ887<0.85,\"\",VLOOKUP(R887,F!A$2:X$23,VLOOKUP(F887,ages!B$1:C$23,2,1),1)),\"\")","v":""},{"$f":"IF(ISNUMBER(F887),IF(AR887<0.85,\"\",VLOOKUP(S887,G!A$2:X$23,VLOOKUP(F887,ages!B$1:C$23,2,1),1)),\"\")","v":""},{"$f":"IF(ISNUMBER(F887),IF(AS887<0.85,\"\",VLOOKUP(T887,H!A$2:X$23,VLOOKUP(F887,ages!B$1:C$23,2,1),1)),\"\")","v":""},{"$f":"IF(ISNUMBER(F887),IF(AT887<0.85,\"\",VLOOKUP(U887,I!A$2:X$23,VLOOKUP(F887,ages!B$1:C$23,2,1),1)),\"\")","v":""},{"$f":"IF(ISNUMBER(F887),IF(AU887<0.85,\"\",VLOOKUP(V887,J!A$2:X$23,VLOOKUP(F887,ages!B$1:C$23,2,1),1)),\"\")","v":""},"","","","",-1.0000000000000002E-6,0,0,0,0,0,0,0,0,0,0,0,null,null,null,null,null,null,null,null,null,null,null,null,null,null,null,null,null,null,null,null,null,null,null,null,null,null,null,null,null,null,null,null,null,null,null,null,null,null,null,null,null,null,null,null,null,null,null,null,null,null,null,null,null,null,null,null,null,null,null,null,null,null,null,null,null,null,null,null,null,null,-9.9999999999999995E-7,-9.9999999999999995E-7,-9.9999999999999995E-7,-9.9999999999999995E-7,-9.9999999999999995E-7,-9.9999999999999995E-7,-9.9999999999999995E-7,-9.9999999999999995E-7,-9.9999999999999995E-7,-9.9999999999999995E-7,-9.9999999999999995E-7,-9.9999999999999995E-7,-9.9999999999999995E-7,-9.9999999999999995E-7,-9.9999999999999995E-7,-9.9999999999999995E-7,-9.9999999999999995E-7,-9.9999999999999995E-7,-9.9999999999999995E-7,-9.9999999999999995E-7,{"$f":"IF(ISERROR(VLOOKUP(F887,ages!B$1:B$23,1,1)),\"\",VLOOKUP(F887,ages!B$1:B$23,1,1))","v":""},{"$f":"IF(ISERROR(VLOOKUP(F887,ages!B$1:D$23,3,1)),\"\",VLOOKUP(F887,ages!B$1:D$23,3,1))","v":""},0,0,0,0,0]
[null,null,null,null,null,"",null,null,null,null,null,null,"","","","","","","","","","",{"$f":"IF(ISNUMBER(F893),IF(AL893<0.85,\"\",VLOOKUP(M893,A!A$2:X$23,VLOOKUP(F893,ages!B$1:C$23,2,1),1)),\"\")","v":""},{"$f":"IF(ISNUMBER(F893),IF(AM893<0.85,\"\",VLOOKUP(N893,B!A$2:X$23,VLOOKUP(F893,ages!B$1:C$23,2,1),1)),\"\")","v":""},{"$f":"IF(ISNUMBER(F893),IF(AN893<0.85,\"\",VLOOKUP(O893,'C'!A$2:X$23,VLOOKUP(F893,ages!B$1:C$23,2,1),1)),\"\")","v":""},{"$f":"IF(ISNUMBER(F893),IF(AO893<0.85,\"\",VLOOKUP(P893,D!A$2:X$23,VLOOKUP(F893,ages!B$1:C$23,2,1),1)),\"\")","v":""},{"$f":"IF(ISNUMBER(F893),IF(AP893<0.85,\"\",VLOOKUP(Q893,E!A$2:X$23,VLOOKUP(F893,ages!B$1:C$23,2,1),1)),\"\")","v":""},{"$f":"IF(ISNUMBER(F893),IF(AQ893<0.85,\"\",VLOOKUP(R893,F!A$2:X$23,VLOOKUP(F893,ages!B$1:C$23,2,1),1)),\"\")","v":""},{"$f":"IF(ISNUMBER(F893),IF(AR893<0.85,\"\",VLOOKUP(S893,G!A$2:X$23,VLOOKUP(F893,ages!B$1:C$23,2,1),1)),\"\")","v":""},{"$f":"IF(ISNUMBER(F893),IF(AS893<0.85,\"\",VLOOKUP(T893,H!A$2:X$23,VLOOKUP(F893,ages!B$1:C$23,2,1),1)),\"\")","v":""},{"$f":"IF(ISNUMBER(F893),IF(AT893<0.85,\"\",VLOOKUP(U893,I!A$2:X$23,VLOOKUP(F893,ages!B$1:C$23,2,1),1)),\"\")","v":""},{"$f":"IF(ISNUMBER(F893),IF(AU893<0.85,\"\",VLOOKUP(V893,J!A$2:X$23,VLOOKUP(F893,ages!B$1:C$23,2,1),1)),\"\")","v":""},"","","","",-1.0000000000000002E-6,0,0,0,0,0,0,0,0,0,0,0,null,null,null,null,null,null,null,null,null,null,null,null,null,null,null,null,null,null,null,null,null,null,null,null,null,null,null,null,null,null,null,null,null,null,null,null,null,null,null,null,null,null,null,null,null,null,null,null,null,null,null,null,null,null,null,null,null,null,null,null,null,null,null,null,null,null,null,null,null,null,-9.9999999999999995E-7,-9.9999999999999995E-7,-9.9999999999999995E-7,-9.9999999999999995E-7,-9.9999999999999995E-7,-9.9999999999999995E-7,-9.9999999999999995E-7,-9.9999999999999995E-7,-9.9999999999999995E-7,-9.9999999999999995E-7,-9.9999999999999995E-7,-9.9999999999999995E-7,-9.9999999999999995E-7,-9.9999999999999995E-7,-9.9999999999999995E-7,-9.9999999999999995E-7,-9.9999999999999995E-7,-9.9999999999999995E-7,-9.9999999999999995E-7,-9.9999999999999995E-7,{"$f":"IF(ISERROR(VLOOKUP(F893,ages!B$1:B$23,1,1)),\"\",VLOOKUP(F893,ages!B$1:B$23,1,1))","v":""},{"$f":"IF(ISERROR(VLOOKUP(F893,ages!B$1:D$23,3,1)),\"\",VLOOKUP(F893,ages!B$1:D$23,3,1))","v":""},0,0,0,0,0]
[null,null,null,null,null,"",null,null,null,null,null,null,"","","","","","","","","","",{"$f":"IF(ISNUMBER(F898),IF(AL898<0.85,\"\",VLOOKUP(M898,A!A$2:X$23,VLOOKUP(F898,ages!B$1:C$23,2,1),1)),\"\")","v":""},{"$f":"IF(ISNUMBER(F898),IF(AM898<0.85,\"\",VLOOKUP(N898,B!A$2:X$23,VLOOKUP(F898,ages!B$1:C$23,2,1),1)),\"\")","v":""},{"$f":"IF(ISNUMBER(F898),IF(AN898<0.85,\"\",VLOOKUP(O898,'C'!A$2:X$23,VLOOKUP(F898,ages!B$1:C$23,2,1),1)),\"\")","v":""},{"$f":"IF(ISNUMBER(F898),IF(AO898<0.85,\"\",VLOOKUP(P898,D!A$2:X$23,VLOOKUP(F898,ages!B$1:C$23,2,1),1)),\"\")","v":""},{"$f":"IF(ISNUMBER(F898),IF(AP898<0.85,\"\",VLOOKUP(Q898,E!A$2:X$23,VLOOKUP(F898,ages!B$1:C$23,2,1),1)),\"\")","v":""},{"$f":"IF(ISNUMBER(F898),IF(AQ898<0.85,\"\",VLOOKUP(R898,F!A$2:X$23,VLOOKUP(F898,ages!B$1:C$23,2,1),1)),\"\")","v":""},{"$f":"IF(ISNUMBER(F898),IF(AR898<0.85,\"\",VLOOKUP(S898,G!A$2:X$23,VLOOKUP(F898,ages!B$1:C$23,2,1),1)),\"\")","v":""},{"$f":"IF(ISNUMBER(F898),IF(AS898<0.85,\"\",VLOOKUP(T898,H!A$2:X$23,VLOOKUP(F898,ages!B$1:C$23,2,1),1)),\"\")","v":""},{"$f":"IF(ISNUMBER(F898),IF(AT898<0.85,\"\",VLOOKUP(U898,I!A$2:X$23,VLOOKUP(F898,ages!B$1:C$23,2,1),1)),\"\")","v":""},{"$f":"IF(ISNUMBER(F898),IF(AU898<0.85,\"\",VLOOKUP(V898,J!A$2:X$23,VLOOKUP(F898,ages!B$1:C$23,2,1),1)),\"\")","v":""},"","","","",-1.0000000000000002E-6,0,0,0,0,0,0,0,0,0,0,0,null,null,null,null,null,null,null,null,null,null,null,null,null,null,null,null,null,null,null,null,null,null,null,null,null,null,null,null,null,null,null,null,null,null,null,null,null,null,null,null,null,null,null,null,null,null,null,null,null,null,null,null,null,null,null,null,null,null,null,null,null,null,null,null,null,null,null,null,null,null,-9.9999999999999995E-7,-9.9999999999999995E-7,-9.9999999999999995E-7,-9.9999999999999995E-7,-9.9999999999999995E-7,-9.9999999999999995E-7,-9.9999999999999995E-7,-9.9999999999999995E-7,-9.9999999999999995E-7,-9.9999999999999995E-7,-9.9999999999999995E-7,-9.9999999999999995E-7,-9.9999999999999995E-7,-9.9999999999999995E-7,-9.9999999999999995E-7,-9.9999999999999995E-7,-9.9999999999999995E-7,-9.9999999999999995E-7,-9.9999999999999995E-7,-9.9999999999999995E-7,{"$f":"IF(ISERROR(VLOOKUP(F898,ages!B$1:B$23,1,1)),\"\",VLOOKUP(F898,ages!B$1:B$23,1,1))","v":""},{"$f":"IF(ISERROR(VLOOKUP(F898,ages!B$1:D$23,3,1)),\"\",VLOOKUP(F898,ages!B$1:D$23,3,1))","v":""},0,0,0,0,0]
[null,null,null,null,null,"",null,null,null,null,null,null,"","","","","","","","","","",{"$f":"IF(ISNUMBER(F902),IF(AL902<0.85,\"\",VLOOKUP(M902,A!A$2:X$23,VLOOKUP(F902,ages!B$1:C$23,2,1),1)),\"\")","v":""},{"$f":"IF(ISNUMBER(F902),IF(AM902<0.85,\"\",VLOOKUP(N902,B!A$2:X$23,VLOOKUP(F902,ages!B$1:C$23,2,1),1)),\"\")","v":""},{"$f":"IF(ISNUMBER(F902),IF(AN902<0.85,\"\",VLOOKUP(O902,'C'!A$2:X$23,VLOOKUP(F902,ages!B$1:C$23,2,1),1)),\"\")","v":""},{"$f":"IF(ISNUMBER(F902),IF(AO902<0.85,\"\",VLOOKUP(P902,D!A$2:X$23,VLOOKUP(F902,ages!B$1:C$23,2,1),1)),\"\")","v":""},{"$f":"IF(ISNUMBER(F902),IF(AP902<0.85,\"\",VLOOKUP(Q902,E!A$2:X$23,VLOOKUP(F902,ages!B$1:C$23,2,1),1)),\"\")","v":""},{"$f":"IF(ISNUMBER(F902),IF(AQ902<0.85,\"\",VLOOKUP(R902,F!A$2:X$23,VLOOKUP(F902,ages!B$1:C$23,2,1),1)),\"\")","v":""},{"$f":"IF(ISNUMBER(F902),IF(AR902<0.85,\"\",VLOOKUP(S902,G!A$2:X$23,VLOOKUP(F902,ages!B$1:C$23,2,1),1)),\"\")","v":""},{"$f":"IF(ISNUMBER(F902),IF(AS902<0.85,\"\",VLOOKUP(T902,H!A$2:X$23,VLOOKUP(F902,ages!B$1:C$23,2,1),1)),\"\")","v":""},{"$f":"IF(ISNUMBER(F902),IF(AT902<0.85,\"\",VLOOKUP(U902,I!A$2:X$23,VLOOKUP(F902,ages!B$1:C$23,2,1),1)),\"\")","v":""},{"$f":"IF(ISNUMBER(F902),IF(AU902<0.85,\"\",VLOOKUP(V902,J!A$2:X$23,VLOOKUP(F902,ages!B$1:C$23,2,1),1)),\"\")","v":""},"","","","",-1.0000000000000002E-6,0,0,0,0,0,0,0,0,0,0,0,null,null,null,null,null,null,null,null,null,null,null,null,null,null,null,null,null,null,null,null,null,null,null,null,null,null,null,null,null,null,null,null,null,null,null,null,null,null,null,null,null,null,null,null,null,null,null,null,null,null,null,null,null,null,null,null,null,null,null,null,null,null,null,null,null,null,null,null,null,null,-9.9999999999999995E-7,-9.9999999999999995E-7,-9.9999999999999995E-7,-9.9999999999999995E-7,-9.9999999999999995E-7,-9.9999999999999995E-7,-9.9999999999999995E-7,-9.9999999999999995E-7,-9.9999999999999995E-7,-9.9999999999999995E-7,-9.9999999999999995E-7,-9.9999999999999995E-7,-9.9999999999999995E-7,-9.9999999999999995E-7,-9.9999999999999995E-7,-9.9999999999999995E-7,-9.9999999999999995E-7,-9.9999999999999995E-7,-9.9999999999999995E-7,-9.9999999999999995E-7,{"$f":"IF(ISERROR(VLOOKUP(F902,ages!B$1:B$23,1,1)),\"\",VLOOKUP(F902,ages!B$1:B$23,1,1))","v":""},{"$f":"IF(ISERROR(VLOOKUP(F902,ages!B$1:D$23,3,1)),\"\",VLOOKUP(F902,ages!B$1:D$23,3,1))","v":""},0,0,0,0,0]
[null,null,null,null,null,"",null,null,null,null,null,null,"","","","","","","","","","",{"$f":"IF(ISNUMBER(F908),IF(AL908<0.85,\"\",VLOOKUP(M908,A!A$2:X$23,VLOOKUP(F908,ages!B$1:C$23,2,1),1)),\"\")","v":""},{"$f":"IF(ISNUMBER(F908),IF(AM908<0.85,\"\",VLOOKUP(N908,B!A$2:X$23,VLOOKUP(F908,ages!B$1:C$23,2,1),1)),\"\")","v":""},{"$f":"IF(ISNUMBER(F908),IF(AN908<0.85,\"\",VLOOKUP(O908,'C'!A$2:X$23,VLOOKUP(F908,ages!B$1:C$23,2,1),1)),\"\")","v":""},{"$f":"IF(ISNUMBER(F908),IF(AO908<0.85,\"\",VLOOKUP(P908,D!A$2:X$23,VLOOKUP(F908,ages!B$1:C$23,2,1),1)),\"\")","v":""},{"$f":"IF(ISNUMBER(F908),IF(AP908<0.85,\"\",VLOOKUP(Q908,E!A$2:X$23,VLOOKUP(F908,ages!B$1:C$23,2,1),1)),\"\")","v":""},{"$f":"IF(ISNUMBER(F908),IF(AQ908<0.85,\"\",VLOOKUP(R908,F!A$2:X$23,VLOOKUP(F908,ages!B$1:C$23,2,1),1)),\"\")","v":""},{"$f":"IF(ISNUMBER(F908),IF(AR908<0.85,\"\",VLOOKUP(S908,G!A$2:X$23,VLOOKUP(F908,ages!B$1:C$23,2,1),1)),\"\")","v":""},{"$f":"IF(ISNUMBER(F908),IF(AS908<0.85,\"\",VLOOKUP(T908,H!A$2:X$23,VLOOKUP(F908,ages!B$1:C$23,2,1),1)),\"\")","v":""},{"$f":"IF(ISNUMBER(F908),IF(AT908<0.85,\"\",VLOOKUP(U908,I!A$2:X$23,VLOOKUP(F908,ages!B$1:C$23,2,1),1)),\"\")","v":""},{"$f":"IF(ISNUMBER(F908),IF(AU908<0.85,\"\",VLOOKUP(V908,J!A$2:X$23,VLOOKUP(F908,ages!B$1:C$23,2,1),1)),\"\")","v":""},"","","","",-1.0000000000000002E-6,0,0,0,0,0,0,0,0,0,0,0,null,null,null,null,null,null,null,null,null,null,null,null,null,null,null,null,null,null,null,null,null,null,null,null,null,null,null,null,null,null,null,null,null,null,null,null,null,null,null,null,null,null,null,null,null,null,null,null,null,null,null,null,null,null,null,null,null,null,null,null,null,null,null,null,null,null,null,null,null,null,-9.9999999999999995E-7,-9.9999999999999995E-7,-9.9999999999999995E-7,-9.9999999999999995E-7,-9.9999999999999995E-7,-9.9999999999999995E-7,-9.9999999999999995E-7,-9.9999999999999995E-7,-9.9999999999999995E-7,-9.9999999999999995E-7,-9.9999999999999995E-7,-9.9999999999999995E-7,-9.9999999999999995E-7,-9.9999999999999995E-7,-9.9999999999999995E-7,-9.9999999999999995E-7,-9.9999999999999995E-7,-9.9999999999999995E-7,-9.9999999999999995E-7,-9.9999999999999995E-7,{"$f":"IF(ISERROR(VLOOKUP(F908,ages!B$1:B$23,1,1)),\"\",VLOOKUP(F908,ages!B$1:B$23,1,1))","v":""},{"$f":"IF(ISERROR(VLOOKUP(F908,ages!B$1:D$23,3,1)),\"\",VLOOKUP(F908,ages!B$1:D$23,3,1))","v":""},0,0,0,0,0]
[null,null,null,null,null,"",null,null,null,null,null,null,"","","","","","","","","","",{"$f":"IF(ISNUMBER(F913),IF(AL913<0.85,\"\",VLOOKUP(M913,A!A$2:X$23,VLOOKUP(F913,ages!B$1:C$23,2,1),1)),\"\")","v":""},{"$f":"IF(ISNUMBER(F913),IF(AM913<0.85,\"\",VLOOKUP(N913,B!A$2:X$23,VLOOKUP(F913,ages!B$1:C$23,2,1),1)),\"\")","v":""},{"$f":"IF(ISNUMBER(F913),IF(AN913<0.85,\"\",VLOOKUP(O913,'C'!A$2:X$23,VLOOKUP(F913,ages!B$1:C$23,2,1),1)),\"\")","v":""},{"$f":"IF(ISNUMBER(F913),IF(AO913<0.85,\"\",VLOOKUP(P913,D!A$2:X$23,VLOOKUP(F913,ages!B$1:C$23,2,1),1)),\"\")","v":""},{"$f":"IF(ISNUMBER(F913),IF(AP913<0.85,\"\",VLOOKUP(Q913,E!A$2:X$23,VLOOKUP(F913,ages!B$1:C$23,2,1),1)),\"\")","v":""},{"$f":"IF(ISNUMBER(F913),IF(AQ913<0.85,\"\",VLOOKUP(R913,F!A$2:X$23,VLOOKUP(F913,ages!B$1:C$23,2,1),1)),\"\")","v":""},{"$f":"IF(ISNUMBER(F913),IF(AR913<0.85,\"\",VLOOKUP(S913,G!A$2:X$23,VLOOKUP(F913,ages!B$1:C$23,2,1),1)),\"\")","v":""},{"$f":"IF(ISNUMBER(F913),IF(AS913<0.85,\"\",VLOOKUP(T913,H!A$2:X$23,VLOOKUP(F913,ages!B$1:C$23,2,1),1)),\"\")","v":""},{"$f":"IF(ISNUMBER(F913),IF(AT913<0.85,\"\",VLOOKUP(U913,I!A$2:X$23,VLOOKUP(F913,ages!B$1:C$23,2,1),1)),\"\")","v":""},{"$f":"IF(ISNUMBER(F913),IF(AU913<0.85,\"\",VLOOKUP(V913,J!A$2:X$23,VLOOKUP(F913,ages!B$1:C$23,2,1),1)),\"\")","v":""},"","","","",-1.0000000000000002E-6,0,0,0,0,0,0,0,0,0,0,0,null,null,null,null,null,null,null,null,null,null,null,null,null,null,null,null,null,null,null,null,null,null,null,null,null,null,null,null,null,null,null,null,null,null,null,null,null,null,null,null,null,null,null,null,null,null,null,null,null,null,null,null,null,null,null,null,null,null,null,null,null,null,null,null,null,null,null,null,null,null,-9.9999999999999995E-7,-9.9999999999999995E-7,-9.9999999999999995E-7,-9.9999999999999995E-7,-9.9999999999999995E-7,-9.9999999999999995E-7,-9.9999999999999995E-7,-9.9999999999999995E-7,-9.9999999999999995E-7,-9.9999999999999995E-7,-9.9999999999999995E-7,-9.9999999999999995E-7,-9.9999999999999995E-7,-9.9999999999999995E-7,-9.9999999999999995E-7,-9.9999999999999995E-7,-9.9999999999999995E-7,-9.9999999999999995E-7,-9.9999999999999995E-7,-9.9999999999999995E-7,{"$f":"IF(ISERROR(VLOOKUP(F913,ages!B$1:B$23,1,1)),\"\",VLOOKUP(F913,ages!B$1:B$23,1,1))","v":""},{"$f":"IF(ISERROR(VLOOKUP(F913,ages!B$1:D$23,3,1)),\"\",VLOOKUP(F913,ages!B$1:D$23,3,1))","v":""},0,0,0,0,0]
[null,null,null,null,null,"",null,null,null,null,null,null,"","","","","","","","","","",{"$f":"IF(ISNUMBER(F919),IF(AL919<0.85,\"\",VLOOKUP(M919,A!A$2:X$23,VLOOKUP(F919,ages!B$1:C$23,2,1),1)),\"\")","v":""},{"$f":"IF(ISNUMBER(F919),IF(AM919<0.85,\"\",VLOOKUP(N919,B!A$2:X$23,VLOOKUP(F919,ages!B$1:C$23,2,1),1)),\"\")","v":""},{"$f":"IF(ISNUMBER(F919),IF(AN919<0.85,\"\",VLOOKUP(O919,'C'!A$2:X$23,VLOOKUP(F919,ages!B$1:C$23,2,1),1)),\"\")","v":""},{"$f":"IF(ISNUMBER(F919),IF(AO919<0.85,\"\",VLOOKUP(P919,D!A$2:X$23,VLOOKUP(F919,ages!B$1:C$23,2,1),1)),\"\")","v":""},{"$f":"IF(ISNUMBER(F919),IF(AP919<0.85,\"\",VLOOKUP(Q919,E!A$2:X$23,VLOOKUP(F919,ages!B$1:C$23,2,1),1)),\"\")","v":""},{"$f":"IF(ISNUMBER(F919),IF(AQ919<0.85,\"\",VLOOKUP(R919,F!A$2:X$23,VLOOKUP(F919,ages!B$1:C$23,2,1),1)),\"\")","v":""},{"$f":"IF(ISNUMBER(F919),IF(AR919<0.85,\"\",VLOOKUP(S919,G!A$2:X$23,VLOOKUP(F919,ages!B$1:C$23,2,1),1)),\"\")","v":""},{"$f":"IF(ISNUMBER(F919),IF(AS919<0.85,\"\",VLOOKUP(T919,H!A$2:X$23,VLOOKUP(F919,ages!B$1:C$23,2,1),1)),\"\")","v":""},{"$f":"IF(ISNUMBER(F919),IF(AT919<0.85,\"\",VLOOKUP(U919,I!A$2:X$23,VLOOKUP(F919,ages!B$1:C$23,2,1),1)),\"\")","v":""},{"$f":"IF(ISNUMBER(F919),IF(AU919<0.85,\"\",VLOOKUP(V919,J!A$2:X$23,VLOOKUP(F919,ages!B$1:C$23,2,1),1)),\"\")","v":""},"","","","",-1.0000000000000002E-6,0,0,0,0,0,0,0,0,0,0,0,null,null,null,null,null,null,null,null,null,null,null,null,null,null,null,null,null,null,null,null,null,null,null,null,null,null,null,null,null,null,null,null,null,null,null,null,null,null,null,null,null,null,null,null,null,null,null,null,null,null,null,null,null,null,null,null,null,null,null,null,null,null,null,null,null,null,null,null,null,null,-9.9999999999999995E-7,-9.9999999999999995E-7,-9.9999999999999995E-7,-9.9999999999999995E-7,-9.9999999999999995E-7,-9.9999999999999995E-7,-9.9999999999999995E-7,-9.9999999999999995E-7,-9.9999999999999995E-7,-9.9999999999999995E-7,-9.9999999999999995E-7,-9.9999999999999995E-7,-9.9999999999999995E-7,-9.9999999999999995E-7,-9.9999999999999995E-7,-9.9999999999999995E-7,-9.9999999999999995E-7,-9.9999999999999995E-7,-9.9999999999999995E-7,-9.9999999999999995E-7,{"$f":"IF(ISERROR(VLOOKUP(F919,ages!B$1:B$23,1,1)),\"\",VLOOKUP(F919,ages!B$1:B$23,1,1))","v":""},{"$f":"IF(ISERROR(VLOOKUP(F919,ages!B$1:D$23,3,1)),\"\",VLOOKUP(F919,ages!B$1:D$23,3,1))","v":""},0,0,0,0,0]
[null,null,null,null,null,"",null,null,null,null,null,null,"","","","","","","","","","",{"$f":"IF(ISNUMBER(F921),IF(AL921<0.85,\"\",VLOOKUP(M921,A!A$2:X$23,VLOOKUP(F921,ages!B$1:C$23,2,1),1)),\"\")","v":""},{"$f":"IF(ISNUMBER(F921),IF(AM921<0.85,\"\",VLOOKUP(N921,B!A$2:X$23,VLOOKUP(F921,ages!B$1:C$23,2,1),1)),\"\")","v":""},{"$f":"IF(ISNUMBER(F921),IF(AN921<0.85,\"\",VLOOKUP(O921,'C'!A$2:X$23,VLOOKUP(F921,ages!B$1:C$23,2,1),1)),\"\")","v":""},{"$f":"IF(ISNUMBER(F921),IF(AO921<0.85,\"\",VLOOKUP(P921,D!A$2:X$23,VLOOKUP(F921,ages!B$1:C$23,2,1),1)),\"\")","v":""},{"$f":"IF(ISNUMBER(F921),IF(AP921<0.85,\"\",VLOOKUP(Q921,E!A$2:X$23,VLOOKUP(F921,ages!B$1:C$23,2,1),1)),\"\")","v":""},{"$f":"IF(ISNUMBER(F921),IF(AQ921<0.85,\"\",VLOOKUP(R921,F!A$2:X$23,VLOOKUP(F921,ages!B$1:C$23,2,1),1)),\"\")","v":""},{"$f":"IF(ISNUMBER(F921),IF(AR921<0.85,\"\",VLOOKUP(S921,G!A$2:X$23,VLOOKUP(F921,ages!B$1:C$23,2,1),1)),\"\")","v":""},{"$f":"IF(ISNUMBER(F921),IF(AS921<0.85,\"\",VLOOKUP(T921,H!A$2:X$23,VLOOKUP(F921,ages!B$1:C$23,2,1),1)),\"\")","v":""},{"$f":"IF(ISNUMBER(F921),IF(AT921<0.85,\"\",VLOOKUP(U921,I!A$2:X$23,VLOOKUP(F921,ages!B$1:C$23,2,1),1)),\"\")","v":""},{"$f":"IF(ISNUMBER(F921),IF(AU921<0.85,\"\",VLOOKUP(V921,J!A$2:X$23,VLOOKUP(F921,ages!B$1:C$23,2,1),1)),\"\")","v":""},"","","","",-1.0000000000000002E-6,0,0,0,0,0,0,0,0,0,0,0,null,null,null,null,null,null,null,null,null,null,null,null,null,null,null,null,null,null,null,null,null,null,null,null,null,null,null,null,null,null,null,null,null,null,null,null,null,null,null,null,null,null,null,null,null,null,null,null,null,null,null,null,null,null,null,null,null,null,null,null,null,null,null,null,null,null,null,null,null,null,-9.9999999999999995E-7,-9.9999999999999995E-7,-9.9999999999999995E-7,-9.9999999999999995E-7,-9.9999999999999995E-7,-9.9999999999999995E-7,-9.9999999999999995E-7,-9.9999999999999995E-7,-9.9999999999999995E-7,-9.9999999999999995E-7,-9.9999999999999995E-7,-9.9999999999999995E-7,-9.9999999999999995E-7,-9.9999999999999995E-7,-9.9999999999999995E-7,-9.9999999999999995E-7,-9.9999999999999995E-7,-9.9999999999999995E-7,-9.9999999999999995E-7,-9.9999999999999995E-7,{"$f":"IF(ISERROR(VLOOKUP(F921,ages!B$1:B$23,1,1)),\"\",VLOOKUP(F921,ages!B$1:B$23,1,1))","v":""},{"$f":"IF(ISERROR(VLOOKUP(F921,ages!B$1:D$23,3,1)),\"\",VLOOKUP(F921,ages!B$1:D$23,3,1))","v":""},0,0,0,0,0]
[null,null,null,null,null,"",null,null,null,null,null,null,"","","","","","","","","","",{"$f":"IF(ISNUMBER(F928),IF(AL928<0.85,\"\",VLOOKUP(M928,A!A$2:X$23,VLOOKUP(F928,ages!B$1:C$23,2,1),1)),\"\")","v":""},{"$f":"IF(ISNUMBER(F928),IF(AM928<0.85,\"\",VLOOKUP(N928,B!A$2:X$23,VLOOKUP(F928,ages!B$1:C$23,2,1),1)),\"\")","v":""},{"$f":"IF(ISNUMBER(F928),IF(AN928<0.85,\"\",VLOOKUP(O928,'C'!A$2:X$23,VLOOKUP(F928,ages!B$1:C$23,2,1),1)),\"\")","v":""},{"$f":"IF(ISNUMBER(F928),IF(AO928<0.85,\"\",VLOOKUP(P928,D!A$2:X$23,VLOOKUP(F928,ages!B$1:C$23,2,1),1)),\"\")","v":""},{"$f":"IF(ISNUMBER(F928),IF(AP928<0.85,\"\",VLOOKUP(Q928,E!A$2:X$23,VLOOKUP(F928,ages!B$1:C$23,2,1),1)),\"\")","v":""},{"$f":"IF(ISNUMBER(F928),IF(AQ928<0.85,\"\",VLOOKUP(R928,F!A$2:X$23,VLOOKUP(F928,ages!B$1:C$23,2,1),1)),\"\")","v":""},{"$f":"IF(ISNUMBER(F928),IF(AR928<0.85,\"\",VLOOKUP(S928,G!A$2:X$23,VLOOKUP(F928,ages!B$1:C$23,2,1),1)),\"\")","v":""},{"$f":"IF(ISNUMBER(F928),IF(AS928<0.85,\"\",VLOOKUP(T928,H!A$2:X$23,VLOOKUP(F928,ages!B$1:C$23,2,1),1)),\"\")","v":""},{"$f":"IF(ISNUMBER(F928),IF(AT928<0.85,\"\",VLOOKUP(U928,I!A$2:X$23,VLOOKUP(F928,ages!B$1:C$23,2,1),1)),\"\")","v":""},{"$f":"IF(ISNUMBER(F928),IF(AU928<0.85,\"\",VLOOKUP(V928,J!A$2:X$23,VLOOKUP(F928,ages!B$1:C$23,2,1),1)),\"\")","v":""},"","","","",-1.0000000000000002E-6,0,0,0,0,0,0,0,0,0,0,0,null,null,null,null,null,null,null,null,null,null,null,null,null,null,null,null,null,null,null,null,null,null,null,null,null,null,null,null,null,null,null,null,null,null,null,null,null,null,null,null,null,null,null,null,null,null,null,null,null,null,null,null,null,null,null,null,null,null,null,null,null,null,null,null,null,null,null,null,null,null,-9.9999999999999995E-7,-9.9999999999999995E-7,-9.9999999999999995E-7,-9.9999999999999995E-7,-9.9999999999999995E-7,-9.9999999999999995E-7,-9.9999999999999995E-7,-9.9999999999999995E-7,-9.9999999999999995E-7,-9.9999999999999995E-7,-9.9999999999999995E-7,-9.9999999999999995E-7,-9.9999999999999995E-7,-9.9999999999999995E-7,-9.9999999999999995E-7,-9.9999999999999995E-7,-9.9999999999999995E-7,-9.9999999999999995E-7,-9.9999999999999995E-7,-9.9999999999999995E-7,{"$f":"IF(ISERROR(VLOOKUP(F928,ages!B$1:B$23,1,1)),\"\",VLOOKUP(F928,ages!B$1:B$23,1,1))","v":""},{"$f":"IF(ISERROR(VLOOKUP(F928,ages!B$1:D$23,3,1)),\"\",VLOOKUP(F928,ages!B$1:D$23,3,1))","v":""},0,0,0,0,0]
[null,null,null,null,null,"",null,null,null,null,null,null,"","","","","","","","","","",{"$f":"IF(ISNUMBER(F929),IF(AL929<0.85,\"\",VLOOKUP(M929,A!A$2:X$23,VLOOKUP(F929,ages!B$1:C$23,2,1),1)),\"\")","v":""},{"$f":"IF(ISNUMBER(F929),IF(AM929<0.85,\"\",VLOOKUP(N929,B!A$2:X$23,VLOOKUP(F929,ages!B$1:C$23,2,1),1)),\"\")","v":""},{"$f":"IF(ISNUMBER(F929),IF(AN929<0.85,\"\",VLOOKUP(O929,'C'!A$2:X$23,VLOOKUP(F929,ages!B$1:C$23,2,1),1)),\"\")","v":""},{"$f":"IF(ISNUMBER(F929),IF(AO929<0.85,\"\",VLOOKUP(P929,D!A$2:X$23,VLOOKUP(F929,ages!B$1:C$23,2,1),1)),\"\")","v":""},{"$f":"IF(ISNUMBER(F929),IF(AP929<0.85,\"\",VLOOKUP(Q929,E!A$2:X$23,VLOOKUP(F929,ages!B$1:C$23,2,1),1)),\"\")","v":""},{"$f":"IF(ISNUMBER(F929),IF(AQ929<0.85,\"\",VLOOKUP(R929,F!A$2:X$23,VLOOKUP(F929,ages!B$1:C$23,2,1),1)),\"\")","v":""},{"$f":"IF(ISNUMBER(F929),IF(AR929<0.85,\"\",VLOOKUP(S929,G!A$2:X$23,VLOOKUP(F929,ages!B$1:C$23,2,1),1)),\"\")","v":""},{"$f":"IF(ISNUMBER(F929),IF(AS929<0.85,\"\",VLOOKUP(T929,H!A$2:X$23,VLOOKUP(F929,ages!B$1:C$23,2,1),1)),\"\")","v":""},{"$f":"IF(ISNUMBER(F929),IF(AT929<0.85,\"\",VLOOKUP(U929,I!A$2:X$23,VLOOKUP(F929,ages!B$1:C$23,2,1),1)),\"\")","v":""},{"$f":"IF(ISNUMBER(F929),IF(AU929<0.85,\"\",VLOOKUP(V929,J!A$2:X$23,VLOOKUP(F929,ages!B$1:C$23,2,1),1)),\"\")","v":""},"","","","",-1.0000000000000002E-6,0,0,0,0,0,0,0,0,0,0,0,null,null,null,null,null,null,null,null,null,null,null,null,null,null,null,null,null,null,null,null,null,null,null,null,null,null,null,null,null,null,null,null,null,null,null,null,null,null,null,null,null,null,null,null,null,null,null,null,null,null,null,null,null,null,null,null,null,null,null,null,null,null,null,null,null,null,null,null,null,null,-9.9999999999999995E-7,-9.9999999999999995E-7,-9.9999999999999995E-7,-9.9999999999999995E-7,-9.9999999999999995E-7,-9.9999999999999995E-7,-9.9999999999999995E-7,-9.9999999999999995E-7,-9.9999999999999995E-7,-9.9999999999999995E-7,-9.9999999999999995E-7,-9.9999999999999995E-7,-9.9999999999999995E-7,-9.9999999999999995E-7,-9.9999999999999995E-7,-9.9999999999999995E-7,-9.9999999999999995E-7,-9.9999999999999995E-7,-9.9999999999999995E-7,-9.9999999999999995E-7,{"$f":"IF(ISERROR(VLOOKUP(F929,ages!B$1:B$23,1,1)),\"\",VLOOKUP(F929,ages!B$1:B$23,1,1))","v":""},{"$f":"IF(ISERROR(VLOOKUP(F929,ages!B$1:D$23,3,1)),\"\",VLOOKUP(F929,ages!B$1:D$23,3,1))","v":""},0,0,0,0,0]
[null,null,null,null,null,"",null,null,null,null,null,null,"","","","","","","","","","",{"$f":"IF(ISNUMBER(F934),IF(AL934<0.85,\"\",VLOOKUP(M934,A!A$2:X$23,VLOOKUP(F934,ages!B$1:C$23,2,1),1)),\"\")","v":""},{"$f":"IF(ISNUMBER(F934),IF(AM934<0.85,\"\",VLOOKUP(N934,B!A$2:X$23,VLOOKUP(F934,ages!B$1:C$23,2,1),1)),\"\")","v":""},{"$f":"IF(ISNUMBER(F934),IF(AN934<0.85,\"\",VLOOKUP(O934,'C'!A$2:X$23,VLOOKUP(F934,ages!B$1:C$23,2,1),1)),\"\")","v":""},{"$f":"IF(ISNUMBER(F934),IF(AO934<0.85,\"\",VLOOKUP(P934,D!A$2:X$23,VLOOKUP(F934,ages!B$1:C$23,2,1),1)),\"\")","v":""},{"$f":"IF(ISNUMBER(F934),IF(AP934<0.85,\"\",VLOOKUP(Q934,E!A$2:X$23,VLOOKUP(F934,ages!B$1:C$23,2,1),1)),\"\")","v":""},{"$f":"IF(ISNUMBER(F934),IF(AQ934<0.85,\"\",VLOOKUP(R934,F!A$2:X$23,VLOOKUP(F934,ages!B$1:C$23,2,1),1)),\"\")","v":""},{"$f":"IF(ISNUMBER(F934),IF(AR934<0.85,\"\",VLOOKUP(S934,G!A$2:X$23,VLOOKUP(F934,ages!B$1:C$23,2,1),1)),\"\")","v":""},{"$f":"IF(ISNUMBER(F934),IF(AS934<0.85,\"\",VLOOKUP(T934,H!A$2:X$23,VLOOKUP(F934,ages!B$1:C$23,2,1),1)),\"\")","v":""},{"$f":"IF(ISNUMBER(F934),IF(AT934<0.85,\"\",VLOOKUP(U934,I!A$2:X$23,VLOOKUP(F934,ages!B$1:C$23,2,1),1)),\"\")","v":""},{"$f":"IF(ISNUMBER(F934),IF(AU934<0.85,\"\",VLOOKUP(V934,J!A$2:X$23,VLOOKUP(F934,ages!B$1:C$23,2,1),1)),\"\")","v":""},"","","","",-1.0000000000000002E-6,0,0,0,0,0,0,0,0,0,0,0,null,null,null,null,null,null,null,null,null,null,null,null,null,null,null,null,null,null,null,null,null,null,null,null,null,null,null,null,null,null,null,null,null,null,null,null,null,null,null,null,null,null,null,null,null,null,null,null,null,null,null,null,null,null,null,null,null,null,null,null,null,null,null,null,null,null,null,null,null,null,-9.9999999999999995E-7,-9.9999999999999995E-7,-9.9999999999999995E-7,-9.9999999999999995E-7,-9.9999999999999995E-7,-9.9999999999999995E-7,-9.9999999999999995E-7,-9.9999999999999995E-7,-9.9999999999999995E-7,-9.9999999999999995E-7,-9.9999999999999995E-7,-9.9999999999999995E-7,-9.9999999999999995E-7,-9.9999999999999995E-7,-9.9999999999999995E-7,-9.9999999999999995E-7,-9.9999999999999995E-7,-9.9999999999999995E-7,-9.9999999999999995E-7,-9.9999999999999995E-7,{"$f":"IF(ISERROR(VLOOKUP(F934,ages!B$1:B$23,1,1)),\"\",VLOOKUP(F934,ages!B$1:B$23,1,1))","v":""},{"$f":"IF(ISERROR(VLOOKUP(F934,ages!B$1:D$23,3,1)),\"\",VLOOKUP(F934,ages!B$1:D$23,3,1))","v":""},0,0,0,0,0]
[null,null,null,null,null,"",null,null,null,null,null,null,"","","","","","","","","","",{"$f":"IF(ISNUMBER(F940),IF(AL940<0.85,\"\",VLOOKUP(M940,A!A$2:X$23,VLOOKUP(F940,ages!B$1:C$23,2,1),1)),\"\")","v":""},{"$f":"IF(ISNUMBER(F940),IF(AM940<0.85,\"\",VLOOKUP(N940,B!A$2:X$23,VLOOKUP(F940,ages!B$1:C$23,2,1),1)),\"\")","v":""},{"$f":"IF(ISNUMBER(F940),IF(AN940<0.85,\"\",VLOOKUP(O940,'C'!A$2:X$23,VLOOKUP(F940,ages!B$1:C$23,2,1),1)),\"\")","v":""},{"$f":"IF(ISNUMBER(F940),IF(AO940<0.85,\"\",VLOOKUP(P940,D!A$2:X$23,VLOOKUP(F940,ages!B$1:C$23,2,1),1)),\"\")","v":""},{"$f":"IF(ISNUMBER(F940),IF(AP940<0.85,\"\",VLOOKUP(Q940,E!A$2:X$23,VLOOKUP(F940,ages!B$1:C$23,2,1),1)),\"\")","v":""},{"$f":"IF(ISNUMBER(F940),IF(AQ940<0.85,\"\",VLOOKUP(R940,F!A$2:X$23,VLOOKUP(F940,ages!B$1:C$23,2,1),1)),\"\")","v":""},{"$f":"IF(ISNUMBER(F940),IF(AR940<0.85,\"\",VLOOKUP(S940,G!A$2:X$23,VLOOKUP(F940,ages!B$1:C$23,2,1),1)),\"\")","v":""},{"$f":"IF(ISNUMBER(F940),IF(AS940<0.85,\"\",VLOOKUP(T940,H!A$2:X$23,VLOOKUP(F940,ages!B$1:C$23,2,1),1)),\"\")","v":""},{"$f":"IF(ISNUMBER(F940),IF(AT940<0.85,\"\",VLOOKUP(U940,I!A$2:X$23,VLOOKUP(F940,ages!B$1:C$23,2,1),1)),\"\")","v":""},{"$f":"IF(ISNUMBER(F940),IF(AU940<0.85,\"\",VLOOKUP(V940,J!A$2:X$23,VLOOKUP(F940,ages!B$1:C$23,2,1),1)),\"\")","v":""},"","","","",-1.0000000000000002E-6,0,0,0,0,0,0,0,0,0,0,0,null,null,null,null,null,null,null,null,null,null,null,null,null,null,null,null,null,null,null,null,null,null,null,null,null,null,null,null,null,null,null,null,null,null,null,null,null,null,null,null,null,null,null,null,null,null,null,null,null,null,null,null,null,null,null,null,null,null,null,null,null,null,null,null,null,null,null,null,null,null,-9.9999999999999995E-7,-9.9999999999999995E-7,-9.9999999999999995E-7,-9.9999999999999995E-7,-9.9999999999999995E-7,-9.9999999999999995E-7,-9.9999999999999995E-7,-9.9999999999999995E-7,-9.9999999999999995E-7,-9.9999999999999995E-7,-9.9999999999999995E-7,-9.9999999999999995E-7,-9.9999999999999995E-7,-9.9999999999999995E-7,-9.9999999999999995E-7,-9.9999999999999995E-7,-9.9999999999999995E-7,-9.9999999999999995E-7,-9.9999999999999995E-7,-9.9999999999999995E-7,{"$f":"IF(ISERROR(VLOOKUP(F940,ages!B$1:B$23,1,1)),\"\",VLOOKUP(F940,ages!B$1:B$23,1,1))","v":""},{"$f":"IF(ISERROR(VLOOKUP(F940,ages!B$1:D$23,3,1)),\"\",VLOOKUP(F940,ages!B$1:D$23,3,1))","v":""},0,0,0,0,0]
[null,null,null,null,null,"",null,null,null,null,null,null,"","","","","","","","","","",{"$f":"IF(ISNUMBER(F946),IF(AL946<0.85,\"\",VLOOKUP(M946,A!A$2:X$23,VLOOKUP(F946,ages!B$1:C$23,2,1),1)),\"\")","v":""},{"$f":"IF(ISNUMBER(F946),IF(AM946<0.85,\"\",VLOOKUP(N946,B!A$2:X$23,VLOOKUP(F946,ages!B$1:C$23,2,1),1)),\"\")","v":""},{"$f":"IF(ISNUMBER(F946),IF(AN946<0.85,\"\",VLOOKUP(O946,'C'!A$2:X$23,VLOOKUP(F946,ages!B$1:C$23,2,1),1)),\"\")","v":""},{"$f":"IF(ISNUMBER(F946),IF(AO946<0.85,\"\",VLOOKUP(P946,D!A$2:X$23,VLOOKUP(F946,ages!B$1:C$23,2,1),1)),\"\")","v":""},{"$f":"IF(ISNUMBER(F946),IF(AP946<0.85,\"\",VLOOKUP(Q946,E!A$2:X$23,VLOOKUP(F946,ages!B$1:C$23,2,1),1)),\"\")","v":""},{"$f":"IF(ISNUMBER(F946),IF(AQ946<0.85,\"\",VLOOKUP(R946,F!A$2:X$23,VLOOKUP(F946,ages!B$1:C$23,2,1),1)),\"\")","v":""},{"$f":"IF(ISNUMBER(F946),IF(AR946<0.85,\"\",VLOOKUP(S946,G!A$2:X$23,VLOOKUP(F946,ages!B$1:C$23,2,1),1)),\"\")","v":""},{"$f":"IF(ISNUMBER(F946),IF(AS946<0.85,\"\",VLOOKUP(T946,H!A$2:X$23,VLOOKUP(F946,ages!B$1:C$23,2,1),1)),\"\")","v":""},{"$f":"IF(ISNUMBER(F946),IF(AT946<0.85,\"\",VLOOKUP(U946,I!A$2:X$23,VLOOKUP(F946,ages!B$1:C$23,2,1),1)),\"\")","v":""},{"$f":"IF(ISNUMBER(F946),IF(AU946<0.85,\"\",VLOOKUP(V946,J!A$2:X$23,VLOOKUP(F946,ages!B$1:C$23,2,1),1)),\"\")","v":""},"","","","",-1.0000000000000002E-6,0,0,0,0,0,0,0,0,0,0,0,null,null,null,null,null,null,null,null,null,null,null,null,null,null,null,null,null,null,null,null,null,null,null,null,null,null,null,null,null,null,null,null,null,null,null,null,null,null,null,null,null,null,null,null,null,null,null,null,null,null,null,null,null,null,null,null,null,null,null,null,null,null,null,null,null,null,null,null,null,null,-9.9999999999999995E-7,-9.9999999999999995E-7,-9.9999999999999995E-7,-9.9999999999999995E-7,-9.9999999999999995E-7,-9.9999999999999995E-7,-9.9999999999999995E-7,-9.9999999999999995E-7,-9.9999999999999995E-7,-9.9999999999999995E-7,-9.9999999999999995E-7,-9.9999999999999995E-7,-9.9999999999999995E-7,-9.9999999999999995E-7,-9.9999999999999995E-7,-9.9999999999999995E-7,-9.9999999999999995E-7,-9.9999999999999995E-7,-9.9999999999999995E-7,-9.9999999999999995E-7,{"$f":"IF(ISERROR(VLOOKUP(F946,ages!B$1:B$23,1,1)),\"\",VLOOKUP(F946,ages!B$1:B$23,1,1))","v":""},{"$f":"IF(ISERROR(VLOOKUP(F946,ages!B$1:D$23,3,1)),\"\",VLOOKUP(F946,ages!B$1:D$23,3,1))","v":""},0,0,0,0,0]
[null,null,null,null,null,"",null,null,null,null,null,null,"","","","","","","","","","",{"$f":"IF(ISNUMBER(F949),IF(AL949<0.85,\"\",VLOOKUP(M949,A!A$2:X$23,VLOOKUP(F949,ages!B$1:C$23,2,1),1)),\"\")","v":""},{"$f":"IF(ISNUMBER(F949),IF(AM949<0.85,\"\",VLOOKUP(N949,B!A$2:X$23,VLOOKUP(F949,ages!B$1:C$23,2,1),1)),\"\")","v":""},{"$f":"IF(ISNUMBER(F949),IF(AN949<0.85,\"\",VLOOKUP(O949,'C'!A$2:X$23,VLOOKUP(F949,ages!B$1:C$23,2,1),1)),\"\")","v":""},{"$f":"IF(ISNUMBER(F949),IF(AO949<0.85,\"\",VLOOKUP(P949,D!A$2:X$23,VLOOKUP(F949,ages!B$1:C$23,2,1),1)),\"\")","v":""},{"$f":"IF(ISNUMBER(F949),IF(AP949<0.85,\"\",VLOOKUP(Q949,E!A$2:X$23,VLOOKUP(F949,ages!B$1:C$23,2,1),1)),\"\")","v":""},{"$f":"IF(ISNUMBER(F949),IF(AQ949<0.85,\"\",VLOOKUP(R949,F!A$2:X$23,VLOOKUP(F949,ages!B$1:C$23,2,1),1)),\"\")","v":""},{"$f":"IF(ISNUMBER(F949),IF(AR949<0.85,\"\",VLOOKUP(S949,G!A$2:X$23,VLOOKUP(F949,ages!B$1:C$23,2,1),1)),\"\")","v":""},{"$f":"IF(ISNUMBER(F949),IF(AS949<0.85,\"\",VLOOKUP(T949,H!A$2:X$23,VLOOKUP(F949,ages!B$1:C$23,2,1),1)),\"\")","v":""},{"$f":"IF(ISNUMBER(F949),IF(AT949<0.85,\"\",VLOOKUP(U949,I!A$2:X$23,VLOOKUP(F949,ages!B$1:C$23,2,1),1)),\"\")","v":""},{"$f":"IF(ISNUMBER(F949),IF(AU949<0.85,\"\",VLOOKUP(V949,J!A$2:X$23,VLOOKUP(F949,ages!B$1:C$23,2,1),1)),\"\")","v":""},"","","","",-1.0000000000000002E-6,0,0,0,0,0,0,0,0,0,0,0,null,null,null,null,null,null,null,null,null,null,null,null,null,null,null,null,null,null,null,null,null,null,null,null,null,null,null,null,null,null,null,null,null,null,null,null,null,null,null,null,null,null,null,null,null,null,null,null,null,null,null,null,null,null,null,null,null,null,null,null,null,null,null,null,null,null,null,null,null,null,-9.9999999999999995E-7,-9.9999999999999995E-7,-9.9999999999999995E-7,-9.9999999999999995E-7,-9.9999999999999995E-7,-9.9999999999999995E-7,-9.9999999999999995E-7,-9.9999999999999995E-7,-9.9999999999999995E-7,-9.9999999999999995E-7,-9.9999999999999995E-7,-9.9999999999999995E-7,-9.9999999999999995E-7,-9.9999999999999995E-7,-9.9999999999999995E-7,-9.9999999999999995E-7,-9.9999999999999995E-7,-9.9999999999999995E-7,-9.9999999999999995E-7,-9.9999999999999995E-7,{"$f":"IF(ISERROR(VLOOKUP(F949,ages!B$1:B$23,1,1)),\"\",VLOOKUP(F949,ages!B$1:B$23,1,1))","v":""},{"$f":"IF(ISERROR(VLOOKUP(F949,ages!B$1:D$23,3,1)),\"\",VLOOKUP(F949,ages!B$1:D$23,3,1))","v":""},0,0,0,0,0]
[null,null,null,null,null,"",null,null,null,null,null,null,"","","","","","","","","","",{"$f":"IF(ISNUMBER(F955),IF(AL955<0.85,\"\",VLOOKUP(M955,A!A$2:X$23,VLOOKUP(F955,ages!B$1:C$23,2,1),1)),\"\")","v":""},{"$f":"IF(ISNUMBER(F955),IF(AM955<0.85,\"\",VLOOKUP(N955,B!A$2:X$23,VLOOKUP(F955,ages!B$1:C$23,2,1),1)),\"\")","v":""},{"$f":"IF(ISNUMBER(F955),IF(AN955<0.85,\"\",VLOOKUP(O955,'C'!A$2:X$23,VLOOKUP(F955,ages!B$1:C$23,2,1),1)),\"\")","v":""},{"$f":"IF(ISNUMBER(F955),IF(AO955<0.85,\"\",VLOOKUP(P955,D!A$2:X$23,VLOOKUP(F955,ages!B$1:C$23,2,1),1)),\"\")","v":""},{"$f":"IF(ISNUMBER(F955),IF(AP955<0.85,\"\",VLOOKUP(Q955,E!A$2:X$23,VLOOKUP(F955,ages!B$1:C$23,2,1),1)),\"\")","v":""},{"$f":"IF(ISNUMBER(F955),IF(AQ955<0.85,\"\",VLOOKUP(R955,F!A$2:X$23,VLOOKUP(F955,ages!B$1:C$23,2,1),1)),\"\")","v":""},{"$f":"IF(ISNUMBER(F955),IF(AR955<0.85,\"\",VLOOKUP(S955,G!A$2:X$23,VLOOKUP(F955,ages!B$1:C$23,2,1),1)),\"\")","v":""},{"$f":"IF(ISNUMBER(F955),IF(AS955<0.85,\"\",VLOOKUP(T955,H!A$2:X$23,VLOOKUP(F955,ages!B$1:C$23,2,1),1)),\"\")","v":""},{"$f":"IF(ISNUMBER(F955),IF(AT955<0.85,\"\",VLOOKUP(U955,I!A$2:X$23,VLOOKUP(F955,ages!B$1:C$23,2,1),1)),\"\")","v":""},{"$f":"IF(ISNUMBER(F955),IF(AU955<0.85,\"\",VLOOKUP(V955,J!A$2:X$23,VLOOKUP(F955,ages!B$1:C$23,2,1),1)),\"\")","v":""},"","","","",-1.0000000000000002E-6,0,0,0,0,0,0,0,0,0,0,0,null,null,null,null,null,null,null,null,null,null,null,null,null,null,null,null,null,null,null,null,null,null,null,null,null,null,null,null,null,null,null,null,null,null,null,null,null,null,null,null,null,null,null,null,null,null,null,null,null,null,null,null,null,null,null,null,null,null,null,null,null,null,null,null,null,null,null,null,null,null,-9.9999999999999995E-7,-9.9999999999999995E-7,-9.9999999999999995E-7,-9.9999999999999995E-7,-9.9999999999999995E-7,-9.9999999999999995E-7,-9.9999999999999995E-7,-9.9999999999999995E-7,-9.9999999999999995E-7,-9.9999999999999995E-7,-9.9999999999999995E-7,-9.9999999999999995E-7,-9.9999999999999995E-7,-9.9999999999999995E-7,-9.9999999999999995E-7,-9.9999999999999995E-7,-9.9999999999999995E-7,-9.9999999999999995E-7,-9.9999999999999995E-7,-9.9999999999999995E-7,{"$f":"IF(ISERROR(VLOOKUP(F955,ages!B$1:B$23,1,1)),\"\",VLOOKUP(F955,ages!B$1:B$23,1,1))","v":""},{"$f":"IF(ISERROR(VLOOKUP(F955,ages!B$1:D$23,3,1)),\"\",VLOOKUP(F955,ages!B$1:D$23,3,1))","v":""},0,0,0,0,0]
[null,null,null,null,null,"",null,null,null,null,null,null,"","","","","","","","","","",{"$f":"IF(ISNUMBER(F960),IF(AL960<0.85,\"\",VLOOKUP(M960,A!A$2:X$23,VLOOKUP(F960,ages!B$1:C$23,2,1),1)),\"\")","v":""},{"$f":"IF(ISNUMBER(F960),IF(AM960<0.85,\"\",VLOOKUP(N960,B!A$2:X$23,VLOOKUP(F960,ages!B$1:C$23,2,1),1)),\"\")","v":""},{"$f":"IF(ISNUMBER(F960),IF(AN960<0.85,\"\",VLOOKUP(O960,'C'!A$2:X$23,VLOOKUP(F960,ages!B$1:C$23,2,1),1)),\"\")","v":""},{"$f":"IF(ISNUMBER(F960),IF(AO960<0.85,\"\",VLOOKUP(P960,D!A$2:X$23,VLOOKUP(F960,ages!B$1:C$23,2,1),1)),\"\")","v":""},{"$f":"IF(ISNUMBER(F960),IF(AP960<0.85,\"\",VLOOKUP(Q960,E!A$2:X$23,VLOOKUP(F960,ages!B$1:C$23,2,1),1)),\"\")","v":""},{"$f":"IF(ISNUMBER(F960),IF(AQ960<0.85,\"\",VLOOKUP(R960,F!A$2:X$23,VLOOKUP(F960,ages!B$1:C$23,2,1),1)),\"\")","v":""},{"$f":"IF(ISNUMBER(F960),IF(AR960<0.85,\"\",VLOOKUP(S960,G!A$2:X$23,VLOOKUP(F960,ages!B$1:C$23,2,1),1)),\"\")","v":""},{"$f":"IF(ISNUMBER(F960),IF(AS960<0.85,\"\",VLOOKUP(T960,H!A$2:X$23,VLOOKUP(F960,ages!B$1:C$23,2,1),1)),\"\")","v":""},{"$f":"IF(ISNUMBER(F960),IF(AT960<0.85,\"\",VLOOKUP(U960,I!A$2:X$23,VLOOKUP(F960,ages!B$1:C$23,2,1),1)),\"\")","v":""},{"$f":"IF(ISNUMBER(F960),IF(AU960<0.85,\"\",VLOOKUP(V960,J!A$2:X$23,VLOOKUP(F960,ages!B$1:C$23,2,1),1)),\"\")","v":""},"","","","",-1.0000000000000002E-6,0,0,0,0,0,0,0,0,0,0,0,null,null,null,null,null,null,null,null,null,null,null,null,null,null,null,null,null,null,null,null,null,null,null,null,null,null,null,null,null,null,null,null,null,null,null,null,null,null,null,null,null,null,null,null,null,null,null,null,null,null,null,null,null,null,null,null,null,null,null,null,null,null,null,null,null,null,null,null,null,null,-9.9999999999999995E-7,-9.9999999999999995E-7,-9.9999999999999995E-7,-9.9999999999999995E-7,-9.9999999999999995E-7,-9.9999999999999995E-7,-9.9999999999999995E-7,-9.9999999999999995E-7,-9.9999999999999995E-7,-9.9999999999999995E-7,-9.9999999999999995E-7,-9.9999999999999995E-7,-9.9999999999999995E-7,-9.9999999999999995E-7,-9.9999999999999995E-7,-9.9999999999999995E-7,-9.9999999999999995E-7,-9.9999999999999995E-7,-9.9999999999999995E-7,-9.9999999999999995E-7,{"$f":"IF(ISERROR(VLOOKUP(F960,ages!B$1:B$23,1,1)),\"\",VLOOKUP(F960,ages!B$1:B$23,1,1))","v":""},{"$f":"IF(ISERROR(VLOOKUP(F960,ages!B$1:D$23,3,1)),\"\",VLOOKUP(F960,ages!B$1:D$23,3,1))","v":""},0,0,0,0,0]
[null,null,null,null,null,"",null,null,null,null,null,null,"","","","","","","","","","",{"$f":"IF(ISNUMBER(F965),IF(AL965<0.85,\"\",VLOOKUP(M965,A!A$2:X$23,VLOOKUP(F965,ages!B$1:C$23,2,1),1)),\"\")","v":""},{"$f":"IF(ISNUMBER(F965),IF(AM965<0.85,\"\",VLOOKUP(N965,B!A$2:X$23,VLOOKUP(F965,ages!B$1:C$23,2,1),1)),\"\")","v":""},{"$f":"IF(ISNUMBER(F965),IF(AN965<0.85,\"\",VLOOKUP(O965,'C'!A$2:X$23,VLOOKUP(F965,ages!B$1:C$23,2,1),1)),\"\")","v":""},{"$f":"IF(ISNUMBER(F965),IF(AO965<0.85,\"\",VLOOKUP(P965,D!A$2:X$23,VLOOKUP(F965,ages!B$1:C$23,2,1),1)),\"\")","v":""},{"$f":"IF(ISNUMBER(F965),IF(AP965<0.85,\"\",VLOOKUP(Q965,E!A$2:X$23,VLOOKUP(F965,ages!B$1:C$23,2,1),1)),\"\")","v":""},{"$f":"IF(ISNUMBER(F965),IF(AQ965<0.85,\"\",VLOOKUP(R965,F!A$2:X$23,VLOOKUP(F965,ages!B$1:C$23,2,1),1)),\"\")","v":""},{"$f":"IF(ISNUMBER(F965),IF(AR965<0.85,\"\",VLOOKUP(S965,G!A$2:X$23,VLOOKUP(F965,ages!B$1:C$23,2,1),1)),\"\")","v":""},{"$f":"IF(ISNUMBER(F965),IF(AS965<0.85,\"\",VLOOKUP(T965,H!A$2:X$23,VLOOKUP(F965,ages!B$1:C$23,2,1),1)),\"\")","v":""},{"$f":"IF(ISNUMBER(F965),IF(AT965<0.85,\"\",VLOOKUP(U965,I!A$2:X$23,VLOOKUP(F965,ages!B$1:C$23,2,1),1)),\"\")","v":""},{"$f":"IF(ISNUMBER(F965),IF(AU965<0.85,\"\",VLOOKUP(V965,J!A$2:X$23,VLOOKUP(F965,ages!B$1:C$23,2,1),1)),\"\")","v":""},"","","","",-1.0000000000000002E-6,0,0,0,0,0,0,0,0,0,0,0,null,null,null,null,null,null,null,null,null,null,null,null,null,null,null,null,null,null,null,null,null,null,null,null,null,null,null,null,null,null,null,null,null,null,null,null,null,null,null,null,null,null,null,null,null,null,null,null,null,null,null,null,null,null,null,null,null,null,null,null,null,null,null,null,null,null,null,null,null,null,-9.9999999999999995E-7,-9.9999999999999995E-7,-9.9999999999999995E-7,-9.9999999999999995E-7,-9.9999999999999995E-7,-9.9999999999999995E-7,-9.9999999999999995E-7,-9.9999999999999995E-7,-9.9999999999999995E-7,-9.9999999999999995E-7,-9.9999999999999995E-7,-9.9999999999999995E-7,-9.9999999999999995E-7,-9.9999999999999995E-7,-9.9999999999999995E-7,-9.9999999999999995E-7,-9.9999999999999995E-7,-9.9999999999999995E-7,-9.9999999999999995E-7,-9.9999999999999995E-7,{"$f":"IF(ISERROR(VLOOKUP(F965,ages!B$1:B$23,1,1)),\"\",VLOOKUP(F965,ages!B$1:B$23,1,1))","v":""},{"$f":"IF(ISERROR(VLOOKUP(F965,ages!B$1:D$23,3,1)),\"\",VLOOKUP(F965,ages!B$1:D$23,3,1))","v":""},0,0,0,0,0]
[null,null,null,null,null,"",null,null,null,null,null,null,"","","","","","","","","","",{"$f":"IF(ISNUMBER(F971),IF(AL971<0.85,\"\",VLOOKUP(M971,A!A$2:X$23,VLOOKUP(F971,ages!B$1:C$23,2,1),1)),\"\")","v":""},{"$f":"IF(ISNUMBER(F971),IF(AM971<0.85,\"\",VLOOKUP(N971,B!A$2:X$23,VLOOKUP(F971,ages!B$1:C$23,2,1),1)),\"\")","v":""},{"$f":"IF(ISNUMBER(F971),IF(AN971<0.85,\"\",VLOOKUP(O971,'C'!A$2:X$23,VLOOKUP(F971,ages!B$1:C$23,2,1),1)),\"\")","v":""},{"$f":"IF(ISNUMBER(F971),IF(AO971<0.85,\"\",VLOOKUP(P971,D!A$2:X$23,VLOOKUP(F971,ages!B$1:C$23,2,1),1)),\"\")","v":""},{"$f":"IF(ISNUMBER(F971),IF(AP971<0.85,\"\",VLOOKUP(Q971,E!A$2:X$23,VLOOKUP(F971,ages!B$1:C$23,2,1),1)),\"\")","v":""},{"$f":"IF(ISNUMBER(F971),IF(AQ971<0.85,\"\",VLOOKUP(R971,F!A$2:X$23,VLOOKUP(F971,ages!B$1:C$23,2,1),1)),\"\")","v":""},{"$f":"IF(ISNUMBER(F971),IF(AR971<0.85,\"\",VLOOKUP(S971,G!A$2:X$23,VLOOKUP(F971,ages!B$1:C$23,2,1),1)),\"\")","v":""},{"$f":"IF(ISNUMBER(F971),IF(AS971<0.85,\"\",VLOOKUP(T971,H!A$2:X$23,VLOOKUP(F971,ages!B$1:C$23,2,1),1)),\"\")","v":""},{"$f":"IF(ISNUMBER(F971),IF(AT971<0.85,\"\",VLOOKUP(U971,I!A$2:X$23,VLOOKUP(F971,ages!B$1:C$23,2,1),1)),\"\")","v":""},{"$f":"IF(ISNUMBER(F971),IF(AU971<0.85,\"\",VLOOKUP(V971,J!A$2:X$23,VLOOKUP(F971,ages!B$1:C$23,2,1),1)),\"\")","v":""},"","","","",-1.0000000000000002E-6,0,0,0,0,0,0,0,0,0,0,0,null,null,null,null,null,null,null,null,null,null,null,null,null,null,null,null,null,null,null,null,null,null,null,null,null,null,null,null,null,null,null,null,null,null,null,null,null,null,null,null,null,null,null,null,null,null,null,null,null,null,null,null,null,null,null,null,null,null,null,null,null,null,null,null,null,null,null,null,null,null,-9.9999999999999995E-7,-9.9999999999999995E-7,-9.9999999999999995E-7,-9.9999999999999995E-7,-9.9999999999999995E-7,-9.9999999999999995E-7,-9.9999999999999995E-7,-9.9999999999999995E-7,-9.9999999999999995E-7,-9.9999999999999995E-7,-9.9999999999999995E-7,-9.9999999999999995E-7,-9.9999999999999995E-7,-9.9999999999999995E-7,-9.9999999999999995E-7,-9.9999999999999995E-7,-9.9999999999999995E-7,-9.9999999999999995E-7,-9.9999999999999995E-7,-9.9999999999999995E-7,{"$f":"IF(ISERROR(VLOOKUP(F971,ages!B$1:B$23,1,1)),\"\",VLOOKUP(F971,ages!B$1:B$23,1,1))","v":""},{"$f":"IF(ISERROR(VLOOKUP(F971,ages!B$1:D$23,3,1)),\"\",VLOOKUP(F971,ages!B$1:D$23,3,1))","v":""},0,0,0,0,0]
[null,null,null,null,null,"",null,null,null,null,null,null,"","","","","","","","","","",{"$f":"IF(ISNUMBER(F975),IF(AL975<0.85,\"\",VLOOKUP(M975,A!A$2:X$23,VLOOKUP(F975,ages!B$1:C$23,2,1),1)),\"\")","v":""},{"$f":"IF(ISNUMBER(F975),IF(AM975<0.85,\"\",VLOOKUP(N975,B!A$2:X$23,VLOOKUP(F975,ages!B$1:C$23,2,1),1)),\"\")","v":""},{"$f":"IF(ISNUMBER(F975),IF(AN975<0.85,\"\",VLOOKUP(O975,'C'!A$2:X$23,VLOOKUP(F975,ages!B$1:C$23,2,1),1)),\"\")","v":""},{"$f":"IF(ISNUMBER(F975),IF(AO975<0.85,\"\",VLOOKUP(P975,D!A$2:X$23,VLOOKUP(F975,ages!B$1:C$23,2,1),1)),\"\")","v":""},{"$f":"IF(ISNUMBER(F975),IF(AP975<0.85,\"\",VLOOKUP(Q975,E!A$2:X$23,VLOOKUP(F975,ages!B$1:C$23,2,1),1)),\"\")","v":""},{"$f":"IF(ISNUMBER(F975),IF(AQ975<0.85,\"\",VLOOKUP(R975,F!A$2:X$23,VLOOKUP(F975,ages!B$1:C$23,2,1),1)),\"\")","v":""},{"$f":"IF(ISNUMBER(F975),IF(AR975<0.85,\"\",VLOOKUP(S975,G!A$2:X$23,VLOOKUP(F975,ages!B$1:C$23,2,1),1)),\"\")","v":""},{"$f":"IF(ISNUMBER(F975),IF(AS975<0.85,\"\",VLOOKUP(T975,H!A$2:X$23,VLOOKUP(F975,ages!B$1:C$23,2,1),1)),\"\")","v":""},{"$f":"IF(ISNUMBER(F975),IF(AT975<0.85,\"\",VLOOKUP(U975,I!A$2:X$23,VLOOKUP(F975,ages!B$1:C$23,2,1),1)),\"\")","v":""},{"$f":"IF(ISNUMBER(F975),IF(AU975<0.85,\"\",VLOOKUP(V975,J!A$2:X$23,VLOOKUP(F975,ages!B$1:C$23,2,1),1)),\"\")","v":""},"","","","",-1.0000000000000002E-6,0,0,0,0,0,0,0,0,0,0,0,null,null,null,null,null,null,null,null,null,null,null,null,null,null,null,null,null,null,null,null,null,null,null,null,null,null,null,null,null,null,null,null,null,null,null,null,null,null,null,null,null,null,null,null,null,null,null,null,null,null,null,null,null,null,null,null,null,null,null,null,null,null,null,null,null,null,null,null,null,null,-9.9999999999999995E-7,-9.9999999999999995E-7,-9.9999999999999995E-7,-9.9999999999999995E-7,-9.9999999999999995E-7,-9.9999999999999995E-7,-9.9999999999999995E-7,-9.9999999999999995E-7,-9.9999999999999995E-7,-9.9999999999999995E-7,-9.9999999999999995E-7,-9.9999999999999995E-7,-9.9999999999999995E-7,-9.9999999999999995E-7,-9.9999999999999995E-7,-9.9999999999999995E-7,-9.9999999999999995E-7,-9.9999999999999995E-7,-9.9999999999999995E-7,-9.9999999999999995E-7,{"$f":"IF(ISERROR(VLOOKUP(F975,ages!B$1:B$23,1,1)),\"\",VLOOKUP(F975,ages!B$1:B$23,1,1))","v":""},{"$f":"IF(ISERROR(VLOOKUP(F975,ages!B$1:D$23,3,1)),\"\",VLOOKUP(F975,ages!B$1:D$23,3,1))","v":""},0,0,0,0,0]
[null,null,null,null,null,"",null,null,null,null,null,null,"","","","","","","","","","",{"$f":"IF(ISNUMBER(F981),IF(AL981<0.85,\"\",VLOOKUP(M981,A!A$2:X$23,VLOOKUP(F981,ages!B$1:C$23,2,1),1)),\"\")","v":""},{"$f":"IF(ISNUMBER(F981),IF(AM981<0.85,\"\",VLOOKUP(N981,B!A$2:X$23,VLOOKUP(F981,ages!B$1:C$23,2,1),1)),\"\")","v":""},{"$f":"IF(ISNUMBER(F981),IF(AN981<0.85,\"\",VLOOKUP(O981,'C'!A$2:X$23,VLOOKUP(F981,ages!B$1:C$23,2,1),1)),\"\")","v":""},{"$f":"IF(ISNUMBER(F981),IF(AO981<0.85,\"\",VLOOKUP(P981,D!A$2:X$23,VLOOKUP(F981,ages!B$1:C$23,2,1),1)),\"\")","v":""},{"$f":"IF(ISNUMBER(F981),IF(AP981<0.85,\"\",VLOOKUP(Q981,E!A$2:X$23,VLOOKUP(F981,ages!B$1:C$23,2,1),1)),\"\")","v":""},{"$f":"IF(ISNUMBER(F981),IF(AQ981<0.85,\"\",VLOOKUP(R981,F!A$2:X$23,VLOOKUP(F981,ages!B$1:C$23,2,1),1)),\"\")","v":""},{"$f":"IF(ISNUMBER(F981),IF(AR981<0.85,\"\",VLOOKUP(S981,G!A$2:X$23,VLOOKUP(F981,ages!B$1:C$23,2,1),1)),\"\")","v":""},{"$f":"IF(ISNUMBER(F981),IF(AS981<0.85,\"\",VLOOKUP(T981,H!A$2:X$23,VLOOKUP(F981,ages!B$1:C$23,2,1),1)),\"\")","v":""},{"$f":"IF(ISNUMBER(F981),IF(AT981<0.85,\"\",VLOOKUP(U981,I!A$2:X$23,VLOOKUP(F981,ages!B$1:C$23,2,1),1)),\"\")","v":""},{"$f":"IF(ISNUMBER(F981),IF(AU981<0.85,\"\",VLOOKUP(V981,J!A$2:X$23,VLOOKUP(F981,ages!B$1:C$23,2,1),1)),\"\")","v":""},"","","","",-1.0000000000000002E-6,0,0,0,0,0,0,0,0,0,0,0,null,null,null,null,null,null,null,null,null,null,null,null,null,null,null,null,null,null,null,null,null,null,null,null,null,null,null,null,null,null,null,null,null,null,null,null,null,null,null,null,null,null,null,null,null,null,null,null,null,null,null,null,null,null,null,null,null,null,null,null,null,null,null,null,null,null,null,null,null,null,-9.9999999999999995E-7,-9.9999999999999995E-7,-9.9999999999999995E-7,-9.9999999999999995E-7,-9.9999999999999995E-7,-9.9999999999999995E-7,-9.9999999999999995E-7,-9.9999999999999995E-7,-9.9999999999999995E-7,-9.9999999999999995E-7,-9.9999999999999995E-7,-9.9999999999999995E-7,-9.9999999999999995E-7,-9.9999999999999995E-7,-9.9999999999999995E-7,-9.9999999999999995E-7,-9.9999999999999995E-7,-9.9999999999999995E-7,-9.9999999999999995E-7,-9.9999999999999995E-7,{"$f":"IF(ISERROR(VLOOKUP(F981,ages!B$1:B$23,1,1)),\"\",VLOOKUP(F981,ages!B$1:B$23,1,1))","v":""},{"$f":"IF(ISERROR(VLOOKUP(F981,ages!B$1:D$23,3,1)),\"\",VLOOKUP(F981,ages!B$1:D$23,3,1))","v":""},0,0,0,0,0]
[null,null,null,null,null,"",null,null,null,null,null,null,"","","","","","","","","","",{"$f":"IF(ISNUMBER(F986),IF(AL986<0.85,\"\",VLOOKUP(M986,A!A$2:X$23,VLOOKUP(F986,ages!B$1:C$23,2,1),1)),\"\")","v":""},{"$f":"IF(ISNUMBER(F986),IF(AM986<0.85,\"\",VLOOKUP(N986,B!A$2:X$23,VLOOKUP(F986,ages!B$1:C$23,2,1),1)),\"\")","v":""},{"$f":"IF(ISNUMBER(F986),IF(AN986<0.85,\"\",VLOOKUP(O986,'C'!A$2:X$23,VLOOKUP(F986,ages!B$1:C$23,2,1),1)),\"\")","v":""},{"$f":"IF(ISNUMBER(F986),IF(AO986<0.85,\"\",VLOOKUP(P986,D!A$2:X$23,VLOOKUP(F986,ages!B$1:C$23,2,1),1)),\"\")","v":""},{"$f":"IF(ISNUMBER(F986),IF(AP986<0.85,\"\",VLOOKUP(Q986,E!A$2:X$23,VLOOKUP(F986,ages!B$1:C$23,2,1),1)),\"\")","v":""},{"$f":"IF(ISNUMBER(F986),IF(AQ986<0.85,\"\",VLOOKUP(R986,F!A$2:X$23,VLOOKUP(F986,ages!B$1:C$23,2,1),1)),\"\")","v":""},{"$f":"IF(ISNUMBER(F986),IF(AR986<0.85,\"\",VLOOKUP(S986,G!A$2:X$23,VLOOKUP(F986,ages!B$1:C$23,2,1),1)),\"\")","v":""},{"$f":"IF(ISNUMBER(F986),IF(AS986<0.85,\"\",VLOOKUP(T986,H!A$2:X$23,VLOOKUP(F986,ages!B$1:C$23,2,1),1)),\"\")","v":""},{"$f":"IF(ISNUMBER(F986),IF(AT986<0.85,\"\",VLOOKUP(U986,I!A$2:X$23,VLOOKUP(F986,ages!B$1:C$23,2,1),1)),\"\")","v":""},{"$f":"IF(ISNUMBER(F986),IF(AU986<0.85,\"\",VLOOKUP(V986,J!A$2:X$23,VLOOKUP(F986,ages!B$1:C$23,2,1),1)),\"\")","v":""},"","","","",-1.0000000000000002E-6,0,0,0,0,0,0,0,0,0,0,0,null,null,null,null,null,null,null,null,null,null,null,null,null,null,null,null,null,null,null,null,null,null,null,null,null,null,null,null,null,null,null,null,null,null,null,null,null,null,null,null,null,null,null,null,null,null,null,null,null,null,null,null,null,null,null,null,null,null,null,null,null,null,null,null,null,null,null,null,null,null,-9.9999999999999995E-7,-9.9999999999999995E-7,-9.9999999999999995E-7,-9.9999999999999995E-7,-9.9999999999999995E-7,-9.9999999999999995E-7,-9.9999999999999995E-7,-9.9999999999999995E-7,-9.9999999999999995E-7,-9.9999999999999995E-7,-9.9999999999999995E-7,-9.9999999999999995E-7,-9.9999999999999995E-7,-9.9999999999999995E-7,-9.9999999999999995E-7,-9.9999999999999995E-7,-9.9999999999999995E-7,-9.9999999999999995E-7,-9.9999999999999995E-7,-9.9999999999999995E-7,{"$f":"IF(ISERROR(VLOOKUP(F986,ages!B$1:B$23,1,1)),\"\",VLOOKUP(F986,ages!B$1:B$23,1,1))","v":""},{"$f":"IF(ISERROR(VLOOKUP(F986,ages!B$1:D$23,3,1)),\"\",VLOOKUP(F986,ages!B$1:D$23,3,1))","v":""},0,0,0,0,0]
[null,null,null,null,null,"",null,null,null,null,null,null,"","","","","","","","","","",{"$f":"IF(ISNUMBER(F990),IF(AL990<0.85,\"\",VLOOKUP(M990,A!A$2:X$23,VLOOKUP(F990,ages!B$1:C$23,2,1),1)),\"\")","v":""},{"$f":"IF(ISNUMBER(F990),IF(AM990<0.85,\"\",VLOOKUP(N990,B!A$2:X$23,VLOOKUP(F990,ages!B$1:C$23,2,1),1)),\"\")","v":""},{"$f":"IF(ISNUMBER(F990),IF(AN990<0.85,\"\",VLOOKUP(O990,'C'!A$2:X$23,VLOOKUP(F990,ages!B$1:C$23,2,1),1)),\"\")","v":""},{"$f":"IF(ISNUMBER(F990),IF(AO990<0.85,\"\",VLOOKUP(P990,D!A$2:X$23,VLOOKUP(F990,ages!B$1:C$23,2,1),1)),\"\")","v":""},{"$f":"IF(ISNUMBER(F990),IF(AP990<0.85,\"\",VLOOKUP(Q990,E!A$2:X$23,VLOOKUP(F990,ages!B$1:C$23,2,1),1)),\"\")","v":""},{"$f":"IF(ISNUMBER(F990),IF(AQ990<0.85,\"\",VLOOKUP(R990,F!A$2:X$23,VLOOKUP(F990,ages!B$1:C$23,2,1),1)),\"\")","v":""},{"$f":"IF(ISNUMBER(F990),IF(AR990<0.85,\"\",VLOOKUP(S990,G!A$2:X$23,VLOOKUP(F990,ages!B$1:C$23,2,1),1)),\"\")","v":""},{"$f":"IF(ISNUMBER(F990),IF(AS990<0.85,\"\",VLOOKUP(T990,H!A$2:X$23,VLOOKUP(F990,ages!B$1:C$23,2,1),1)),\"\")","v":""},{"$f":"IF(ISNUMBER(F990),IF(AT990<0.85,\"\",VLOOKUP(U990,I!A$2:X$23,VLOOKUP(F990,ages!B$1:C$23,2,1),1)),\"\")","v":""},{"$f":"IF(ISNUMBER(F990),IF(AU990<0.85,\"\",VLOOKUP(V990,J!A$2:X$23,VLOOKUP(F990,ages!B$1:C$23,2,1),1)),\"\")","v":""},"","","","",-1.0000000000000002E-6,0,0,0,0,0,0,0,0,0,0,0,null,null,null,null,null,null,null,null,null,null,null,null,null,null,null,null,null,null,null,null,null,null,null,null,null,null,null,null,null,null,null,null,null,null,null,null,null,null,null,null,null,null,null,null,null,null,null,null,null,null,null,null,null,null,null,null,null,null,null,null,null,null,null,null,null,null,null,null,null,null,-9.9999999999999995E-7,-9.9999999999999995E-7,-9.9999999999999995E-7,-9.9999999999999995E-7,-9.9999999999999995E-7,-9.9999999999999995E-7,-9.9999999999999995E-7,-9.9999999999999995E-7,-9.9999999999999995E-7,-9.9999999999999995E-7,-9.9999999999999995E-7,-9.9999999999999995E-7,-9.9999999999999995E-7,-9.9999999999999995E-7,-9.9999999999999995E-7,-9.9999999999999995E-7,-9.9999999999999995E-7,-9.9999999999999995E-7,-9.9999999999999995E-7,-9.9999999999999995E-7,{"$f":"IF(ISERROR(VLOOKUP(F990,ages!B$1:B$23,1,1)),\"\",VLOOKUP(F990,ages!B$1:B$23,1,1))","v":""},{"$f":"IF(ISERROR(VLOOKUP(F990,ages!B$1:D$23,3,1)),\"\",VLOOKUP(F990,ages!B$1:D$23,3,1))","v":""},0,0,0,0,0]
[null,null,null,null,null,"",null,null,null,null,null,null,"","","","","","","","","","",{"$f":"IF(ISNUMBER(F991),IF(AL991<0.85,\"\",VLOOKUP(M991,A!A$2:X$23,VLOOKUP(F991,ages!B$1:C$23,2,1),1)),\"\")","v":""},{"$f":"IF(ISNUMBER(F991),IF(AM991<0.85,\"\",VLOOKUP(N991,B!A$2:X$23,VLOOKUP(F991,ages!B$1:C$23,2,1),1)),\"\")","v":""},{"$f":"IF(ISNUMBER(F991),IF(AN991<0.85,\"\",VLOOKUP(O991,'C'!A$2:X$23,VLOOKUP(F991,ages!B$1:C$23,2,1),1)),\"\")","v":""},{"$f":"IF(ISNUMBER(F991),IF(AO991<0.85,\"\",VLOOKUP(P991,D!A$2:X$23,VLOOKUP(F991,ages!B$1:C$23,2,1),1)),\"\")","v":""},{"$f":"IF(ISNUMBER(F991),IF(AP991<0.85,\"\",VLOOKUP(Q991,E!A$2:X$23,VLOOKUP(F991,ages!B$1:C$23,2,1),1)),\"\")","v":""},{"$f":"IF(ISNUMBER(F991),IF(AQ991<0.85,\"\",VLOOKUP(R991,F!A$2:X$23,VLOOKUP(F991,ages!B$1:C$23,2,1),1)),\"\")","v":""},{"$f":"IF(ISNUMBER(F991),IF(AR991<0.85,\"\",VLOOKUP(S991,G!A$2:X$23,VLOOKUP(F991,ages!B$1:C$23,2,1),1)),\"\")","v":""},{"$f":"IF(ISNUMBER(F991),IF(AS991<0.85,\"\",VLOOKUP(T991,H!A$2:X$23,VLOOKUP(F991,ages!B$1:C$23,2,1),1)),\"\")","v":""},{"$f":"IF(ISNUMBER(F991),IF(AT991<0.85,\"\",VLOOKUP(U991,I!A$2:X$23,VLOOKUP(F991,ages!B$1:C$23,2,1),1)),\"\")","v":""},{"$f":"IF(ISNUMBER(F991),IF(AU991<0.85,\"\",VLOOKUP(V991,J!A$2:X$23,VLOOKUP(F991,ages!B$1:C$23,2,1),1)),\"\")","v":""},"","","","",-1.0000000000000002E-6,0,0,0,0,0,0,0,0,0,0,0,null,null,null,null,null,null,null,null,null,null,null,null,null,null,null,null,null,null,null,null,null,null,null,null,null,null,null,null,null,null,null,null,null,null,null,null,null,null,null,null,null,null,null,null,null,null,null,null,null,null,null,null,null,null,null,null,null,null,null,null,null,null,null,null,null,null,null,null,null,null,-9.9999999999999995E-7,-9.9999999999999995E-7,-9.9999999999999995E-7,-9.9999999999999995E-7,-9.9999999999999995E-7,-9.9999999999999995E-7,-9.9999999999999995E-7,-9.9999999999999995E-7,-9.9999999999999995E-7,-9.9999999999999995E-7,-9.9999999999999995E-7,-9.9999999999999995E-7,-9.9999999999999995E-7,-9.9999999999999995E-7,-9.9999999999999995E-7,-9.9999999999999995E-7,-9.9999999999999995E-7,-9.9999999999999995E-7,-9.9999999999999995E-7,-9.9999999999999995E-7,{"$f":"IF(ISERROR(VLOOKUP(F991,ages!B$1:B$23,1,1)),\"\",VLOOKUP(F991,ages!B$1:B$23,1,1))","v":""},{"$f":"IF(ISERROR(VLOOKUP(F991,ages!B$1:D$23,3,1)),\"\",VLOOKUP(F991,ages!B$1:D$23,3,1))","v":""},0,0,0,0,0]
[null,null,null,null,null,"",null,null,null,null,null,null,"","","","","","","","","","",{"$f":"IF(ISNUMBER(F996),IF(AL996<0.85,\"\",VLOOKUP(M996,A!A$2:X$23,VLOOKUP(F996,ages!B$1:C$23,2,1),1)),\"\")","v":""},{"$f":"IF(ISNUMBER(F996),IF(AM996<0.85,\"\",VLOOKUP(N996,B!A$2:X$23,VLOOKUP(F996,ages!B$1:C$23,2,1),1)),\"\")","v":""},{"$f":"IF(ISNUMBER(F996),IF(AN996<0.85,\"\",VLOOKUP(O996,'C'!A$2:X$23,VLOOKUP(F996,ages!B$1:C$23,2,1),1)),\"\")","v":""},{"$f":"IF(ISNUMBER(F996),IF(AO996<0.85,\"\",VLOOKUP(P996,D!A$2:X$23,VLOOKUP(F996,ages!B$1:C$23,2,1),1)),\"\")","v":""},{"$f":"IF(ISNUMBER(F996),IF(AP996<0.85,\"\",VLOOKUP(Q996,E!A$2:X$23,VLOOKUP(F996,ages!B$1:C$23,2,1),1)),\"\")","v":""},{"$f":"IF(ISNUMBER(F996),IF(AQ996<0.85,\"\",VLOOKUP(R996,F!A$2:X$23,VLOOKUP(F996,ages!B$1:C$23,2,1),1)),\"\")","v":""},{"$f":"IF(ISNUMBER(F996),IF(AR996<0.85,\"\",VLOOKUP(S996,G!A$2:X$23,VLOOKUP(F996,ages!B$1:C$23,2,1),1)),\"\")","v":""},{"$f":"IF(ISNUMBER(F996),IF(AS996<0.85,\"\",VLOOKUP(T996,H!A$2:X$23,VLOOKUP(F996,ages!B$1:C$23,2,1),1)),\"\")","v":""},{"$f":"IF(ISNUMBER(F996),IF(AT996<0.85,\"\",VLOOKUP(U996,I!A$2:X$23,VLOOKUP(F996,ages!B$1:C$23,2,1),1)),\"\")","v":""},{"$f":"IF(ISNUMBER(F996),IF(AU996<0.85,\"\",VLOOKUP(V996,J!A$2:X$23,VLOOKUP(F996,ages!B$1:C$23,2,1),1)),\"\")","v":""},"","","","",-1.0000000000000002E-6,0,0,0,0,0,0,0,0,0,0,0,null,null,null,null,null,null,null,null,null,null,null,null,null,null,null,null,null,null,null,null,null,null,null,null,null,null,null,null,null,null,null,null,null,null,null,null,null,null,null,null,null,null,null,null,null,null,null,null,null,null,null,null,null,null,null,null,null,null,null,null,null,null,null,null,null,null,null,null,null,null,-9.9999999999999995E-7,-9.9999999999999995E-7,-9.9999999999999995E-7,-9.9999999999999995E-7,-9.9999999999999995E-7,-9.9999999999999995E-7,-9.9999999999999995E-7,-9.9999999999999995E-7,-9.9999999999999995E-7,-9.9999999999999995E-7,-9.9999999999999995E-7,-9.9999999999999995E-7,-9.9999999999999995E-7,-9.9999999999999995E-7,-9.9999999999999995E-7,-9.9999999999999995E-7,-9.9999999999999995E-7,-9.9999999999999995E-7,-9.9999999999999995E-7,-9.9999999999999995E-7,{"$f":"IF(ISERROR(VLOOKUP(F996,ages!B$1:B$23,1,1)),\"\",VLOOKUP(F996,ages!B$1:B$23,1,1))","v":""},{"$f":"IF(ISERROR(VLOOKUP(F996,ages!B$1:D$23,3,1)),\"\",VLOOKUP(F996,ages!B$1:D$23,3,1))","v":""},0,0,0,0,0]
[null,null,null,null,null,"",null,null,null,null,null,null,"","","","","","","","","","",{"$f":"IF(ISNUMBER(F1001),IF(AL1001<0.85,\"\",VLOOKUP(M1001,A!A$2:X$23,VLOOKUP(F1001,ages!B$1:C$23,2,1),1)),\"\")","v":""},{"$f":"IF(ISNUMBER(F1001),IF(AM1001<0.85,\"\",VLOOKUP(N1001,B!A$2:X$23,VLOOKUP(F1001,ages!B$1:C$23,2,1),1)),\"\")","v":""},{"$f":"IF(ISNUMBER(F1001),IF(AN1001<0.85,\"\",VLOOKUP(O1001,'C'!A$2:X$23,VLOOKUP(F1001,ages!B$1:C$23,2,1),1)),\"\")","v":""},{"$f":"IF(ISNUMBER(F1001),IF(AO1001<0.85,\"\",VLOOKUP(P1001,D!A$2:X$23,VLOOKUP(F1001,ages!B$1:C$23,2,1),1)),\"\")","v":""},{"$f":"IF(ISNUMBER(F1001),IF(AP1001<0.85,\"\",VLOOKUP(Q1001,E!A$2:X$23,VLOOKUP(F1001,ages!B$1:C$23,2,1),1)),\"\")","v":""},{"$f":"IF(ISNUMBER(F1001),IF(AQ1001<0.85,\"\",VLOOKUP(R1001,F!A$2:X$23,VLOOKUP(F1001,ages!B$1:C$23,2,1),1)),\"\")","v":""},{"$f":"IF(ISNUMBER(F1001),IF(AR1001<0.85,\"\",VLOOKUP(S1001,G!A$2:X$23,VLOOKUP(F1001,ages!B$1:C$23,2,1),1)),\"\")","v":""},{"$f":"IF(ISNUMBER(F1001),IF(AS1001<0.85,\"\",VLOOKUP(T1001,H!A$2:X$23,VLOOKUP(F1001,ages!B$1:C$23,2,1),1)),\"\")","v":""},{"$f":"IF(ISNUMBER(F1001),IF(AT1001<0.85,\"\",VLOOKUP(U1001,I!A$2:X$23,VLOOKUP(F1001,ages!B$1:C$23,2,1),1)),\"\")","v":""},{"$f":"IF(ISNUMBER(F1001),IF(AU1001<0.85,\"\",VLOOKUP(V1001,J!A$2:X$23,VLOOKUP(F1001,ages!B$1:C$23,2,1),1)),\"\")","v":""},"","","","",-1.0000000000000002E-6,0,0,0,0,0,0,0,0,0,0,0,null,null,null,null,null,null,null,null,null,null,null,null,null,null,null,null,null,null,null,null,null,null,null,null,null,null,null,null,null,null,null,null,null,null,null,null,null,null,null,null,null,null,null,null,null,null,null,null,null,null,null,null,null,null,null,null,null,null,null,null,null,null,null,null,null,null,null,null,null,null,-9.9999999999999995E-7,-9.9999999999999995E-7,-9.9999999999999995E-7,-9.9999999999999995E-7,-9.9999999999999995E-7,-9.9999999999999995E-7,-9.9999999999999995E-7,-9.9999999999999995E-7,-9.9999999999999995E-7,-9.9999999999999995E-7,-9.9999999999999995E-7,-9.9999999999999995E-7,-9.9999999999999995E-7,-9.9999999999999995E-7,-9.9999999999999995E-7,-9.9999999999999995E-7,-9.9999999999999995E-7,-9.9999999999999995E-7,-9.9999999999999995E-7,-9.9999999999999995E-7,{"$f":"IF(ISERROR(VLOOKUP(F1001,ages!B$1:B$23,1,1)),\"\",VLOOKUP(F1001,ages!B$1:B$23,1,1))","v":""},{"$f":"IF(ISERROR(VLOOKUP(F1001,ages!B$1:D$23,3,1)),\"\",VLOOKUP(F1001,ages!B$1:D$23,3,1))","v":""},0,0,0,0,0]
[null,null,null,null,null,"",null,null,null,null,null,null,"","","","","","","","","","",{"$f":"IF(ISNUMBER(F1007),IF(AL1007<0.85,\"\",VLOOKUP(M1007,A!A$2:X$23,VLOOKUP(F1007,ages!B$1:C$23,2,1),1)),\"\")","v":""},{"$f":"IF(ISNUMBER(F1007),IF(AM1007<0.85,\"\",VLOOKUP(N1007,B!A$2:X$23,VLOOKUP(F1007,ages!B$1:C$23,2,1),1)),\"\")","v":""},{"$f":"IF(ISNUMBER(F1007),IF(AN1007<0.85,\"\",VLOOKUP(O1007,'C'!A$2:X$23,VLOOKUP(F1007,ages!B$1:C$23,2,1),1)),\"\")","v":""},{"$f":"IF(ISNUMBER(F1007),IF(AO1007<0.85,\"\",VLOOKUP(P1007,D!A$2:X$23,VLOOKUP(F1007,ages!B$1:C$23,2,1),1)),\"\")","v":""},{"$f":"IF(ISNUMBER(F1007),IF(AP1007<0.85,\"\",VLOOKUP(Q1007,E!A$2:X$23,VLOOKUP(F1007,ages!B$1:C$23,2,1),1)),\"\")","v":""},{"$f":"IF(ISNUMBER(F1007),IF(AQ1007<0.85,\"\",VLOOKUP(R1007,F!A$2:X$23,VLOOKUP(F1007,ages!B$1:C$23,2,1),1)),\"\")","v":""},{"$f":"IF(ISNUMBER(F1007),IF(AR1007<0.85,\"\",VLOOKUP(S1007,G!A$2:X$23,VLOOKUP(F1007,ages!B$1:C$23,2,1),1)),\"\")","v":""},{"$f":"IF(ISNUMBER(F1007),IF(AS1007<0.85,\"\",VLOOKUP(T1007,H!A$2:X$23,VLOOKUP(F1007,ages!B$1:C$23,2,1),1)),\"\")","v":""},{"$f":"IF(ISNUMBER(F1007),IF(AT1007<0.85,\"\",VLOOKUP(U1007,I!A$2:X$23,VLOOKUP(F1007,ages!B$1:C$23,2,1),1)),\"\")","v":""},{"$f":"IF(ISNUMBER(F1007),IF(AU1007<0.85,\"\",VLOOKUP(V1007,J!A$2:X$23,VLOOKUP(F1007,ages!B$1:C$23,2,1),1)),\"\")","v":""},"","","","",-1.0000000000000002E-6,0,0,0,0,0,0,0,0,0,0,0,null,null,null,null,null,null,null,null,null,null,null,null,null,null,null,null,null,null,null,null,null,null,null,null,null,null,null,null,null,null,null,null,null,null,null,null,null,null,null,null,null,null,null,null,null,null,null,null,null,null,null,null,null,null,null,null,null,null,null,null,null,null,null,null,null,null,null,null,null,null,-9.9999999999999995E-7,-9.9999999999999995E-7,-9.9999999999999995E-7,-9.9999999999999995E-7,-9.9999999999999995E-7,-9.9999999999999995E-7,-9.9999999999999995E-7,-9.9999999999999995E-7,-9.9999999999999995E-7,-9.9999999999999995E-7,-9.9999999999999995E-7,-9.9999999999999995E-7,-9.9999999999999995E-7,-9.9999999999999995E-7,-9.9999999999999995E-7,-9.9999999999999995E-7,-9.9999999999999995E-7,-9.9999999999999995E-7,-9.9999999999999995E-7,-9.9999999999999995E-7,{"$f":"IF(ISERROR(VLOOKUP(F1007,ages!B$1:B$23,1,1)),\"\",VLOOKUP(F1007,ages!B$1:B$23,1,1))","v":""},{"$f":"IF(ISERROR(VLOOKUP(F1007,ages!B$1:D$23,3,1)),\"\",VLOOKUP(F1007,ages!B$1:D$23,3,1))","v":""},0,0,0,0,0]
[null,null,null,null,null,"",null,null,null,null,null,null,"","","","","","","","","","",{"$f":"IF(ISNUMBER(F1011),IF(AL1011<0.85,\"\",VLOOKUP(M1011,A!A$2:X$23,VLOOKUP(F1011,ages!B$1:C$23,2,1),1)),\"\")","v":""},{"$f":"IF(ISNUMBER(F1011),IF(AM1011<0.85,\"\",VLOOKUP(N1011,B!A$2:X$23,VLOOKUP(F1011,ages!B$1:C$23,2,1),1)),\"\")","v":""},{"$f":"IF(ISNUMBER(F1011),IF(AN1011<0.85,\"\",VLOOKUP(O1011,'C'!A$2:X$23,VLOOKUP(F1011,ages!B$1:C$23,2,1),1)),\"\")","v":""},{"$f":"IF(ISNUMBER(F1011),IF(AO1011<0.85,\"\",VLOOKUP(P1011,D!A$2:X$23,VLOOKUP(F1011,ages!B$1:C$23,2,1),1)),\"\")","v":""},{"$f":"IF(ISNUMBER(F1011),IF(AP1011<0.85,\"\",VLOOKUP(Q1011,E!A$2:X$23,VLOOKUP(F1011,ages!B$1:C$23,2,1),1)),\"\")","v":""},{"$f":"IF(ISNUMBER(F1011),IF(AQ1011<0.85,\"\",VLOOKUP(R1011,F!A$2:X$23,VLOOKUP(F1011,ages!B$1:C$23,2,1),1)),\"\")","v":""},{"$f":"IF(ISNUMBER(F1011),IF(AR1011<0.85,\"\",VLOOKUP(S1011,G!A$2:X$23,VLOOKUP(F1011,ages!B$1:C$23,2,1),1)),\"\")","v":""},{"$f":"IF(ISNUMBER(F1011),IF(AS1011<0.85,\"\",VLOOKUP(T1011,H!A$2:X$23,VLOOKUP(F1011,ages!B$1:C$23,2,1),1)),\"\")","v":""},{"$f":"IF(ISNUMBER(F1011),IF(AT1011<0.85,\"\",VLOOKUP(U1011,I!A$2:X$23,VLOOKUP(F1011,ages!B$1:C$23,2,1),1)),\"\")","v":""},{"$f":"IF(ISNUMBER(F1011),IF(AU1011<0.85,\"\",VLOOKUP(V1011,J!A$2:X$23,VLOOKUP(F1011,ages!B$1:C$23,2,1),1)),\"\")","v":""},"","","","",-1.0000000000000002E-6,0,0,0,0,0,0,0,0,0,0,0,null,null,null,null,null,null,null,null,null,null,null,null,null,null,null,null,null,null,null,null,null,null,null,null,null,null,null,null,null,null,null,null,null,null,null,null,null,null,null,null,null,null,null,null,null,null,null,null,null,null,null,null,null,null,null,null,null,null,null,null,null,null,null,null,null,null,null,null,null,null,-9.9999999999999995E-7,-9.9999999999999995E-7,-9.9999999999999995E-7,-9.9999999999999995E-7,-9.9999999999999995E-7,-9.9999999999999995E-7,-9.9999999999999995E-7,-9.9999999999999995E-7,-9.9999999999999995E-7,-9.9999999999999995E-7,-9.9999999999999995E-7,-9.9999999999999995E-7,-9.9999999999999995E-7,-9.9999999999999995E-7,-9.9999999999999995E-7,-9.9999999999999995E-7,-9.9999999999999995E-7,-9.9999999999999995E-7,-9.9999999999999995E-7,-9.9999999999999995E-7,{"$f":"IF(ISERROR(VLOOKUP(F1011,ages!B$1:B$23,1,1)),\"\",VLOOKUP(F1011,ages!B$1:B$23,1,1))","v":""},{"$f":"IF(ISERROR(VLOOKUP(F1011,ages!B$1:D$23,3,1)),\"\",VLOOKUP(F1011,ages!B$1:D$23,3,1))","v":""},0,0,0,0,0]
[null,null,null,null,null,"",null,null,null,null,null,null,"","","","","","","","","","",{"$f":"IF(ISNUMBER(F1017),IF(AL1017<0.85,\"\",VLOOKUP(M1017,A!A$2:X$23,VLOOKUP(F1017,ages!B$1:C$23,2,1),1)),\"\")","v":""},{"$f":"IF(ISNUMBER(F1017),IF(AM1017<0.85,\"\",VLOOKUP(N1017,B!A$2:X$23,VLOOKUP(F1017,ages!B$1:C$23,2,1),1)),\"\")","v":""},{"$f":"IF(ISNUMBER(F1017),IF(AN1017<0.85,\"\",VLOOKUP(O1017,'C'!A$2:X$23,VLOOKUP(F1017,ages!B$1:C$23,2,1),1)),\"\")","v":""},{"$f":"IF(ISNUMBER(F1017),IF(AO1017<0.85,\"\",VLOOKUP(P1017,D!A$2:X$23,VLOOKUP(F1017,ages!B$1:C$23,2,1),1)),\"\")","v":""},{"$f":"IF(ISNUMBER(F1017),IF(AP1017<0.85,\"\",VLOOKUP(Q1017,E!A$2:X$23,VLOOKUP(F1017,ages!B$1:C$23,2,1),1)),\"\")","v":""},{"$f":"IF(ISNUMBER(F1017),IF(AQ1017<0.85,\"\",VLOOKUP(R1017,F!A$2:X$23,VLOOKUP(F1017,ages!B$1:C$23,2,1),1)),\"\")","v":""},{"$f":"IF(ISNUMBER(F1017),IF(AR1017<0.85,\"\",VLOOKUP(S1017,G!A$2:X$23,VLOOKUP(F1017,ages!B$1:C$23,2,1),1)),\"\")","v":""},{"$f":"IF(ISNUMBER(F1017),IF(AS1017<0.85,\"\",VLOOKUP(T1017,H!A$2:X$23,VLOOKUP(F1017,ages!B$1:C$23,2,1),1)),\"\")","v":""},{"$f":"IF(ISNUMBER(F1017),IF(AT1017<0.85,\"\",VLOOKUP(U1017,I!A$2:X$23,VLOOKUP(F1017,ages!B$1:C$23,2,1),1)),\"\")","v":""},{"$f":"IF(ISNUMBER(F1017),IF(AU1017<0.85,\"\",VLOOKUP(V1017,J!A$2:X$23,VLOOKUP(F1017,ages!B$1:C$23,2,1),1)),\"\")","v":""},"","","","",-1.0000000000000002E-6,0,0,0,0,0,0,0,0,0,0,0,null,null,null,null,null,null,null,null,null,null,null,null,null,null,null,null,null,null,null,null,null,null,null,null,null,null,null,null,null,null,null,null,null,null,null,null,null,null,null,null,null,null,null,null,null,null,null,null,null,null,null,null,null,null,null,null,null,null,null,null,null,null,null,null,null,null,null,null,null,null,-9.9999999999999995E-7,-9.9999999999999995E-7,-9.9999999999999995E-7,-9.9999999999999995E-7,-9.9999999999999995E-7,-9.9999999999999995E-7,-9.9999999999999995E-7,-9.9999999999999995E-7,-9.9999999999999995E-7,-9.9999999999999995E-7,-9.9999999999999995E-7,-9.9999999999999995E-7,-9.9999999999999995E-7,-9.9999999999999995E-7,-9.9999999999999995E-7,-9.9999999999999995E-7,-9.9999999999999995E-7,-9.9999999999999995E-7,-9.9999999999999995E-7,-9.9999999999999995E-7,{"$f":"IF(ISERROR(VLOOKUP(F1017,ages!B$1:B$23,1,1)),\"\",VLOOKUP(F1017,ages!B$1:B$23,1,1))","v":""},{"$f":"IF(ISERROR(VLOOKUP(F1017,ages!B$1:D$23,3,1)),\"\",VLOOKUP(F1017,ages!B$1:D$23,3,1))","v":""},0,0,0,0,0]
[null,null,null,null,null,"",null,null,null,null,null,null,"","","","","","","","","","",{"$f":"IF(ISNUMBER(F1022),IF(AL1022<0.85,\"\",VLOOKUP(M1022,A!A$2:X$23,VLOOKUP(F1022,ages!B$1:C$23,2,1),1)),\"\")","v":""},{"$f":"IF(ISNUMBER(F1022),IF(AM1022<0.85,\"\",VLOOKUP(N1022,B!A$2:X$23,VLOOKUP(F1022,ages!B$1:C$23,2,1),1)),\"\")","v":""},{"$f":"IF(ISNUMBER(F1022),IF(AN1022<0.85,\"\",VLOOKUP(O1022,'C'!A$2:X$23,VLOOKUP(F1022,ages!B$1:C$23,2,1),1)),\"\")","v":""},{"$f":"IF(ISNUMBER(F1022),IF(AO1022<0.85,\"\",VLOOKUP(P1022,D!A$2:X$23,VLOOKUP(F1022,ages!B$1:C$23,2,1),1)),\"\")","v":""},{"$f":"IF(ISNUMBER(F1022),IF(AP1022<0.85,\"\",VLOOKUP(Q1022,E!A$2:X$23,VLOOKUP(F1022,ages!B$1:C$23,2,1),1)),\"\")","v":""},{"$f":"IF(ISNUMBER(F1022),IF(AQ1022<0.85,\"\",VLOOKUP(R1022,F!A$2:X$23,VLOOKUP(F1022,ages!B$1:C$23,2,1),1)),\"\")","v":""},{"$f":"IF(ISNUMBER(F1022),IF(AR1022<0.85,\"\",VLOOKUP(S1022,G!A$2:X$23,VLOOKUP(F1022,ages!B$1:C$23,2,1),1)),\"\")","v":""},{"$f":"IF(ISNUMBER(F1022),IF(AS1022<0.85,\"\",VLOOKUP(T1022,H!A$2:X$23,VLOOKUP(F1022,ages!B$1:C$23,2,1),1)),\"\")","v":""},{"$f":"IF(ISNUMBER(F1022),IF(AT1022<0.85,\"\",VLOOKUP(U1022,I!A$2:X$23,VLOOKUP(F1022,ages!B$1:C$23,2,1),1)),\"\")","v":""},{"$f":"IF(ISNUMBER(F1022),IF(AU1022<0.85,\"\",VLOOKUP(V1022,J!A$2:X$23,VLOOKUP(F1022,ages!B$1:C$23,2,1),1)),\"\")","v":""},"","","","",-1.0000000000000002E-6,0,0,0,0,0,0,0,0,0,0,0,null,null,null,null,null,null,null,null,null,null,null,null,null,null,null,null,null,null,null,null,null,null,null,null,null,null,null,null,null,null,null,null,null,null,null,null,null,null,null,null,null,null,null,null,null,null,null,null,null,null,null,null,null,null,null,null,null,null,null,null,null,null,null,null,null,null,null,null,null,null,-9.9999999999999995E-7,-9.9999999999999995E-7,-9.9999999999999995E-7,-9.9999999999999995E-7,-9.9999999999999995E-7,-9.9999999999999995E-7,-9.9999999999999995E-7,-9.9999999999999995E-7,-9.9999999999999995E-7,-9.9999999999999995E-7,-9.9999999999999995E-7,-9.9999999999999995E-7,-9.9999999999999995E-7,-9.9999999999999995E-7,-9.9999999999999995E-7,-9.9999999999999995E-7,-9.9999999999999995E-7,-9.9999999999999995E-7,-9.9999999999999995E-7,-9.9999999999999995E-7,{"$f":"IF(ISERROR(VLOOKUP(F1022,ages!B$1:B$23,1,1)),\"\",VLOOKUP(F1022,ages!B$1:B$23,1,1))","v":""},{"$f":"IF(ISERROR(VLOOKUP(F1022,ages!B$1:D$23,3,1)),\"\",VLOOKUP(F1022,ages!B$1:D$23,3,1))","v":""},0,0,0,0,0]
[null,null,null,null,null,"",null,null,null,null,null,null,"","","","","","","","","","",{"$f":"IF(ISNUMBER(F1027),IF(AL1027<0.85,\"\",VLOOKUP(M1027,A!A$2:X$23,VLOOKUP(F1027,ages!B$1:C$23,2,1),1)),\"\")","v":""},{"$f":"IF(ISNUMBER(F1027),IF(AM1027<0.85,\"\",VLOOKUP(N1027,B!A$2:X$23,VLOOKUP(F1027,ages!B$1:C$23,2,1),1)),\"\")","v":""},{"$f":"IF(ISNUMBER(F1027),IF(AN1027<0.85,\"\",VLOOKUP(O1027,'C'!A$2:X$23,VLOOKUP(F1027,ages!B$1:C$23,2,1),1)),\"\")","v":""},{"$f":"IF(ISNUMBER(F1027),IF(AO1027<0.85,\"\",VLOOKUP(P1027,D!A$2:X$23,VLOOKUP(F1027,ages!B$1:C$23,2,1),1)),\"\")","v":""},{"$f":"IF(ISNUMBER(F1027),IF(AP1027<0.85,\"\",VLOOKUP(Q1027,E!A$2:X$23,VLOOKUP(F1027,ages!B$1:C$23,2,1),1)),\"\")","v":""},{"$f":"IF(ISNUMBER(F1027),IF(AQ1027<0.85,\"\",VLOOKUP(R1027,F!A$2:X$23,VLOOKUP(F1027,ages!B$1:C$23,2,1),1)),\"\")","v":""},{"$f":"IF(ISNUMBER(F1027),IF(AR1027<0.85,\"\",VLOOKUP(S1027,G!A$2:X$23,VLOOKUP(F1027,ages!B$1:C$23,2,1),1)),\"\")","v":""},{"$f":"IF(ISNUMBER(F1027),IF(AS1027<0.85,\"\",VLOOKUP(T1027,H!A$2:X$23,VLOOKUP(F1027,ages!B$1:C$23,2,1),1)),\"\")","v":""},{"$f":"IF(ISNUMBER(F1027),IF(AT1027<0.85,\"\",VLOOKUP(U1027,I!A$2:X$23,VLOOKUP(F1027,ages!B$1:C$23,2,1),1)),\"\")","v":""},{"$f":"IF(ISNUMBER(F1027),IF(AU1027<0.85,\"\",VLOOKUP(V1027,J!A$2:X$23,VLOOKUP(F1027,ages!B$1:C$23,2,1),1)),\"\")","v":""},"","","","",-1.0000000000000002E-6,0,0,0,0,0,0,0,0,0,0,0,null,null,null,null,null,null,null,null,null,null,null,null,null,null,null,null,null,null,null,null,null,null,null,null,null,null,null,null,null,null,null,null,null,null,null,null,null,null,null,null,null,null,null,null,null,null,null,null,null,null,null,null,null,null,null,null,null,null,null,null,null,null,null,null,null,null,null,null,null,null,-9.9999999999999995E-7,-9.9999999999999995E-7,-9.9999999999999995E-7,-9.9999999999999995E-7,-9.9999999999999995E-7,-9.9999999999999995E-7,-9.9999999999999995E-7,-9.9999999999999995E-7,-9.9999999999999995E-7,-9.9999999999999995E-7,-9.9999999999999995E-7,-9.9999999999999995E-7,-9.9999999999999995E-7,-9.9999999999999995E-7,-9.9999999999999995E-7,-9.9999999999999995E-7,-9.9999999999999995E-7,-9.9999999999999995E-7,-9.9999999999999995E-7,-9.9999999999999995E-7,{"$f":"IF(ISERROR(VLOOKUP(F1027,ages!B$1:B$23,1,1)),\"\",VLOOKUP(F1027,ages!B$1:B$23,1,1))","v":""},{"$f":"IF(ISERROR(VLOOKUP(F1027,ages!B$1:D$23,3,1)),\"\",VLOOKUP(F1027,ages!B$1:D$23,3,1))","v":""},0,0,0,0,0]
[null,null,null,null,null,"",null,null,null,null,null,null,"","","","","","","","","","",{"$f":"IF(ISNUMBER(F1030),IF(AL1030<0.85,\"\",VLOOKUP(M1030,A!A$2:X$23,VLOOKUP(F1030,ages!B$1:C$23,2,1),1)),\"\")","v":""},{"$f":"IF(ISNUMBER(F1030),IF(AM1030<0.85,\"\",VLOOKUP(N1030,B!A$2:X$23,VLOOKUP(F1030,ages!B$1:C$23,2,1),1)),\"\")","v":""},{"$f":"IF(ISNUMBER(F1030),IF(AN1030<0.85,\"\",VLOOKUP(O1030,'C'!A$2:X$23,VLOOKUP(F1030,ages!B$1:C$23,2,1),1)),\"\")","v":""},{"$f":"IF(ISNUMBER(F1030),IF(AO1030<0.85,\"\",VLOOKUP(P1030,D!A$2:X$23,VLOOKUP(F1030,ages!B$1:C$23,2,1),1)),\"\")","v":""},{"$f":"IF(ISNUMBER(F1030),IF(AP1030<0.85,\"\",VLOOKUP(Q1030,E!A$2:X$23,VLOOKUP(F1030,ages!B$1:C$23,2,1),1)),\"\")","v":""},{"$f":"IF(ISNUMBER(F1030),IF(AQ1030<0.85,\"\",VLOOKUP(R1030,F!A$2:X$23,VLOOKUP(F1030,ages!B$1:C$23,2,1),1)),\"\")","v":""},{"$f":"IF(ISNUMBER(F1030),IF(AR1030<0.85,\"\",VLOOKUP(S1030,G!A$2:X$23,VLOOKUP(F1030,ages!B$1:C$23,2,1),1)),\"\")","v":""},{"$f":"IF(ISNUMBER(F1030),IF(AS1030<0.85,\"\",VLOOKUP(T1030,H!A$2:X$23,VLOOKUP(F1030,ages!B$1:C$23,2,1),1)),\"\")","v":""},{"$f":"IF(ISNUMBER(F1030),IF(AT1030<0.85,\"\",VLOOKUP(U1030,I!A$2:X$23,VLOOKUP(F1030,ages!B$1:C$23,2,1),1)),\"\")","v":""},{"$f":"IF(ISNUMBER(F1030),IF(AU1030<0.85,\"\",VLOOKUP(V1030,J!A$2:X$23,VLOOKUP(F1030,ages!B$1:C$23,2,1),1)),\"\")","v":""},"","","","",-1.0000000000000002E-6,0,0,0,0,0,0,0,0,0,0,0,null,null,null,null,null,null,null,null,null,null,null,null,null,null,null,null,null,null,null,null,null,null,null,null,null,null,null,null,null,null,null,null,null,null,null,null,null,null,null,null,null,null,null,null,null,null,null,null,null,null,null,null,null,null,null,null,null,null,null,null,null,null,null,null,null,null,null,null,null,null,-9.9999999999999995E-7,-9.9999999999999995E-7,-9.9999999999999995E-7,-9.9999999999999995E-7,-9.9999999999999995E-7,-9.9999999999999995E-7,-9.9999999999999995E-7,-9.9999999999999995E-7,-9.9999999999999995E-7,-9.9999999999999995E-7,-9.9999999999999995E-7,-9.9999999999999995E-7,-9.9999999999999995E-7,-9.9999999999999995E-7,-9.9999999999999995E-7,-9.9999999999999995E-7,-9.9999999999999995E-7,-9.9999999999999995E-7,-9.9999999999999995E-7,-9.9999999999999995E-7,{"$f":"IF(ISERROR(VLOOKUP(F1030,ages!B$1:B$23,1,1)),\"\",VLOOKUP(F1030,ages!B$1:B$23,1,1))","v":""},{"$f":"IF(ISERROR(VLOOKUP(F1030,ages!B$1:D$23,3,1)),\"\",VLOOKUP(F1030,ages!B$1:D$23,3,1))","v":""},0,0,0,0,0]
[null,null,null,null,null,"",null,null,null,null,null,null,"","","","","","","","","","",{"$f":"IF(ISNUMBER(F1037),IF(AL1037<0.85,\"\",VLOOKUP(M1037,A!A$2:X$23,VLOOKUP(F1037,ages!B$1:C$23,2,1),1)),\"\")","v":""},{"$f":"IF(ISNUMBER(F1037),IF(AM1037<0.85,\"\",VLOOKUP(N1037,B!A$2:X$23,VLOOKUP(F1037,ages!B$1:C$23,2,1),1)),\"\")","v":""},{"$f":"IF(ISNUMBER(F1037),IF(AN1037<0.85,\"\",VLOOKUP(O1037,'C'!A$2:X$23,VLOOKUP(F1037,ages!B$1:C$23,2,1),1)),\"\")","v":""},{"$f":"IF(ISNUMBER(F1037),IF(AO1037<0.85,\"\",VLOOKUP(P1037,D!A$2:X$23,VLOOKUP(F1037,ages!B$1:C$23,2,1),1)),\"\")","v":""},{"$f":"IF(ISNUMBER(F1037),IF(AP1037<0.85,\"\",VLOOKUP(Q1037,E!A$2:X$23,VLOOKUP(F1037,ages!B$1:C$23,2,1),1)),\"\")","v":""},{"$f":"IF(ISNUMBER(F1037),IF(AQ1037<0.85,\"\",VLOOKUP(R1037,F!A$2:X$23,VLOOKUP(F1037,ages!B$1:C$23,2,1),1)),\"\")","v":""},{"$f":"IF(ISNUMBER(F1037),IF(AR1037<0.85,\"\",VLOOKUP(S1037,G!A$2:X$23,VLOOKUP(F1037,ages!B$1:C$23,2,1),1)),\"\")","v":""},{"$f":"IF(ISNUMBER(F1037),IF(AS1037<0.85,\"\",VLOOKUP(T1037,H!A$2:X$23,VLOOKUP(F1037,ages!B$1:C$23,2,1),1)),\"\")","v":""},{"$f":"IF(ISNUMBER(F1037),IF(AT1037<0.85,\"\",VLOOKUP(U1037,I!A$2:X$23,VLOOKUP(F1037,ages!B$1:C$23,2,1),1)),\"\")","v":""},{"$f":"IF(ISNUMBER(F1037),IF(AU1037<0.85,\"\",VLOOKUP(V1037,J!A$2:X$23,VLOOKUP(F1037,ages!B$1:C$23,2,1),1)),\"\")","v":""},"","","","",-1.0000000000000002E-6,0,0,0,0,0,0,0,0,0,0,0,null,null,null,null,null,null,null,null,null,null,null,null,null,null,null,null,null,null,null,null,null,null,null,null,null,null,null,null,null,null,null,null,null,null,null,null,null,null,null,null,null,null,null,null,null,null,null,null,null,null,null,null,null,null,null,null,null,null,null,null,null,null,null,null,null,null,null,null,null,null,-9.9999999999999995E-7,-9.9999999999999995E-7,-9.9999999999999995E-7,-9.9999999999999995E-7,-9.9999999999999995E-7,-9.9999999999999995E-7,-9.9999999999999995E-7,-9.9999999999999995E-7,-9.9999999999999995E-7,-9.9999999999999995E-7,-9.9999999999999995E-7,-9.9999999999999995E-7,-9.9999999999999995E-7,-9.9999999999999995E-7,-9.9999999999999995E-7,-9.9999999999999995E-7,-9.9999999999999995E-7,-9.9999999999999995E-7,-9.9999999999999995E-7,-9.9999999999999995E-7,{"$f":"IF(ISERROR(VLOOKUP(F1037,ages!B$1:B$23,1,1)),\"\",VLOOKUP(F1037,ages!B$1:B$23,1,1))","v":""},{"$f":"IF(ISERROR(VLOOKUP(F1037,ages!B$1:D$23,3,1)),\"\",VLOOKUP(F1037,ages!B$1:D$23,3,1))","v":""},0,0,0,0,0]
[null,null,null,null,null,"",null,null,null,null,null,null,"","","","","","","","","","",{"$f":"IF(ISNUMBER(F1043),IF(AL1043<0.85,\"\",VLOOKUP(M1043,A!A$2:X$23,VLOOKUP(F1043,ages!B$1:C$23,2,1),1)),\"\")","v":""},{"$f":"IF(ISNUMBER(F1043),IF(AM1043<0.85,\"\",VLOOKUP(N1043,B!A$2:X$23,VLOOKUP(F1043,ages!B$1:C$23,2,1),1)),\"\")","v":""},{"$f":"IF(ISNUMBER(F1043),IF(AN1043<0.85,\"\",VLOOKUP(O1043,'C'!A$2:X$23,VLOOKUP(F1043,ages!B$1:C$23,2,1),1)),\"\")","v":""},{"$f":"IF(ISNUMBER(F1043),IF(AO1043<0.85,\"\",VLOOKUP(P1043,D!A$2:X$23,VLOOKUP(F1043,ages!B$1:C$23,2,1),1)),\"\")","v":""},{"$f":"IF(ISNUMBER(F1043),IF(AP1043<0.85,\"\",VLOOKUP(Q1043,E!A$2:X$23,VLOOKUP(F1043,ages!B$1:C$23,2,1),1)),\"\")","v":""},{"$f":"IF(ISNUMBER(F1043),IF(AQ1043<0.85,\"\",VLOOKUP(R1043,F!A$2:X$23,VLOOKUP(F1043,ages!B$1:C$23,2,1),1)),\"\")","v":""},{"$f":"IF(ISNUMBER(F1043),IF(AR1043<0.85,\"\",VLOOKUP(S1043,G!A$2:X$23,VLOOKUP(F1043,ages!B$1:C$23,2,1),1)),\"\")","v":""},{"$f":"IF(ISNUMBER(F1043),IF(AS1043<0.85,\"\",VLOOKUP(T1043,H!A$2:X$23,VLOOKUP(F1043,ages!B$1:C$23,2,1),1)),\"\")","v":""},{"$f":"IF(ISNUMBER(F1043),IF(AT1043<0.85,\"\",VLOOKUP(U1043,I!A$2:X$23,VLOOKUP(F1043,ages!B$1:C$23,2,1),1)),\"\")","v":""},{"$f":"IF(ISNUMBER(F1043),IF(AU1043<0.85,\"\",VLOOKUP(V1043,J!A$2:X$23,VLOOKUP(F1043,ages!B$1:C$23,2,1),1)),\"\")","v":""},"","","","",-1.0000000000000002E-6,0,0,0,0,0,0,0,0,0,0,0,null,null,null,null,null,null,null,null,null,null,null,null,null,null,null,null,null,null,null,null,null,null,null,null,null,null,null,null,null,null,null,null,null,null,null,null,null,null,null,null,null,null,null,null,null,null,null,null,null,null,null,null,null,null,null,null,null,null,null,null,null,null,null,null,null,null,null,null,null,null,-9.9999999999999995E-7,-9.9999999999999995E-7,-9.9999999999999995E-7,-9.9999999999999995E-7,-9.9999999999999995E-7,-9.9999999999999995E-7,-9.9999999999999995E-7,-9.9999999999999995E-7,-9.9999999999999995E-7,-9.9999999999999995E-7,-9.9999999999999995E-7,-9.9999999999999995E-7,-9.9999999999999995E-7,-9.9999999999999995E-7,-9.9999999999999995E-7,-9.9999999999999995E-7,-9.9999999999999995E-7,-9.9999999999999995E-7,-9.9999999999999995E-7,-9.9999999999999995E-7,{"$f":"IF(ISERROR(VLOOKUP(F1043,ages!B$1:B$23,1,1)),\"\",VLOOKUP(F1043,ages!B$1:B$23,1,1))","v":""},{"$f":"IF(ISERROR(VLOOKUP(F1043,ages!B$1:D$23,3,1)),\"\",VLOOKUP(F1043,ages!B$1:D$23,3,1))","v":""},0,0,0,0,0]
[null,null,null,null,null,"",null,null,null,null,null,null,"","","","","","","","","","",{"$f":"IF(ISNUMBER(F1048),IF(AL1048<0.85,\"\",VLOOKUP(M1048,A!A$2:X$23,VLOOKUP(F1048,ages!B$1:C$23,2,1),1)),\"\")","v":""},{"$f":"IF(ISNUMBER(F1048),IF(AM1048<0.85,\"\",VLOOKUP(N1048,B!A$2:X$23,VLOOKUP(F1048,ages!B$1:C$23,2,1),1)),\"\")","v":""},{"$f":"IF(ISNUMBER(F1048),IF(AN1048<0.85,\"\",VLOOKUP(O1048,'C'!A$2:X$23,VLOOKUP(F1048,ages!B$1:C$23,2,1),1)),\"\")","v":""},{"$f":"IF(ISNUMBER(F1048),IF(AO1048<0.85,\"\",VLOOKUP(P1048,D!A$2:X$23,VLOOKUP(F1048,ages!B$1:C$23,2,1),1)),\"\")","v":""},{"$f":"IF(ISNUMBER(F1048),IF(AP1048<0.85,\"\",VLOOKUP(Q1048,E!A$2:X$23,VLOOKUP(F1048,ages!B$1:C$23,2,1),1)),\"\")","v":""},{"$f":"IF(ISNUMBER(F1048),IF(AQ1048<0.85,\"\",VLOOKUP(R1048,F!A$2:X$23,VLOOKUP(F1048,ages!B$1:C$23,2,1),1)),\"\")","v":""},{"$f":"IF(ISNUMBER(F1048),IF(AR1048<0.85,\"\",VLOOKUP(S1048,G!A$2:X$23,VLOOKUP(F1048,ages!B$1:C$23,2,1),1)),\"\")","v":""},{"$f":"IF(ISNUMBER(F1048),IF(AS1048<0.85,\"\",VLOOKUP(T1048,H!A$2:X$23,VLOOKUP(F1048,ages!B$1:C$23,2,1),1)),\"\")","v":""},{"$f":"IF(ISNUMBER(F1048),IF(AT1048<0.85,\"\",VLOOKUP(U1048,I!A$2:X$23,VLOOKUP(F1048,ages!B$1:C$23,2,1),1)),\"\")","v":""},{"$f":"IF(ISNUMBER(F1048),IF(AU1048<0.85,\"\",VLOOKUP(V1048,J!A$2:X$23,VLOOKUP(F1048,ages!B$1:C$23,2,1),1)),\"\")","v":""},"","","","",-1.0000000000000002E-6,0,0,0,0,0,0,0,0,0,0,0,null,null,null,null,null,null,null,null,null,null,null,null,null,null,null,null,null,null,null,null,null,null,null,null,null,null,null,null,null,null,null,null,null,null,null,null,null,null,null,null,null,null,null,null,null,null,null,null,null,null,null,null,null,null,null,null,null,null,null,null,null,null,null,null,null,null,null,null,null,null,-9.9999999999999995E-7,-9.9999999999999995E-7,-9.9999999999999995E-7,-9.9999999999999995E-7,-9.9999999999999995E-7,-9.9999999999999995E-7,-9.9999999999999995E-7,-9.9999999999999995E-7,-9.9999999999999995E-7,-9.9999999999999995E-7,-9.9999999999999995E-7,-9.9999999999999995E-7,-9.9999999999999995E-7,-9.9999999999999995E-7,-9.9999999999999995E-7,-9.9999999999999995E-7,-9.9999999999999995E-7,-9.9999999999999995E-7,-9.9999999999999995E-7,-9.9999999999999995E-7,{"$f":"IF(ISERROR(VLOOKUP(F1048,ages!B$1:B$23,1,1)),\"\",VLOOKUP(F1048,ages!B$1:B$23,1,1))","v":""},{"$f":"IF(ISERROR(VLOOKUP(F1048,ages!B$1:D$23,3,1)),\"\",VLOOKUP(F1048,ages!B$1:D$23,3,1))","v":""},0,0,0,0,0]
[null,null,null,null,null,"",null,null,null,null,null,null,"","","","","","","","","","",{"$f":"IF(ISNUMBER(F1053),IF(AL1053<0.85,\"\",VLOOKUP(M1053,A!A$2:X$23,VLOOKUP(F1053,ages!B$1:C$23,2,1),1)),\"\")","v":""},{"$f":"IF(ISNUMBER(F1053),IF(AM1053<0.85,\"\",VLOOKUP(N1053,B!A$2:X$23,VLOOKUP(F1053,ages!B$1:C$23,2,1),1)),\"\")","v":""},{"$f":"IF(ISNUMBER(F1053),IF(AN1053<0.85,\"\",VLOOKUP(O1053,'C'!A$2:X$23,VLOOKUP(F1053,ages!B$1:C$23,2,1),1)),\"\")","v":""},{"$f":"IF(ISNUMBER(F1053),IF(AO1053<0.85,\"\",VLOOKUP(P1053,D!A$2:X$23,VLOOKUP(F1053,ages!B$1:C$23,2,1),1)),\"\")","v":""},{"$f":"IF(ISNUMBER(F1053),IF(AP1053<0.85,\"\",VLOOKUP(Q1053,E!A$2:X$23,VLOOKUP(F1053,ages!B$1:C$23,2,1),1)),\"\")","v":""},{"$f":"IF(ISNUMBER(F1053),IF(AQ1053<0.85,\"\",VLOOKUP(R1053,F!A$2:X$23,VLOOKUP(F1053,ages!B$1:C$23,2,1),1)),\"\")","v":""},{"$f":"IF(ISNUMBER(F1053),IF(AR1053<0.85,\"\",VLOOKUP(S1053,G!A$2:X$23,VLOOKUP(F1053,ages!B$1:C$23,2,1),1)),\"\")","v":""},{"$f":"IF(ISNUMBER(F1053),IF(AS1053<0.85,\"\",VLOOKUP(T1053,H!A$2:X$23,VLOOKUP(F1053,ages!B$1:C$23,2,1),1)),\"\")","v":""},{"$f":"IF(ISNUMBER(F1053),IF(AT1053<0.85,\"\",VLOOKUP(U1053,I!A$2:X$23,VLOOKUP(F1053,ages!B$1:C$23,2,1),1)),\"\")","v":""},{"$f":"IF(ISNUMBER(F1053),IF(AU1053<0.85,\"\",VLOOKUP(V1053,J!A$2:X$23,VLOOKUP(F1053,ages!B$1:C$23,2,1),1)),\"\")","v":""},"","","","",-1.0000000000000002E-6,0,0,0,0,0,0,0,0,0,0,0,null,null,null,null,null,null,null,null,null,null,null,null,null,null,null,null,null,null,null,null,null,null,null,null,null,null,null,null,null,null,null,null,null,null,null,null,null,null,null,null,null,null,null,null,null,null,null,null,null,null,null,null,null,null,null,null,null,null,null,null,null,null,null,null,null,null,null,null,null,null,-9.9999999999999995E-7,-9.9999999999999995E-7,-9.9999999999999995E-7,-9.9999999999999995E-7,-9.9999999999999995E-7,-9.9999999999999995E-7,-9.9999999999999995E-7,-9.9999999999999995E-7,-9.9999999999999995E-7,-9.9999999999999995E-7,-9.9999999999999995E-7,-9.9999999999999995E-7,-9.9999999999999995E-7,-9.9999999999999995E-7,-9.9999999999999995E-7,-9.9999999999999995E-7,-9.9999999999999995E-7,-9.9999999999999995E-7,-9.9999999999999995E-7,-9.9999999999999995E-7,{"$f":"IF(ISERROR(VLOOKUP(F1053,ages!B$1:B$23,1,1)),\"\",VLOOKUP(F1053,ages!B$1:B$23,1,1))","v":""},{"$f":"IF(ISERROR(VLOOKUP(F1053,ages!B$1:D$23,3,1)),\"\",VLOOKUP(F1053,ages!B$1:D$23,3,1))","v":""},0,0,0,0,0]
[null,null,null,null,null,"",null,null,null,null,null,null,"","","","","","","","","","",{"$f":"IF(ISNUMBER(F1055),IF(AL1055<0.85,\"\",VLOOKUP(M1055,A!A$2:X$23,VLOOKUP(F1055,ages!B$1:C$23,2,1),1)),\"\")","v":""},{"$f":"IF(ISNUMBER(F1055),IF(AM1055<0.85,\"\",VLOOKUP(N1055,B!A$2:X$23,VLOOKUP(F1055,ages!B$1:C$23,2,1),1)),\"\")","v":""},{"$f":"IF(ISNUMBER(F1055),IF(AN1055<0.85,\"\",VLOOKUP(O1055,'C'!A$2:X$23,VLOOKUP(F1055,ages!B$1:C$23,2,1),1)),\"\")","v":""},{"$f":"IF(ISNUMBER(F1055),IF(AO1055<0.85,\"\",VLOOKUP(P1055,D!A$2:X$23,VLOOKUP(F1055,ages!B$1:C$23,2,1),1)),\"\")","v":""},{"$f":"IF(ISNUMBER(F1055),IF(AP1055<0.85,\"\",VLOOKUP(Q1055,E!A$2:X$23,VLOOKUP(F1055,ages!B$1:C$23,2,1),1)),\"\")","v":""},{"$f":"IF(ISNUMBER(F1055),IF(AQ1055<0.85,\"\",VLOOKUP(R1055,F!A$2:X$23,VLOOKUP(F1055,ages!B$1:C$23,2,1),1)),\"\")","v":""},{"$f":"IF(ISNUMBER(F1055),IF(AR1055<0.85,\"\",VLOOKUP(S1055,G!A$2:X$23,VLOOKUP(F1055,ages!B$1:C$23,2,1),1)),\"\")","v":""},{"$f":"IF(ISNUMBER(F1055),IF(AS1055<0.85,\"\",VLOOKUP(T1055,H!A$2:X$23,VLOOKUP(F1055,ages!B$1:C$23,2,1),1)),\"\")","v":""},{"$f":"IF(ISNUMBER(F1055),IF(AT1055<0.85,\"\",VLOOKUP(U1055,I!A$2:X$23,VLOOKUP(F1055,ages!B$1:C$23,2,1),1)),\"\")","v":""},{"$f":"IF(ISNUMBER(F1055),IF(AU1055<0.85,\"\",VLOOKUP(V1055,J!A$2:X$23,VLOOKUP(F1055,ages!B$1:C$23,2,1),1)),\"\")","v":""},"","","","",-1.0000000000000002E-6,0,0,0,0,0,0,0,0,0,0,0,null,null,null,null,null,null,null,null,null,null,null,null,null,null,null,null,null,null,null,null,null,null,null,null,null,null,null,null,null,null,null,null,null,null,null,null,null,null,null,null,null,null,null,null,null,null,null,null,null,null,null,null,null,null,null,null,null,null,null,null,null,null,null,null,null,null,null,null,null,null,-9.9999999999999995E-7,-9.9999999999999995E-7,-9.9999999999999995E-7,-9.9999999999999995E-7,-9.9999999999999995E-7,-9.9999999999999995E-7,-9.9999999999999995E-7,-9.9999999999999995E-7,-9.9999999999999995E-7,-9.9999999999999995E-7,-9.9999999999999995E-7,-9.9999999999999995E-7,-9.9999999999999995E-7,-9.9999999999999995E-7,-9.9999999999999995E-7,-9.9999999999999995E-7,-9.9999999999999995E-7,-9.9999999999999995E-7,-9.9999999999999995E-7,-9.9999999999999995E-7,{"$f":"IF(ISERROR(VLOOKUP(F1055,ages!B$1:B$23,1,1)),\"\",VLOOKUP(F1055,ages!B$1:B$23,1,1))","v":""},{"$f":"IF(ISERROR(VLOOKUP(F1055,ages!B$1:D$23,3,1)),\"\",VLOOKUP(F1055,ages!B$1:D$23,3,1))","v":""},0,0,0,0,0]
[null,null,null,null,null,"",null,null,null,null,null,null,"","","","","","","","","","",{"$f":"IF(ISNUMBER(F1058),IF(AL1058<0.85,\"\",VLOOKUP(M1058,A!A$2:X$23,VLOOKUP(F1058,ages!B$1:C$23,2,1),1)),\"\")","v":""},{"$f":"IF(ISNUMBER(F1058),IF(AM1058<0.85,\"\",VLOOKUP(N1058,B!A$2:X$23,VLOOKUP(F1058,ages!B$1:C$23,2,1),1)),\"\")","v":""},{"$f":"IF(ISNUMBER(F1058),IF(AN1058<0.85,\"\",VLOOKUP(O1058,'C'!A$2:X$23,VLOOKUP(F1058,ages!B$1:C$23,2,1),1)),\"\")","v":""},{"$f":"IF(ISNUMBER(F1058),IF(AO1058<0.85,\"\",VLOOKUP(P1058,D!A$2:X$23,VLOOKUP(F1058,ages!B$1:C$23,2,1),1)),\"\")","v":""},{"$f":"IF(ISNUMBER(F1058),IF(AP1058<0.85,\"\",VLOOKUP(Q1058,E!A$2:X$23,VLOOKUP(F1058,ages!B$1:C$23,2,1),1)),\"\")","v":""},{"$f":"IF(ISNUMBER(F1058),IF(AQ1058<0.85,\"\",VLOOKUP(R1058,F!A$2:X$23,VLOOKUP(F1058,ages!B$1:C$23,2,1),1)),\"\")","v":""},{"$f":"IF(ISNUMBER(F1058),IF(AR1058<0.85,\"\",VLOOKUP(S1058,G!A$2:X$23,VLOOKUP(F1058,ages!B$1:C$23,2,1),1)),\"\")","v":""},{"$f":"IF(ISNUMBER(F1058),IF(AS1058<0.85,\"\",VLOOKUP(T1058,H!A$2:X$23,VLOOKUP(F1058,ages!B$1:C$23,2,1),1)),\"\")","v":""},{"$f":"IF(ISNUMBER(F1058),IF(AT1058<0.85,\"\",VLOOKUP(U1058,I!A$2:X$23,VLOOKUP(F1058,ages!B$1:C$23,2,1),1)),\"\")","v":""},{"$f":"IF(ISNUMBER(F1058),IF(AU1058<0.85,\"\",VLOOKUP(V1058,J!A$2:X$23,VLOOKUP(F1058,ages!B$1:C$23,2,1),1)),\"\")","v":""},"","","","",-1.0000000000000002E-6,0,0,0,0,0,0,0,0,0,0,0,null,null,null,null,null,null,null,null,null,null,null,null,null,null,null,null,null,null,null,null,null,null,null,null,null,null,null,null,null,null,null,null,null,null,null,null,null,null,null,null,null,null,null,null,null,null,null,null,null,null,null,null,null,null,null,null,null,null,null,null,null,null,null,null,null,null,null,null,null,null,-9.9999999999999995E-7,-9.9999999999999995E-7,-9.9999999999999995E-7,-9.9999999999999995E-7,-9.9999999999999995E-7,-9.9999999999999995E-7,-9.9999999999999995E-7,-9.9999999999999995E-7,-9.9999999999999995E-7,-9.9999999999999995E-7,-9.9999999999999995E-7,-9.9999999999999995E-7,-9.9999999999999995E-7,-9.9999999999999995E-7,-9.9999999999999995E-7,-9.9999999999999995E-7,-9.9999999999999995E-7,-9.9999999999999995E-7,-9.9999999999999995E-7,-9.9999999999999995E-7,{"$f":"IF(ISERROR(VLOOKUP(F1058,ages!B$1:B$23,1,1)),\"\",VLOOKUP(F1058,ages!B$1:B$23,1,1))","v":""},{"$f":"IF(ISERROR(VLOOKUP(F1058,ages!B$1:D$23,3,1)),\"\",VLOOKUP(F1058,ages!B$1:D$23,3,1))","v":""},0,0,0,0,0]
[null,null,null,null,null,"",null,null,null,null,null,null,"","","","","","","","","","",{"$f":"IF(ISNUMBER(F1063),IF(AL1063<0.85,\"\",VLOOKUP(M1063,A!A$2:X$23,VLOOKUP(F1063,ages!B$1:C$23,2,1),1)),\"\")","v":""},{"$f":"IF(ISNUMBER(F1063),IF(AM1063<0.85,\"\",VLOOKUP(N1063,B!A$2:X$23,VLOOKUP(F1063,ages!B$1:C$23,2,1),1)),\"\")","v":""},{"$f":"IF(ISNUMBER(F1063),IF(AN1063<0.85,\"\",VLOOKUP(O1063,'C'!A$2:X$23,VLOOKUP(F1063,ages!B$1:C$23,2,1),1)),\"\")","v":""},{"$f":"IF(ISNUMBER(F1063),IF(AO1063<0.85,\"\",VLOOKUP(P1063,D!A$2:X$23,VLOOKUP(F1063,ages!B$1:C$23,2,1),1)),\"\")","v":""},{"$f":"IF(ISNUMBER(F1063),IF(AP1063<0.85,\"\",VLOOKUP(Q1063,E!A$2:X$23,VLOOKUP(F1063,ages!B$1:C$23,2,1),1)),\"\")","v":""},{"$f":"IF(ISNUMBER(F1063),IF(AQ1063<0.85,\"\",VLOOKUP(R1063,F!A$2:X$23,VLOOKUP(F1063,ages!B$1:C$23,2,1),1)),\"\")","v":""},{"$f":"IF(ISNUMBER(F1063),IF(AR1063<0.85,\"\",VLOOKUP(S1063,G!A$2:X$23,VLOOKUP(F1063,ages!B$1:C$23,2,1),1)),\"\")","v":""},{"$f":"IF(ISNUMBER(F1063),IF(AS1063<0.85,\"\",VLOOKUP(T1063,H!A$2:X$23,VLOOKUP(F1063,ages!B$1:C$23,2,1),1)),\"\")","v":""},{"$f":"IF(ISNUMBER(F1063),IF(AT1063<0.85,\"\",VLOOKUP(U1063,I!A$2:X$23,VLOOKUP(F1063,ages!B$1:C$23,2,1),1)),\"\")","v":""},{"$f":"IF(ISNUMBER(F1063),IF(AU1063<0.85,\"\",VLOOKUP(V1063,J!A$2:X$23,VLOOKUP(F1063,ages!B$1:C$23,2,1),1)),\"\")","v":""},"","","","",-1.0000000000000002E-6,0,0,0,0,0,0,0,0,0,0,0,null,null,null,null,null,null,null,null,null,null,null,null,null,null,null,null,null,null,null,null,null,null,null,null,null,null,null,null,null,null,null,null,null,null,null,null,null,null,null,null,null,null,null,null,null,null,null,null,null,null,null,null,null,null,null,null,null,null,null,null,null,null,null,null,null,null,null,null,null,null,-9.9999999999999995E-7,-9.9999999999999995E-7,-9.9999999999999995E-7,-9.9999999999999995E-7,-9.9999999999999995E-7,-9.9999999999999995E-7,-9.9999999999999995E-7,-9.9999999999999995E-7,-9.9999999999999995E-7,-9.9999999999999995E-7,-9.9999999999999995E-7,-9.9999999999999995E-7,-9.9999999999999995E-7,-9.9999999999999995E-7,-9.9999999999999995E-7,-9.9999999999999995E-7,-9.9999999999999995E-7,-9.9999999999999995E-7,-9.9999999999999995E-7,-9.9999999999999995E-7,{"$f":"IF(ISERROR(VLOOKUP(F1063,ages!B$1:B$23,1,1)),\"\",VLOOKUP(F1063,ages!B$1:B$23,1,1))","v":""},{"$f":"IF(ISERROR(VLOOKUP(F1063,ages!B$1:D$23,3,1)),\"\",VLOOKUP(F1063,ages!B$1:D$23,3,1))","v":""},0,0,0,0,0]
[null,null,null,null,null,"",null,null,null,null,null,null,"","","","","","","","","","",{"$f":"IF(ISNUMBER(F1069),IF(AL1069<0.85,\"\",VLOOKUP(M1069,A!A$2:X$23,VLOOKUP(F1069,ages!B$1:C$23,2,1),1)),\"\")","v":""},{"$f":"IF(ISNUMBER(F1069),IF(AM1069<0.85,\"\",VLOOKUP(N1069,B!A$2:X$23,VLOOKUP(F1069,ages!B$1:C$23,2,1),1)),\"\")","v":""},{"$f":"IF(ISNUMBER(F1069),IF(AN1069<0.85,\"\",VLOOKUP(O1069,'C'!A$2:X$23,VLOOKUP(F1069,ages!B$1:C$23,2,1),1)),\"\")","v":""},{"$f":"IF(ISNUMBER(F1069),IF(AO1069<0.85,\"\",VLOOKUP(P1069,D!A$2:X$23,VLOOKUP(F1069,ages!B$1:C$23,2,1),1)),\"\")","v":""},{"$f":"IF(ISNUMBER(F1069),IF(AP1069<0.85,\"\",VLOOKUP(Q1069,E!A$2:X$23,VLOOKUP(F1069,ages!B$1:C$23,2,1),1)),\"\")","v":""},{"$f":"IF(ISNUMBER(F1069),IF(AQ1069<0.85,\"\",VLOOKUP(R1069,F!A$2:X$23,VLOOKUP(F1069,ages!B$1:C$23,2,1),1)),\"\")","v":""},{"$f":"IF(ISNUMBER(F1069),IF(AR1069<0.85,\"\",VLOOKUP(S1069,G!A$2:X$23,VLOOKUP(F1069,ages!B$1:C$23,2,1),1)),\"\")","v":""},{"$f":"IF(ISNUMBER(F1069),IF(AS1069<0.85,\"\",VLOOKUP(T1069,H!A$2:X$23,VLOOKUP(F1069,ages!B$1:C$23,2,1),1)),\"\")","v":""},{"$f":"IF(ISNUMBER(F1069),IF(AT1069<0.85,\"\",VLOOKUP(U1069,I!A$2:X$23,VLOOKUP(F1069,ages!B$1:C$23,2,1),1)),\"\")","v":""},{"$f":"IF(ISNUMBER(F1069),IF(AU1069<0.85,\"\",VLOOKUP(V1069,J!A$2:X$23,VLOOKUP(F1069,ages!B$1:C$23,2,1),1)),\"\")","v":""},"","","","",-1.0000000000000002E-6,0,0,0,0,0,0,0,0,0,0,0,null,null,null,null,null,null,null,null,null,null,null,null,null,null,null,null,null,null,null,null,null,null,null,null,null,null,null,null,null,null,null,null,null,null,null,null,null,null,null,null,null,null,null,null,null,null,null,null,null,null,null,null,null,null,null,null,null,null,null,null,null,null,null,null,null,null,null,null,null,null,-9.9999999999999995E-7,-9.9999999999999995E-7,-9.9999999999999995E-7,-9.9999999999999995E-7,-9.9999999999999995E-7,-9.9999999999999995E-7,-9.9999999999999995E-7,-9.9999999999999995E-7,-9.9999999999999995E-7,-9.9999999999999995E-7,-9.9999999999999995E-7,-9.9999999999999995E-7,-9.9999999999999995E-7,-9.9999999999999995E-7,-9.9999999999999995E-7,-9.9999999999999995E-7,-9.9999999999999995E-7,-9.9999999999999995E-7,-9.9999999999999995E-7,-9.9999999999999995E-7,{"$f":"IF(ISERROR(VLOOKUP(F1069,ages!B$1:B$23,1,1)),\"\",VLOOKUP(F1069,ages!B$1:B$23,1,1))","v":""},{"$f":"IF(ISERROR(VLOOKUP(F1069,ages!B$1:D$23,3,1)),\"\",VLOOKUP(F1069,ages!B$1:D$23,3,1))","v":""},0,0,0,0,0]
[null,null,null,null,null,"",null,null,null,null,null,null,"","","","","","","","","","",{"$f":"IF(ISNUMBER(F1074),IF(AL1074<0.85,\"\",VLOOKUP(M1074,A!A$2:X$23,VLOOKUP(F1074,ages!B$1:C$23,2,1),1)),\"\")","v":""},{"$f":"IF(ISNUMBER(F1074),IF(AM1074<0.85,\"\",VLOOKUP(N1074,B!A$2:X$23,VLOOKUP(F1074,ages!B$1:C$23,2,1),1)),\"\")","v":""},{"$f":"IF(ISNUMBER(F1074),IF(AN1074<0.85,\"\",VLOOKUP(O1074,'C'!A$2:X$23,VLOOKUP(F1074,ages!B$1:C$23,2,1),1)),\"\")","v":""},{"$f":"IF(ISNUMBER(F1074),IF(AO1074<0.85,\"\",VLOOKUP(P1074,D!A$2:X$23,VLOOKUP(F1074,ages!B$1:C$23,2,1),1)),\"\")","v":""},{"$f":"IF(ISNUMBER(F1074),IF(AP1074<0.85,\"\",VLOOKUP(Q1074,E!A$2:X$23,VLOOKUP(F1074,ages!B$1:C$23,2,1),1)),\"\")","v":""},{"$f":"IF(ISNUMBER(F1074),IF(AQ1074<0.85,\"\",VLOOKUP(R1074,F!A$2:X$23,VLOOKUP(F1074,ages!B$1:C$23,2,1),1)),\"\")","v":""},{"$f":"IF(ISNUMBER(F1074),IF(AR1074<0.85,\"\",VLOOKUP(S1074,G!A$2:X$23,VLOOKUP(F1074,ages!B$1:C$23,2,1),1)),\"\")","v":""},{"$f":"IF(ISNUMBER(F1074),IF(AS1074<0.85,\"\",VLOOKUP(T1074,H!A$2:X$23,VLOOKUP(F1074,ages!B$1:C$23,2,1),1)),\"\")","v":""},{"$f":"IF(ISNUMBER(F1074),IF(AT1074<0.85,\"\",VLOOKUP(U1074,I!A$2:X$23,VLOOKUP(F1074,ages!B$1:C$23,2,1),1)),\"\")","v":""},{"$f":"IF(ISNUMBER(F1074),IF(AU1074<0.85,\"\",VLOOKUP(V1074,J!A$2:X$23,VLOOKUP(F1074,ages!B$1:C$23,2,1),1)),\"\")","v":""},"","","","",-1.0000000000000002E-6,0,0,0,0,0,0,0,0,0,0,0,null,null,null,null,null,null,null,null,null,null,null,null,null,null,null,null,null,null,null,null,null,null,null,null,null,null,null,null,null,null,null,null,null,null,null,null,null,null,null,null,null,null,null,null,null,null,null,null,null,null,null,null,null,null,null,null,null,null,null,null,null,null,null,null,null,null,null,null,null,null,-9.9999999999999995E-7,-9.9999999999999995E-7,-9.9999999999999995E-7,-9.9999999999999995E-7,-9.9999999999999995E-7,-9.9999999999999995E-7,-9.9999999999999995E-7,-9.9999999999999995E-7,-9.9999999999999995E-7,-9.9999999999999995E-7,-9.9999999999999995E-7,-9.9999999999999995E-7,-9.9999999999999995E-7,-9.9999999999999995E-7,-9.9999999999999995E-7,-9.9999999999999995E-7,-9.9999999999999995E-7,-9.9999999999999995E-7,-9.9999999999999995E-7,-9.9999999999999995E-7,{"$f":"IF(ISERROR(VLOOKUP(F1074,ages!B$1:B$23,1,1)),\"\",VLOOKUP(F1074,ages!B$1:B$23,1,1))","v":""},{"$f":"IF(ISERROR(VLOOKUP(F1074,ages!B$1:D$23,3,1)),\"\",VLOOKUP(F1074,ages!B$1:D$23,3,1))","v":""},0,0,0,0,0]
[null,null,null,null,null,"",null,null,null,null,null,null,"","","","","","","","","","",{"$f":"IF(ISNUMBER(F1079),IF(AL1079<0.85,\"\",VLOOKUP(M1079,A!A$2:X$23,VLOOKUP(F1079,ages!B$1:C$23,2,1),1)),\"\")","v":""},{"$f":"IF(ISNUMBER(F1079),IF(AM1079<0.85,\"\",VLOOKUP(N1079,B!A$2:X$23,VLOOKUP(F1079,ages!B$1:C$23,2,1),1)),\"\")","v":""},{"$f":"IF(ISNUMBER(F1079),IF(AN1079<0.85,\"\",VLOOKUP(O1079,'C'!A$2:X$23,VLOOKUP(F1079,ages!B$1:C$23,2,1),1)),\"\")","v":""},{"$f":"IF(ISNUMBER(F1079),IF(AO1079<0.85,\"\",VLOOKUP(P1079,D!A$2:X$23,VLOOKUP(F1079,ages!B$1:C$23,2,1),1)),\"\")","v":""},{"$f":"IF(ISNUMBER(F1079),IF(AP1079<0.85,\"\",VLOOKUP(Q1079,E!A$2:X$23,VLOOKUP(F1079,ages!B$1:C$23,2,1),1)),\"\")","v":""},{"$f":"IF(ISNUMBER(F1079),IF(AQ1079<0.85,\"\",VLOOKUP(R1079,F!A$2:X$23,VLOOKUP(F1079,ages!B$1:C$23,2,1),1)),\"\")","v":""},{"$f":"IF(ISNUMBER(F1079),IF(AR1079<0.85,\"\",VLOOKUP(S1079,G!A$2:X$23,VLOOKUP(F1079,ages!B$1:C$23,2,1),1)),\"\")","v":""},{"$f":"IF(ISNUMBER(F1079),IF(AS1079<0.85,\"\",VLOOKUP(T1079,H!A$2:X$23,VLOOKUP(F1079,ages!B$1:C$23,2,1),1)),\"\")","v":""},{"$f":"IF(ISNUMBER(F1079),IF(AT1079<0.85,\"\",VLOOKUP(U1079,I!A$2:X$23,VLOOKUP(F1079,ages!B$1:C$23,2,1),1)),\"\")","v":""},{"$f":"IF(ISNUMBER(F1079),IF(AU1079<0.85,\"\",VLOOKUP(V1079,J!A$2:X$23,VLOOKUP(F1079,ages!B$1:C$23,2,1),1)),\"\")","v":""},"","","","",-1.0000000000000002E-6,0,0,0,0,0,0,0,0,0,0,0,null,null,null,null,null,null,null,null,null,null,null,null,null,null,null,null,null,null,null,null,null,null,null,null,null,null,null,null,null,null,null,null,null,null,null,null,null,null,null,null,null,null,null,null,null,null,null,null,null,null,null,null,null,null,null,null,null,null,null,null,null,null,null,null,null,null,null,null,null,null,-9.9999999999999995E-7,-9.9999999999999995E-7,-9.9999999999999995E-7,-9.9999999999999995E-7,-9.9999999999999995E-7,-9.9999999999999995E-7,-9.9999999999999995E-7,-9.9999999999999995E-7,-9.9999999999999995E-7,-9.9999999999999995E-7,-9.9999999999999995E-7,-9.9999999999999995E-7,-9.9999999999999995E-7,-9.9999999999999995E-7,-9.9999999999999995E-7,-9.9999999999999995E-7,-9.9999999999999995E-7,-9.9999999999999995E-7,-9.9999999999999995E-7,-9.9999999999999995E-7,{"$f":"IF(ISERROR(VLOOKUP(F1079,ages!B$1:B$23,1,1)),\"\",VLOOKUP(F1079,ages!B$1:B$23,1,1))","v":""},{"$f":"IF(ISERROR(VLOOKUP(F1079,ages!B$1:D$23,3,1)),\"\",VLOOKUP(F1079,ages!B$1:D$23,3,1))","v":""},0,0,0,0,0]
[null,null,null,null,null,"",null,null,null,null,null,null,"","","","","","","","","","",{"$f":"IF(ISNUMBER(F1084),IF(AL1084<0.85,\"\",VLOOKUP(M1084,A!A$2:X$23,VLOOKUP(F1084,ages!B$1:C$23,2,1),1)),\"\")","v":""},{"$f":"IF(ISNUMBER(F1084),IF(AM1084<0.85,\"\",VLOOKUP(N1084,B!A$2:X$23,VLOOKUP(F1084,ages!B$1:C$23,2,1),1)),\"\")","v":""},{"$f":"IF(ISNUMBER(F1084),IF(AN1084<0.85,\"\",VLOOKUP(O1084,'C'!A$2:X$23,VLOOKUP(F1084,ages!B$1:C$23,2,1),1)),\"\")","v":""},{"$f":"IF(ISNUMBER(F1084),IF(AO1084<0.85,\"\",VLOOKUP(P1084,D!A$2:X$23,VLOOKUP(F1084,ages!B$1:C$23,2,1),1)),\"\")","v":""},{"$f":"IF(ISNUMBER(F1084),IF(AP1084<0.85,\"\",VLOOKUP(Q1084,E!A$2:X$23,VLOOKUP(F1084,ages!B$1:C$23,2,1),1)),\"\")","v":""},{"$f":"IF(ISNUMBER(F1084),IF(AQ1084<0.85,\"\",VLOOKUP(R1084,F!A$2:X$23,VLOOKUP(F1084,ages!B$1:C$23,2,1),1)),\"\")","v":""},{"$f":"IF(ISNUMBER(F1084),IF(AR1084<0.85,\"\",VLOOKUP(S1084,G!A$2:X$23,VLOOKUP(F1084,ages!B$1:C$23,2,1),1)),\"\")","v":""},{"$f":"IF(ISNUMBER(F1084),IF(AS1084<0.85,\"\",VLOOKUP(T1084,H!A$2:X$23,VLOOKUP(F1084,ages!B$1:C$23,2,1),1)),\"\")","v":""},{"$f":"IF(ISNUMBER(F1084),IF(AT1084<0.85,\"\",VLOOKUP(U1084,I!A$2:X$23,VLOOKUP(F1084,ages!B$1:C$23,2,1),1)),\"\")","v":""},{"$f":"IF(ISNUMBER(F1084),IF(AU1084<0.85,\"\",VLOOKUP(V1084,J!A$2:X$23,VLOOKUP(F1084,ages!B$1:C$23,2,1),1)),\"\")","v":""},"","","","",-1.0000000000000002E-6,0,0,0,0,0,0,0,0,0,0,0,null,null,null,null,null,null,null,null,null,null,null,null,null,null,null,null,null,null,null,null,null,null,null,null,null,null,null,null,null,null,null,null,null,null,null,null,null,null,null,null,null,null,null,null,null,null,null,null,null,null,null,null,null,null,null,null,null,null,null,null,null,null,null,null,null,null,null,null,null,null,-9.9999999999999995E-7,-9.9999999999999995E-7,-9.9999999999999995E-7,-9.9999999999999995E-7,-9.9999999999999995E-7,-9.9999999999999995E-7,-9.9999999999999995E-7,-9.9999999999999995E-7,-9.9999999999999995E-7,-9.9999999999999995E-7,-9.9999999999999995E-7,-9.9999999999999995E-7,-9.9999999999999995E-7,-9.9999999999999995E-7,-9.9999999999999995E-7,-9.9999999999999995E-7,-9.9999999999999995E-7,-9.9999999999999995E-7,-9.9999999999999995E-7,-9.9999999999999995E-7,{"$f":"IF(ISERROR(VLOOKUP(F1084,ages!B$1:B$23,1,1)),\"\",VLOOKUP(F1084,ages!B$1:B$23,1,1))","v":""},{"$f":"IF(ISERROR(VLOOKUP(F1084,ages!B$1:D$23,3,1)),\"\",VLOOKUP(F1084,ages!B$1:D$23,3,1))","v":""},0,0,0,0,0]
[null,null,null,null,null,"",null,null,null,null,null,null,"","","","","","","","","","",{"$f":"IF(ISNUMBER(F1089),IF(AL1089<0.85,\"\",VLOOKUP(M1089,A!A$2:X$23,VLOOKUP(F1089,ages!B$1:C$23,2,1),1)),\"\")","v":""},{"$f":"IF(ISNUMBER(F1089),IF(AM1089<0.85,\"\",VLOOKUP(N1089,B!A$2:X$23,VLOOKUP(F1089,ages!B$1:C$23,2,1),1)),\"\")","v":""},{"$f":"IF(ISNUMBER(F1089),IF(AN1089<0.85,\"\",VLOOKUP(O1089,'C'!A$2:X$23,VLOOKUP(F1089,ages!B$1:C$23,2,1),1)),\"\")","v":""},{"$f":"IF(ISNUMBER(F1089),IF(AO1089<0.85,\"\",VLOOKUP(P1089,D!A$2:X$23,VLOOKUP(F1089,ages!B$1:C$23,2,1),1)),\"\")","v":""},{"$f":"IF(ISNUMBER(F1089),IF(AP1089<0.85,\"\",VLOOKUP(Q1089,E!A$2:X$23,VLOOKUP(F1089,ages!B$1:C$23,2,1),1)),\"\")","v":""},{"$f":"IF(ISNUMBER(F1089),IF(AQ1089<0.85,\"\",VLOOKUP(R1089,F!A$2:X$23,VLOOKUP(F1089,ages!B$1:C$23,2,1),1)),\"\")","v":""},{"$f":"IF(ISNUMBER(F1089),IF(AR1089<0.85,\"\",VLOOKUP(S1089,G!A$2:X$23,VLOOKUP(F1089,ages!B$1:C$23,2,1),1)),\"\")","v":""},{"$f":"IF(ISNUMBER(F1089),IF(AS1089<0.85,\"\",VLOOKUP(T1089,H!A$2:X$23,VLOOKUP(F1089,ages!B$1:C$23,2,1),1)),\"\")","v":""},{"$f":"IF(ISNUMBER(F1089),IF(AT1089<0.85,\"\",VLOOKUP(U1089,I!A$2:X$23,VLOOKUP(F1089,ages!B$1:C$23,2,1),1)),\"\")","v":""},{"$f":"IF(ISNUMBER(F1089),IF(AU1089<0.85,\"\",VLOOKUP(V1089,J!A$2:X$23,VLOOKUP(F1089,ages!B$1:C$23,2,1),1)),\"\")","v":""},"","","","",-1.0000000000000002E-6,0,0,0,0,0,0,0,0,0,0,0,null,null,null,null,null,null,null,null,null,null,null,null,null,null,null,null,null,null,null,null,null,null,null,null,null,null,null,null,null,null,null,null,null,null,null,null,null,null,null,null,null,null,null,null,null,null,null,null,null,null,null,null,null,null,null,null,null,null,null,null,null,null,null,null,null,null,null,null,null,null,-9.9999999999999995E-7,-9.9999999999999995E-7,-9.9999999999999995E-7,-9.9999999999999995E-7,-9.9999999999999995E-7,-9.9999999999999995E-7,-9.9999999999999995E-7,-9.9999999999999995E-7,-9.9999999999999995E-7,-9.9999999999999995E-7,-9.9999999999999995E-7,-9.9999999999999995E-7,-9.9999999999999995E-7,-9.9999999999999995E-7,-9.9999999999999995E-7,-9.9999999999999995E-7,-9.9999999999999995E-7,-9.9999999999999995E-7,-9.9999999999999995E-7,-9.9999999999999995E-7,{"$f":"IF(ISERROR(VLOOKUP(F1089,ages!B$1:B$23,1,1)),\"\",VLOOKUP(F1089,ages!B$1:B$23,1,1))","v":""},{"$f":"IF(ISERROR(VLOOKUP(F1089,ages!B$1:D$23,3,1)),\"\",VLOOKUP(F1089,ages!B$1:D$23,3,1))","v":""},0,0,0,0,0]
[null,null,null,null,null,"",null,null,null,null,null,null,"","","","","","","","","","",{"$f":"IF(ISNUMBER(F1095),IF(AL1095<0.85,\"\",VLOOKUP(M1095,A!A$2:X$23,VLOOKUP(F1095,ages!B$1:C$23,2,1),1)),\"\")","v":""},{"$f":"IF(ISNUMBER(F1095),IF(AM1095<0.85,\"\",VLOOKUP(N1095,B!A$2:X$23,VLOOKUP(F1095,ages!B$1:C$23,2,1),1)),\"\")","v":""},{"$f":"IF(ISNUMBER(F1095),IF(AN1095<0.85,\"\",VLOOKUP(O1095,'C'!A$2:X$23,VLOOKUP(F1095,ages!B$1:C$23,2,1),1)),\"\")","v":""},{"$f":"IF(ISNUMBER(F1095),IF(AO1095<0.85,\"\",VLOOKUP(P1095,D!A$2:X$23,VLOOKUP(F1095,ages!B$1:C$23,2,1),1)),\"\")","v":""},{"$f":"IF(ISNUMBER(F1095),IF(AP1095<0.85,\"\",VLOOKUP(Q1095,E!A$2:X$23,VLOOKUP(F1095,ages!B$1:C$23,2,1),1)),\"\")","v":""},{"$f":"IF(ISNUMBER(F1095),IF(AQ1095<0.85,\"\",VLOOKUP(R1095,F!A$2:X$23,VLOOKUP(F1095,ages!B$1:C$23,2,1),1)),\"\")","v":""},{"$f":"IF(ISNUMBER(F1095),IF(AR1095<0.85,\"\",VLOOKUP(S1095,G!A$2:X$23,VLOOKUP(F1095,ages!B$1:C$23,2,1),1)),\"\")","v":""},{"$f":"IF(ISNUMBER(F1095),IF(AS1095<0.85,\"\",VLOOKUP(T1095,H!A$2:X$23,VLOOKUP(F1095,ages!B$1:C$23,2,1),1)),\"\")","v":""},{"$f":"IF(ISNUMBER(F1095),IF(AT1095<0.85,\"\",VLOOKUP(U1095,I!A$2:X$23,VLOOKUP(F1095,ages!B$1:C$23,2,1),1)),\"\")","v":""},{"$f":"IF(ISNUMBER(F1095),IF(AU1095<0.85,\"\",VLOOKUP(V1095,J!A$2:X$23,VLOOKUP(F1095,ages!B$1:C$23,2,1),1)),\"\")","v":""},"","","","",-1.0000000000000002E-6,0,0,0,0,0,0,0,0,0,0,0,null,null,null,null,null,null,null,null,null,null,null,null,null,null,null,null,null,null,null,null,null,null,null,null,null,null,null,null,null,null,null,null,null,null,null,null,null,null,null,null,null,null,null,null,null,null,null,null,null,null,null,null,null,null,null,null,null,null,null,null,null,null,null,null,null,null,null,null,null,null,-9.9999999999999995E-7,-9.9999999999999995E-7,-9.9999999999999995E-7,-9.9999999999999995E-7,-9.9999999999999995E-7,-9.9999999999999995E-7,-9.9999999999999995E-7,-9.9999999999999995E-7,-9.9999999999999995E-7,-9.9999999999999995E-7,-9.9999999999999995E-7,-9.9999999999999995E-7,-9.9999999999999995E-7,-9.9999999999999995E-7,-9.9999999999999995E-7,-9.9999999999999995E-7,-9.9999999999999995E-7,-9.9999999999999995E-7,-9.9999999999999995E-7,-9.9999999999999995E-7,{"$f":"IF(ISERROR(VLOOKUP(F1095,ages!B$1:B$23,1,1)),\"\",VLOOKUP(F1095,ages!B$1:B$23,1,1))","v":""},{"$f":"IF(ISERROR(VLOOKUP(F1095,ages!B$1:D$23,3,1)),\"\",VLOOKUP(F1095,ages!B$1:D$23,3,1))","v":""},0,0,0,0,0]
[null,null,null,null,null,"",null,null,null,null,null,null,"","","","","","","","","","",{"$f":"IF(ISNUMBER(F1099),IF(AL1099<0.85,\"\",VLOOKUP(M1099,A!A$2:X$23,VLOOKUP(F1099,ages!B$1:C$23,2,1),1)),\"\")","v":""},{"$f":"IF(ISNUMBER(F1099),IF(AM1099<0.85,\"\",VLOOKUP(N1099,B!A$2:X$23,VLOOKUP(F1099,ages!B$1:C$23,2,1),1)),\"\")","v":""},{"$f":"IF(ISNUMBER(F1099),IF(AN1099<0.85,\"\",VLOOKUP(O1099,'C'!A$2:X$23,VLOOKUP(F1099,ages!B$1:C$23,2,1),1)),\"\")","v":""},{"$f":"IF(ISNUMBER(F1099),IF(AO1099<0.85,\"\",VLOOKUP(P1099,D!A$2:X$23,VLOOKUP(F1099,ages!B$1:C$23,2,1),1)),\"\")","v":""},{"$f":"IF(ISNUMBER(F1099),IF(AP1099<0.85,\"\",VLOOKUP(Q1099,E!A$2:X$23,VLOOKUP(F1099,ages!B$1:C$23,2,1),1)),\"\")","v":""},{"$f":"IF(ISNUMBER(F1099),IF(AQ1099<0.85,\"\",VLOOKUP(R1099,F!A$2:X$23,VLOOKUP(F1099,ages!B$1:C$23,2,1),1)),\"\")","v":""},{"$f":"IF(ISNUMBER(F1099),IF(AR1099<0.85,\"\",VLOOKUP(S1099,G!A$2:X$23,VLOOKUP(F1099,ages!B$1:C$23,2,1),1)),\"\")","v":""},{"$f":"IF(ISNUMBER(F1099),IF(AS1099<0.85,\"\",VLOOKUP(T1099,H!A$2:X$23,VLOOKUP(F1099,ages!B$1:C$23,2,1),1)),\"\")","v":""},{"$f":"IF(ISNUMBER(F1099),IF(AT1099<0.85,\"\",VLOOKUP(U1099,I!A$2:X$23,VLOOKUP(F1099,ages!B$1:C$23,2,1),1)),\"\")","v":""},{"$f":"IF(ISNUMBER(F1099),IF(AU1099<0.85,\"\",VLOOKUP(V1099,J!A$2:X$23,VLOOKUP(F1099,ages!B$1:C$23,2,1),1)),\"\")","v":""},"","","","",-1.0000000000000002E-6,0,0,0,0,0,0,0,0,0,0,0,null,null,null,null,null,null,null,null,null,null,null,null,null,null,null,null,null,null,null,null,null,null,null,null,null,null,null,null,null,null,null,null,null,null,null,null,null,null,null,null,null,null,null,null,null,null,null,null,null,null,null,null,null,null,null,null,null,null,null,null,null,null,null,null,null,null,null,null,null,null,-9.9999999999999995E-7,-9.9999999999999995E-7,-9.9999999999999995E-7,-9.9999999999999995E-7,-9.9999999999999995E-7,-9.9999999999999995E-7,-9.9999999999999995E-7,-9.9999999999999995E-7,-9.9999999999999995E-7,-9.9999999999999995E-7,-9.9999999999999995E-7,-9.9999999999999995E-7,-9.9999999999999995E-7,-9.9999999999999995E-7,-9.9999999999999995E-7,-9.9999999999999995E-7,-9.9999999999999995E-7,-9.9999999999999995E-7,-9.9999999999999995E-7,-9.9999999999999995E-7,{"$f":"IF(ISERROR(VLOOKUP(F1099,ages!B$1:B$23,1,1)),\"\",VLOOKUP(F1099,ages!B$1:B$23,1,1))","v":""},{"$f":"IF(ISERROR(VLOOKUP(F1099,ages!B$1:D$23,3,1)),\"\",VLOOKUP(F1099,ages!B$1:D$23,3,1))","v":""},0,0,0,0,0]
[null,null,null,null,null,"",null,null,null,null,null,null,"","","","","","","","","","",{"$f":"IF(ISNUMBER(F1104),IF(AL1104<0.85,\"\",VLOOKUP(M1104,A!A$2:X$23,VLOOKUP(F1104,ages!B$1:C$23,2,1),1)),\"\")","v":""},{"$f":"IF(ISNUMBER(F1104),IF(AM1104<0.85,\"\",VLOOKUP(N1104,B!A$2:X$23,VLOOKUP(F1104,ages!B$1:C$23,2,1),1)),\"\")","v":""},{"$f":"IF(ISNUMBER(F1104),IF(AN1104<0.85,\"\",VLOOKUP(O1104,'C'!A$2:X$23,VLOOKUP(F1104,ages!B$1:C$23,2,1),1)),\"\")","v":""},{"$f":"IF(ISNUMBER(F1104),IF(AO1104<0.85,\"\",VLOOKUP(P1104,D!A$2:X$23,VLOOKUP(F1104,ages!B$1:C$23,2,1),1)),\"\")","v":""},{"$f":"IF(ISNUMBER(F1104),IF(AP1104<0.85,\"\",VLOOKUP(Q1104,E!A$2:X$23,VLOOKUP(F1104,ages!B$1:C$23,2,1),1)),\"\")","v":""},{"$f":"IF(ISNUMBER(F1104),IF(AQ1104<0.85,\"\",VLOOKUP(R1104,F!A$2:X$23,VLOOKUP(F1104,ages!B$1:C$23,2,1),1)),\"\")","v":""},{"$f":"IF(ISNUMBER(F1104),IF(AR1104<0.85,\"\",VLOOKUP(S1104,G!A$2:X$23,VLOOKUP(F1104,ages!B$1:C$23,2,1),1)),\"\")","v":""},{"$f":"IF(ISNUMBER(F1104),IF(AS1104<0.85,\"\",VLOOKUP(T1104,H!A$2:X$23,VLOOKUP(F1104,ages!B$1:C$23,2,1),1)),\"\")","v":""},{"$f":"IF(ISNUMBER(F1104),IF(AT1104<0.85,\"\",VLOOKUP(U1104,I!A$2:X$23,VLOOKUP(F1104,ages!B$1:C$23,2,1),1)),\"\")","v":""},{"$f":"IF(ISNUMBER(F1104),IF(AU1104<0.85,\"\",VLOOKUP(V1104,J!A$2:X$23,VLOOKUP(F1104,ages!B$1:C$23,2,1),1)),\"\")","v":""},"","","","",-1.0000000000000002E-6,0,0,0,0,0,0,0,0,0,0,0,null,null,null,null,null,null,null,null,null,null,null,null,null,null,null,null,null,null,null,null,null,null,null,null,null,null,null,null,null,null,null,null,null,null,null,null,null,null,null,null,null,null,null,null,null,null,null,null,null,null,null,null,null,null,null,null,null,null,null,null,null,null,null,null,null,null,null,null,null,null,-9.9999999999999995E-7,-9.9999999999999995E-7,-9.9999999999999995E-7,-9.9999999999999995E-7,-9.9999999999999995E-7,-9.9999999999999995E-7,-9.9999999999999995E-7,-9.9999999999999995E-7,-9.9999999999999995E-7,-9.9999999999999995E-7,-9.9999999999999995E-7,-9.9999999999999995E-7,-9.9999999999999995E-7,-9.9999999999999995E-7,-9.9999999999999995E-7,-9.9999999999999995E-7,-9.9999999999999995E-7,-9.9999999999999995E-7,-9.9999999999999995E-7,-9.9999999999999995E-7,{"$f":"IF(ISERROR(VLOOKUP(F1104,ages!B$1:B$23,1,1)),\"\",VLOOKUP(F1104,ages!B$1:B$23,1,1))","v":""},{"$f":"IF(ISERROR(VLOOKUP(F1104,ages!B$1:D$23,3,1)),\"\",VLOOKUP(F1104,ages!B$1:D$23,3,1))","v":""},0,0,0,0,0]
[null,null,null,null,null,"",null,null,null,null,null,null,"","","","","","","","","","",{"$f":"IF(ISNUMBER(F1110),IF(AL1110<0.85,\"\",VLOOKUP(M1110,A!A$2:X$23,VLOOKUP(F1110,ages!B$1:C$23,2,1),1)),\"\")","v":""},{"$f":"IF(ISNUMBER(F1110),IF(AM1110<0.85,\"\",VLOOKUP(N1110,B!A$2:X$23,VLOOKUP(F1110,ages!B$1:C$23,2,1),1)),\"\")","v":""},{"$f":"IF(ISNUMBER(F1110),IF(AN1110<0.85,\"\",VLOOKUP(O1110,'C'!A$2:X$23,VLOOKUP(F1110,ages!B$1:C$23,2,1),1)),\"\")","v":""},{"$f":"IF(ISNUMBER(F1110),IF(AO1110<0.85,\"\",VLOOKUP(P1110,D!A$2:X$23,VLOOKUP(F1110,ages!B$1:C$23,2,1),1)),\"\")","v":""},{"$f":"IF(ISNUMBER(F1110),IF(AP1110<0.85,\"\",VLOOKUP(Q1110,E!A$2:X$23,VLOOKUP(F1110,ages!B$1:C$23,2,1),1)),\"\")","v":""},{"$f":"IF(ISNUMBER(F1110),IF(AQ1110<0.85,\"\",VLOOKUP(R1110,F!A$2:X$23,VLOOKUP(F1110,ages!B$1:C$23,2,1),1)),\"\")","v":""},{"$f":"IF(ISNUMBER(F1110),IF(AR1110<0.85,\"\",VLOOKUP(S1110,G!A$2:X$23,VLOOKUP(F1110,ages!B$1:C$23,2,1),1)),\"\")","v":""},{"$f":"IF(ISNUMBER(F1110),IF(AS1110<0.85,\"\",VLOOKUP(T1110,H!A$2:X$23,VLOOKUP(F1110,ages!B$1:C$23,2,1),1)),\"\")","v":""},{"$f":"IF(ISNUMBER(F1110),IF(AT1110<0.85,\"\",VLOOKUP(U1110,I!A$2:X$23,VLOOKUP(F1110,ages!B$1:C$23,2,1),1)),\"\")","v":""},{"$f":"IF(ISNUMBER(F1110),IF(AU1110<0.85,\"\",VLOOKUP(V1110,J!A$2:X$23,VLOOKUP(F1110,ages!B$1:C$23,2,1),1)),\"\")","v":""},"","","","",-1.0000000000000002E-6,0,0,0,0,0,0,0,0,0,0,0,null,null,null,null,null,null,null,null,null,null,null,null,null,null,null,null,null,null,null,null,null,null,null,null,null,null,null,null,null,null,null,null,null,null,null,null,null,null,null,null,null,null,null,null,null,null,null,null,null,null,null,null,null,null,null,null,null,null,null,null,null,null,null,null,null,null,null,null,null,null,-9.9999999999999995E-7,-9.9999999999999995E-7,-9.9999999999999995E-7,-9.9999999999999995E-7,-9.9999999999999995E-7,-9.9999999999999995E-7,-9.9999999999999995E-7,-9.9999999999999995E-7,-9.9999999999999995E-7,-9.9999999999999995E-7,-9.9999999999999995E-7,-9.9999999999999995E-7,-9.9999999999999995E-7,-9.9999999999999995E-7,-9.9999999999999995E-7,-9.9999999999999995E-7,-9.9999999999999995E-7,-9.9999999999999995E-7,-9.9999999999999995E-7,-9.9999999999999995E-7,{"$f":"IF(ISERROR(VLOOKUP(F1110,ages!B$1:B$23,1,1)),\"\",VLOOKUP(F1110,ages!B$1:B$23,1,1))","v":""},{"$f":"IF(ISERROR(VLOOKUP(F1110,ages!B$1:D$23,3,1)),\"\",VLOOKUP(F1110,ages!B$1:D$23,3,1))","v":""},0,0,0,0,0]
[null,null,null,null,null,"",null,null,null,null,null,null,"","","","","","","","","","",{"$f":"IF(ISNUMBER(F1115),IF(AL1115<0.85,\"\",VLOOKUP(M1115,A!A$2:X$23,VLOOKUP(F1115,ages!B$1:C$23,2,1),1)),\"\")","v":""},{"$f":"IF(ISNUMBER(F1115),IF(AM1115<0.85,\"\",VLOOKUP(N1115,B!A$2:X$23,VLOOKUP(F1115,ages!B$1:C$23,2,1),1)),\"\")","v":""},{"$f":"IF(ISNUMBER(F1115),IF(AN1115<0.85,\"\",VLOOKUP(O1115,'C'!A$2:X$23,VLOOKUP(F1115,ages!B$1:C$23,2,1),1)),\"\")","v":""},{"$f":"IF(ISNUMBER(F1115),IF(AO1115<0.85,\"\",VLOOKUP(P1115,D!A$2:X$23,VLOOKUP(F1115,ages!B$1:C$23,2,1),1)),\"\")","v":""},{"$f":"IF(ISNUMBER(F1115),IF(AP1115<0.85,\"\",VLOOKUP(Q1115,E!A$2:X$23,VLOOKUP(F1115,ages!B$1:C$23,2,1),1)),\"\")","v":""},{"$f":"IF(ISNUMBER(F1115),IF(AQ1115<0.85,\"\",VLOOKUP(R1115,F!A$2:X$23,VLOOKUP(F1115,ages!B$1:C$23,2,1),1)),\"\")","v":""},{"$f":"IF(ISNUMBER(F1115),IF(AR1115<0.85,\"\",VLOOKUP(S1115,G!A$2:X$23,VLOOKUP(F1115,ages!B$1:C$23,2,1),1)),\"\")","v":""},{"$f":"IF(ISNUMBER(F1115),IF(AS1115<0.85,\"\",VLOOKUP(T1115,H!A$2:X$23,VLOOKUP(F1115,ages!B$1:C$23,2,1),1)),\"\")","v":""},{"$f":"IF(ISNUMBER(F1115),IF(AT1115<0.85,\"\",VLOOKUP(U1115,I!A$2:X$23,VLOOKUP(F1115,ages!B$1:C$23,2,1),1)),\"\")","v":""},{"$f":"IF(ISNUMBER(F1115),IF(AU1115<0.85,\"\",VLOOKUP(V1115,J!A$2:X$23,VLOOKUP(F1115,ages!B$1:C$23,2,1),1)),\"\")","v":""},"","","","",-1.0000000000000002E-6,0,0,0,0,0,0,0,0,0,0,0,null,null,null,null,null,null,null,null,null,null,null,null,null,null,null,null,null,null,null,null,null,null,null,null,null,null,null,null,null,null,null,null,null,null,null,null,null,null,null,null,null,null,null,null,null,null,null,null,null,null,null,null,null,null,null,null,null,null,null,null,null,null,null,null,null,null,null,null,null,null,-9.9999999999999995E-7,-9.9999999999999995E-7,-9.9999999999999995E-7,-9.9999999999999995E-7,-9.9999999999999995E-7,-9.9999999999999995E-7,-9.9999999999999995E-7,-9.9999999999999995E-7,-9.9999999999999995E-7,-9.9999999999999995E-7,-9.9999999999999995E-7,-9.9999999999999995E-7,-9.9999999999999995E-7,-9.9999999999999995E-7,-9.9999999999999995E-7,-9.9999999999999995E-7,-9.9999999999999995E-7,-9.9999999999999995E-7,-9.9999999999999995E-7,-9.9999999999999995E-7,{"$f":"IF(ISERROR(VLOOKUP(F1115,ages!B$1:B$23,1,1)),\"\",VLOOKUP(F1115,ages!B$1:B$23,1,1))","v":""},{"$f":"IF(ISERROR(VLOOKUP(F1115,ages!B$1:D$23,3,1)),\"\",VLOOKUP(F1115,ages!B$1:D$23,3,1))","v":""},0,0,0,0,0]
[null,null,null,null,null,"",null,null,null,null,null,null,"","","","","","","","","","",{"$f":"IF(ISNUMBER(F1118),IF(AL1118<0.85,\"\",VLOOKUP(M1118,A!A$2:X$23,VLOOKUP(F1118,ages!B$1:C$23,2,1),1)),\"\")","v":""},{"$f":"IF(ISNUMBER(F1118),IF(AM1118<0.85,\"\",VLOOKUP(N1118,B!A$2:X$23,VLOOKUP(F1118,ages!B$1:C$23,2,1),1)),\"\")","v":""},{"$f":"IF(ISNUMBER(F1118),IF(AN1118<0.85,\"\",VLOOKUP(O1118,'C'!A$2:X$23,VLOOKUP(F1118,ages!B$1:C$23,2,1),1)),\"\")","v":""},{"$f":"IF(ISNUMBER(F1118),IF(AO1118<0.85,\"\",VLOOKUP(P1118,D!A$2:X$23,VLOOKUP(F1118,ages!B$1:C$23,2,1),1)),\"\")","v":""},{"$f":"IF(ISNUMBER(F1118),IF(AP1118<0.85,\"\",VLOOKUP(Q1118,E!A$2:X$23,VLOOKUP(F1118,ages!B$1:C$23,2,1),1)),\"\")","v":""},{"$f":"IF(ISNUMBER(F1118),IF(AQ1118<0.85,\"\",VLOOKUP(R1118,F!A$2:X$23,VLOOKUP(F1118,ages!B$1:C$23,2,1),1)),\"\")","v":""},{"$f":"IF(ISNUMBER(F1118),IF(AR1118<0.85,\"\",VLOOKUP(S1118,G!A$2:X$23,VLOOKUP(F1118,ages!B$1:C$23,2,1),1)),\"\")","v":""},{"$f":"IF(ISNUMBER(F1118),IF(AS1118<0.85,\"\",VLOOKUP(T1118,H!A$2:X$23,VLOOKUP(F1118,ages!B$1:C$23,2,1),1)),\"\")","v":""},{"$f":"IF(ISNUMBER(F1118),IF(AT1118<0.85,\"\",VLOOKUP(U1118,I!A$2:X$23,VLOOKUP(F1118,ages!B$1:C$23,2,1),1)),\"\")","v":""},{"$f":"IF(ISNUMBER(F1118),IF(AU1118<0.85,\"\",VLOOKUP(V1118,J!A$2:X$23,VLOOKUP(F1118,ages!B$1:C$23,2,1),1)),\"\")","v":""},"","","","",-1.0000000000000002E-6,0,0,0,0,0,0,0,0,0,0,0,null,null,null,null,null,null,null,null,null,null,null,null,null,null,null,null,null,null,null,null,null,null,null,null,null,null,null,null,null,null,null,null,null,null,null,null,null,null,null,null,null,null,null,null,null,null,null,null,null,null,null,null,null,null,null,null,null,null,null,null,null,null,null,null,null,null,null,null,null,null,-9.9999999999999995E-7,-9.9999999999999995E-7,-9.9999999999999995E-7,-9.9999999999999995E-7,-9.9999999999999995E-7,-9.9999999999999995E-7,-9.9999999999999995E-7,-9.9999999999999995E-7,-9.9999999999999995E-7,-9.9999999999999995E-7,-9.9999999999999995E-7,-9.9999999999999995E-7,-9.9999999999999995E-7,-9.9999999999999995E-7,-9.9999999999999995E-7,-9.9999999999999995E-7,-9.9999999999999995E-7,-9.9999999999999995E-7,-9.9999999999999995E-7,-9.9999999999999995E-7,{"$f":"IF(ISERROR(VLOOKUP(F1118,ages!B$1:B$23,1,1)),\"\",VLOOKUP(F1118,ages!B$1:B$23,1,1))","v":""},{"$f":"IF(ISERROR(VLOOKUP(F1118,ages!B$1:D$23,3,1)),\"\",VLOOKUP(F1118,ages!B$1:D$23,3,1))","v":""},0,0,0,0,0]
[null,null,null,null,null,"",null,null,null,null,null,null,"","","","","","","","","","",{"$f":"IF(ISNUMBER(F1120),IF(AL1120<0.85,\"\",VLOOKUP(M1120,A!A$2:X$23,VLOOKUP(F1120,ages!B$1:C$23,2,1),1)),\"\")","v":""},{"$f":"IF(ISNUMBER(F1120),IF(AM1120<0.85,\"\",VLOOKUP(N1120,B!A$2:X$23,VLOOKUP(F1120,ages!B$1:C$23,2,1),1)),\"\")","v":""},{"$f":"IF(ISNUMBER(F1120),IF(AN1120<0.85,\"\",VLOOKUP(O1120,'C'!A$2:X$23,VLOOKUP(F1120,ages!B$1:C$23,2,1),1)),\"\")","v":""},{"$f":"IF(ISNUMBER(F1120),IF(AO1120<0.85,\"\",VLOOKUP(P1120,D!A$2:X$23,VLOOKUP(F1120,ages!B$1:C$23,2,1),1)),\"\")","v":""},{"$f":"IF(ISNUMBER(F1120),IF(AP1120<0.85,\"\",VLOOKUP(Q1120,E!A$2:X$23,VLOOKUP(F1120,ages!B$1:C$23,2,1),1)),\"\")","v":""},{"$f":"IF(ISNUMBER(F1120),IF(AQ1120<0.85,\"\",VLOOKUP(R1120,F!A$2:X$23,VLOOKUP(F1120,ages!B$1:C$23,2,1),1)),\"\")","v":""},{"$f":"IF(ISNUMBER(F1120),IF(AR1120<0.85,\"\",VLOOKUP(S1120,G!A$2:X$23,VLOOKUP(F1120,ages!B$1:C$23,2,1),1)),\"\")","v":""},{"$f":"IF(ISNUMBER(F1120),IF(AS1120<0.85,\"\",VLOOKUP(T1120,H!A$2:X$23,VLOOKUP(F1120,ages!B$1:C$23,2,1),1)),\"\")","v":""},{"$f":"IF(ISNUMBER(F1120),IF(AT1120<0.85,\"\",VLOOKUP(U1120,I!A$2:X$23,VLOOKUP(F1120,ages!B$1:C$23,2,1),1)),\"\")","v":""},{"$f":"IF(ISNUMBER(F1120),IF(AU1120<0.85,\"\",VLOOKUP(V1120,J!A$2:X$23,VLOOKUP(F1120,ages!B$1:C$23,2,1),1)),\"\")","v":""},"","","","",-1.0000000000000002E-6,0,0,0,0,0,0,0,0,0,0,0,null,null,null,null,null,null,null,null,null,null,null,null,null,null,null,null,null,null,null,null,null,null,null,null,null,null,null,null,null,null,null,null,null,null,null,null,null,null,null,null,null,null,null,null,null,null,null,null,null,null,null,null,null,null,null,null,null,null,null,null,null,null,null,null,null,null,null,null,null,null,-9.9999999999999995E-7,-9.9999999999999995E-7,-9.9999999999999995E-7,-9.9999999999999995E-7,-9.9999999999999995E-7,-9.9999999999999995E-7,-9.9999999999999995E-7,-9.9999999999999995E-7,-9.9999999999999995E-7,-9.9999999999999995E-7,-9.9999999999999995E-7,-9.9999999999999995E-7,-9.9999999999999995E-7,-9.9999999999999995E-7,-9.9999999999999995E-7,-9.9999999999999995E-7,-9.9999999999999995E-7,-9.9999999999999995E-7,-9.9999999999999995E-7,-9.9999999999999995E-7,{"$f":"IF(ISERROR(VLOOKUP(F1120,ages!B$1:B$23,1,1)),\"\",VLOOKUP(F1120,ages!B$1:B$23,1,1))","v":""},{"$f":"IF(ISERROR(VLOOKUP(F1120,ages!B$1:D$23,3,1)),\"\",VLOOKUP(F1120,ages!B$1:D$23,3,1))","v":""},0,0,0,0,0]
[null,null,null,null,null,"",null,null,null,null,null,null,"","","","","","","","","","",{"$f":"IF(ISNUMBER(F1125),IF(AL1125<0.85,\"\",VLOOKUP(M1125,A!A$2:X$23,VLOOKUP(F1125,ages!B$1:C$23,2,1),1)),\"\")","v":""},{"$f":"IF(ISNUMBER(F1125),IF(AM1125<0.85,\"\",VLOOKUP(N1125,B!A$2:X$23,VLOOKUP(F1125,ages!B$1:C$23,2,1),1)),\"\")","v":""},{"$f":"IF(ISNUMBER(F1125),IF(AN1125<0.85,\"\",VLOOKUP(O1125,'C'!A$2:X$23,VLOOKUP(F1125,ages!B$1:C$23,2,1),1)),\"\")","v":""},{"$f":"IF(ISNUMBER(F1125),IF(AO1125<0.85,\"\",VLOOKUP(P1125,D!A$2:X$23,VLOOKUP(F1125,ages!B$1:C$23,2,1),1)),\"\")","v":""},{"$f":"IF(ISNUMBER(F1125),IF(AP1125<0.85,\"\",VLOOKUP(Q1125,E!A$2:X$23,VLOOKUP(F1125,ages!B$1:C$23,2,1),1)),\"\")","v":""},{"$f":"IF(ISNUMBER(F1125),IF(AQ1125<0.85,\"\",VLOOKUP(R1125,F!A$2:X$23,VLOOKUP(F1125,ages!B$1:C$23,2,1),1)),\"\")","v":""},{"$f":"IF(ISNUMBER(F1125),IF(AR1125<0.85,\"\",VLOOKUP(S1125,G!A$2:X$23,VLOOKUP(F1125,ages!B$1:C$23,2,1),1)),\"\")","v":""},{"$f":"IF(ISNUMBER(F1125),IF(AS1125<0.85,\"\",VLOOKUP(T1125,H!A$2:X$23,VLOOKUP(F1125,ages!B$1:C$23,2,1),1)),\"\")","v":""},{"$f":"IF(ISNUMBER(F1125),IF(AT1125<0.85,\"\",VLOOKUP(U1125,I!A$2:X$23,VLOOKUP(F1125,ages!B$1:C$23,2,1),1)),\"\")","v":""},{"$f":"IF(ISNUMBER(F1125),IF(AU1125<0.85,\"\",VLOOKUP(V1125,J!A$2:X$23,VLOOKUP(F1125,ages!B$1:C$23,2,1),1)),\"\")","v":""},"","","","",-1.0000000000000002E-6,0,0,0,0,0,0,0,0,0,0,0,null,null,null,null,null,null,null,null,null,null,null,null,null,null,null,null,null,null,null,null,null,null,null,null,null,null,null,null,null,null,null,null,null,null,null,null,null,null,null,null,null,null,null,null,null,null,null,null,null,null,null,null,null,null,null,null,null,null,null,null,null,null,null,null,null,null,null,null,null,null,-9.9999999999999995E-7,-9.9999999999999995E-7,-9.9999999999999995E-7,-9.9999999999999995E-7,-9.9999999999999995E-7,-9.9999999999999995E-7,-9.9999999999999995E-7,-9.9999999999999995E-7,-9.9999999999999995E-7,-9.9999999999999995E-7,-9.9999999999999995E-7,-9.9999999999999995E-7,-9.9999999999999995E-7,-9.9999999999999995E-7,-9.9999999999999995E-7,-9.9999999999999995E-7,-9.9999999999999995E-7,-9.9999999999999995E-7,-9.9999999999999995E-7,-9.9999999999999995E-7,{"$f":"IF(ISERROR(VLOOKUP(F1125,ages!B$1:B$23,1,1)),\"\",VLOOKUP(F1125,ages!B$1:B$23,1,1))","v":""},{"$f":"IF(ISERROR(VLOOKUP(F1125,ages!B$1:D$23,3,1)),\"\",VLOOKUP(F1125,ages!B$1:D$23,3,1))","v":""},0,0,0,0,0]
[null,null,null,null,null,"",null,null,null,null,null,null,"","","","","","","","","","",{"$f":"IF(ISNUMBER(F1131),IF(AL1131<0.85,\"\",VLOOKUP(M1131,A!A$2:X$23,VLOOKUP(F1131,ages!B$1:C$23,2,1),1)),\"\")","v":""},{"$f":"IF(ISNUMBER(F1131),IF(AM1131<0.85,\"\",VLOOKUP(N1131,B!A$2:X$23,VLOOKUP(F1131,ages!B$1:C$23,2,1),1)),\"\")","v":""},{"$f":"IF(ISNUMBER(F1131),IF(AN1131<0.85,\"\",VLOOKUP(O1131,'C'!A$2:X$23,VLOOKUP(F1131,ages!B$1:C$23,2,1),1)),\"\")","v":""},{"$f":"IF(ISNUMBER(F1131),IF(AO1131<0.85,\"\",VLOOKUP(P1131,D!A$2:X$23,VLOOKUP(F1131,ages!B$1:C$23,2,1),1)),\"\")","v":""},{"$f":"IF(ISNUMBER(F1131),IF(AP1131<0.85,\"\",VLOOKUP(Q1131,E!A$2:X$23,VLOOKUP(F1131,ages!B$1:C$23,2,1),1)),\"\")","v":""},{"$f":"IF(ISNUMBER(F1131),IF(AQ1131<0.85,\"\",VLOOKUP(R1131,F!A$2:X$23,VLOOKUP(F1131,ages!B$1:C$23,2,1),1)),\"\")","v":""},{"$f":"IF(ISNUMBER(F1131),IF(AR1131<0.85,\"\",VLOOKUP(S1131,G!A$2:X$23,VLOOKUP(F1131,ages!B$1:C$23,2,1),1)),\"\")","v":""},{"$f":"IF(ISNUMBER(F1131),IF(AS1131<0.85,\"\",VLOOKUP(T1131,H!A$2:X$23,VLOOKUP(F1131,ages!B$1:C$23,2,1),1)),\"\")","v":""},{"$f":"IF(ISNUMBER(F1131),IF(AT1131<0.85,\"\",VLOOKUP(U1131,I!A$2:X$23,VLOOKUP(F1131,ages!B$1:C$23,2,1),1)),\"\")","v":""},{"$f":"IF(ISNUMBER(F1131),IF(AU1131<0.85,\"\",VLOOKUP(V1131,J!A$2:X$23,VLOOKUP(F1131,ages!B$1:C$23,2,1),1)),\"\")","v":""},"","","","",-1.0000000000000002E-6,0,0,0,0,0,0,0,0,0,0,0,null,null,null,null,null,null,null,null,null,null,null,null,null,null,null,null,null,null,null,null,null,null,null,null,null,null,null,null,null,null,null,null,null,null,null,null,null,null,null,null,null,null,null,null,null,null,null,null,null,null,null,null,null,null,null,null,null,null,null,null,null,null,null,null,null,null,null,null,null,null,-9.9999999999999995E-7,-9.9999999999999995E-7,-9.9999999999999995E-7,-9.9999999999999995E-7,-9.9999999999999995E-7,-9.9999999999999995E-7,-9.9999999999999995E-7,-9.9999999999999995E-7,-9.9999999999999995E-7,-9.9999999999999995E-7,-9.9999999999999995E-7,-9.9999999999999995E-7,-9.9999999999999995E-7,-9.9999999999999995E-7,-9.9999999999999995E-7,-9.9999999999999995E-7,-9.9999999999999995E-7,-9.9999999999999995E-7,-9.9999999999999995E-7,-9.9999999999999995E-7,{"$f":"IF(ISERROR(VLOOKUP(F1131,ages!B$1:B$23,1,1)),\"\",VLOOKUP(F1131,ages!B$1:B$23,1,1))","v":""},{"$f":"IF(ISERROR(VLOOKUP(F1131,ages!B$1:D$23,3,1)),\"\",VLOOKUP(F1131,ages!B$1:D$23,3,1))","v":""},0,0,0,0,0]
[null,null,null,null,null,"",null,null,null,null,null,null,"","","","","","","","","","",{"$f":"IF(ISNUMBER(F1136),IF(AL1136<0.85,\"\",VLOOKUP(M1136,A!A$2:X$23,VLOOKUP(F1136,ages!B$1:C$23,2,1),1)),\"\")","v":""},{"$f":"IF(ISNUMBER(F1136),IF(AM1136<0.85,\"\",VLOOKUP(N1136,B!A$2:X$23,VLOOKUP(F1136,ages!B$1:C$23,2,1),1)),\"\")","v":""},{"$f":"IF(ISNUMBER(F1136),IF(AN1136<0.85,\"\",VLOOKUP(O1136,'C'!A$2:X$23,VLOOKUP(F1136,ages!B$1:C$23,2,1),1)),\"\")","v":""},{"$f":"IF(ISNUMBER(F1136),IF(AO1136<0.85,\"\",VLOOKUP(P1136,D!A$2:X$23,VLOOKUP(F1136,ages!B$1:C$23,2,1),1)),\"\")","v":""},{"$f":"IF(ISNUMBER(F1136),IF(AP1136<0.85,\"\",VLOOKUP(Q1136,E!A$2:X$23,VLOOKUP(F1136,ages!B$1:C$23,2,1),1)),\"\")","v":""},{"$f":"IF(ISNUMBER(F1136),IF(AQ1136<0.85,\"\",VLOOKUP(R1136,F!A$2:X$23,VLOOKUP(F1136,ages!B$1:C$23,2,1),1)),\"\")","v":""},{"$f":"IF(ISNUMBER(F1136),IF(AR1136<0.85,\"\",VLOOKUP(S1136,G!A$2:X$23,VLOOKUP(F1136,ages!B$1:C$23,2,1),1)),\"\")","v":""},{"$f":"IF(ISNUMBER(F1136),IF(AS1136<0.85,\"\",VLOOKUP(T1136,H!A$2:X$23,VLOOKUP(F1136,ages!B$1:C$23,2,1),1)),\"\")","v":""},{"$f":"IF(ISNUMBER(F1136),IF(AT1136<0.85,\"\",VLOOKUP(U1136,I!A$2:X$23,VLOOKUP(F1136,ages!B$1:C$23,2,1),1)),\"\")","v":""},{"$f":"IF(ISNUMBER(F1136),IF(AU1136<0.85,\"\",VLOOKUP(V1136,J!A$2:X$23,VLOOKUP(F1136,ages!B$1:C$23,2,1),1)),\"\")","v":""},"","","","",-1.0000000000000002E-6,0,0,0,0,0,0,0,0,0,0,0,null,null,null,null,null,null,null,null,null,null,null,null,null,null,null,null,null,null,null,null,null,null,null,null,null,null,null,null,null,null,null,null,null,null,null,null,null,null,null,null,null,null,null,null,null,null,null,null,null,null,null,null,null,null,null,null,null,null,null,null,null,null,null,null,null,null,null,null,null,null,-9.9999999999999995E-7,-9.9999999999999995E-7,-9.9999999999999995E-7,-9.9999999999999995E-7,-9.9999999999999995E-7,-9.9999999999999995E-7,-9.9999999999999995E-7,-9.9999999999999995E-7,-9.9999999999999995E-7,-9.9999999999999995E-7,-9.9999999999999995E-7,-9.9999999999999995E-7,-9.9999999999999995E-7,-9.9999999999999995E-7,-9.9999999999999995E-7,-9.9999999999999995E-7,-9.9999999999999995E-7,-9.9999999999999995E-7,-9.9999999999999995E-7,-9.9999999999999995E-7,{"$f":"IF(ISERROR(VLOOKUP(F1136,ages!B$1:B$23,1,1)),\"\",VLOOKUP(F1136,ages!B$1:B$23,1,1))","v":""},{"$f":"IF(ISERROR(VLOOKUP(F1136,ages!B$1:D$23,3,1)),\"\",VLOOKUP(F1136,ages!B$1:D$23,3,1))","v":""},0,0,0,0,0]
[null,null,null,null,null,"",null,null,null,null,null,null,"","","","","","","","","","",{"$f":"IF(ISNUMBER(F1143),IF(AL1143<0.85,\"\",VLOOKUP(M1143,A!A$2:X$23,VLOOKUP(F1143,ages!B$1:C$23,2,1),1)),\"\")","v":""},{"$f":"IF(ISNUMBER(F1143),IF(AM1143<0.85,\"\",VLOOKUP(N1143,B!A$2:X$23,VLOOKUP(F1143,ages!B$1:C$23,2,1),1)),\"\")","v":""},{"$f":"IF(ISNUMBER(F1143),IF(AN1143<0.85,\"\",VLOOKUP(O1143,'C'!A$2:X$23,VLOOKUP(F1143,ages!B$1:C$23,2,1),1)),\"\")","v":""},{"$f":"IF(ISNUMBER(F1143),IF(AO1143<0.85,\"\",VLOOKUP(P1143,D!A$2:X$23,VLOOKUP(F1143,ages!B$1:C$23,2,1),1)),\"\")","v":""},{"$f":"IF(ISNUMBER(F1143),IF(AP1143<0.85,\"\",VLOOKUP(Q1143,E!A$2:X$23,VLOOKUP(F1143,ages!B$1:C$23,2,1),1)),\"\")","v":""},{"$f":"IF(ISNUMBER(F1143),IF(AQ1143<0.85,\"\",VLOOKUP(R1143,F!A$2:X$23,VLOOKUP(F1143,ages!B$1:C$23,2,1),1)),\"\")","v":""},{"$f":"IF(ISNUMBER(F1143),IF(AR1143<0.85,\"\",VLOOKUP(S1143,G!A$2:X$23,VLOOKUP(F1143,ages!B$1:C$23,2,1),1)),\"\")","v":""},{"$f":"IF(ISNUMBER(F1143),IF(AS1143<0.85,\"\",VLOOKUP(T1143,H!A$2:X$23,VLOOKUP(F1143,ages!B$1:C$23,2,1),1)),\"\")","v":""},{"$f":"IF(ISNUMBER(F1143),IF(AT1143<0.85,\"\",VLOOKUP(U1143,I!A$2:X$23,VLOOKUP(F1143,ages!B$1:C$23,2,1),1)),\"\")","v":""},{"$f":"IF(ISNUMBER(F1143),IF(AU1143<0.85,\"\",VLOOKUP(V1143,J!A$2:X$23,VLOOKUP(F1143,ages!B$1:C$23,2,1),1)),\"\")","v":""},"","","","",-1.0000000000000002E-6,0,0,0,0,0,0,0,0,0,0,0,null,null,null,null,null,null,null,null,null,null,null,null,null,null,null,null,null,null,null,null,null,null,null,null,null,null,null,null,null,null,null,null,null,null,null,null,null,null,null,null,null,null,null,null,null,null,null,null,null,null,null,null,null,null,null,null,null,null,null,null,null,null,null,null,null,null,null,null,null,null,-9.9999999999999995E-7,-9.9999999999999995E-7,-9.9999999999999995E-7,-9.9999999999999995E-7,-9.9999999999999995E-7,-9.9999999999999995E-7,-9.9999999999999995E-7,-9.9999999999999995E-7,-9.9999999999999995E-7,-9.9999999999999995E-7,-9.9999999999999995E-7,-9.9999999999999995E-7,-9.9999999999999995E-7,-9.9999999999999995E-7,-9.9999999999999995E-7,-9.9999999999999995E-7,-9.9999999999999995E-7,-9.9999999999999995E-7,-9.9999999999999995E-7,-9.9999999999999995E-7,{"$f":"IF(ISERROR(VLOOKUP(F1143,ages!B$1:B$23,1,1)),\"\",VLOOKUP(F1143,ages!B$1:B$23,1,1))","v":""},{"$f":"IF(ISERROR(VLOOKUP(F1143,ages!B$1:D$23,3,1)),\"\",VLOOKUP(F1143,ages!B$1:D$23,3,1))","v":""},0,0,0,0,0]
[null,null,null,null,null,"",null,null,null,null,null,null,"","","","","","","","","","",{"$f":"IF(ISNUMBER(F1146),IF(AL1146<0.85,\"\",VLOOKUP(M1146,A!A$2:X$23,VLOOKUP(F1146,ages!B$1:C$23,2,1),1)),\"\")","v":""},{"$f":"IF(ISNUMBER(F1146),IF(AM1146<0.85,\"\",VLOOKUP(N1146,B!A$2:X$23,VLOOKUP(F1146,ages!B$1:C$23,2,1),1)),\"\")","v":""},{"$f":"IF(ISNUMBER(F1146),IF(AN1146<0.85,\"\",VLOOKUP(O1146,'C'!A$2:X$23,VLOOKUP(F1146,ages!B$1:C$23,2,1),1)),\"\")","v":""},{"$f":"IF(ISNUMBER(F1146),IF(AO1146<0.85,\"\",VLOOKUP(P1146,D!A$2:X$23,VLOOKUP(F1146,ages!B$1:C$23,2,1),1)),\"\")","v":""},{"$f":"IF(ISNUMBER(F1146),IF(AP1146<0.85,\"\",VLOOKUP(Q1146,E!A$2:X$23,VLOOKUP(F1146,ages!B$1:C$23,2,1),1)),\"\")","v":""},{"$f":"IF(ISNUMBER(F1146),IF(AQ1146<0.85,\"\",VLOOKUP(R1146,F!A$2:X$23,VLOOKUP(F1146,ages!B$1:C$23,2,1),1)),\"\")","v":""},{"$f":"IF(ISNUMBER(F1146),IF(AR1146<0.85,\"\",VLOOKUP(S1146,G!A$2:X$23,VLOOKUP(F1146,ages!B$1:C$23,2,1),1)),\"\")","v":""},{"$f":"IF(ISNUMBER(F1146),IF(AS1146<0.85,\"\",VLOOKUP(T1146,H!A$2:X$23,VLOOKUP(F1146,ages!B$1:C$23,2,1),1)),\"\")","v":""},{"$f":"IF(ISNUMBER(F1146),IF(AT1146<0.85,\"\",VLOOKUP(U1146,I!A$2:X$23,VLOOKUP(F1146,ages!B$1:C$23,2,1),1)),\"\")","v":""},{"$f":"IF(ISNUMBER(F1146),IF(AU1146<0.85,\"\",VLOOKUP(V1146,J!A$2:X$23,VLOOKUP(F1146,ages!B$1:C$23,2,1),1)),\"\")","v":""},"","","","",-1.0000000000000002E-6,0,0,0,0,0,0,0,0,0,0,0,null,null,null,null,null,null,null,null,null,null,null,null,null,null,null,null,null,null,null,null,null,null,null,null,null,null,null,null,null,null,null,null,null,null,null,null,null,null,null,null,null,null,null,null,null,null,null,null,null,null,null,null,null,null,null,null,null,null,null,null,null,null,null,null,null,null,null,null,null,null,-9.9999999999999995E-7,-9.9999999999999995E-7,-9.9999999999999995E-7,-9.9999999999999995E-7,-9.9999999999999995E-7,-9.9999999999999995E-7,-9.9999999999999995E-7,-9.9999999999999995E-7,-9.9999999999999995E-7,-9.9999999999999995E-7,-9.9999999999999995E-7,-9.9999999999999995E-7,-9.9999999999999995E-7,-9.9999999999999995E-7,-9.9999999999999995E-7,-9.9999999999999995E-7,-9.9999999999999995E-7,-9.9999999999999995E-7,-9.9999999999999995E-7,-9.9999999999999995E-7,{"$f":"IF(ISERROR(VLOOKUP(F1146,ages!B$1:B$23,1,1)),\"\",VLOOKUP(F1146,ages!B$1:B$23,1,1))","v":""},{"$f":"IF(ISERROR(VLOOKUP(F1146,ages!B$1:D$23,3,1)),\"\",VLOOKUP(F1146,ages!B$1:D$23,3,1))","v":""},0,0,0,0,0]
[null,null,null,null,null,"",null,null,null,null,null,null,"","","","","","","","","","",{"$f":"IF(ISNUMBER(F1151),IF(AL1151<0.85,\"\",VLOOKUP(M1151,A!A$2:X$23,VLOOKUP(F1151,ages!B$1:C$23,2,1),1)),\"\")","v":""},{"$f":"IF(ISNUMBER(F1151),IF(AM1151<0.85,\"\",VLOOKUP(N1151,B!A$2:X$23,VLOOKUP(F1151,ages!B$1:C$23,2,1),1)),\"\")","v":""},{"$f":"IF(ISNUMBER(F1151),IF(AN1151<0.85,\"\",VLOOKUP(O1151,'C'!A$2:X$23,VLOOKUP(F1151,ages!B$1:C$23,2,1),1)),\"\")","v":""},{"$f":"IF(ISNUMBER(F1151),IF(AO1151<0.85,\"\",VLOOKUP(P1151,D!A$2:X$23,VLOOKUP(F1151,ages!B$1:C$23,2,1),1)),\"\")","v":""},{"$f":"IF(ISNUMBER(F1151),IF(AP1151<0.85,\"\",VLOOKUP(Q1151,E!A$2:X$23,VLOOKUP(F1151,ages!B$1:C$23,2,1),1)),\"\")","v":""},{"$f":"IF(ISNUMBER(F1151),IF(AQ1151<0.85,\"\",VLOOKUP(R1151,F!A$2:X$23,VLOOKUP(F1151,ages!B$1:C$23,2,1),1)),\"\")","v":""},{"$f":"IF(ISNUMBER(F1151),IF(AR1151<0.85,\"\",VLOOKUP(S1151,G!A$2:X$23,VLOOKUP(F1151,ages!B$1:C$23,2,1),1)),\"\")","v":""},{"$f":"IF(ISNUMBER(F1151),IF(AS1151<0.85,\"\",VLOOKUP(T1151,H!A$2:X$23,VLOOKUP(F1151,ages!B$1:C$23,2,1),1)),\"\")","v":""},{"$f":"IF(ISNUMBER(F1151),IF(AT1151<0.85,\"\",VLOOKUP(U1151,I!A$2:X$23,VLOOKUP(F1151,ages!B$1:C$23,2,1),1)),\"\")","v":""},{"$f":"IF(ISNUMBER(F1151),IF(AU1151<0.85,\"\",VLOOKUP(V1151,J!A$2:X$23,VLOOKUP(F1151,ages!B$1:C$23,2,1),1)),\"\")","v":""},"","","","",-1.0000000000000002E-6,0,0,0,0,0,0,0,0,0,0,0,null,null,null,null,null,null,null,null,null,null,null,null,null,null,null,null,null,null,null,null,null,null,null,null,null,null,null,null,null,null,null,null,null,null,null,null,null,null,null,null,null,null,null,null,null,null,null,null,null,null,null,null,null,null,null,null,null,null,null,null,null,null,null,null,null,null,null,null,null,null,-9.9999999999999995E-7,-9.9999999999999995E-7,-9.9999999999999995E-7,-9.9999999999999995E-7,-9.9999999999999995E-7,-9.9999999999999995E-7,-9.9999999999999995E-7,-9.9999999999999995E-7,-9.9999999999999995E-7,-9.9999999999999995E-7,-9.9999999999999995E-7,-9.9999999999999995E-7,-9.9999999999999995E-7,-9.9999999999999995E-7,-9.9999999999999995E-7,-9.9999999999999995E-7,-9.9999999999999995E-7,-9.9999999999999995E-7,-9.9999999999999995E-7,-9.9999999999999995E-7,{"$f":"IF(ISERROR(VLOOKUP(F1151,ages!B$1:B$23,1,1)),\"\",VLOOKUP(F1151,ages!B$1:B$23,1,1))","v":""},{"$f":"IF(ISERROR(VLOOKUP(F1151,ages!B$1:D$23,3,1)),\"\",VLOOKUP(F1151,ages!B$1:D$23,3,1))","v":""},0,0,0,0,0]
[null,null,null,null,null,"",null,null,null,null,null,null,"","","","","","","","","","",{"$f":"IF(ISNUMBER(F1157),IF(AL1157<0.85,\"\",VLOOKUP(M1157,A!A$2:X$23,VLOOKUP(F1157,ages!B$1:C$23,2,1),1)),\"\")","v":""},{"$f":"IF(ISNUMBER(F1157),IF(AM1157<0.85,\"\",VLOOKUP(N1157,B!A$2:X$23,VLOOKUP(F1157,ages!B$1:C$23,2,1),1)),\"\")","v":""},{"$f":"IF(ISNUMBER(F1157),IF(AN1157<0.85,\"\",VLOOKUP(O1157,'C'!A$2:X$23,VLOOKUP(F1157,ages!B$1:C$23,2,1),1)),\"\")","v":""},{"$f":"IF(ISNUMBER(F1157),IF(AO1157<0.85,\"\",VLOOKUP(P1157,D!A$2:X$23,VLOOKUP(F1157,ages!B$1:C$23,2,1),1)),\"\")","v":""},{"$f":"IF(ISNUMBER(F1157),IF(AP1157<0.85,\"\",VLOOKUP(Q1157,E!A$2:X$23,VLOOKUP(F1157,ages!B$1:C$23,2,1),1)),\"\")","v":""},{"$f":"IF(ISNUMBER(F1157),IF(AQ1157<0.85,\"\",VLOOKUP(R1157,F!A$2:X$23,VLOOKUP(F1157,ages!B$1:C$23,2,1),1)),\"\")","v":""},{"$f":"IF(ISNUMBER(F1157),IF(AR1157<0.85,\"\",VLOOKUP(S1157,G!A$2:X$23,VLOOKUP(F1157,ages!B$1:C$23,2,1),1)),\"\")","v":""},{"$f":"IF(ISNUMBER(F1157),IF(AS1157<0.85,\"\",VLOOKUP(T1157,H!A$2:X$23,VLOOKUP(F1157,ages!B$1:C$23,2,1),1)),\"\")","v":""},{"$f":"IF(ISNUMBER(F1157),IF(AT1157<0.85,\"\",VLOOKUP(U1157,I!A$2:X$23,VLOOKUP(F1157,ages!B$1:C$23,2,1),1)),\"\")","v":""},{"$f":"IF(ISNUMBER(F1157),IF(AU1157<0.85,\"\",VLOOKUP(V1157,J!A$2:X$23,VLOOKUP(F1157,ages!B$1:C$23,2,1),1)),\"\")","v":""},"","","","",-1.0000000000000002E-6,0,0,0,0,0,0,0,0,0,0,0,null,null,null,null,null,null,null,null,null,null,null,null,null,null,null,null,null,null,null,null,null,null,null,null,null,null,null,null,null,null,null,null,null,null,null,null,null,null,null,null,null,null,null,null,null,null,null,null,null,null,null,null,null,null,null,null,null,null,null,null,null,null,null,null,null,null,null,null,null,null,-9.9999999999999995E-7,-9.9999999999999995E-7,-9.9999999999999995E-7,-9.9999999999999995E-7,-9.9999999999999995E-7,-9.9999999999999995E-7,-9.9999999999999995E-7,-9.9999999999999995E-7,-9.9999999999999995E-7,-9.9999999999999995E-7,-9.9999999999999995E-7,-9.9999999999999995E-7,-9.9999999999999995E-7,-9.9999999999999995E-7,-9.9999999999999995E-7,-9.9999999999999995E-7,-9.9999999999999995E-7,-9.9999999999999995E-7,-9.9999999999999995E-7,-9.9999999999999995E-7,{"$f":"IF(ISERROR(VLOOKUP(F1157,ages!B$1:B$23,1,1)),\"\",VLOOKUP(F1157,ages!B$1:B$23,1,1))","v":""},{"$f":"IF(ISERROR(VLOOKUP(F1157,ages!B$1:D$23,3,1)),\"\",VLOOKUP(F1157,ages!B$1:D$23,3,1))","v":""},0,0,0,0,0]
[null,null,null,null,null,"",null,null,null,null,null,null,"","","","","","","","","","",{"$f":"IF(ISNUMBER(F1162),IF(AL1162<0.85,\"\",VLOOKUP(M1162,A!A$2:X$23,VLOOKUP(F1162,ages!B$1:C$23,2,1),1)),\"\")","v":""},{"$f":"IF(ISNUMBER(F1162),IF(AM1162<0.85,\"\",VLOOKUP(N1162,B!A$2:X$23,VLOOKUP(F1162,ages!B$1:C$23,2,1),1)),\"\")","v":""},{"$f":"IF(ISNUMBER(F1162),IF(AN1162<0.85,\"\",VLOOKUP(O1162,'C'!A$2:X$23,VLOOKUP(F1162,ages!B$1:C$23,2,1),1)),\"\")","v":""},{"$f":"IF(ISNUMBER(F1162),IF(AO1162<0.85,\"\",VLOOKUP(P1162,D!A$2:X$23,VLOOKUP(F1162,ages!B$1:C$23,2,1),1)),\"\")","v":""},{"$f":"IF(ISNUMBER(F1162),IF(AP1162<0.85,\"\",VLOOKUP(Q1162,E!A$2:X$23,VLOOKUP(F1162,ages!B$1:C$23,2,1),1)),\"\")","v":""},{"$f":"IF(ISNUMBER(F1162),IF(AQ1162<0.85,\"\",VLOOKUP(R1162,F!A$2:X$23,VLOOKUP(F1162,ages!B$1:C$23,2,1),1)),\"\")","v":""},{"$f":"IF(ISNUMBER(F1162),IF(AR1162<0.85,\"\",VLOOKUP(S1162,G!A$2:X$23,VLOOKUP(F1162,ages!B$1:C$23,2,1),1)),\"\")","v":""},{"$f":"IF(ISNUMBER(F1162),IF(AS1162<0.85,\"\",VLOOKUP(T1162,H!A$2:X$23,VLOOKUP(F1162,ages!B$1:C$23,2,1),1)),\"\")","v":""},{"$f":"IF(ISNUMBER(F1162),IF(AT1162<0.85,\"\",VLOOKUP(U1162,I!A$2:X$23,VLOOKUP(F1162,ages!B$1:C$23,2,1),1)),\"\")","v":""},{"$f":"IF(ISNUMBER(F1162),IF(AU1162<0.85,\"\",VLOOKUP(V1162,J!A$2:X$23,VLOOKUP(F1162,ages!B$1:C$23,2,1),1)),\"\")","v":""},{"$f":"IF(ISNUMBER(F1162),IF((COUNT(W1162:AD1162)=8),SUM(W1162:AD1162),\"\"),\"\")","v":""},{"$f":"IF(ISNUMBER(F1162),IF((COUNT(W1162:AF1162)=10),SUM(AA1162,AD1162:AF1162)-SUM(W1162:Z1162),\"\"),\"\")","v":""},"","",-1.0000000000000002E-6,0,0,0,0,0,0,0,0,0,0,0,null,null,null,null,null,null,null,null,null,null,null,null,null,null,null,null,null,null,null,null,null,null,null,null,null,null,null,null,null,null,null,null,null,null,null,null,null,null,null,null,null,null,null,null,null,null,null,null,null,null,null,null,null,null,null,null,null,null,null,null,null,null,null,null,null,null,null,null,null,null,-9.9999999999999995E-7,-9.9999999999999995E-7,-9.9999999999999995E-7,-9.9999999999999995E-7,-9.9999999999999995E-7,-9.9999999999999995E-7,-9.9999999999999995E-7,-9.9999999999999995E-7,-9.9999999999999995E-7,-9.9999999999999995E-7,-9.9999999999999995E-7,-9.9999999999999995E-7,-9.9999999999999995E-7,-9.9999999999999995E-7,-9.9999999999999995E-7,-9.9999999999999995E-7,-9.9999999999999995E-7,-9.9999999999999995E-7,-9.9999999999999995E-7,-9.9999999999999995E-7,{"$f":"IF(ISERROR(VLOOKUP(F1162,ages!B$1:B$23,1,1)),\"\",VLOOKUP(F1162,ages!B$1:B$23,1,1))","v":""},{"$f":"IF(ISERROR(VLOOKUP(F1162,ages!B$1:D$23,3,1)),\"\",VLOOKUP(F1162,ages!B$1:D$23,3,1))","v":""},0,0,0,0,0]
[null,null,null,null,null,"",null,null,null,null,null,null,"","","","","","","","","","",{"$f":"IF(ISNUMBER(F1166),IF(AL1166<0.85,\"\",VLOOKUP(M1166,A!A$2:X$23,VLOOKUP(F1166,ages!B$1:C$23,2,1),1)),\"\")","v":""},{"$f":"IF(ISNUMBER(F1166),IF(AM1166<0.85,\"\",VLOOKUP(N1166,B!A$2:X$23,VLOOKUP(F1166,ages!B$1:C$23,2,1),1)),\"\")","v":""},{"$f":"IF(ISNUMBER(F1166),IF(AN1166<0.85,\"\",VLOOKUP(O1166,'C'!A$2:X$23,VLOOKUP(F1166,ages!B$1:C$23,2,1),1)),\"\")","v":""},{"$f":"IF(ISNUMBER(F1166),IF(AO1166<0.85,\"\",VLOOKUP(P1166,D!A$2:X$23,VLOOKUP(F1166,ages!B$1:C$23,2,1),1)),\"\")","v":""},{"$f":"IF(ISNUMBER(F1166),IF(AP1166<0.85,\"\",VLOOKUP(Q1166,E!A$2:X$23,VLOOKUP(F1166,ages!B$1:C$23,2,1),1)),\"\")","v":""},{"$f":"IF(ISNUMBER(F1166),IF(AQ1166<0.85,\"\",VLOOKUP(R1166,F!A$2:X$23,VLOOKUP(F1166,ages!B$1:C$23,2,1),1)),\"\")","v":""},{"$f":"IF(ISNUMBER(F1166),IF(AR1166<0.85,\"\",VLOOKUP(S1166,G!A$2:X$23,VLOOKUP(F1166,ages!B$1:C$23,2,1),1)),\"\")","v":""},{"$f":"IF(ISNUMBER(F1166),IF(AS1166<0.85,\"\",VLOOKUP(T1166,H!A$2:X$23,VLOOKUP(F1166,ages!B$1:C$23,2,1),1)),\"\")","v":""},{"$f":"IF(ISNUMBER(F1166),IF(AT1166<0.85,\"\",VLOOKUP(U1166,I!A$2:X$23,VLOOKUP(F1166,ages!B$1:C$23,2,1),1)),\"\")","v":""},{"$f":"IF(ISNUMBER(F1166),IF(AU1166<0.85,\"\",VLOOKUP(V1166,J!A$2:X$23,VLOOKUP(F1166,ages!B$1:C$23,2,1),1)),\"\")","v":""},"","","","",-1.0000000000000002E-6,0,0,0,0,0,0,0,0,0,0,0,null,null,null,null,null,null,null,null,null,null,null,null,null,null,null,null,null,null,null,null,null,null,null,null,null,null,null,null,null,null,null,null,null,null,null,null,null,null,null,null,null,null,null,null,null,null,null,null,null,null,null,null,null,null,null,null,null,null,null,null,null,null,null,null,null,null,null,null,null,null,-9.9999999999999995E-7,-9.9999999999999995E-7,-9.9999999999999995E-7,-9.9999999999999995E-7,-9.9999999999999995E-7,-9.9999999999999995E-7,-9.9999999999999995E-7,-9.9999999999999995E-7,-9.9999999999999995E-7,-9.9999999999999995E-7,-9.9999999999999995E-7,-9.9999999999999995E-7,-9.9999999999999995E-7,-9.9999999999999995E-7,-9.9999999999999995E-7,-9.9999999999999995E-7,-9.9999999999999995E-7,-9.9999999999999995E-7,-9.9999999999999995E-7,-9.9999999999999995E-7,{"$f":"IF(ISERROR(VLOOKUP(F1166,ages!B$1:B$23,1,1)),\"\",VLOOKUP(F1166,ages!B$1:B$23,1,1))","v":""},{"$f":"IF(ISERROR(VLOOKUP(F1166,ages!B$1:D$23,3,1)),\"\",VLOOKUP(F1166,ages!B$1:D$23,3,1))","v":""},0,0,0,0,0]
[null,null,null,null,null,"",null,null,null,null,null,null,"","","","","","","","","","",{"$f":"IF(ISNUMBER(F1172),IF(AL1172<0.85,\"\",VLOOKUP(M1172,A!A$2:X$23,VLOOKUP(F1172,ages!B$1:C$23,2,1),1)),\"\")","v":""},{"$f":"IF(ISNUMBER(F1172),IF(AM1172<0.85,\"\",VLOOKUP(N1172,B!A$2:X$23,VLOOKUP(F1172,ages!B$1:C$23,2,1),1)),\"\")","v":""},{"$f":"IF(ISNUMBER(F1172),IF(AN1172<0.85,\"\",VLOOKUP(O1172,'C'!A$2:X$23,VLOOKUP(F1172,ages!B$1:C$23,2,1),1)),\"\")","v":""},{"$f":"IF(ISNUMBER(F1172),IF(AO1172<0.85,\"\",VLOOKUP(P1172,D!A$2:X$23,VLOOKUP(F1172,ages!B$1:C$23,2,1),1)),\"\")","v":""},{"$f":"IF(ISNUMBER(F1172),IF(AP1172<0.85,\"\",VLOOKUP(Q1172,E!A$2:X$23,VLOOKUP(F1172,ages!B$1:C$23,2,1),1)),\"\")","v":""},{"$f":"IF(ISNUMBER(F1172),IF(AQ1172<0.85,\"\",VLOOKUP(R1172,F!A$2:X$23,VLOOKUP(F1172,ages!B$1:C$23,2,1),1)),\"\")","v":""},{"$f":"IF(ISNUMBER(F1172),IF(AR1172<0.85,\"\",VLOOKUP(S1172,G!A$2:X$23,VLOOKUP(F1172,ages!B$1:C$23,2,1),1)),\"\")","v":""},{"$f":"IF(ISNUMBER(F1172),IF(AS1172<0.85,\"\",VLOOKUP(T1172,H!A$2:X$23,VLOOKUP(F1172,ages!B$1:C$23,2,1),1)),\"\")","v":""},{"$f":"IF(ISNUMBER(F1172),IF(AT1172<0.85,\"\",VLOOKUP(U1172,I!A$2:X$23,VLOOKUP(F1172,ages!B$1:C$23,2,1),1)),\"\")","v":""},{"$f":"IF(ISNUMBER(F1172),IF(AU1172<0.85,\"\",VLOOKUP(V1172,J!A$2:X$23,VLOOKUP(F1172,ages!B$1:C$23,2,1),1)),\"\")","v":""},"","","","",-1.0000000000000002E-6,0,0,0,0,0,0,0,0,0,0,0,null,null,null,null,null,null,null,null,null,null,null,null,null,null,null,null,null,null,null,null,null,null,null,null,null,null,null,null,null,null,null,null,null,null,null,null,null,null,null,null,null,null,null,null,null,null,null,null,null,null,null,null,null,null,null,null,null,null,null,null,null,null,null,null,null,null,null,null,null,null,-9.9999999999999995E-7,-9.9999999999999995E-7,-9.9999999999999995E-7,-9.9999999999999995E-7,-9.9999999999999995E-7,-9.9999999999999995E-7,-9.9999999999999995E-7,-9.9999999999999995E-7,-9.9999999999999995E-7,-9.9999999999999995E-7,-9.9999999999999995E-7,-9.9999999999999995E-7,-9.9999999999999995E-7,-9.9999999999999995E-7,-9.9999999999999995E-7,-9.9999999999999995E-7,-9.9999999999999995E-7,-9.9999999999999995E-7,-9.9999999999999995E-7,-9.9999999999999995E-7,{"$f":"IF(ISERROR(VLOOKUP(F1172,ages!B$1:B$23,1,1)),\"\",VLOOKUP(F1172,ages!B$1:B$23,1,1))","v":""},{"$f":"IF(ISERROR(VLOOKUP(F1172,ages!B$1:D$23,3,1)),\"\",VLOOKUP(F1172,ages!B$1:D$23,3,1))","v":""},0,0,0,0,0]
[null,null,null,null,null,"",null,null,null,null,null,null,"","","","","","","","","","",{"$f":"IF(ISNUMBER(F1177),IF(AL1177<0.85,\"\",VLOOKUP(M1177,A!A$2:X$23,VLOOKUP(F1177,ages!B$1:C$23,2,1),1)),\"\")","v":""},{"$f":"IF(ISNUMBER(F1177),IF(AM1177<0.85,\"\",VLOOKUP(N1177,B!A$2:X$23,VLOOKUP(F1177,ages!B$1:C$23,2,1),1)),\"\")","v":""},{"$f":"IF(ISNUMBER(F1177),IF(AN1177<0.85,\"\",VLOOKUP(O1177,'C'!A$2:X$23,VLOOKUP(F1177,ages!B$1:C$23,2,1),1)),\"\")","v":""},{"$f":"IF(ISNUMBER(F1177),IF(AO1177<0.85,\"\",VLOOKUP(P1177,D!A$2:X$23,VLOOKUP(F1177,ages!B$1:C$23,2,1),1)),\"\")","v":""},{"$f":"IF(ISNUMBER(F1177),IF(AP1177<0.85,\"\",VLOOKUP(Q1177,E!A$2:X$23,VLOOKUP(F1177,ages!B$1:C$23,2,1),1)),\"\")","v":""},{"$f":"IF(ISNUMBER(F1177),IF(AQ1177<0.85,\"\",VLOOKUP(R1177,F!A$2:X$23,VLOOKUP(F1177,ages!B$1:C$23,2,1),1)),\"\")","v":""},{"$f":"IF(ISNUMBER(F1177),IF(AR1177<0.85,\"\",VLOOKUP(S1177,G!A$2:X$23,VLOOKUP(F1177,ages!B$1:C$23,2,1),1)),\"\")","v":""},{"$f":"IF(ISNUMBER(F1177),IF(AS1177<0.85,\"\",VLOOKUP(T1177,H!A$2:X$23,VLOOKUP(F1177,ages!B$1:C$23,2,1),1)),\"\")","v":""},{"$f":"IF(ISNUMBER(F1177),IF(AT1177<0.85,\"\",VLOOKUP(U1177,I!A$2:X$23,VLOOKUP(F1177,ages!B$1:C$23,2,1),1)),\"\")","v":""},{"$f":"IF(ISNUMBER(F1177),IF(AU1177<0.85,\"\",VLOOKUP(V1177,J!A$2:X$23,VLOOKUP(F1177,ages!B$1:C$23,2,1),1)),\"\")","v":""},"","","","",-1.0000000000000002E-6,0,0,0,0,0,0,0,0,0,0,0,null,null,null,null,null,null,null,null,null,null,null,null,null,null,null,null,null,null,null,null,null,null,null,null,null,null,null,null,null,null,null,null,null,null,null,null,null,null,null,null,null,null,null,null,null,null,null,null,null,null,null,null,null,null,null,null,null,null,null,null,null,null,null,null,null,null,null,null,null,null,-9.9999999999999995E-7,-9.9999999999999995E-7,-9.9999999999999995E-7,-9.9999999999999995E-7,-9.9999999999999995E-7,-9.9999999999999995E-7,-9.9999999999999995E-7,-9.9999999999999995E-7,-9.9999999999999995E-7,-9.9999999999999995E-7,-9.9999999999999995E-7,-9.9999999999999995E-7,-9.9999999999999995E-7,-9.9999999999999995E-7,-9.9999999999999995E-7,-9.9999999999999995E-7,-9.9999999999999995E-7,-9.9999999999999995E-7,-9.9999999999999995E-7,-9.9999999999999995E-7,{"$f":"IF(ISERROR(VLOOKUP(F1177,ages!B$1:B$23,1,1)),\"\",VLOOKUP(F1177,ages!B$1:B$23,1,1))","v":""},{"$f":"IF(ISERROR(VLOOKUP(F1177,ages!B$1:D$23,3,1)),\"\",VLOOKUP(F1177,ages!B$1:D$23,3,1))","v":""},0,0,0,0,0]
[null,null,null,null,null,"",null,null,null,null,null,null,"","","","","","","","","","",{"$f":"IF(ISNUMBER(F1178),IF(AL1178<0.85,\"\",VLOOKUP(M1178,A!A$2:X$23,VLOOKUP(F1178,ages!B$1:C$23,2,1),1)),\"\")","v":""},{"$f":"IF(ISNUMBER(F1178),IF(AM1178<0.85,\"\",VLOOKUP(N1178,B!A$2:X$23,VLOOKUP(F1178,ages!B$1:C$23,2,1),1)),\"\")","v":""},{"$f":"IF(ISNUMBER(F1178),IF(AN1178<0.85,\"\",VLOOKUP(O1178,'C'!A$2:X$23,VLOOKUP(F1178,ages!B$1:C$23,2,1),1)),\"\")","v":""},{"$f":"IF(ISNUMBER(F1178),IF(AO1178<0.85,\"\",VLOOKUP(P1178,D!A$2:X$23,VLOOKUP(F1178,ages!B$1:C$23,2,1),1)),\"\")","v":""},{"$f":"IF(ISNUMBER(F1178),IF(AP1178<0.85,\"\",VLOOKUP(Q1178,E!A$2:X$23,VLOOKUP(F1178,ages!B$1:C$23,2,1),1)),\"\")","v":""},{"$f":"IF(ISNUMBER(F1178),IF(AQ1178<0.85,\"\",VLOOKUP(R1178,F!A$2:X$23,VLOOKUP(F1178,ages!B$1:C$23,2,1),1)),\"\")","v":""},{"$f":"IF(ISNUMBER(F1178),IF(AR1178<0.85,\"\",VLOOKUP(S1178,G!A$2:X$23,VLOOKUP(F1178,ages!B$1:C$23,2,1),1)),\"\")","v":""},{"$f":"IF(ISNUMBER(F1178),IF(AS1178<0.85,\"\",VLOOKUP(T1178,H!A$2:X$23,VLOOKUP(F1178,ages!B$1:C$23,2,1),1)),\"\")","v":""},{"$f":"IF(ISNUMBER(F1178),IF(AT1178<0.85,\"\",VLOOKUP(U1178,I!A$2:X$23,VLOOKUP(F1178,ages!B$1:C$23,2,1),1)),\"\")","v":""},{"$f":"IF(ISNUMBER(F1178),IF(AU1178<0.85,\"\",VLOOKUP(V1178,J!A$2:X$23,VLOOKUP(F1178,ages!B$1:C$23,2,1),1)),\"\")","v":""},"","","","",-1.0000000000000002E-6,0,0,0,0,0,0,0,0,0,0,0,null,null,null,null,null,null,null,null,null,null,null,null,null,null,null,null,null,null,null,null,null,null,null,null,null,null,null,null,null,null,null,null,null,null,null,null,null,null,null,null,null,null,null,null,null,null,null,null,null,null,null,null,null,null,null,null,null,null,null,null,null,null,null,null,null,null,null,null,null,null,-9.9999999999999995E-7,-9.9999999999999995E-7,-9.9999999999999995E-7,-9.9999999999999995E-7,-9.9999999999999995E-7,-9.9999999999999995E-7,-9.9999999999999995E-7,-9.9999999999999995E-7,-9.9999999999999995E-7,-9.9999999999999995E-7,-9.9999999999999995E-7,-9.9999999999999995E-7,-9.9999999999999995E-7,-9.9999999999999995E-7,-9.9999999999999995E-7,-9.9999999999999995E-7,-9.9999999999999995E-7,-9.9999999999999995E-7,-9.9999999999999995E-7,-9.9999999999999995E-7,{"$f":"IF(ISERROR(VLOOKUP(F1178,ages!B$1:B$23,1,1)),\"\",VLOOKUP(F1178,ages!B$1:B$23,1,1))","v":""},{"$f":"IF(ISERROR(VLOOKUP(F1178,ages!B$1:D$23,3,1)),\"\",VLOOKUP(F1178,ages!B$1:D$23,3,1))","v":""},0,0,0,0,0]
[null,null,null,null,null,"",null,null,null,null,null,null,"","","","","","","","","","",{"$f":"IF(ISNUMBER(F1183),IF(AL1183<0.85,\"\",VLOOKUP(M1183,A!A$2:X$23,VLOOKUP(F1183,ages!B$1:C$23,2,1),1)),\"\")","v":""},{"$f":"IF(ISNUMBER(F1183),IF(AM1183<0.85,\"\",VLOOKUP(N1183,B!A$2:X$23,VLOOKUP(F1183,ages!B$1:C$23,2,1),1)),\"\")","v":""},{"$f":"IF(ISNUMBER(F1183),IF(AN1183<0.85,\"\",VLOOKUP(O1183,'C'!A$2:X$23,VLOOKUP(F1183,ages!B$1:C$23,2,1),1)),\"\")","v":""},{"$f":"IF(ISNUMBER(F1183),IF(AO1183<0.85,\"\",VLOOKUP(P1183,D!A$2:X$23,VLOOKUP(F1183,ages!B$1:C$23,2,1),1)),\"\")","v":""},{"$f":"IF(ISNUMBER(F1183),IF(AP1183<0.85,\"\",VLOOKUP(Q1183,E!A$2:X$23,VLOOKUP(F1183,ages!B$1:C$23,2,1),1)),\"\")","v":""},{"$f":"IF(ISNUMBER(F1183),IF(AQ1183<0.85,\"\",VLOOKUP(R1183,F!A$2:X$23,VLOOKUP(F1183,ages!B$1:C$23,2,1),1)),\"\")","v":""},{"$f":"IF(ISNUMBER(F1183),IF(AR1183<0.85,\"\",VLOOKUP(S1183,G!A$2:X$23,VLOOKUP(F1183,ages!B$1:C$23,2,1),1)),\"\")","v":""},{"$f":"IF(ISNUMBER(F1183),IF(AS1183<0.85,\"\",VLOOKUP(T1183,H!A$2:X$23,VLOOKUP(F1183,ages!B$1:C$23,2,1),1)),\"\")","v":""},{"$f":"IF(ISNUMBER(F1183),IF(AT1183<0.85,\"\",VLOOKUP(U1183,I!A$2:X$23,VLOOKUP(F1183,ages!B$1:C$23,2,1),1)),\"\")","v":""},{"$f":"IF(ISNUMBER(F1183),IF(AU1183<0.85,\"\",VLOOKUP(V1183,J!A$2:X$23,VLOOKUP(F1183,ages!B$1:C$23,2,1),1)),\"\")","v":""},"","","","",-1.0000000000000002E-6,0,0,0,0,0,0,0,0,0,0,0,null,null,null,null,null,null,null,null,null,null,null,null,null,null,null,null,null,null,null,null,null,null,null,null,null,null,null,null,null,null,null,null,null,null,null,null,null,null,null,null,null,null,null,null,null,null,null,null,null,null,null,null,null,null,null,null,null,null,null,null,null,null,null,null,null,null,null,null,null,null,-9.9999999999999995E-7,-9.9999999999999995E-7,-9.9999999999999995E-7,-9.9999999999999995E-7,-9.9999999999999995E-7,-9.9999999999999995E-7,-9.9999999999999995E-7,-9.9999999999999995E-7,-9.9999999999999995E-7,-9.9999999999999995E-7,-9.9999999999999995E-7,-9.9999999999999995E-7,-9.9999999999999995E-7,-9.9999999999999995E-7,-9.9999999999999995E-7,-9.9999999999999995E-7,-9.9999999999999995E-7,-9.9999999999999995E-7,-9.9999999999999995E-7,-9.9999999999999995E-7,{"$f":"IF(ISERROR(VLOOKUP(F1183,ages!B$1:B$23,1,1)),\"\",VLOOKUP(F1183,ages!B$1:B$23,1,1))","v":""},{"$f":"IF(ISERROR(VLOOKUP(F1183,ages!B$1:D$23,3,1)),\"\",VLOOKUP(F1183,ages!B$1:D$23,3,1))","v":""},0,0,0,0,0]
[null,null,null,null,null,"",null,null,null,null,null,null,"","","","","","","","","","",{"$f":"IF(ISNUMBER(F1187),IF(AL1187<0.85,\"\",VLOOKUP(M1187,A!A$2:X$23,VLOOKUP(F1187,ages!B$1:C$23,2,1),1)),\"\")","v":""},{"$f":"IF(ISNUMBER(F1187),IF(AM1187<0.85,\"\",VLOOKUP(N1187,B!A$2:X$23,VLOOKUP(F1187,ages!B$1:C$23,2,1),1)),\"\")","v":""},{"$f":"IF(ISNUMBER(F1187),IF(AN1187<0.85,\"\",VLOOKUP(O1187,'C'!A$2:X$23,VLOOKUP(F1187,ages!B$1:C$23,2,1),1)),\"\")","v":""},{"$f":"IF(ISNUMBER(F1187),IF(AO1187<0.85,\"\",VLOOKUP(P1187,D!A$2:X$23,VLOOKUP(F1187,ages!B$1:C$23,2,1),1)),\"\")","v":""},{"$f":"IF(ISNUMBER(F1187),IF(AP1187<0.85,\"\",VLOOKUP(Q1187,E!A$2:X$23,VLOOKUP(F1187,ages!B$1:C$23,2,1),1)),\"\")","v":""},{"$f":"IF(ISNUMBER(F1187),IF(AQ1187<0.85,\"\",VLOOKUP(R1187,F!A$2:X$23,VLOOKUP(F1187,ages!B$1:C$23,2,1),1)),\"\")","v":""},{"$f":"IF(ISNUMBER(F1187),IF(AR1187<0.85,\"\",VLOOKUP(S1187,G!A$2:X$23,VLOOKUP(F1187,ages!B$1:C$23,2,1),1)),\"\")","v":""},{"$f":"IF(ISNUMBER(F1187),IF(AS1187<0.85,\"\",VLOOKUP(T1187,H!A$2:X$23,VLOOKUP(F1187,ages!B$1:C$23,2,1),1)),\"\")","v":""},{"$f":"IF(ISNUMBER(F1187),IF(AT1187<0.85,\"\",VLOOKUP(U1187,I!A$2:X$23,VLOOKUP(F1187,ages!B$1:C$23,2,1),1)),\"\")","v":""},{"$f":"IF(ISNUMBER(F1187),IF(AU1187<0.85,\"\",VLOOKUP(V1187,J!A$2:X$23,VLOOKUP(F1187,ages!B$1:C$23,2,1),1)),\"\")","v":""},"","","","",-1.0000000000000002E-6,0,0,0,0,0,0,0,0,0,0,0,null,null,null,null,null,null,null,null,null,null,null,null,null,null,null,null,null,null,null,null,null,null,null,null,null,null,null,null,null,null,null,null,null,null,null,null,null,null,null,null,null,null,null,null,null,null,null,null,null,null,null,null,null,null,null,null,null,null,null,null,null,null,null,null,null,null,null,null,null,null,-9.9999999999999995E-7,-9.9999999999999995E-7,-9.9999999999999995E-7,-9.9999999999999995E-7,-9.9999999999999995E-7,-9.9999999999999995E-7,-9.9999999999999995E-7,-9.9999999999999995E-7,-9.9999999999999995E-7,-9.9999999999999995E-7,-9.9999999999999995E-7,-9.9999999999999995E-7,-9.9999999999999995E-7,-9.9999999999999995E-7,-9.9999999999999995E-7,-9.9999999999999995E-7,-9.9999999999999995E-7,-9.9999999999999995E-7,-9.9999999999999995E-7,-9.9999999999999995E-7,{"$f":"IF(ISERROR(VLOOKUP(F1187,ages!B$1:B$23,1,1)),\"\",VLOOKUP(F1187,ages!B$1:B$23,1,1))","v":""},{"$f":"IF(ISERROR(VLOOKUP(F1187,ages!B$1:D$23,3,1)),\"\",VLOOKUP(F1187,ages!B$1:D$23,3,1))","v":""},0,0,0,0,0]
[null,null,null,null,null,"",null,null,null,null,null,null,"","","","","","","","","","",{"$f":"IF(ISNUMBER(F1193),IF(AL1193<0.85,\"\",VLOOKUP(M1193,A!A$2:X$23,VLOOKUP(F1193,ages!B$1:C$23,2,1),1)),\"\")","v":""},{"$f":"IF(ISNUMBER(F1193),IF(AM1193<0.85,\"\",VLOOKUP(N1193,B!A$2:X$23,VLOOKUP(F1193,ages!B$1:C$23,2,1),1)),\"\")","v":""},{"$f":"IF(ISNUMBER(F1193),IF(AN1193<0.85,\"\",VLOOKUP(O1193,'C'!A$2:X$23,VLOOKUP(F1193,ages!B$1:C$23,2,1),1)),\"\")","v":""},{"$f":"IF(ISNUMBER(F1193),IF(AO1193<0.85,\"\",VLOOKUP(P1193,D!A$2:X$23,VLOOKUP(F1193,ages!B$1:C$23,2,1),1)),\"\")","v":""},{"$f":"IF(ISNUMBER(F1193),IF(AP1193<0.85,\"\",VLOOKUP(Q1193,E!A$2:X$23,VLOOKUP(F1193,ages!B$1:C$23,2,1),1)),\"\")","v":""},{"$f":"IF(ISNUMBER(F1193),IF(AQ1193<0.85,\"\",VLOOKUP(R1193,F!A$2:X$23,VLOOKUP(F1193,ages!B$1:C$23,2,1),1)),\"\")","v":""},{"$f":"IF(ISNUMBER(F1193),IF(AR1193<0.85,\"\",VLOOKUP(S1193,G!A$2:X$23,VLOOKUP(F1193,ages!B$1:C$23,2,1),1)),\"\")","v":""},{"$f":"IF(ISNUMBER(F1193),IF(AS1193<0.85,\"\",VLOOKUP(T1193,H!A$2:X$23,VLOOKUP(F1193,ages!B$1:C$23,2,1),1)),\"\")","v":""},{"$f":"IF(ISNUMBER(F1193),IF(AT1193<0.85,\"\",VLOOKUP(U1193,I!A$2:X$23,VLOOKUP(F1193,ages!B$1:C$23,2,1),1)),\"\")","v":""},{"$f":"IF(ISNUMBER(F1193),IF(AU1193<0.85,\"\",VLOOKUP(V1193,J!A$2:X$23,VLOOKUP(F1193,ages!B$1:C$23,2,1),1)),\"\")","v":""},"","","","",-1.0000000000000002E-6,0,0,0,0,0,0,0,0,0,0,0,null,null,null,null,null,null,null,null,null,null,null,null,null,null,null,null,null,null,null,null,null,null,null,null,null,null,null,null,null,null,null,null,null,null,null,null,null,null,null,null,null,null,null,null,null,null,null,null,null,null,null,null,null,null,null,null,null,null,null,null,null,null,null,null,null,null,null,null,null,null,-9.9999999999999995E-7,-9.9999999999999995E-7,-9.9999999999999995E-7,-9.9999999999999995E-7,-9.9999999999999995E-7,-9.9999999999999995E-7,-9.9999999999999995E-7,-9.9999999999999995E-7,-9.9999999999999995E-7,-9.9999999999999995E-7,-9.9999999999999995E-7,-9.9999999999999995E-7,-9.9999999999999995E-7,-9.9999999999999995E-7,-9.9999999999999995E-7,-9.9999999999999995E-7,-9.9999999999999995E-7,-9.9999999999999995E-7,-9.9999999999999995E-7,-9.9999999999999995E-7,{"$f":"IF(ISERROR(VLOOKUP(F1193,ages!B$1:B$23,1,1)),\"\",VLOOKUP(F1193,ages!B$1:B$23,1,1))","v":""},{"$f":"IF(ISERROR(VLOOKUP(F1193,ages!B$1:D$23,3,1)),\"\",VLOOKUP(F1193,ages!B$1:D$23,3,1))","v":""},0,0,0,0,0]
[null,null,null,null,null,"",null,null,null,null,null,null,"","","","","","","","","","",{"$f":"IF(ISNUMBER(F1198),IF(AL1198<0.85,\"\",VLOOKUP(M1198,A!A$2:X$23,VLOOKUP(F1198,ages!B$1:C$23,2,1),1)),\"\")","v":""},{"$f":"IF(ISNUMBER(F1198),IF(AM1198<0.85,\"\",VLOOKUP(N1198,B!A$2:X$23,VLOOKUP(F1198,ages!B$1:C$23,2,1),1)),\"\")","v":""},{"$f":"IF(ISNUMBER(F1198),IF(AN1198<0.85,\"\",VLOOKUP(O1198,'C'!A$2:X$23,VLOOKUP(F1198,ages!B$1:C$23,2,1),1)),\"\")","v":""},{"$f":"IF(ISNUMBER(F1198),IF(AO1198<0.85,\"\",VLOOKUP(P1198,D!A$2:X$23,VLOOKUP(F1198,ages!B$1:C$23,2,1),1)),\"\")","v":""},{"$f":"IF(ISNUMBER(F1198),IF(AP1198<0.85,\"\",VLOOKUP(Q1198,E!A$2:X$23,VLOOKUP(F1198,ages!B$1:C$23,2,1),1)),\"\")","v":""},{"$f":"IF(ISNUMBER(F1198),IF(AQ1198<0.85,\"\",VLOOKUP(R1198,F!A$2:X$23,VLOOKUP(F1198,ages!B$1:C$23,2,1),1)),\"\")","v":""},{"$f":"IF(ISNUMBER(F1198),IF(AR1198<0.85,\"\",VLOOKUP(S1198,G!A$2:X$23,VLOOKUP(F1198,ages!B$1:C$23,2,1),1)),\"\")","v":""},{"$f":"IF(ISNUMBER(F1198),IF(AS1198<0.85,\"\",VLOOKUP(T1198,H!A$2:X$23,VLOOKUP(F1198,ages!B$1:C$23,2,1),1)),\"\")","v":""},{"$f":"IF(ISNUMBER(F1198),IF(AT1198<0.85,\"\",VLOOKUP(U1198,I!A$2:X$23,VLOOKUP(F1198,ages!B$1:C$23,2,1),1)),\"\")","v":""},{"$f":"IF(ISNUMBER(F1198),IF(AU1198<0.85,\"\",VLOOKUP(V1198,J!A$2:X$23,VLOOKUP(F1198,ages!B$1:C$23,2,1),1)),\"\")","v":""},"","","","",-1.0000000000000002E-6,0,0,0,0,0,0,0,0,0,0,0,null,null,null,null,null,null,null,null,null,null,null,null,null,null,null,null,null,null,null,null,null,null,null,null,null,null,null,null,null,null,null,null,null,null,null,null,null,null,null,null,null,null,null,null,null,null,null,null,null,null,null,null,null,null,null,null,null,null,null,null,null,null,null,null,null,null,null,null,null,null,-9.9999999999999995E-7,-9.9999999999999995E-7,-9.9999999999999995E-7,-9.9999999999999995E-7,-9.9999999999999995E-7,-9.9999999999999995E-7,-9.9999999999999995E-7,-9.9999999999999995E-7,-9.9999999999999995E-7,-9.9999999999999995E-7,-9.9999999999999995E-7,-9.9999999999999995E-7,-9.9999999999999995E-7,-9.9999999999999995E-7,-9.9999999999999995E-7,-9.9999999999999995E-7,-9.9999999999999995E-7,-9.9999999999999995E-7,-9.9999999999999995E-7,-9.9999999999999995E-7,{"$f":"IF(ISERROR(VLOOKUP(F1198,ages!B$1:B$23,1,1)),\"\",VLOOKUP(F1198,ages!B$1:B$23,1,1))","v":""},{"$f":"IF(ISERROR(VLOOKUP(F1198,ages!B$1:D$23,3,1)),\"\",VLOOKUP(F1198,ages!B$1:D$23,3,1))","v":""},0,0,0,0,0]
[null,null,null,null,null,"",null,null,null,null,null,null,"","","","","","","","","","",{"$f":"IF(ISNUMBER(F1204),IF(AL1204<0.85,\"\",VLOOKUP(M1204,A!A$2:X$23,VLOOKUP(F1204,ages!B$1:C$23,2,1),1)),\"\")","v":""},{"$f":"IF(ISNUMBER(F1204),IF(AM1204<0.85,\"\",VLOOKUP(N1204,B!A$2:X$23,VLOOKUP(F1204,ages!B$1:C$23,2,1),1)),\"\")","v":""},{"$f":"IF(ISNUMBER(F1204),IF(AN1204<0.85,\"\",VLOOKUP(O1204,'C'!A$2:X$23,VLOOKUP(F1204,ages!B$1:C$23,2,1),1)),\"\")","v":""},{"$f":"IF(ISNUMBER(F1204),IF(AO1204<0.85,\"\",VLOOKUP(P1204,D!A$2:X$23,VLOOKUP(F1204,ages!B$1:C$23,2,1),1)),\"\")","v":""},{"$f":"IF(ISNUMBER(F1204),IF(AP1204<0.85,\"\",VLOOKUP(Q1204,E!A$2:X$23,VLOOKUP(F1204,ages!B$1:C$23,2,1),1)),\"\")","v":""},{"$f":"IF(ISNUMBER(F1204),IF(AQ1204<0.85,\"\",VLOOKUP(R1204,F!A$2:X$23,VLOOKUP(F1204,ages!B$1:C$23,2,1),1)),\"\")","v":""},{"$f":"IF(ISNUMBER(F1204),IF(AR1204<0.85,\"\",VLOOKUP(S1204,G!A$2:X$23,VLOOKUP(F1204,ages!B$1:C$23,2,1),1)),\"\")","v":""},{"$f":"IF(ISNUMBER(F1204),IF(AS1204<0.85,\"\",VLOOKUP(T1204,H!A$2:X$23,VLOOKUP(F1204,ages!B$1:C$23,2,1),1)),\"\")","v":""},{"$f":"IF(ISNUMBER(F1204),IF(AT1204<0.85,\"\",VLOOKUP(U1204,I!A$2:X$23,VLOOKUP(F1204,ages!B$1:C$23,2,1),1)),\"\")","v":""},{"$f":"IF(ISNUMBER(F1204),IF(AU1204<0.85,\"\",VLOOKUP(V1204,J!A$2:X$23,VLOOKUP(F1204,ages!B$1:C$23,2,1),1)),\"\")","v":""},"","","","",-1.0000000000000002E-6,0,0,0,0,0,0,0,0,0,0,0,null,null,null,null,null,null,null,null,null,null,null,null,null,null,null,null,null,null,null,null,null,null,null,null,null,null,null,null,null,null,null,null,null,null,null,null,null,null,null,null,null,null,null,null,null,null,null,null,null,null,null,null,null,null,null,null,null,null,null,null,null,null,null,null,null,null,null,null,null,null,-9.9999999999999995E-7,-9.9999999999999995E-7,-9.9999999999999995E-7,-9.9999999999999995E-7,-9.9999999999999995E-7,-9.9999999999999995E-7,-9.9999999999999995E-7,-9.9999999999999995E-7,-9.9999999999999995E-7,-9.9999999999999995E-7,-9.9999999999999995E-7,-9.9999999999999995E-7,-9.9999999999999995E-7,-9.9999999999999995E-7,-9.9999999999999995E-7,-9.9999999999999995E-7,-9.9999999999999995E-7,-9.9999999999999995E-7,-9.9999999999999995E-7,-9.9999999999999995E-7,{"$f":"IF(ISERROR(VLOOKUP(F1204,ages!B$1:B$23,1,1)),\"\",VLOOKUP(F1204,ages!B$1:B$23,1,1))","v":""},{"$f":"IF(ISERROR(VLOOKUP(F1204,ages!B$1:D$23,3,1)),\"\",VLOOKUP(F1204,ages!B$1:D$23,3,1))","v":""},0,0,0,0,0]
[null,null,null,null,null,"",null,null,null,null,null,null,"","","","","","","","","","",{"$f":"IF(ISNUMBER(F1208),IF(AL1208<0.85,\"\",VLOOKUP(M1208,A!A$2:X$23,VLOOKUP(F1208,ages!B$1:C$23,2,1),1)),\"\")","v":""},{"$f":"IF(ISNUMBER(F1208),IF(AM1208<0.85,\"\",VLOOKUP(N1208,B!A$2:X$23,VLOOKUP(F1208,ages!B$1:C$23,2,1),1)),\"\")","v":""},{"$f":"IF(ISNUMBER(F1208),IF(AN1208<0.85,\"\",VLOOKUP(O1208,'C'!A$2:X$23,VLOOKUP(F1208,ages!B$1:C$23,2,1),1)),\"\")","v":""},{"$f":"IF(ISNUMBER(F1208),IF(AO1208<0.85,\"\",VLOOKUP(P1208,D!A$2:X$23,VLOOKUP(F1208,ages!B$1:C$23,2,1),1)),\"\")","v":""},{"$f":"IF(ISNUMBER(F1208),IF(AP1208<0.85,\"\",VLOOKUP(Q1208,E!A$2:X$23,VLOOKUP(F1208,ages!B$1:C$23,2,1),1)),\"\")","v":""},{"$f":"IF(ISNUMBER(F1208),IF(AQ1208<0.85,\"\",VLOOKUP(R1208,F!A$2:X$23,VLOOKUP(F1208,ages!B$1:C$23,2,1),1)),\"\")","v":""},{"$f":"IF(ISNUMBER(F1208),IF(AR1208<0.85,\"\",VLOOKUP(S1208,G!A$2:X$23,VLOOKUP(F1208,ages!B$1:C$23,2,1),1)),\"\")","v":""},{"$f":"IF(ISNUMBER(F1208),IF(AS1208<0.85,\"\",VLOOKUP(T1208,H!A$2:X$23,VLOOKUP(F1208,ages!B$1:C$23,2,1),1)),\"\")","v":""},{"$f":"IF(ISNUMBER(F1208),IF(AT1208<0.85,\"\",VLOOKUP(U1208,I!A$2:X$23,VLOOKUP(F1208,ages!B$1:C$23,2,1),1)),\"\")","v":""},{"$f":"IF(ISNUMBER(F1208),IF(AU1208<0.85,\"\",VLOOKUP(V1208,J!A$2:X$23,VLOOKUP(F1208,ages!B$1:C$23,2,1),1)),\"\")","v":""},"","","","",-1.0000000000000002E-6,0,0,0,0,0,0,0,0,0,0,0,null,null,null,null,null,null,null,null,null,null,null,null,null,null,null,null,null,null,null,null,null,null,null,null,null,null,null,null,null,null,null,null,null,null,null,null,null,null,null,null,null,null,null,null,null,null,null,null,null,null,null,null,null,null,null,null,null,null,null,null,null,null,null,null,null,null,null,null,null,null,-9.9999999999999995E-7,-9.9999999999999995E-7,-9.9999999999999995E-7,-9.9999999999999995E-7,-9.9999999999999995E-7,-9.9999999999999995E-7,-9.9999999999999995E-7,-9.9999999999999995E-7,-9.9999999999999995E-7,-9.9999999999999995E-7,-9.9999999999999995E-7,-9.9999999999999995E-7,-9.9999999999999995E-7,-9.9999999999999995E-7,-9.9999999999999995E-7,-9.9999999999999995E-7,-9.9999999999999995E-7,-9.9999999999999995E-7,-9.9999999999999995E-7,-9.9999999999999995E-7,{"$f":"IF(ISERROR(VLOOKUP(F1208,ages!B$1:B$23,1,1)),\"\",VLOOKUP(F1208,ages!B$1:B$23,1,1))","v":""},{"$f":"IF(ISERROR(VLOOKUP(F1208,ages!B$1:D$23,3,1)),\"\",VLOOKUP(F1208,ages!B$1:D$23,3,1))","v":""},0,0,0,0,0]
[null,null,null,null,null,"",null,null,null,null,null,null,"","","","","","","","","","",{"$f":"IF(ISNUMBER(F1213),IF(AL1213<0.85,\"\",VLOOKUP(M1213,A!A$2:X$23,VLOOKUP(F1213,ages!B$1:C$23,2,1),1)),\"\")","v":""},{"$f":"IF(ISNUMBER(F1213),IF(AM1213<0.85,\"\",VLOOKUP(N1213,B!A$2:X$23,VLOOKUP(F1213,ages!B$1:C$23,2,1),1)),\"\")","v":""},{"$f":"IF(ISNUMBER(F1213),IF(AN1213<0.85,\"\",VLOOKUP(O1213,'C'!A$2:X$23,VLOOKUP(F1213,ages!B$1:C$23,2,1),1)),\"\")","v":""},{"$f":"IF(ISNUMBER(F1213),IF(AO1213<0.85,\"\",VLOOKUP(P1213,D!A$2:X$23,VLOOKUP(F1213,ages!B$1:C$23,2,1),1)),\"\")","v":""},{"$f":"IF(ISNUMBER(F1213),IF(AP1213<0.85,\"\",VLOOKUP(Q1213,E!A$2:X$23,VLOOKUP(F1213,ages!B$1:C$23,2,1),1)),\"\")","v":""},{"$f":"IF(ISNUMBER(F1213),IF(AQ1213<0.85,\"\",VLOOKUP(R1213,F!A$2:X$23,VLOOKUP(F1213,ages!B$1:C$23,2,1),1)),\"\")","v":""},{"$f":"IF(ISNUMBER(F1213),IF(AR1213<0.85,\"\",VLOOKUP(S1213,G!A$2:X$23,VLOOKUP(F1213,ages!B$1:C$23,2,1),1)),\"\")","v":""},{"$f":"IF(ISNUMBER(F1213),IF(AS1213<0.85,\"\",VLOOKUP(T1213,H!A$2:X$23,VLOOKUP(F1213,ages!B$1:C$23,2,1),1)),\"\")","v":""},{"$f":"IF(ISNUMBER(F1213),IF(AT1213<0.85,\"\",VLOOKUP(U1213,I!A$2:X$23,VLOOKUP(F1213,ages!B$1:C$23,2,1),1)),\"\")","v":""},{"$f":"IF(ISNUMBER(F1213),IF(AU1213<0.85,\"\",VLOOKUP(V1213,J!A$2:X$23,VLOOKUP(F1213,ages!B$1:C$23,2,1),1)),\"\")","v":""},"","","","",-1.0000000000000002E-6,0,0,0,0,0,0,0,0,0,0,0,null,null,null,null,null,null,null,null,null,null,null,null,null,null,null,null,null,null,null,null,null,null,null,null,null,null,null,null,null,null,null,null,null,null,null,null,null,null,null,null,null,null,null,null,null,null,null,null,null,null,null,null,null,null,null,null,null,null,null,null,null,null,null,null,null,null,null,null,null,null,-9.9999999999999995E-7,-9.9999999999999995E-7,-9.9999999999999995E-7,-9.9999999999999995E-7,-9.9999999999999995E-7,-9.9999999999999995E-7,-9.9999999999999995E-7,-9.9999999999999995E-7,-9.9999999999999995E-7,-9.9999999999999995E-7,-9.9999999999999995E-7,-9.9999999999999995E-7,-9.9999999999999995E-7,-9.9999999999999995E-7,-9.9999999999999995E-7,-9.9999999999999995E-7,-9.9999999999999995E-7,-9.9999999999999995E-7,-9.9999999999999995E-7,-9.9999999999999995E-7,{"$f":"IF(ISERROR(VLOOKUP(F1213,ages!B$1:B$23,1,1)),\"\",VLOOKUP(F1213,ages!B$1:B$23,1,1))","v":""},{"$f":"IF(ISERROR(VLOOKUP(F1213,ages!B$1:D$23,3,1)),\"\",VLOOKUP(F1213,ages!B$1:D$23,3,1))","v":""},0,0,0,0,0]
[null,null,null,null,null,"",null,null,null,null,null,null,"","","","","","","","","","",{"$f":"IF(ISNUMBER(F1219),IF(AL1219<0.85,\"\",VLOOKUP(M1219,A!A$2:X$23,VLOOKUP(F1219,ages!B$1:C$23,2,1),1)),\"\")","v":""},{"$f":"IF(ISNUMBER(F1219),IF(AM1219<0.85,\"\",VLOOKUP(N1219,B!A$2:X$23,VLOOKUP(F1219,ages!B$1:C$23,2,1),1)),\"\")","v":""},{"$f":"IF(ISNUMBER(F1219),IF(AN1219<0.85,\"\",VLOOKUP(O1219,'C'!A$2:X$23,VLOOKUP(F1219,ages!B$1:C$23,2,1),1)),\"\")","v":""},{"$f":"IF(ISNUMBER(F1219),IF(AO1219<0.85,\"\",VLOOKUP(P1219,D!A$2:X$23,VLOOKUP(F1219,ages!B$1:C$23,2,1),1)),\"\")","v":""},{"$f":"IF(ISNUMBER(F1219),IF(AP1219<0.85,\"\",VLOOKUP(Q1219,E!A$2:X$23,VLOOKUP(F1219,ages!B$1:C$23,2,1),1)),\"\")","v":""},{"$f":"IF(ISNUMBER(F1219),IF(AQ1219<0.85,\"\",VLOOKUP(R1219,F!A$2:X$23,VLOOKUP(F1219,ages!B$1:C$23,2,1),1)),\"\")","v":""},{"$f":"IF(ISNUMBER(F1219),IF(AR1219<0.85,\"\",VLOOKUP(S1219,G!A$2:X$23,VLOOKUP(F1219,ages!B$1:C$23,2,1),1)),\"\")","v":""},{"$f":"IF(ISNUMBER(F1219),IF(AS1219<0.85,\"\",VLOOKUP(T1219,H!A$2:X$23,VLOOKUP(F1219,ages!B$1:C$23,2,1),1)),\"\")","v":""},{"$f":"IF(ISNUMBER(F1219),IF(AT1219<0.85,\"\",VLOOKUP(U1219,I!A$2:X$23,VLOOKUP(F1219,ages!B$1:C$23,2,1),1)),\"\")","v":""},{"$f":"IF(ISNUMBER(F1219),IF(AU1219<0.85,\"\",VLOOKUP(V1219,J!A$2:X$23,VLOOKUP(F1219,ages!B$1:C$23,2,1),1)),\"\")","v":""},"","","","",-1.0000000000000002E-6,0,0,0,0,0,0,0,0,0,0,0,null,null,null,null,null,null,null,null,null,null,null,null,null,null,null,null,null,null,null,null,null,null,null,null,null,null,null,null,null,null,null,null,null,null,null,null,null,null,null,null,null,null,null,null,null,null,null,null,null,null,null,null,null,null,null,null,null,null,null,null,null,null,null,null,null,null,null,null,null,null,-9.9999999999999995E-7,-9.9999999999999995E-7,-9.9999999999999995E-7,-9.9999999999999995E-7,-9.9999999999999995E-7,-9.9999999999999995E-7,-9.9999999999999995E-7,-9.9999999999999995E-7,-9.9999999999999995E-7,-9.9999999999999995E-7,-9.9999999999999995E-7,-9.9999999999999995E-7,-9.9999999999999995E-7,-9.9999999999999995E-7,-9.9999999999999995E-7,-9.9999999999999995E-7,-9.9999999999999995E-7,-9.9999999999999995E-7,-9.9999999999999995E-7,-9.9999999999999995E-7,{"$f":"IF(ISERROR(VLOOKUP(F1219,ages!B$1:B$23,1,1)),\"\",VLOOKUP(F1219,ages!B$1:B$23,1,1))","v":""},{"$f":"IF(ISERROR(VLOOKUP(F1219,ages!B$1:D$23,3,1)),\"\",VLOOKUP(F1219,ages!B$1:D$23,3,1))","v":""},0,0,0,0,0]
[null,null,null,null,null,"",null,null,null,null,null,null,"","","","","","","","","","",{"$f":"IF(ISNUMBER(F1224),IF(AL1224<0.85,\"\",VLOOKUP(M1224,A!A$2:X$23,VLOOKUP(F1224,ages!B$1:C$23,2,1),1)),\"\")","v":""},{"$f":"IF(ISNUMBER(F1224),IF(AM1224<0.85,\"\",VLOOKUP(N1224,B!A$2:X$23,VLOOKUP(F1224,ages!B$1:C$23,2,1),1)),\"\")","v":""},{"$f":"IF(ISNUMBER(F1224),IF(AN1224<0.85,\"\",VLOOKUP(O1224,'C'!A$2:X$23,VLOOKUP(F1224,ages!B$1:C$23,2,1),1)),\"\")","v":""},{"$f":"IF(ISNUMBER(F1224),IF(AO1224<0.85,\"\",VLOOKUP(P1224,D!A$2:X$23,VLOOKUP(F1224,ages!B$1:C$23,2,1),1)),\"\")","v":""},{"$f":"IF(ISNUMBER(F1224),IF(AP1224<0.85,\"\",VLOOKUP(Q1224,E!A$2:X$23,VLOOKUP(F1224,ages!B$1:C$23,2,1),1)),\"\")","v":""},{"$f":"IF(ISNUMBER(F1224),IF(AQ1224<0.85,\"\",VLOOKUP(R1224,F!A$2:X$23,VLOOKUP(F1224,ages!B$1:C$23,2,1),1)),\"\")","v":""},{"$f":"IF(ISNUMBER(F1224),IF(AR1224<0.85,\"\",VLOOKUP(S1224,G!A$2:X$23,VLOOKUP(F1224,ages!B$1:C$23,2,1),1)),\"\")","v":""},{"$f":"IF(ISNUMBER(F1224),IF(AS1224<0.85,\"\",VLOOKUP(T1224,H!A$2:X$23,VLOOKUP(F1224,ages!B$1:C$23,2,1),1)),\"\")","v":""},{"$f":"IF(ISNUMBER(F1224),IF(AT1224<0.85,\"\",VLOOKUP(U1224,I!A$2:X$23,VLOOKUP(F1224,ages!B$1:C$23,2,1),1)),\"\")","v":""},{"$f":"IF(ISNUMBER(F1224),IF(AU1224<0.85,\"\",VLOOKUP(V1224,J!A$2:X$23,VLOOKUP(F1224,ages!B$1:C$23,2,1),1)),\"\")","v":""},"","","","",{"$f":"IF(COUNT(DO1224:EH1224)>15,SUM(DO1224:EH1224)/COUNT(DO1224:EH1224),\"\")","v":-1.0000000000000002E-6},0,0,0,0,0,0,0,0,0,0,0,null,null,null,null,null,null,null,null,null,null,null,null,null,null,null,null,null,null,null,null,null,null,null,null,null,null,null,null,null,null,null,null,null,null,null,null,null,null,null,null,null,null,null,null,null,null,null,null,null,null,null,null,null,null,null,null,null,null,null,null,null,null,null,null,null,null,null,null,null,null,-9.9999999999999995E-7,{"$f":"IF(ISNUMBER(CV1224),3-CV1224,-0.000001)","v":-9.9999999999999995E-7},{"$f":"IF(ISNUMBER(CW1224),3-CW1224,-0.000001)","v":-9.9999999999999995E-7},{"$f":"IF(ISNUMBER(CX1224),3-CX1224,-0.000001)","v":-9.9999999999999995E-7},{"$f":"IF(ISNUMBER(CY1224),3-CY1224,-0.000001)","v":-9.9999999999999995E-7},{"$f":"IF(ISNUMBER(CZ1224),3-CZ1224,-0.000001)","v":-9.9999999999999995E-7},{"$f":"IF(ISNUMBER(DA1224),3-DA1224,-0.000001)","v":-9.9999999999999995E-7},{"$f":"IF(ISNUMBER(DB1224),3-DB1224,-0.000001)","v":-9.9999999999999995E-7},{"$f":"IF(ISNUMBER(DC1224),3-DC1224,-0.000001)","v":-9.9999999999999995E-7},{"$f":"IF(ISNUMBER(DD1224),3-DD1224,-0.000001)","v":-9.9999999999999995E-7},{"$f":"IF(ISNUMBER(DE1224),3-DE1224,-0.000001)","v":-9.9999999999999995E-7},{"$f":"IF(ISNUMBER(DF1224),3-DF1224,-0.000001)","v":-9.9999999999999995E-7},{"$f":"IF(ISNUMBER(DG1224),3-DG1224,-0.000001)","v":-9.9999999999999995E-7},{"$f":"IF(ISNUMBER(DH1224),3-DH1224,-0.000001)","v":-9.9999999999999995E-7},{"$f":"IF(ISNUMBER(DI1224),3-DI1224,-0.000001)","v":-9.9999999999999995E-7},{"$f":"IF(ISNUMBER(DJ1224),3-DJ1224,-0.000001)","v":-9.9999999999999995E-7},{"$f":"IF(ISNUMBER(DK1224),3-DK1224,-0.000001)","v":-9.9999999999999995E-7},{"$f":"IF(ISNUMBER(DL1224),3-DL1224,-0.000001)","v":-9.9999999999999995E-7},{"$f":"IF(ISNUMBER(DM1224),3-DM1224,-0.000001)","v":-9.9999999999999995E-7},{"$f":"IF(ISNUMBER(DN1224),3-DN1224,-0.000001)","v":-9.9999999999999995E-7},{"$f":"IF(ISERROR(VLOOKUP(F1224,ages!B$1:B$23,1,1)),\"\",VLOOKUP(F1224,ages!B$1:B$23,1,1))","v":""},{"$f":"IF(ISERROR(VLOOKUP(F1224,ages!B$1:D$23,3,1)),\"\",VLOOKUP(F1224,ages!B$1:D$23,3,1))","v":""},0,0,0,0,0]
[null,null,null,null,null,"",null,null,null,null,null,null,"","","","","","","","","","",{"$f":"IF(ISNUMBER(F1227),IF(AL1227<0.85,\"\",VLOOKUP(M1227,A!A$2:X$23,VLOOKUP(F1227,ages!B$1:C$23,2,1),1)),\"\")","v":""},{"$f":"IF(ISNUMBER(F1227),IF(AM1227<0.85,\"\",VLOOKUP(N1227,B!A$2:X$23,VLOOKUP(F1227,ages!B$1:C$23,2,1),1)),\"\")","v":""},{"$f":"IF(ISNUMBER(F1227),IF(AN1227<0.85,\"\",VLOOKUP(O1227,'C'!A$2:X$23,VLOOKUP(F1227,ages!B$1:C$23,2,1),1)),\"\")","v":""},{"$f":"IF(ISNUMBER(F1227),IF(AO1227<0.85,\"\",VLOOKUP(P1227,D!A$2:X$23,VLOOKUP(F1227,ages!B$1:C$23,2,1),1)),\"\")","v":""},{"$f":"IF(ISNUMBER(F1227),IF(AP1227<0.85,\"\",VLOOKUP(Q1227,E!A$2:X$23,VLOOKUP(F1227,ages!B$1:C$23,2,1),1)),\"\")","v":""},{"$f":"IF(ISNUMBER(F1227),IF(AQ1227<0.85,\"\",VLOOKUP(R1227,F!A$2:X$23,VLOOKUP(F1227,ages!B$1:C$23,2,1),1)),\"\")","v":""},{"$f":"IF(ISNUMBER(F1227),IF(AR1227<0.85,\"\",VLOOKUP(S1227,G!A$2:X$23,VLOOKUP(F1227,ages!B$1:C$23,2,1),1)),\"\")","v":""},{"$f":"IF(ISNUMBER(F1227),IF(AS1227<0.85,\"\",VLOOKUP(T1227,H!A$2:X$23,VLOOKUP(F1227,ages!B$1:C$23,2,1),1)),\"\")","v":""},{"$f":"IF(ISNUMBER(F1227),IF(AT1227<0.85,\"\",VLOOKUP(U1227,I!A$2:X$23,VLOOKUP(F1227,ages!B$1:C$23,2,1),1)),\"\")","v":""},{"$f":"IF(ISNUMBER(F1227),IF(AU1227<0.85,\"\",VLOOKUP(V1227,J!A$2:X$23,VLOOKUP(F1227,ages!B$1:C$23,2,1),1)),\"\")","v":""},"","","","",-1.0000000000000002E-6,0,0,0,0,0,0,0,0,0,0,0,null,null,null,null,null,null,null,null,null,null,null,null,null,null,null,null,null,null,null,null,null,null,null,null,null,null,null,null,null,null,null,null,null,null,null,null,null,null,null,null,null,null,null,null,null,null,null,null,null,null,null,null,null,null,null,null,null,null,null,null,null,null,null,null,null,null,null,null,null,null,-9.9999999999999995E-7,-9.9999999999999995E-7,-9.9999999999999995E-7,-9.9999999999999995E-7,-9.9999999999999995E-7,-9.9999999999999995E-7,-9.9999999999999995E-7,-9.9999999999999995E-7,-9.9999999999999995E-7,-9.9999999999999995E-7,-9.9999999999999995E-7,-9.9999999999999995E-7,-9.9999999999999995E-7,-9.9999999999999995E-7,-9.9999999999999995E-7,-9.9999999999999995E-7,-9.9999999999999995E-7,-9.9999999999999995E-7,-9.9999999999999995E-7,-9.9999999999999995E-7,{"$f":"IF(ISERROR(VLOOKUP(F1227,ages!B$1:B$23,1,1)),\"\",VLOOKUP(F1227,ages!B$1:B$23,1,1))","v":""},{"$f":"IF(ISERROR(VLOOKUP(F1227,ages!B$1:D$23,3,1)),\"\",VLOOKUP(F1227,ages!B$1:D$23,3,1))","v":""},0,0,0,0,0]
[null,null,null,null,null,"",null,null,null,null,null,null,"","","","","","","","","","",{"$f":"IF(ISNUMBER(F1234),IF(AL1234<0.85,\"\",VLOOKUP(M1234,A!A$2:X$23,VLOOKUP(F1234,ages!B$1:C$23,2,1),1)),\"\")","v":""},{"$f":"IF(ISNUMBER(F1234),IF(AM1234<0.85,\"\",VLOOKUP(N1234,B!A$2:X$23,VLOOKUP(F1234,ages!B$1:C$23,2,1),1)),\"\")","v":""},{"$f":"IF(ISNUMBER(F1234),IF(AN1234<0.85,\"\",VLOOKUP(O1234,'C'!A$2:X$23,VLOOKUP(F1234,ages!B$1:C$23,2,1),1)),\"\")","v":""},{"$f":"IF(ISNUMBER(F1234),IF(AO1234<0.85,\"\",VLOOKUP(P1234,D!A$2:X$23,VLOOKUP(F1234,ages!B$1:C$23,2,1),1)),\"\")","v":""},{"$f":"IF(ISNUMBER(F1234),IF(AP1234<0.85,\"\",VLOOKUP(Q1234,E!A$2:X$23,VLOOKUP(F1234,ages!B$1:C$23,2,1),1)),\"\")","v":""},{"$f":"IF(ISNUMBER(F1234),IF(AQ1234<0.85,\"\",VLOOKUP(R1234,F!A$2:X$23,VLOOKUP(F1234,ages!B$1:C$23,2,1),1)),\"\")","v":""},{"$f":"IF(ISNUMBER(F1234),IF(AR1234<0.85,\"\",VLOOKUP(S1234,G!A$2:X$23,VLOOKUP(F1234,ages!B$1:C$23,2,1),1)),\"\")","v":""},{"$f":"IF(ISNUMBER(F1234),IF(AS1234<0.85,\"\",VLOOKUP(T1234,H!A$2:X$23,VLOOKUP(F1234,ages!B$1:C$23,2,1),1)),\"\")","v":""},{"$f":"IF(ISNUMBER(F1234),IF(AT1234<0.85,\"\",VLOOKUP(U1234,I!A$2:X$23,VLOOKUP(F1234,ages!B$1:C$23,2,1),1)),\"\")","v":""},{"$f":"IF(ISNUMBER(F1234),IF(AU1234<0.85,\"\",VLOOKUP(V1234,J!A$2:X$23,VLOOKUP(F1234,ages!B$1:C$23,2,1),1)),\"\")","v":""},"","","","",-1.0000000000000002E-6,0,0,0,0,0,0,0,0,0,0,0,null,null,null,null,null,null,null,null,null,null,null,null,null,null,null,null,null,null,null,null,null,null,null,null,null,null,null,null,null,null,null,null,null,null,null,null,null,null,null,null,null,null,null,null,null,null,null,null,null,null,null,null,null,null,null,null,null,null,null,null,null,null,null,null,null,null,null,null,null,null,-9.9999999999999995E-7,-9.9999999999999995E-7,-9.9999999999999995E-7,-9.9999999999999995E-7,-9.9999999999999995E-7,-9.9999999999999995E-7,-9.9999999999999995E-7,-9.9999999999999995E-7,-9.9999999999999995E-7,-9.9999999999999995E-7,-9.9999999999999995E-7,-9.9999999999999995E-7,-9.9999999999999995E-7,-9.9999999999999995E-7,-9.9999999999999995E-7,-9.9999999999999995E-7,-9.9999999999999995E-7,-9.9999999999999995E-7,-9.9999999999999995E-7,-9.9999999999999995E-7,{"$f":"IF(ISERROR(VLOOKUP(F1234,ages!B$1:B$23,1,1)),\"\",VLOOKUP(F1234,ages!B$1:B$23,1,1))","v":""},{"$f":"IF(ISERROR(VLOOKUP(F1234,ages!B$1:D$23,3,1)),\"\",VLOOKUP(F1234,ages!B$1:D$23,3,1))","v":""},0,0,0,0,0]
[null,null,null,null,null,"",null,null,null,null,null,null,"","","","","","","","","","",{"$f":"IF(ISNUMBER(F1239),IF(AL1239<0.85,\"\",VLOOKUP(M1239,A!A$2:X$23,VLOOKUP(F1239,ages!B$1:C$23,2,1),1)),\"\")","v":""},{"$f":"IF(ISNUMBER(F1239),IF(AM1239<0.85,\"\",VLOOKUP(N1239,B!A$2:X$23,VLOOKUP(F1239,ages!B$1:C$23,2,1),1)),\"\")","v":""},{"$f":"IF(ISNUMBER(F1239),IF(AN1239<0.85,\"\",VLOOKUP(O1239,'C'!A$2:X$23,VLOOKUP(F1239,ages!B$1:C$23,2,1),1)),\"\")","v":""},{"$f":"IF(ISNUMBER(F1239),IF(AO1239<0.85,\"\",VLOOKUP(P1239,D!A$2:X$23,VLOOKUP(F1239,ages!B$1:C$23,2,1),1)),\"\")","v":""},{"$f":"IF(ISNUMBER(F1239),IF(AP1239<0.85,\"\",VLOOKUP(Q1239,E!A$2:X$23,VLOOKUP(F1239,ages!B$1:C$23,2,1),1)),\"\")","v":""},{"$f":"IF(ISNUMBER(F1239),IF(AQ1239<0.85,\"\",VLOOKUP(R1239,F!A$2:X$23,VLOOKUP(F1239,ages!B$1:C$23,2,1),1)),\"\")","v":""},{"$f":"IF(ISNUMBER(F1239),IF(AR1239<0.85,\"\",VLOOKUP(S1239,G!A$2:X$23,VLOOKUP(F1239,ages!B$1:C$23,2,1),1)),\"\")","v":""},{"$f":"IF(ISNUMBER(F1239),IF(AS1239<0.85,\"\",VLOOKUP(T1239,H!A$2:X$23,VLOOKUP(F1239,ages!B$1:C$23,2,1),1)),\"\")","v":""},{"$f":"IF(ISNUMBER(F1239),IF(AT1239<0.85,\"\",VLOOKUP(U1239,I!A$2:X$23,VLOOKUP(F1239,ages!B$1:C$23,2,1),1)),\"\")","v":""},{"$f":"IF(ISNUMBER(F1239),IF(AU1239<0.85,\"\",VLOOKUP(V1239,J!A$2:X$23,VLOOKUP(F1239,ages!B$1:C$23,2,1),1)),\"\")","v":""},"","","","",-1.0000000000000002E-6,0,0,0,0,0,0,0,0,0,0,0,null,null,null,null,null,null,null,null,null,null,null,null,null,null,null,null,null,null,null,null,null,null,null,null,null,null,null,null,null,null,null,null,null,null,null,null,null,null,null,null,null,null,null,null,null,null,null,null,null,null,null,null,null,null,null,null,null,null,null,null,null,null,null,null,null,null,null,null,null,null,-9.9999999999999995E-7,-9.9999999999999995E-7,-9.9999999999999995E-7,-9.9999999999999995E-7,-9.9999999999999995E-7,-9.9999999999999995E-7,-9.9999999999999995E-7,-9.9999999999999995E-7,-9.9999999999999995E-7,-9.9999999999999995E-7,-9.9999999999999995E-7,-9.9999999999999995E-7,-9.9999999999999995E-7,-9.9999999999999995E-7,-9.9999999999999995E-7,-9.9999999999999995E-7,-9.9999999999999995E-7,-9.9999999999999995E-7,-9.9999999999999995E-7,-9.9999999999999995E-7,{"$f":"IF(ISERROR(VLOOKUP(F1239,ages!B$1:B$23,1,1)),\"\",VLOOKUP(F1239,ages!B$1:B$23,1,1))","v":""},{"$f":"IF(ISERROR(VLOOKUP(F1239,ages!B$1:D$23,3,1)),\"\",VLOOKUP(F1239,ages!B$1:D$23,3,1))","v":""},0,0,0,0,0]
[null,null,null,null,null,"",null,null,null,null,null,null,"","","","","","","","","","",{"$f":"IF(ISNUMBER(F1240),IF(AL1240<0.85,\"\",VLOOKUP(M1240,A!A$2:X$23,VLOOKUP(F1240,ages!B$1:C$23,2,1),1)),\"\")","v":""},{"$f":"IF(ISNUMBER(F1240),IF(AM1240<0.85,\"\",VLOOKUP(N1240,B!A$2:X$23,VLOOKUP(F1240,ages!B$1:C$23,2,1),1)),\"\")","v":""},{"$f":"IF(ISNUMBER(F1240),IF(AN1240<0.85,\"\",VLOOKUP(O1240,'C'!A$2:X$23,VLOOKUP(F1240,ages!B$1:C$23,2,1),1)),\"\")","v":""},{"$f":"IF(ISNUMBER(F1240),IF(AO1240<0.85,\"\",VLOOKUP(P1240,D!A$2:X$23,VLOOKUP(F1240,ages!B$1:C$23,2,1),1)),\"\")","v":""},{"$f":"IF(ISNUMBER(F1240),IF(AP1240<0.85,\"\",VLOOKUP(Q1240,E!A$2:X$23,VLOOKUP(F1240,ages!B$1:C$23,2,1),1)),\"\")","v":""},{"$f":"IF(ISNUMBER(F1240),IF(AQ1240<0.85,\"\",VLOOKUP(R1240,F!A$2:X$23,VLOOKUP(F1240,ages!B$1:C$23,2,1),1)),\"\")","v":""},{"$f":"IF(ISNUMBER(F1240),IF(AR1240<0.85,\"\",VLOOKUP(S1240,G!A$2:X$23,VLOOKUP(F1240,ages!B$1:C$23,2,1),1)),\"\")","v":""},{"$f":"IF(ISNUMBER(F1240),IF(AS1240<0.85,\"\",VLOOKUP(T1240,H!A$2:X$23,VLOOKUP(F1240,ages!B$1:C$23,2,1),1)),\"\")","v":""},{"$f":"IF(ISNUMBER(F1240),IF(AT1240<0.85,\"\",VLOOKUP(U1240,I!A$2:X$23,VLOOKUP(F1240,ages!B$1:C$23,2,1),1)),\"\")","v":""},{"$f":"IF(ISNUMBER(F1240),IF(AU1240<0.85,\"\",VLOOKUP(V1240,J!A$2:X$23,VLOOKUP(F1240,ages!B$1:C$23,2,1),1)),\"\")","v":""},"","","","",-1.0000000000000002E-6,0,0,0,0,0,0,0,0,0,0,0,null,null,null,null,null,null,null,null,null,null,null,null,null,null,null,null,null,null,null,null,null,null,null,null,null,null,null,null,null,null,null,null,null,null,null,null,null,null,null,null,null,null,null,null,null,null,null,null,null,null,null,null,null,null,null,null,null,null,null,null,null,null,null,null,null,null,null,null,null,null,-9.9999999999999995E-7,-9.9999999999999995E-7,-9.9999999999999995E-7,-9.9999999999999995E-7,-9.9999999999999995E-7,-9.9999999999999995E-7,-9.9999999999999995E-7,-9.9999999999999995E-7,-9.9999999999999995E-7,-9.9999999999999995E-7,-9.9999999999999995E-7,-9.9999999999999995E-7,-9.9999999999999995E-7,-9.9999999999999995E-7,-9.9999999999999995E-7,-9.9999999999999995E-7,-9.9999999999999995E-7,-9.9999999999999995E-7,-9.9999999999999995E-7,-9.9999999999999995E-7,{"$f":"IF(ISERROR(VLOOKUP(F1240,ages!B$1:B$23,1,1)),\"\",VLOOKUP(F1240,ages!B$1:B$23,1,1))","v":""},{"$f":"IF(ISERROR(VLOOKUP(F1240,ages!B$1:D$23,3,1)),\"\",VLOOKUP(F1240,ages!B$1:D$23,3,1))","v":""},0,0,0,0,0]
[null,null,null,null,null,"",null,null,null,null,null,null,"","","","","","","","","","",{"$f":"IF(ISNUMBER(F1245),IF(AL1245<0.85,\"\",VLOOKUP(M1245,A!A$2:X$23,VLOOKUP(F1245,ages!B$1:C$23,2,1),1)),\"\")","v":""},{"$f":"IF(ISNUMBER(F1245),IF(AM1245<0.85,\"\",VLOOKUP(N1245,B!A$2:X$23,VLOOKUP(F1245,ages!B$1:C$23,2,1),1)),\"\")","v":""},{"$f":"IF(ISNUMBER(F1245),IF(AN1245<0.85,\"\",VLOOKUP(O1245,'C'!A$2:X$23,VLOOKUP(F1245,ages!B$1:C$23,2,1),1)),\"\")","v":""},{"$f":"IF(ISNUMBER(F1245),IF(AO1245<0.85,\"\",VLOOKUP(P1245,D!A$2:X$23,VLOOKUP(F1245,ages!B$1:C$23,2,1),1)),\"\")","v":""},{"$f":"IF(ISNUMBER(F1245),IF(AP1245<0.85,\"\",VLOOKUP(Q1245,E!A$2:X$23,VLOOKUP(F1245,ages!B$1:C$23,2,1),1)),\"\")","v":""},{"$f":"IF(ISNUMBER(F1245),IF(AQ1245<0.85,\"\",VLOOKUP(R1245,F!A$2:X$23,VLOOKUP(F1245,ages!B$1:C$23,2,1),1)),\"\")","v":""},{"$f":"IF(ISNUMBER(F1245),IF(AR1245<0.85,\"\",VLOOKUP(S1245,G!A$2:X$23,VLOOKUP(F1245,ages!B$1:C$23,2,1),1)),\"\")","v":""},{"$f":"IF(ISNUMBER(F1245),IF(AS1245<0.85,\"\",VLOOKUP(T1245,H!A$2:X$23,VLOOKUP(F1245,ages!B$1:C$23,2,1),1)),\"\")","v":""},{"$f":"IF(ISNUMBER(F1245),IF(AT1245<0.85,\"\",VLOOKUP(U1245,I!A$2:X$23,VLOOKUP(F1245,ages!B$1:C$23,2,1),1)),\"\")","v":""},{"$f":"IF(ISNUMBER(F1245),IF(AU1245<0.85,\"\",VLOOKUP(V1245,J!A$2:X$23,VLOOKUP(F1245,ages!B$1:C$23,2,1),1)),\"\")","v":""},"","","","",-1.0000000000000002E-6,0,0,0,0,0,0,0,0,0,0,0,null,null,null,null,null,null,null,null,null,null,null,null,null,null,null,null,null,null,null,null,null,null,null,null,null,null,null,null,null,null,null,null,null,null,null,null,null,null,null,null,null,null,null,null,null,null,null,null,null,null,null,null,null,null,null,null,null,null,null,null,null,null,null,null,null,null,null,null,null,null,-9.9999999999999995E-7,-9.9999999999999995E-7,-9.9999999999999995E-7,-9.9999999999999995E-7,-9.9999999999999995E-7,-9.9999999999999995E-7,-9.9999999999999995E-7,-9.9999999999999995E-7,-9.9999999999999995E-7,-9.9999999999999995E-7,-9.9999999999999995E-7,-9.9999999999999995E-7,-9.9999999999999995E-7,-9.9999999999999995E-7,-9.9999999999999995E-7,-9.9999999999999995E-7,-9.9999999999999995E-7,-9.9999999999999995E-7,-9.9999999999999995E-7,-9.9999999999999995E-7,{"$f":"IF(ISERROR(VLOOKUP(F1245,ages!B$1:B$23,1,1)),\"\",VLOOKUP(F1245,ages!B$1:B$23,1,1))","v":""},{"$f":"IF(ISERROR(VLOOKUP(F1245,ages!B$1:D$23,3,1)),\"\",VLOOKUP(F1245,ages!B$1:D$23,3,1))","v":""},0,0,0,0,0]
[null,null,null,null,null,"",null,null,null,null,null,null,"","","","","","","","","","",{"$f":"IF(ISNUMBER(F1252),IF(AL1252<0.85,\"\",VLOOKUP(M1252,A!A$2:X$23,VLOOKUP(F1252,ages!B$1:C$23,2,1),1)),\"\")","v":""},{"$f":"IF(ISNUMBER(F1252),IF(AM1252<0.85,\"\",VLOOKUP(N1252,B!A$2:X$23,VLOOKUP(F1252,ages!B$1:C$23,2,1),1)),\"\")","v":""},{"$f":"IF(ISNUMBER(F1252),IF(AN1252<0.85,\"\",VLOOKUP(O1252,'C'!A$2:X$23,VLOOKUP(F1252,ages!B$1:C$23,2,1),1)),\"\")","v":""},{"$f":"IF(ISNUMBER(F1252),IF(AO1252<0.85,\"\",VLOOKUP(P1252,D!A$2:X$23,VLOOKUP(F1252,ages!B$1:C$23,2,1),1)),\"\")","v":""},{"$f":"IF(ISNUMBER(F1252),IF(AP1252<0.85,\"\",VLOOKUP(Q1252,E!A$2:X$23,VLOOKUP(F1252,ages!B$1:C$23,2,1),1)),\"\")","v":""},{"$f":"IF(ISNUMBER(F1252),IF(AQ1252<0.85,\"\",VLOOKUP(R1252,F!A$2:X$23,VLOOKUP(F1252,ages!B$1:C$23,2,1),1)),\"\")","v":""},{"$f":"IF(ISNUMBER(F1252),IF(AR1252<0.85,\"\",VLOOKUP(S1252,G!A$2:X$23,VLOOKUP(F1252,ages!B$1:C$23,2,1),1)),\"\")","v":""},{"$f":"IF(ISNUMBER(F1252),IF(AS1252<0.85,\"\",VLOOKUP(T1252,H!A$2:X$23,VLOOKUP(F1252,ages!B$1:C$23,2,1),1)),\"\")","v":""},{"$f":"IF(ISNUMBER(F1252),IF(AT1252<0.85,\"\",VLOOKUP(U1252,I!A$2:X$23,VLOOKUP(F1252,ages!B$1:C$23,2,1),1)),\"\")","v":""},{"$f":"IF(ISNUMBER(F1252),IF(AU1252<0.85,\"\",VLOOKUP(V1252,J!A$2:X$23,VLOOKUP(F1252,ages!B$1:C$23,2,1),1)),\"\")","v":""},"","","","",-1.0000000000000002E-6,0,0,0,0,0,0,0,0,0,0,0,null,null,null,null,null,null,null,null,null,null,null,null,null,null,null,null,null,null,null,null,null,null,null,null,null,null,null,null,null,null,null,null,null,null,null,null,null,null,null,null,null,null,null,null,null,null,null,null,null,null,null,null,null,null,null,null,null,null,null,null,null,null,null,null,null,null,null,null,null,null,-9.9999999999999995E-7,-9.9999999999999995E-7,-9.9999999999999995E-7,-9.9999999999999995E-7,-9.9999999999999995E-7,-9.9999999999999995E-7,-9.9999999999999995E-7,-9.9999999999999995E-7,-9.9999999999999995E-7,-9.9999999999999995E-7,-9.9999999999999995E-7,-9.9999999999999995E-7,-9.9999999999999995E-7,-9.9999999999999995E-7,-9.9999999999999995E-7,-9.9999999999999995E-7,-9.9999999999999995E-7,-9.9999999999999995E-7,-9.9999999999999995E-7,-9.9999999999999995E-7,{"$f":"IF(ISERROR(VLOOKUP(F1252,ages!B$1:B$23,1,1)),\"\",VLOOKUP(F1252,ages!B$1:B$23,1,1))","v":""},{"$f":"IF(ISERROR(VLOOKUP(F1252,ages!B$1:D$23,3,1)),\"\",VLOOKUP(F1252,ages!B$1:D$23,3,1))","v":""},0,0,0,0,0]
[null,null,null,null,null,"",null,null,null,null,null,null,"","","","","","","","","","",{"$f":"IF(ISNUMBER(F1255),IF(AL1255<0.85,\"\",VLOOKUP(M1255,A!A$2:X$23,VLOOKUP(F1255,ages!B$1:C$23,2,1),1)),\"\")","v":""},{"$f":"IF(ISNUMBER(F1255),IF(AM1255<0.85,\"\",VLOOKUP(N1255,B!A$2:X$23,VLOOKUP(F1255,ages!B$1:C$23,2,1),1)),\"\")","v":""},{"$f":"IF(ISNUMBER(F1255),IF(AN1255<0.85,\"\",VLOOKUP(O1255,'C'!A$2:X$23,VLOOKUP(F1255,ages!B$1:C$23,2,1),1)),\"\")","v":""},{"$f":"IF(ISNUMBER(F1255),IF(AO1255<0.85,\"\",VLOOKUP(P1255,D!A$2:X$23,VLOOKUP(F1255,ages!B$1:C$23,2,1),1)),\"\")","v":""},{"$f":"IF(ISNUMBER(F1255),IF(AP1255<0.85,\"\",VLOOKUP(Q1255,E!A$2:X$23,VLOOKUP(F1255,ages!B$1:C$23,2,1),1)),\"\")","v":""},{"$f":"IF(ISNUMBER(F1255),IF(AQ1255<0.85,\"\",VLOOKUP(R1255,F!A$2:X$23,VLOOKUP(F1255,ages!B$1:C$23,2,1),1)),\"\")","v":""},{"$f":"IF(ISNUMBER(F1255),IF(AR1255<0.85,\"\",VLOOKUP(S1255,G!A$2:X$23,VLOOKUP(F1255,ages!B$1:C$23,2,1),1)),\"\")","v":""},{"$f":"IF(ISNUMBER(F1255),IF(AS1255<0.85,\"\",VLOOKUP(T1255,H!A$2:X$23,VLOOKUP(F1255,ages!B$1:C$23,2,1),1)),\"\")","v":""},{"$f":"IF(ISNUMBER(F1255),IF(AT1255<0.85,\"\",VLOOKUP(U1255,I!A$2:X$23,VLOOKUP(F1255,ages!B$1:C$23,2,1),1)),\"\")","v":""},{"$f":"IF(ISNUMBER(F1255),IF(AU1255<0.85,\"\",VLOOKUP(V1255,J!A$2:X$23,VLOOKUP(F1255,ages!B$1:C$23,2,1),1)),\"\")","v":""},"","","","",-1.0000000000000002E-6,0,0,0,0,0,0,0,0,0,0,0,null,null,null,null,null,null,null,null,null,null,null,null,null,null,null,null,null,null,null,null,null,null,null,null,null,null,null,null,null,null,null,null,null,null,null,null,null,null,null,null,null,null,null,null,null,null,null,null,null,null,null,null,null,null,null,null,null,null,null,null,null,null,null,null,null,null,null,null,null,null,-9.9999999999999995E-7,-9.9999999999999995E-7,-9.9999999999999995E-7,-9.9999999999999995E-7,-9.9999999999999995E-7,-9.9999999999999995E-7,-9.9999999999999995E-7,-9.9999999999999995E-7,-9.9999999999999995E-7,-9.9999999999999995E-7,-9.9999999999999995E-7,-9.9999999999999995E-7,-9.9999999999999995E-7,-9.9999999999999995E-7,-9.9999999999999995E-7,-9.9999999999999995E-7,-9.9999999999999995E-7,-9.9999999999999995E-7,-9.9999999999999995E-7,-9.9999999999999995E-7,{"$f":"IF(ISERROR(VLOOKUP(F1255,ages!B$1:B$23,1,1)),\"\",VLOOKUP(F1255,ages!B$1:B$23,1,1))","v":""},{"$f":"IF(ISERROR(VLOOKUP(F1255,ages!B$1:D$23,3,1)),\"\",VLOOKUP(F1255,ages!B$1:D$23,3,1))","v":""},0,0,0,0,0]
[null,null,null,null,null,"",null,null,null,null,null,null,"","","","","","","","","","",{"$f":"IF(ISNUMBER(F1260),IF(AL1260<0.85,\"\",VLOOKUP(M1260,A!A$2:X$23,VLOOKUP(F1260,ages!B$1:C$23,2,1),1)),\"\")","v":""},{"$f":"IF(ISNUMBER(F1260),IF(AM1260<0.85,\"\",VLOOKUP(N1260,B!A$2:X$23,VLOOKUP(F1260,ages!B$1:C$23,2,1),1)),\"\")","v":""},{"$f":"IF(ISNUMBER(F1260),IF(AN1260<0.85,\"\",VLOOKUP(O1260,'C'!A$2:X$23,VLOOKUP(F1260,ages!B$1:C$23,2,1),1)),\"\")","v":""},{"$f":"IF(ISNUMBER(F1260),IF(AO1260<0.85,\"\",VLOOKUP(P1260,D!A$2:X$23,VLOOKUP(F1260,ages!B$1:C$23,2,1),1)),\"\")","v":""},{"$f":"IF(ISNUMBER(F1260),IF(AP1260<0.85,\"\",VLOOKUP(Q1260,E!A$2:X$23,VLOOKUP(F1260,ages!B$1:C$23,2,1),1)),\"\")","v":""},{"$f":"IF(ISNUMBER(F1260),IF(AQ1260<0.85,\"\",VLOOKUP(R1260,F!A$2:X$23,VLOOKUP(F1260,ages!B$1:C$23,2,1),1)),\"\")","v":""},{"$f":"IF(ISNUMBER(F1260),IF(AR1260<0.85,\"\",VLOOKUP(S1260,G!A$2:X$23,VLOOKUP(F1260,ages!B$1:C$23,2,1),1)),\"\")","v":""},{"$f":"IF(ISNUMBER(F1260),IF(AS1260<0.85,\"\",VLOOKUP(T1260,H!A$2:X$23,VLOOKUP(F1260,ages!B$1:C$23,2,1),1)),\"\")","v":""},{"$f":"IF(ISNUMBER(F1260),IF(AT1260<0.85,\"\",VLOOKUP(U1260,I!A$2:X$23,VLOOKUP(F1260,ages!B$1:C$23,2,1),1)),\"\")","v":""},{"$f":"IF(ISNUMBER(F1260),IF(AU1260<0.85,\"\",VLOOKUP(V1260,J!A$2:X$23,VLOOKUP(F1260,ages!B$1:C$23,2,1),1)),\"\")","v":""},"","","","",-1.0000000000000002E-6,0,0,0,0,0,0,0,0,0,0,0,null,null,null,null,null,null,null,null,null,null,null,null,null,null,null,null,null,null,null,null,null,null,null,null,null,null,null,null,null,null,null,null,null,null,null,null,null,null,null,null,null,null,null,null,null,null,null,null,null,null,null,null,null,null,null,null,null,null,null,null,null,null,null,null,null,null,null,null,null,null,-9.9999999999999995E-7,-9.9999999999999995E-7,-9.9999999999999995E-7,-9.9999999999999995E-7,-9.9999999999999995E-7,-9.9999999999999995E-7,-9.9999999999999995E-7,-9.9999999999999995E-7,-9.9999999999999995E-7,-9.9999999999999995E-7,-9.9999999999999995E-7,-9.9999999999999995E-7,-9.9999999999999995E-7,-9.9999999999999995E-7,-9.9999999999999995E-7,-9.9999999999999995E-7,-9.9999999999999995E-7,-9.9999999999999995E-7,-9.9999999999999995E-7,-9.9999999999999995E-7,{"$f":"IF(ISERROR(VLOOKUP(F1260,ages!B$1:B$23,1,1)),\"\",VLOOKUP(F1260,ages!B$1:B$23,1,1))","v":""},{"$f":"IF(ISERROR(VLOOKUP(F1260,ages!B$1:D$23,3,1)),\"\",VLOOKUP(F1260,ages!B$1:D$23,3,1))","v":""},0,0,0,0,0]
[null,null,null,null,null,"",null,null,null,null,null,null,"","","","","","","","","","",{"$f":"IF(ISNUMBER(F1265),IF(AL1265<0.85,\"\",VLOOKUP(M1265,A!A$2:X$23,VLOOKUP(F1265,ages!B$1:C$23,2,1),1)),\"\")","v":""},{"$f":"IF(ISNUMBER(F1265),IF(AM1265<0.85,\"\",VLOOKUP(N1265,B!A$2:X$23,VLOOKUP(F1265,ages!B$1:C$23,2,1),1)),\"\")","v":""},{"$f":"IF(ISNUMBER(F1265),IF(AN1265<0.85,\"\",VLOOKUP(O1265,'C'!A$2:X$23,VLOOKUP(F1265,ages!B$1:C$23,2,1),1)),\"\")","v":""},{"$f":"IF(ISNUMBER(F1265),IF(AO1265<0.85,\"\",VLOOKUP(P1265,D!A$2:X$23,VLOOKUP(F1265,ages!B$1:C$23,2,1),1)),\"\")","v":""},{"$f":"IF(ISNUMBER(F1265),IF(AP1265<0.85,\"\",VLOOKUP(Q1265,E!A$2:X$23,VLOOKUP(F1265,ages!B$1:C$23,2,1),1)),\"\")","v":""},{"$f":"IF(ISNUMBER(F1265),IF(AQ1265<0.85,\"\",VLOOKUP(R1265,F!A$2:X$23,VLOOKUP(F1265,ages!B$1:C$23,2,1),1)),\"\")","v":""},{"$f":"IF(ISNUMBER(F1265),IF(AR1265<0.85,\"\",VLOOKUP(S1265,G!A$2:X$23,VLOOKUP(F1265,ages!B$1:C$23,2,1),1)),\"\")","v":""},{"$f":"IF(ISNUMBER(F1265),IF(AS1265<0.85,\"\",VLOOKUP(T1265,H!A$2:X$23,VLOOKUP(F1265,ages!B$1:C$23,2,1),1)),\"\")","v":""},{"$f":"IF(ISNUMBER(F1265),IF(AT1265<0.85,\"\",VLOOKUP(U1265,I!A$2:X$23,VLOOKUP(F1265,ages!B$1:C$23,2,1),1)),\"\")","v":""},{"$f":"IF(ISNUMBER(F1265),IF(AU1265<0.85,\"\",VLOOKUP(V1265,J!A$2:X$23,VLOOKUP(F1265,ages!B$1:C$23,2,1),1)),\"\")","v":""},"","","","",-1.0000000000000002E-6,0,0,0,0,0,0,0,0,0,0,0,null,null,null,null,null,null,null,null,null,null,null,null,null,null,null,null,null,null,null,null,null,null,null,null,null,null,null,null,null,null,null,null,null,null,null,null,null,null,null,null,null,null,null,null,null,null,null,null,null,null,null,null,null,null,null,null,null,null,null,null,null,null,null,null,null,null,null,null,null,null,-9.9999999999999995E-7,-9.9999999999999995E-7,-9.9999999999999995E-7,-9.9999999999999995E-7,-9.9999999999999995E-7,-9.9999999999999995E-7,-9.9999999999999995E-7,-9.9999999999999995E-7,-9.9999999999999995E-7,-9.9999999999999995E-7,-9.9999999999999995E-7,-9.9999999999999995E-7,-9.9999999999999995E-7,-9.9999999999999995E-7,-9.9999999999999995E-7,-9.9999999999999995E-7,-9.9999999999999995E-7,-9.9999999999999995E-7,-9.9999999999999995E-7,-9.9999999999999995E-7,{"$f":"IF(ISERROR(VLOOKUP(F1265,ages!B$1:B$23,1,1)),\"\",VLOOKUP(F1265,ages!B$1:B$23,1,1))","v":""},{"$f":"IF(ISERROR(VLOOKUP(F1265,ages!B$1:D$23,3,1)),\"\",VLOOKUP(F1265,ages!B$1:D$23,3,1))","v":""},0,0,0,0,0]
[null,null,null,null,null,"",null,null,null,null,null,null,"","","","","","","","","","",{"$f":"IF(ISNUMBER(F1271),IF(AL1271<0.85,\"\",VLOOKUP(M1271,A!A$2:X$23,VLOOKUP(F1271,ages!B$1:C$23,2,1),1)),\"\")","v":""},{"$f":"IF(ISNUMBER(F1271),IF(AM1271<0.85,\"\",VLOOKUP(N1271,B!A$2:X$23,VLOOKUP(F1271,ages!B$1:C$23,2,1),1)),\"\")","v":""},{"$f":"IF(ISNUMBER(F1271),IF(AN1271<0.85,\"\",VLOOKUP(O1271,'C'!A$2:X$23,VLOOKUP(F1271,ages!B$1:C$23,2,1),1)),\"\")","v":""},{"$f":"IF(ISNUMBER(F1271),IF(AO1271<0.85,\"\",VLOOKUP(P1271,D!A$2:X$23,VLOOKUP(F1271,ages!B$1:C$23,2,1),1)),\"\")","v":""},{"$f":"IF(ISNUMBER(F1271),IF(AP1271<0.85,\"\",VLOOKUP(Q1271,E!A$2:X$23,VLOOKUP(F1271,ages!B$1:C$23,2,1),1)),\"\")","v":""},{"$f":"IF(ISNUMBER(F1271),IF(AQ1271<0.85,\"\",VLOOKUP(R1271,F!A$2:X$23,VLOOKUP(F1271,ages!B$1:C$23,2,1),1)),\"\")","v":""},{"$f":"IF(ISNUMBER(F1271),IF(AR1271<0.85,\"\",VLOOKUP(S1271,G!A$2:X$23,VLOOKUP(F1271,ages!B$1:C$23,2,1),1)),\"\")","v":""},{"$f":"IF(ISNUMBER(F1271),IF(AS1271<0.85,\"\",VLOOKUP(T1271,H!A$2:X$23,VLOOKUP(F1271,ages!B$1:C$23,2,1),1)),\"\")","v":""},{"$f":"IF(ISNUMBER(F1271),IF(AT1271<0.85,\"\",VLOOKUP(U1271,I!A$2:X$23,VLOOKUP(F1271,ages!B$1:C$23,2,1),1)),\"\")","v":""},{"$f":"IF(ISNUMBER(F1271),IF(AU1271<0.85,\"\",VLOOKUP(V1271,J!A$2:X$23,VLOOKUP(F1271,ages!B$1:C$23,2,1),1)),\"\")","v":""},"","","","",-1.0000000000000002E-6,0,0,0,0,0,0,0,0,0,0,0,null,null,null,null,null,null,null,null,null,null,null,null,null,null,null,null,null,null,null,null,null,null,null,null,null,null,null,null,null,null,null,null,null,null,null,null,null,null,null,null,null,null,null,null,null,null,null,null,null,null,null,null,null,null,null,null,null,null,null,null,null,null,null,null,null,null,null,null,null,null,-9.9999999999999995E-7,-9.9999999999999995E-7,-9.9999999999999995E-7,-9.9999999999999995E-7,-9.9999999999999995E-7,-9.9999999999999995E-7,-9.9999999999999995E-7,-9.9999999999999995E-7,-9.9999999999999995E-7,-9.9999999999999995E-7,-9.9999999999999995E-7,-9.9999999999999995E-7,-9.9999999999999995E-7,-9.9999999999999995E-7,-9.9999999999999995E-7,-9.9999999999999995E-7,-9.9999999999999995E-7,-9.9999999999999995E-7,-9.9999999999999995E-7,-9.9999999999999995E-7,{"$f":"IF(ISERROR(VLOOKUP(F1271,ages!B$1:B$23,1,1)),\"\",VLOOKUP(F1271,ages!B$1:B$23,1,1))","v":""},{"$f":"IF(ISERROR(VLOOKUP(F1271,ages!B$1:D$23,3,1)),\"\",VLOOKUP(F1271,ages!B$1:D$23,3,1))","v":""},0,0,0,0,0]
[null,null,null,null,null,"",null,null,null,null,null,null,"","","","","","","","","","",{"$f":"IF(ISNUMBER(F1275),IF(AL1275<0.85,\"\",VLOOKUP(M1275,A!A$2:X$23,VLOOKUP(F1275,ages!B$1:C$23,2,1),1)),\"\")","v":""},{"$f":"IF(ISNUMBER(F1275),IF(AM1275<0.85,\"\",VLOOKUP(N1275,B!A$2:X$23,VLOOKUP(F1275,ages!B$1:C$23,2,1),1)),\"\")","v":""},{"$f":"IF(ISNUMBER(F1275),IF(AN1275<0.85,\"\",VLOOKUP(O1275,'C'!A$2:X$23,VLOOKUP(F1275,ages!B$1:C$23,2,1),1)),\"\")","v":""},{"$f":"IF(ISNUMBER(F1275),IF(AO1275<0.85,\"\",VLOOKUP(P1275,D!A$2:X$23,VLOOKUP(F1275,ages!B$1:C$23,2,1),1)),\"\")","v":""},{"$f":"IF(ISNUMBER(F1275),IF(AP1275<0.85,\"\",VLOOKUP(Q1275,E!A$2:X$23,VLOOKUP(F1275,ages!B$1:C$23,2,1),1)),\"\")","v":""},{"$f":"IF(ISNUMBER(F1275),IF(AQ1275<0.85,\"\",VLOOKUP(R1275,F!A$2:X$23,VLOOKUP(F1275,ages!B$1:C$23,2,1),1)),\"\")","v":""},{"$f":"IF(ISNUMBER(F1275),IF(AR1275<0.85,\"\",VLOOKUP(S1275,G!A$2:X$23,VLOOKUP(F1275,ages!B$1:C$23,2,1),1)),\"\")","v":""},{"$f":"IF(ISNUMBER(F1275),IF(AS1275<0.85,\"\",VLOOKUP(T1275,H!A$2:X$23,VLOOKUP(F1275,ages!B$1:C$23,2,1),1)),\"\")","v":""},{"$f":"IF(ISNUMBER(F1275),IF(AT1275<0.85,\"\",VLOOKUP(U1275,I!A$2:X$23,VLOOKUP(F1275,ages!B$1:C$23,2,1),1)),\"\")","v":""},{"$f":"IF(ISNUMBER(F1275),IF(AU1275<0.85,\"\",VLOOKUP(V1275,J!A$2:X$23,VLOOKUP(F1275,ages!B$1:C$23,2,1),1)),\"\")","v":""},"","","","",-1.0000000000000002E-6,0,0,0,0,0,0,0,0,0,0,0,null,null,null,null,null,null,null,null,null,null,null,null,null,null,null,null,null,null,null,null,null,null,null,null,null,null,null,null,null,null,null,null,null,null,null,null,null,null,null,null,null,null,null,null,null,null,null,null,null,null,null,null,null,null,null,null,null,null,null,null,null,null,null,null,null,null,null,null,null,null,-9.9999999999999995E-7,-9.9999999999999995E-7,-9.9999999999999995E-7,-9.9999999999999995E-7,-9.9999999999999995E-7,-9.9999999999999995E-7,-9.9999999999999995E-7,-9.9999999999999995E-7,-9.9999999999999995E-7,-9.9999999999999995E-7,-9.9999999999999995E-7,-9.9999999999999995E-7,-9.9999999999999995E-7,-9.9999999999999995E-7,-9.9999999999999995E-7,-9.9999999999999995E-7,-9.9999999999999995E-7,-9.9999999999999995E-7,-9.9999999999999995E-7,-9.9999999999999995E-7,{"$f":"IF(ISERROR(VLOOKUP(F1275,ages!B$1:B$23,1,1)),\"\",VLOOKUP(F1275,ages!B$1:B$23,1,1))","v":""},{"$f":"IF(ISERROR(VLOOKUP(F1275,ages!B$1:D$23,3,1)),\"\",VLOOKUP(F1275,ages!B$1:D$23,3,1))","v":""},0,0,0,0,0]
[null,null,null,null,null,"",null,null,null,null,null,null,"","","","","","","","","","",{"$f":"IF(ISNUMBER(F1281),IF(AL1281<0.85,\"\",VLOOKUP(M1281,A!A$2:X$23,VLOOKUP(F1281,ages!B$1:C$23,2,1),1)),\"\")","v":""},{"$f":"IF(ISNUMBER(F1281),IF(AM1281<0.85,\"\",VLOOKUP(N1281,B!A$2:X$23,VLOOKUP(F1281,ages!B$1:C$23,2,1),1)),\"\")","v":""},{"$f":"IF(ISNUMBER(F1281),IF(AN1281<0.85,\"\",VLOOKUP(O1281,'C'!A$2:X$23,VLOOKUP(F1281,ages!B$1:C$23,2,1),1)),\"\")","v":""},{"$f":"IF(ISNUMBER(F1281),IF(AO1281<0.85,\"\",VLOOKUP(P1281,D!A$2:X$23,VLOOKUP(F1281,ages!B$1:C$23,2,1),1)),\"\")","v":""},{"$f":"IF(ISNUMBER(F1281),IF(AP1281<0.85,\"\",VLOOKUP(Q1281,E!A$2:X$23,VLOOKUP(F1281,ages!B$1:C$23,2,1),1)),\"\")","v":""},{"$f":"IF(ISNUMBER(F1281),IF(AQ1281<0.85,\"\",VLOOKUP(R1281,F!A$2:X$23,VLOOKUP(F1281,ages!B$1:C$23,2,1),1)),\"\")","v":""},{"$f":"IF(ISNUMBER(F1281),IF(AR1281<0.85,\"\",VLOOKUP(S1281,G!A$2:X$23,VLOOKUP(F1281,ages!B$1:C$23,2,1),1)),\"\")","v":""},{"$f":"IF(ISNUMBER(F1281),IF(AS1281<0.85,\"\",VLOOKUP(T1281,H!A$2:X$23,VLOOKUP(F1281,ages!B$1:C$23,2,1),1)),\"\")","v":""},{"$f":"IF(ISNUMBER(F1281),IF(AT1281<0.85,\"\",VLOOKUP(U1281,I!A$2:X$23,VLOOKUP(F1281,ages!B$1:C$23,2,1),1)),\"\")","v":""},{"$f":"IF(ISNUMBER(F1281),IF(AU1281<0.85,\"\",VLOOKUP(V1281,J!A$2:X$23,VLOOKUP(F1281,ages!B$1:C$23,2,1),1)),\"\")","v":""},"","","","",-1.0000000000000002E-6,0,0,0,0,0,0,0,0,0,0,0,null,null,null,null,null,null,null,null,null,null,null,null,null,null,null,null,null,null,null,null,null,null,null,null,null,null,null,null,null,null,null,null,null,null,null,null,null,null,null,null,null,null,null,null,null,null,null,null,null,null,null,null,null,null,null,null,null,null,null,null,null,null,null,null,null,null,null,null,null,null,-9.9999999999999995E-7,-9.9999999999999995E-7,-9.9999999999999995E-7,-9.9999999999999995E-7,-9.9999999999999995E-7,-9.9999999999999995E-7,-9.9999999999999995E-7,-9.9999999999999995E-7,-9.9999999999999995E-7,-9.9999999999999995E-7,-9.9999999999999995E-7,-9.9999999999999995E-7,-9.9999999999999995E-7,-9.9999999999999995E-7,-9.9999999999999995E-7,-9.9999999999999995E-7,-9.9999999999999995E-7,-9.9999999999999995E-7,-9.9999999999999995E-7,-9.9999999999999995E-7,{"$f":"IF(ISERROR(VLOOKUP(F1281,ages!B$1:B$23,1,1)),\"\",VLOOKUP(F1281,ages!B$1:B$23,1,1))","v":""},{"$f":"IF(ISERROR(VLOOKUP(F1281,ages!B$1:D$23,3,1)),\"\",VLOOKUP(F1281,ages!B$1:D$23,3,1))","v":""},0,0,0,0,0]
[null,null,null,null,null,"",null,null,null,null,null,null,"","","","","","","","","","",{"$f":"IF(ISNUMBER(F1286),IF(AL1286<0.85,\"\",VLOOKUP(M1286,A!A$2:X$23,VLOOKUP(F1286,ages!B$1:C$23,2,1),1)),\"\")","v":""},{"$f":"IF(ISNUMBER(F1286),IF(AM1286<0.85,\"\",VLOOKUP(N1286,B!A$2:X$23,VLOOKUP(F1286,ages!B$1:C$23,2,1),1)),\"\")","v":""},{"$f":"IF(ISNUMBER(F1286),IF(AN1286<0.85,\"\",VLOOKUP(O1286,'C'!A$2:X$23,VLOOKUP(F1286,ages!B$1:C$23,2,1),1)),\"\")","v":""},{"$f":"IF(ISNUMBER(F1286),IF(AO1286<0.85,\"\",VLOOKUP(P1286,D!A$2:X$23,VLOOKUP(F1286,ages!B$1:C$23,2,1),1)),\"\")","v":""},{"$f":"IF(ISNUMBER(F1286),IF(AP1286<0.85,\"\",VLOOKUP(Q1286,E!A$2:X$23,VLOOKUP(F1286,ages!B$1:C$23,2,1),1)),\"\")","v":""},{"$f":"IF(ISNUMBER(F1286),IF(AQ1286<0.85,\"\",VLOOKUP(R1286,F!A$2:X$23,VLOOKUP(F1286,ages!B$1:C$23,2,1),1)),\"\")","v":""},{"$f":"IF(ISNUMBER(F1286),IF(AR1286<0.85,\"\",VLOOKUP(S1286,G!A$2:X$23,VLOOKUP(F1286,ages!B$1:C$23,2,1),1)),\"\")","v":""},{"$f":"IF(ISNUMBER(F1286),IF(AS1286<0.85,\"\",VLOOKUP(T1286,H!A$2:X$23,VLOOKUP(F1286,ages!B$1:C$23,2,1),1)),\"\")","v":""},{"$f":"IF(ISNUMBER(F1286),IF(AT1286<0.85,\"\",VLOOKUP(U1286,I!A$2:X$23,VLOOKUP(F1286,ages!B$1:C$23,2,1),1)),\"\")","v":""},{"$f":"IF(ISNUMBER(F1286),IF(AU1286<0.85,\"\",VLOOKUP(V1286,J!A$2:X$23,VLOOKUP(F1286,ages!B$1:C$23,2,1),1)),\"\")","v":""},"","","","",-1.0000000000000002E-6,0,0,0,0,0,0,0,0,0,0,0,null,null,null,null,null,null,null,null,null,null,null,null,null,null,null,null,null,null,null,null,null,null,null,null,null,null,null,null,null,null,null,null,null,null,null,null,null,null,null,null,null,null,null,null,null,null,null,null,null,null,null,null,null,null,null,null,null,null,null,null,null,null,null,null,null,null,null,null,null,null,-9.9999999999999995E-7,-9.9999999999999995E-7,-9.9999999999999995E-7,-9.9999999999999995E-7,-9.9999999999999995E-7,-9.9999999999999995E-7,-9.9999999999999995E-7,-9.9999999999999995E-7,-9.9999999999999995E-7,-9.9999999999999995E-7,-9.9999999999999995E-7,-9.9999999999999995E-7,-9.9999999999999995E-7,-9.9999999999999995E-7,-9.9999999999999995E-7,-9.9999999999999995E-7,-9.9999999999999995E-7,-9.9999999999999995E-7,-9.9999999999999995E-7,-9.9999999999999995E-7,{"$f":"IF(ISERROR(VLOOKUP(F1286,ages!B$1:B$23,1,1)),\"\",VLOOKUP(F1286,ages!B$1:B$23,1,1))","v":""},{"$f":"IF(ISERROR(VLOOKUP(F1286,ages!B$1:D$23,3,1)),\"\",VLOOKUP(F1286,ages!B$1:D$23,3,1))","v":""},0,0,0,0,0]
[null,null,null,null,null,"",null,null,null,null,null,null,"","","","","","","","","","",{"$f":"IF(ISNUMBER(F1291),IF(AL1291<0.85,\"\",VLOOKUP(M1291,A!A$2:X$23,VLOOKUP(F1291,ages!B$1:C$23,2,1),1)),\"\")","v":""},{"$f":"IF(ISNUMBER(F1291),IF(AM1291<0.85,\"\",VLOOKUP(N1291,B!A$2:X$23,VLOOKUP(F1291,ages!B$1:C$23,2,1),1)),\"\")","v":""},{"$f":"IF(ISNUMBER(F1291),IF(AN1291<0.85,\"\",VLOOKUP(O1291,'C'!A$2:X$23,VLOOKUP(F1291,ages!B$1:C$23,2,1),1)),\"\")","v":""},{"$f":"IF(ISNUMBER(F1291),IF(AO1291<0.85,\"\",VLOOKUP(P1291,D!A$2:X$23,VLOOKUP(F1291,ages!B$1:C$23,2,1),1)),\"\")","v":""},{"$f":"IF(ISNUMBER(F1291),IF(AP1291<0.85,\"\",VLOOKUP(Q1291,E!A$2:X$23,VLOOKUP(F1291,ages!B$1:C$23,2,1),1)),\"\")","v":""},{"$f":"IF(ISNUMBER(F1291),IF(AQ1291<0.85,\"\",VLOOKUP(R1291,F!A$2:X$23,VLOOKUP(F1291,ages!B$1:C$23,2,1),1)),\"\")","v":""},{"$f":"IF(ISNUMBER(F1291),IF(AR1291<0.85,\"\",VLOOKUP(S1291,G!A$2:X$23,VLOOKUP(F1291,ages!B$1:C$23,2,1),1)),\"\")","v":""},{"$f":"IF(ISNUMBER(F1291),IF(AS1291<0.85,\"\",VLOOKUP(T1291,H!A$2:X$23,VLOOKUP(F1291,ages!B$1:C$23,2,1),1)),\"\")","v":""},{"$f":"IF(ISNUMBER(F1291),IF(AT1291<0.85,\"\",VLOOKUP(U1291,I!A$2:X$23,VLOOKUP(F1291,ages!B$1:C$23,2,1),1)),\"\")","v":""},{"$f":"IF(ISNUMBER(F1291),IF(AU1291<0.85,\"\",VLOOKUP(V1291,J!A$2:X$23,VLOOKUP(F1291,ages!B$1:C$23,2,1),1)),\"\")","v":""},"","","","",-1.0000000000000002E-6,0,0,0,0,0,0,0,0,0,0,0,null,null,null,null,null,null,null,null,null,null,null,null,null,null,null,null,null,null,null,null,null,null,null,null,null,null,null,null,null,null,null,null,null,null,null,null,null,null,null,null,null,null,null,null,null,null,null,null,null,null,null,null,null,null,null,null,null,null,null,null,null,null,null,null,null,null,null,null,null,null,-9.9999999999999995E-7,-9.9999999999999995E-7,-9.9999999999999995E-7,-9.9999999999999995E-7,-9.9999999999999995E-7,-9.9999999999999995E-7,-9.9999999999999995E-7,-9.9999999999999995E-7,-9.9999999999999995E-7,-9.9999999999999995E-7,-9.9999999999999995E-7,-9.9999999999999995E-7,-9.9999999999999995E-7,-9.9999999999999995E-7,-9.9999999999999995E-7,-9.9999999999999995E-7,-9.9999999999999995E-7,-9.9999999999999995E-7,-9.9999999999999995E-7,-9.9999999999999995E-7,{"$f":"IF(ISERROR(VLOOKUP(F1291,ages!B$1:B$23,1,1)),\"\",VLOOKUP(F1291,ages!B$1:B$23,1,1))","v":""},{"$f":"IF(ISERROR(VLOOKUP(F1291,ages!B$1:D$23,3,1)),\"\",VLOOKUP(F1291,ages!B$1:D$23,3,1))","v":""},0,0,0,0,0]
[null,null,null,null,null,"",null,null,null,null,null,null,"","","","","","","","","","",{"$f":"IF(ISNUMBER(F1296),IF(AL1296<0.85,\"\",VLOOKUP(M1296,A!A$2:X$23,VLOOKUP(F1296,ages!B$1:C$23,2,1),1)),\"\")","v":""},{"$f":"IF(ISNUMBER(F1296),IF(AM1296<0.85,\"\",VLOOKUP(N1296,B!A$2:X$23,VLOOKUP(F1296,ages!B$1:C$23,2,1),1)),\"\")","v":""},{"$f":"IF(ISNUMBER(F1296),IF(AN1296<0.85,\"\",VLOOKUP(O1296,'C'!A$2:X$23,VLOOKUP(F1296,ages!B$1:C$23,2,1),1)),\"\")","v":""},{"$f":"IF(ISNUMBER(F1296),IF(AO1296<0.85,\"\",VLOOKUP(P1296,D!A$2:X$23,VLOOKUP(F1296,ages!B$1:C$23,2,1),1)),\"\")","v":""},{"$f":"IF(ISNUMBER(F1296),IF(AP1296<0.85,\"\",VLOOKUP(Q1296,E!A$2:X$23,VLOOKUP(F1296,ages!B$1:C$23,2,1),1)),\"\")","v":""},{"$f":"IF(ISNUMBER(F1296),IF(AQ1296<0.85,\"\",VLOOKUP(R1296,F!A$2:X$23,VLOOKUP(F1296,ages!B$1:C$23,2,1),1)),\"\")","v":""},{"$f":"IF(ISNUMBER(F1296),IF(AR1296<0.85,\"\",VLOOKUP(S1296,G!A$2:X$23,VLOOKUP(F1296,ages!B$1:C$23,2,1),1)),\"\")","v":""},{"$f":"IF(ISNUMBER(F1296),IF(AS1296<0.85,\"\",VLOOKUP(T1296,H!A$2:X$23,VLOOKUP(F1296,ages!B$1:C$23,2,1),1)),\"\")","v":""},{"$f":"IF(ISNUMBER(F1296),IF(AT1296<0.85,\"\",VLOOKUP(U1296,I!A$2:X$23,VLOOKUP(F1296,ages!B$1:C$23,2,1),1)),\"\")","v":""},{"$f":"IF(ISNUMBER(F1296),IF(AU1296<0.85,\"\",VLOOKUP(V1296,J!A$2:X$23,VLOOKUP(F1296,ages!B$1:C$23,2,1),1)),\"\")","v":""},"","","","",-1.0000000000000002E-6,0,0,0,0,0,0,0,0,0,0,0,null,null,null,null,null,null,null,null,null,null,null,null,null,null,null,null,null,null,null,null,null,null,null,null,null,null,null,null,null,null,null,null,null,null,null,null,null,null,null,null,null,null,null,null,null,null,null,null,null,null,null,null,null,null,null,null,null,null,null,null,null,null,null,null,null,null,null,null,null,null,-9.9999999999999995E-7,-9.9999999999999995E-7,-9.9999999999999995E-7,-9.9999999999999995E-7,-9.9999999999999995E-7,-9.9999999999999995E-7,-9.9999999999999995E-7,-9.9999999999999995E-7,-9.9999999999999995E-7,-9.9999999999999995E-7,-9.9999999999999995E-7,-9.9999999999999995E-7,-9.9999999999999995E-7,-9.9999999999999995E-7,-9.9999999999999995E-7,-9.9999999999999995E-7,-9.9999999999999995E-7,-9.9999999999999995E-7,-9.9999999999999995E-7,-9.9999999999999995E-7,{"$f":"IF(ISERROR(VLOOKUP(F1296,ages!B$1:B$23,1,1)),\"\",VLOOKUP(F1296,ages!B$1:B$23,1,1))","v":""},{"$f":"IF(ISERROR(VLOOKUP(F1296,ages!B$1:D$23,3,1)),\"\",VLOOKUP(F1296,ages!B$1:D$23,3,1))","v":""},0,0,0,0,0]
[null,null,null,null,null,"",null,null,null,null,null,null,"","","","","","","","","","",{"$f":"IF(ISNUMBER(F1301),IF(AL1301<0.85,\"\",VLOOKUP(M1301,A!A$2:X$23,VLOOKUP(F1301,ages!B$1:C$23,2,1),1)),\"\")","v":""},{"$f":"IF(ISNUMBER(F1301),IF(AM1301<0.85,\"\",VLOOKUP(N1301,B!A$2:X$23,VLOOKUP(F1301,ages!B$1:C$23,2,1),1)),\"\")","v":""},{"$f":"IF(ISNUMBER(F1301),IF(AN1301<0.85,\"\",VLOOKUP(O1301,'C'!A$2:X$23,VLOOKUP(F1301,ages!B$1:C$23,2,1),1)),\"\")","v":""},{"$f":"IF(ISNUMBER(F1301),IF(AO1301<0.85,\"\",VLOOKUP(P1301,D!A$2:X$23,VLOOKUP(F1301,ages!B$1:C$23,2,1),1)),\"\")","v":""},{"$f":"IF(ISNUMBER(F1301),IF(AP1301<0.85,\"\",VLOOKUP(Q1301,E!A$2:X$23,VLOOKUP(F1301,ages!B$1:C$23,2,1),1)),\"\")","v":""},{"$f":"IF(ISNUMBER(F1301),IF(AQ1301<0.85,\"\",VLOOKUP(R1301,F!A$2:X$23,VLOOKUP(F1301,ages!B$1:C$23,2,1),1)),\"\")","v":""},{"$f":"IF(ISNUMBER(F1301),IF(AR1301<0.85,\"\",VLOOKUP(S1301,G!A$2:X$23,VLOOKUP(F1301,ages!B$1:C$23,2,1),1)),\"\")","v":""},{"$f":"IF(ISNUMBER(F1301),IF(AS1301<0.85,\"\",VLOOKUP(T1301,H!A$2:X$23,VLOOKUP(F1301,ages!B$1:C$23,2,1),1)),\"\")","v":""},{"$f":"IF(ISNUMBER(F1301),IF(AT1301<0.85,\"\",VLOOKUP(U1301,I!A$2:X$23,VLOOKUP(F1301,ages!B$1:C$23,2,1),1)),\"\")","v":""},{"$f":"IF(ISNUMBER(F1301),IF(AU1301<0.85,\"\",VLOOKUP(V1301,J!A$2:X$23,VLOOKUP(F1301,ages!B$1:C$23,2,1),1)),\"\")","v":""},"","","","",-1.0000000000000002E-6,0,0,0,0,0,0,0,0,0,0,0,null,null,null,null,null,null,null,null,null,null,null,null,null,null,null,null,null,null,null,null,null,null,null,null,null,null,null,null,null,null,null,null,null,null,null,null,null,null,null,null,null,null,null,null,null,null,null,null,null,null,null,null,null,null,null,null,null,null,null,null,null,null,null,null,null,null,null,null,null,null,-9.9999999999999995E-7,-9.9999999999999995E-7,-9.9999999999999995E-7,-9.9999999999999995E-7,-9.9999999999999995E-7,-9.9999999999999995E-7,-9.9999999999999995E-7,-9.9999999999999995E-7,-9.9999999999999995E-7,-9.9999999999999995E-7,-9.9999999999999995E-7,-9.9999999999999995E-7,-9.9999999999999995E-7,-9.9999999999999995E-7,-9.9999999999999995E-7,-9.9999999999999995E-7,-9.9999999999999995E-7,-9.9999999999999995E-7,-9.9999999999999995E-7,-9.9999999999999995E-7,{"$f":"IF(ISERROR(VLOOKUP(F1301,ages!B$1:B$23,1,1)),\"\",VLOOKUP(F1301,ages!B$1:B$23,1,1))","v":""},{"$f":"IF(ISERROR(VLOOKUP(F1301,ages!B$1:D$23,3,1)),\"\",VLOOKUP(F1301,ages!B$1:D$23,3,1))","v":""},0,0,0,0,0]
[null,null,null,null,null,"",null,null,null,null,null,null,"","","","","","","","","","",{"$f":"IF(ISNUMBER(F1302),IF(AL1302<0.85,\"\",VLOOKUP(M1302,A!A$2:X$23,VLOOKUP(F1302,ages!B$1:C$23,2,1),1)),\"\")","v":""},{"$f":"IF(ISNUMBER(F1302),IF(AM1302<0.85,\"\",VLOOKUP(N1302,B!A$2:X$23,VLOOKUP(F1302,ages!B$1:C$23,2,1),1)),\"\")","v":""},{"$f":"IF(ISNUMBER(F1302),IF(AN1302<0.85,\"\",VLOOKUP(O1302,'C'!A$2:X$23,VLOOKUP(F1302,ages!B$1:C$23,2,1),1)),\"\")","v":""},{"$f":"IF(ISNUMBER(F1302),IF(AO1302<0.85,\"\",VLOOKUP(P1302,D!A$2:X$23,VLOOKUP(F1302,ages!B$1:C$23,2,1),1)),\"\")","v":""},{"$f":"IF(ISNUMBER(F1302),IF(AP1302<0.85,\"\",VLOOKUP(Q1302,E!A$2:X$23,VLOOKUP(F1302,ages!B$1:C$23,2,1),1)),\"\")","v":""},{"$f":"IF(ISNUMBER(F1302),IF(AQ1302<0.85,\"\",VLOOKUP(R1302,F!A$2:X$23,VLOOKUP(F1302,ages!B$1:C$23,2,1),1)),\"\")","v":""},{"$f":"IF(ISNUMBER(F1302),IF(AR1302<0.85,\"\",VLOOKUP(S1302,G!A$2:X$23,VLOOKUP(F1302,ages!B$1:C$23,2,1),1)),\"\")","v":""},{"$f":"IF(ISNUMBER(F1302),IF(AS1302<0.85,\"\",VLOOKUP(T1302,H!A$2:X$23,VLOOKUP(F1302,ages!B$1:C$23,2,1),1)),\"\")","v":""},{"$f":"IF(ISNUMBER(F1302),IF(AT1302<0.85,\"\",VLOOKUP(U1302,I!A$2:X$23,VLOOKUP(F1302,ages!B$1:C$23,2,1),1)),\"\")","v":""},{"$f":"IF(ISNUMBER(F1302),IF(AU1302<0.85,\"\",VLOOKUP(V1302,J!A$2:X$23,VLOOKUP(F1302,ages!B$1:C$23,2,1),1)),\"\")","v":""},"","","","",-1.0000000000000002E-6,0,0,0,0,0,0,0,0,0,0,0,null,null,null,null,null,null,null,null,null,null,null,null,null,null,null,null,null,null,null,null,null,null,null,null,null,null,null,null,null,null,null,null,null,null,null,null,null,null,null,null,null,null,null,null,null,null,null,null,null,null,null,null,null,null,null,null,null,null,null,null,null,null,null,null,null,null,null,null,null,null,-9.9999999999999995E-7,-9.9999999999999995E-7,-9.9999999999999995E-7,-9.9999999999999995E-7,-9.9999999999999995E-7,-9.9999999999999995E-7,-9.9999999999999995E-7,-9.9999999999999995E-7,-9.9999999999999995E-7,-9.9999999999999995E-7,-9.9999999999999995E-7,-9.9999999999999995E-7,-9.9999999999999995E-7,-9.9999999999999995E-7,-9.9999999999999995E-7,-9.9999999999999995E-7,-9.9999999999999995E-7,-9.9999999999999995E-7,-9.9999999999999995E-7,-9.9999999999999995E-7,{"$f":"IF(ISERROR(VLOOKUP(F1302,ages!B$1:B$23,1,1)),\"\",VLOOKUP(F1302,ages!B$1:B$23,1,1))","v":""},{"$f":"IF(ISERROR(VLOOKUP(F1302,ages!B$1:D$23,3,1)),\"\",VLOOKUP(F1302,ages!B$1:D$23,3,1))","v":""},0,0,0,0,0]
[null,null,null,null,null,"",null,null,null,null,null,null,"","","","","","","","","","",{"$f":"IF(ISNUMBER(F1307),IF(AL1307<0.85,\"\",VLOOKUP(M1307,A!A$2:X$23,VLOOKUP(F1307,ages!B$1:C$23,2,1),1)),\"\")","v":""},{"$f":"IF(ISNUMBER(F1307),IF(AM1307<0.85,\"\",VLOOKUP(N1307,B!A$2:X$23,VLOOKUP(F1307,ages!B$1:C$23,2,1),1)),\"\")","v":""},{"$f":"IF(ISNUMBER(F1307),IF(AN1307<0.85,\"\",VLOOKUP(O1307,'C'!A$2:X$23,VLOOKUP(F1307,ages!B$1:C$23,2,1),1)),\"\")","v":""},{"$f":"IF(ISNUMBER(F1307),IF(AO1307<0.85,\"\",VLOOKUP(P1307,D!A$2:X$23,VLOOKUP(F1307,ages!B$1:C$23,2,1),1)),\"\")","v":""},{"$f":"IF(ISNUMBER(F1307),IF(AP1307<0.85,\"\",VLOOKUP(Q1307,E!A$2:X$23,VLOOKUP(F1307,ages!B$1:C$23,2,1),1)),\"\")","v":""},{"$f":"IF(ISNUMBER(F1307),IF(AQ1307<0.85,\"\",VLOOKUP(R1307,F!A$2:X$23,VLOOKUP(F1307,ages!B$1:C$23,2,1),1)),\"\")","v":""},{"$f":"IF(ISNUMBER(F1307),IF(AR1307<0.85,\"\",VLOOKUP(S1307,G!A$2:X$23,VLOOKUP(F1307,ages!B$1:C$23,2,1),1)),\"\")","v":""},{"$f":"IF(ISNUMBER(F1307),IF(AS1307<0.85,\"\",VLOOKUP(T1307,H!A$2:X$23,VLOOKUP(F1307,ages!B$1:C$23,2,1),1)),\"\")","v":""},{"$f":"IF(ISNUMBER(F1307),IF(AT1307<0.85,\"\",VLOOKUP(U1307,I!A$2:X$23,VLOOKUP(F1307,ages!B$1:C$23,2,1),1)),\"\")","v":""},{"$f":"IF(ISNUMBER(F1307),IF(AU1307<0.85,\"\",VLOOKUP(V1307,J!A$2:X$23,VLOOKUP(F1307,ages!B$1:C$23,2,1),1)),\"\")","v":""},"","","","",-1.0000000000000002E-6,0,0,0,0,0,0,0,0,0,0,0,null,null,null,null,null,null,null,null,null,null,null,null,null,null,null,null,null,null,null,null,null,null,null,null,null,null,null,null,null,null,null,null,null,null,null,null,null,null,null,null,null,null,null,null,null,null,null,null,null,null,null,null,null,null,null,null,null,null,null,null,null,null,null,null,null,null,null,null,null,null,-9.9999999999999995E-7,-9.9999999999999995E-7,-9.9999999999999995E-7,-9.9999999999999995E-7,-9.9999999999999995E-7,-9.9999999999999995E-7,-9.9999999999999995E-7,-9.9999999999999995E-7,-9.9999999999999995E-7,-9.9999999999999995E-7,-9.9999999999999995E-7,-9.9999999999999995E-7,-9.9999999999999995E-7,-9.9999999999999995E-7,-9.9999999999999995E-7,-9.9999999999999995E-7,-9.9999999999999995E-7,-9.9999999999999995E-7,-9.9999999999999995E-7,-9.9999999999999995E-7,{"$f":"IF(ISERROR(VLOOKUP(F1307,ages!B$1:B$23,1,1)),\"\",VLOOKUP(F1307,ages!B$1:B$23,1,1))","v":""},{"$f":"IF(ISERROR(VLOOKUP(F1307,ages!B$1:D$23,3,1)),\"\",VLOOKUP(F1307,ages!B$1:D$23,3,1))","v":""},0,0,0,0,0]
[null,null,null,null,null,"",null,null,null,null,null,null,"","","","","","","","","","",{"$f":"IF(ISNUMBER(F1315),IF(AL1315<0.85,\"\",VLOOKUP(M1315,A!A$2:X$23,VLOOKUP(F1315,ages!B$1:C$23,2,1),1)),\"\")","v":""},{"$f":"IF(ISNUMBER(F1315),IF(AM1315<0.85,\"\",VLOOKUP(N1315,B!A$2:X$23,VLOOKUP(F1315,ages!B$1:C$23,2,1),1)),\"\")","v":""},{"$f":"IF(ISNUMBER(F1315),IF(AN1315<0.85,\"\",VLOOKUP(O1315,'C'!A$2:X$23,VLOOKUP(F1315,ages!B$1:C$23,2,1),1)),\"\")","v":""},{"$f":"IF(ISNUMBER(F1315),IF(AO1315<0.85,\"\",VLOOKUP(P1315,D!A$2:X$23,VLOOKUP(F1315,ages!B$1:C$23,2,1),1)),\"\")","v":""},{"$f":"IF(ISNUMBER(F1315),IF(AP1315<0.85,\"\",VLOOKUP(Q1315,E!A$2:X$23,VLOOKUP(F1315,ages!B$1:C$23,2,1),1)),\"\")","v":""},{"$f":"IF(ISNUMBER(F1315),IF(AQ1315<0.85,\"\",VLOOKUP(R1315,F!A$2:X$23,VLOOKUP(F1315,ages!B$1:C$23,2,1),1)),\"\")","v":""},{"$f":"IF(ISNUMBER(F1315),IF(AR1315<0.85,\"\",VLOOKUP(S1315,G!A$2:X$23,VLOOKUP(F1315,ages!B$1:C$23,2,1),1)),\"\")","v":""},{"$f":"IF(ISNUMBER(F1315),IF(AS1315<0.85,\"\",VLOOKUP(T1315,H!A$2:X$23,VLOOKUP(F1315,ages!B$1:C$23,2,1),1)),\"\")","v":""},{"$f":"IF(ISNUMBER(F1315),IF(AT1315<0.85,\"\",VLOOKUP(U1315,I!A$2:X$23,VLOOKUP(F1315,ages!B$1:C$23,2,1),1)),\"\")","v":""},{"$f":"IF(ISNUMBER(F1315),IF(AU1315<0.85,\"\",VLOOKUP(V1315,J!A$2:X$23,VLOOKUP(F1315,ages!B$1:C$23,2,1),1)),\"\")","v":""},"","","","",-1.0000000000000002E-6,0,0,0,0,0,0,0,0,0,0,0,null,null,null,null,null,null,null,null,null,null,null,null,null,null,null,null,null,null,null,null,null,null,null,null,null,null,null,null,null,null,null,null,null,null,null,null,null,null,null,null,null,null,null,null,null,null,null,null,null,null,null,null,null,null,null,null,null,null,null,null,null,null,null,null,null,null,null,null,null,null,-9.9999999999999995E-7,-9.9999999999999995E-7,-9.9999999999999995E-7,-9.9999999999999995E-7,-9.9999999999999995E-7,-9.9999999999999995E-7,-9.9999999999999995E-7,-9.9999999999999995E-7,-9.9999999999999995E-7,-9.9999999999999995E-7,-9.9999999999999995E-7,-9.9999999999999995E-7,-9.9999999999999995E-7,-9.9999999999999995E-7,-9.9999999999999995E-7,-9.9999999999999995E-7,-9.9999999999999995E-7,-9.9999999999999995E-7,-9.9999999999999995E-7,-9.9999999999999995E-7,{"$f":"IF(ISERROR(VLOOKUP(F1315,ages!B$1:B$23,1,1)),\"\",VLOOKUP(F1315,ages!B$1:B$23,1,1))","v":""},{"$f":"IF(ISERROR(VLOOKUP(F1315,ages!B$1:D$23,3,1)),\"\",VLOOKUP(F1315,ages!B$1:D$23,3,1))","v":""},0,0,0,0,0]
[null,null,null,null,null,"",null,null,null,null,null,null,"","","","","","","","","","",{"$f":"IF(ISNUMBER(F1317),IF(AL1317<0.85,\"\",VLOOKUP(M1317,A!A$2:X$23,VLOOKUP(F1317,ages!B$1:C$23,2,1),1)),\"\")","v":""},{"$f":"IF(ISNUMBER(F1317),IF(AM1317<0.85,\"\",VLOOKUP(N1317,B!A$2:X$23,VLOOKUP(F1317,ages!B$1:C$23,2,1),1)),\"\")","v":""},{"$f":"IF(ISNUMBER(F1317),IF(AN1317<0.85,\"\",VLOOKUP(O1317,'C'!A$2:X$23,VLOOKUP(F1317,ages!B$1:C$23,2,1),1)),\"\")","v":""},{"$f":"IF(ISNUMBER(F1317),IF(AO1317<0.85,\"\",VLOOKUP(P1317,D!A$2:X$23,VLOOKUP(F1317,ages!B$1:C$23,2,1),1)),\"\")","v":""},{"$f":"IF(ISNUMBER(F1317),IF(AP1317<0.85,\"\",VLOOKUP(Q1317,E!A$2:X$23,VLOOKUP(F1317,ages!B$1:C$23,2,1),1)),\"\")","v":""},{"$f":"IF(ISNUMBER(F1317),IF(AQ1317<0.85,\"\",VLOOKUP(R1317,F!A$2:X$23,VLOOKUP(F1317,ages!B$1:C$23,2,1),1)),\"\")","v":""},{"$f":"IF(ISNUMBER(F1317),IF(AR1317<0.85,\"\",VLOOKUP(S1317,G!A$2:X$23,VLOOKUP(F1317,ages!B$1:C$23,2,1),1)),\"\")","v":""},{"$f":"IF(ISNUMBER(F1317),IF(AS1317<0.85,\"\",VLOOKUP(T1317,H!A$2:X$23,VLOOKUP(F1317,ages!B$1:C$23,2,1),1)),\"\")","v":""},{"$f":"IF(ISNUMBER(F1317),IF(AT1317<0.85,\"\",VLOOKUP(U1317,I!A$2:X$23,VLOOKUP(F1317,ages!B$1:C$23,2,1),1)),\"\")","v":""},{"$f":"IF(ISNUMBER(F1317),IF(AU1317<0.85,\"\",VLOOKUP(V1317,J!A$2:X$23,VLOOKUP(F1317,ages!B$1:C$23,2,1),1)),\"\")","v":""},"","","","",-1.0000000000000002E-6,0,0,0,0,0,0,0,0,0,0,0,null,null,null,null,null,null,null,null,null,null,null,null,null,null,null,null,null,null,null,null,null,null,null,null,null,null,null,null,null,null,null,null,null,null,null,null,null,null,null,null,null,null,null,null,null,null,null,null,null,null,null,null,null,null,null,null,null,null,null,null,null,null,null,null,null,null,null,null,null,null,-9.9999999999999995E-7,-9.9999999999999995E-7,-9.9999999999999995E-7,-9.9999999999999995E-7,-9.9999999999999995E-7,-9.9999999999999995E-7,-9.9999999999999995E-7,-9.9999999999999995E-7,-9.9999999999999995E-7,-9.9999999999999995E-7,-9.9999999999999995E-7,-9.9999999999999995E-7,-9.9999999999999995E-7,-9.9999999999999995E-7,-9.9999999999999995E-7,-9.9999999999999995E-7,-9.9999999999999995E-7,-9.9999999999999995E-7,-9.9999999999999995E-7,-9.9999999999999995E-7,{"$f":"IF(ISERROR(VLOOKUP(F1317,ages!B$1:B$23,1,1)),\"\",VLOOKUP(F1317,ages!B$1:B$23,1,1))","v":""},{"$f":"IF(ISERROR(VLOOKUP(F1317,ages!B$1:D$23,3,1)),\"\",VLOOKUP(F1317,ages!B$1:D$23,3,1))","v":""},0,0,0,0,0]
[null,null,null,null,null,"",null,null,null,null,null,null,"","","","","","","","","","",{"$f":"IF(ISNUMBER(F1322),IF(AL1322<0.85,\"\",VLOOKUP(M1322,A!A$2:X$23,VLOOKUP(F1322,ages!B$1:C$23,2,1),1)),\"\")","v":""},{"$f":"IF(ISNUMBER(F1322),IF(AM1322<0.85,\"\",VLOOKUP(N1322,B!A$2:X$23,VLOOKUP(F1322,ages!B$1:C$23,2,1),1)),\"\")","v":""},{"$f":"IF(ISNUMBER(F1322),IF(AN1322<0.85,\"\",VLOOKUP(O1322,'C'!A$2:X$23,VLOOKUP(F1322,ages!B$1:C$23,2,1),1)),\"\")","v":""},{"$f":"IF(ISNUMBER(F1322),IF(AO1322<0.85,\"\",VLOOKUP(P1322,D!A$2:X$23,VLOOKUP(F1322,ages!B$1:C$23,2,1),1)),\"\")","v":""},{"$f":"IF(ISNUMBER(F1322),IF(AP1322<0.85,\"\",VLOOKUP(Q1322,E!A$2:X$23,VLOOKUP(F1322,ages!B$1:C$23,2,1),1)),\"\")","v":""},{"$f":"IF(ISNUMBER(F1322),IF(AQ1322<0.85,\"\",VLOOKUP(R1322,F!A$2:X$23,VLOOKUP(F1322,ages!B$1:C$23,2,1),1)),\"\")","v":""},{"$f":"IF(ISNUMBER(F1322),IF(AR1322<0.85,\"\",VLOOKUP(S1322,G!A$2:X$23,VLOOKUP(F1322,ages!B$1:C$23,2,1),1)),\"\")","v":""},{"$f":"IF(ISNUMBER(F1322),IF(AS1322<0.85,\"\",VLOOKUP(T1322,H!A$2:X$23,VLOOKUP(F1322,ages!B$1:C$23,2,1),1)),\"\")","v":""},{"$f":"IF(ISNUMBER(F1322),IF(AT1322<0.85,\"\",VLOOKUP(U1322,I!A$2:X$23,VLOOKUP(F1322,ages!B$1:C$23,2,1),1)),\"\")","v":""},{"$f":"IF(ISNUMBER(F1322),IF(AU1322<0.85,\"\",VLOOKUP(V1322,J!A$2:X$23,VLOOKUP(F1322,ages!B$1:C$23,2,1),1)),\"\")","v":""},"","","","",-1.0000000000000002E-6,0,0,0,0,0,0,0,0,0,0,0,null,null,null,null,null,null,null,null,null,null,null,null,null,null,null,null,null,null,null,null,null,null,null,null,null,null,null,null,null,null,null,null,null,null,null,null,null,null,null,null,null,null,null,null,null,null,null,null,null,null,null,null,null,null,null,null,null,null,null,null,null,null,null,null,null,null,null,null,null,null,-9.9999999999999995E-7,-9.9999999999999995E-7,-9.9999999999999995E-7,-9.9999999999999995E-7,-9.9999999999999995E-7,-9.9999999999999995E-7,-9.9999999999999995E-7,-9.9999999999999995E-7,-9.9999999999999995E-7,-9.9999999999999995E-7,-9.9999999999999995E-7,-9.9999999999999995E-7,-9.9999999999999995E-7,-9.9999999999999995E-7,-9.9999999999999995E-7,-9.9999999999999995E-7,-9.9999999999999995E-7,-9.9999999999999995E-7,-9.9999999999999995E-7,-9.9999999999999995E-7,{"$f":"IF(ISERROR(VLOOKUP(F1322,ages!B$1:B$23,1,1)),\"\",VLOOKUP(F1322,ages!B$1:B$23,1,1))","v":""},{"$f":"IF(ISERROR(VLOOKUP(F1322,ages!B$1:D$23,3,1)),\"\",VLOOKUP(F1322,ages!B$1:D$23,3,1))","v":""},0,0,0,0,0]
[null,null,null,null,null,"",null,null,null,null,null,null,"","","","","","","","","","",{"$f":"IF(ISNUMBER(F1327),IF(AL1327<0.85,\"\",VLOOKUP(M1327,A!A$2:X$23,VLOOKUP(F1327,ages!B$1:C$23,2,1),1)),\"\")","v":""},{"$f":"IF(ISNUMBER(F1327),IF(AM1327<0.85,\"\",VLOOKUP(N1327,B!A$2:X$23,VLOOKUP(F1327,ages!B$1:C$23,2,1),1)),\"\")","v":""},{"$f":"IF(ISNUMBER(F1327),IF(AN1327<0.85,\"\",VLOOKUP(O1327,'C'!A$2:X$23,VLOOKUP(F1327,ages!B$1:C$23,2,1),1)),\"\")","v":""},{"$f":"IF(ISNUMBER(F1327),IF(AO1327<0.85,\"\",VLOOKUP(P1327,D!A$2:X$23,VLOOKUP(F1327,ages!B$1:C$23,2,1),1)),\"\")","v":""},{"$f":"IF(ISNUMBER(F1327),IF(AP1327<0.85,\"\",VLOOKUP(Q1327,E!A$2:X$23,VLOOKUP(F1327,ages!B$1:C$23,2,1),1)),\"\")","v":""},{"$f":"IF(ISNUMBER(F1327),IF(AQ1327<0.85,\"\",VLOOKUP(R1327,F!A$2:X$23,VLOOKUP(F1327,ages!B$1:C$23,2,1),1)),\"\")","v":""},{"$f":"IF(ISNUMBER(F1327),IF(AR1327<0.85,\"\",VLOOKUP(S1327,G!A$2:X$23,VLOOKUP(F1327,ages!B$1:C$23,2,1),1)),\"\")","v":""},{"$f":"IF(ISNUMBER(F1327),IF(AS1327<0.85,\"\",VLOOKUP(T1327,H!A$2:X$23,VLOOKUP(F1327,ages!B$1:C$23,2,1),1)),\"\")","v":""},{"$f":"IF(ISNUMBER(F1327),IF(AT1327<0.85,\"\",VLOOKUP(U1327,I!A$2:X$23,VLOOKUP(F1327,ages!B$1:C$23,2,1),1)),\"\")","v":""},{"$f":"IF(ISNUMBER(F1327),IF(AU1327<0.85,\"\",VLOOKUP(V1327,J!A$2:X$23,VLOOKUP(F1327,ages!B$1:C$23,2,1),1)),\"\")","v":""},"","","","",-1.0000000000000002E-6,0,0,0,0,0,0,0,0,0,0,0,null,null,null,null,null,null,null,null,null,null,null,null,null,null,null,null,null,null,null,null,null,null,null,null,null,null,null,null,null,null,null,null,null,null,null,null,null,null,null,null,null,null,null,null,null,null,null,null,null,null,null,null,null,null,null,null,null,null,null,null,null,null,null,null,null,null,null,null,null,null,-9.9999999999999995E-7,-9.9999999999999995E-7,-9.9999999999999995E-7,-9.9999999999999995E-7,-9.9999999999999995E-7,-9.9999999999999995E-7,-9.9999999999999995E-7,-9.9999999999999995E-7,-9.9999999999999995E-7,-9.9999999999999995E-7,-9.9999999999999995E-7,-9.9999999999999995E-7,-9.9999999999999995E-7,-9.9999999999999995E-7,-9.9999999999999995E-7,-9.9999999999999995E-7,-9.9999999999999995E-7,-9.9999999999999995E-7,-9.9999999999999995E-7,-9.9999999999999995E-7,{"$f":"IF(ISERROR(VLOOKUP(F1327,ages!B$1:B$23,1,1)),\"\",VLOOKUP(F1327,ages!B$1:B$23,1,1))","v":""},{"$f":"IF(ISERROR(VLOOKUP(F1327,ages!B$1:D$23,3,1)),\"\",VLOOKUP(F1327,ages!B$1:D$23,3,1))","v":""},0,0,0,0,0]
[null,null,null,null,null,"",null,null,null,null,null,null,"","","","","","","","","","",{"$f":"IF(ISNUMBER(F1333),IF(AL1333<0.85,\"\",VLOOKUP(M1333,A!A$2:X$23,VLOOKUP(F1333,ages!B$1:C$23,2,1),1)),\"\")","v":""},{"$f":"IF(ISNUMBER(F1333),IF(AM1333<0.85,\"\",VLOOKUP(N1333,B!A$2:X$23,VLOOKUP(F1333,ages!B$1:C$23,2,1),1)),\"\")","v":""},{"$f":"IF(ISNUMBER(F1333),IF(AN1333<0.85,\"\",VLOOKUP(O1333,'C'!A$2:X$23,VLOOKUP(F1333,ages!B$1:C$23,2,1),1)),\"\")","v":""},{"$f":"IF(ISNUMBER(F1333),IF(AO1333<0.85,\"\",VLOOKUP(P1333,D!A$2:X$23,VLOOKUP(F1333,ages!B$1:C$23,2,1),1)),\"\")","v":""},{"$f":"IF(ISNUMBER(F1333),IF(AP1333<0.85,\"\",VLOOKUP(Q1333,E!A$2:X$23,VLOOKUP(F1333,ages!B$1:C$23,2,1),1)),\"\")","v":""},{"$f":"IF(ISNUMBER(F1333),IF(AQ1333<0.85,\"\",VLOOKUP(R1333,F!A$2:X$23,VLOOKUP(F1333,ages!B$1:C$23,2,1),1)),\"\")","v":""},{"$f":"IF(ISNUMBER(F1333),IF(AR1333<0.85,\"\",VLOOKUP(S1333,G!A$2:X$23,VLOOKUP(F1333,ages!B$1:C$23,2,1),1)),\"\")","v":""},{"$f":"IF(ISNUMBER(F1333),IF(AS1333<0.85,\"\",VLOOKUP(T1333,H!A$2:X$23,VLOOKUP(F1333,ages!B$1:C$23,2,1),1)),\"\")","v":""},{"$f":"IF(ISNUMBER(F1333),IF(AT1333<0.85,\"\",VLOOKUP(U1333,I!A$2:X$23,VLOOKUP(F1333,ages!B$1:C$23,2,1),1)),\"\")","v":""},{"$f":"IF(ISNUMBER(F1333),IF(AU1333<0.85,\"\",VLOOKUP(V1333,J!A$2:X$23,VLOOKUP(F1333,ages!B$1:C$23,2,1),1)),\"\")","v":""},"","","","",-1.0000000000000002E-6,0,0,0,0,0,0,0,0,0,0,0,null,null,null,null,null,null,null,null,null,null,null,null,null,null,null,null,null,null,null,null,null,null,null,null,null,null,null,null,null,null,null,null,null,null,null,null,null,null,null,null,null,null,null,null,null,null,null,null,null,null,null,null,null,null,null,null,null,null,null,null,null,null,null,null,null,null,null,null,null,null,-9.9999999999999995E-7,-9.9999999999999995E-7,-9.9999999999999995E-7,-9.9999999999999995E-7,-9.9999999999999995E-7,-9.9999999999999995E-7,-9.9999999999999995E-7,-9.9999999999999995E-7,-9.9999999999999995E-7,-9.9999999999999995E-7,-9.9999999999999995E-7,-9.9999999999999995E-7,-9.9999999999999995E-7,-9.9999999999999995E-7,-9.9999999999999995E-7,-9.9999999999999995E-7,-9.9999999999999995E-7,-9.9999999999999995E-7,-9.9999999999999995E-7,-9.9999999999999995E-7,{"$f":"IF(ISERROR(VLOOKUP(F1333,ages!B$1:B$23,1,1)),\"\",VLOOKUP(F1333,ages!B$1:B$23,1,1))","v":""},{"$f":"IF(ISERROR(VLOOKUP(F1333,ages!B$1:D$23,3,1)),\"\",VLOOKUP(F1333,ages!B$1:D$23,3,1))","v":""},0,0,0,0,0]
[null,null,null,null,null,"",null,null,null,null,null,null,"","","","","","","","","","",{"$f":"IF(ISNUMBER(F1336),IF(AL1336<0.85,\"\",VLOOKUP(M1336,A!A$2:X$23,VLOOKUP(F1336,ages!B$1:C$23,2,1),1)),\"\")","v":""},{"$f":"IF(ISNUMBER(F1336),IF(AM1336<0.85,\"\",VLOOKUP(N1336,B!A$2:X$23,VLOOKUP(F1336,ages!B$1:C$23,2,1),1)),\"\")","v":""},{"$f":"IF(ISNUMBER(F1336),IF(AN1336<0.85,\"\",VLOOKUP(O1336,'C'!A$2:X$23,VLOOKUP(F1336,ages!B$1:C$23,2,1),1)),\"\")","v":""},{"$f":"IF(ISNUMBER(F1336),IF(AO1336<0.85,\"\",VLOOKUP(P1336,D!A$2:X$23,VLOOKUP(F1336,ages!B$1:C$23,2,1),1)),\"\")","v":""},{"$f":"IF(ISNUMBER(F1336),IF(AP1336<0.85,\"\",VLOOKUP(Q1336,E!A$2:X$23,VLOOKUP(F1336,ages!B$1:C$23,2,1),1)),\"\")","v":""},{"$f":"IF(ISNUMBER(F1336),IF(AQ1336<0.85,\"\",VLOOKUP(R1336,F!A$2:X$23,VLOOKUP(F1336,ages!B$1:C$23,2,1),1)),\"\")","v":""},{"$f":"IF(ISNUMBER(F1336),IF(AR1336<0.85,\"\",VLOOKUP(S1336,G!A$2:X$23,VLOOKUP(F1336,ages!B$1:C$23,2,1),1)),\"\")","v":""},{"$f":"IF(ISNUMBER(F1336),IF(AS1336<0.85,\"\",VLOOKUP(T1336,H!A$2:X$23,VLOOKUP(F1336,ages!B$1:C$23,2,1),1)),\"\")","v":""},{"$f":"IF(ISNUMBER(F1336),IF(AT1336<0.85,\"\",VLOOKUP(U1336,I!A$2:X$23,VLOOKUP(F1336,ages!B$1:C$23,2,1),1)),\"\")","v":""},{"$f":"IF(ISNUMBER(F1336),IF(AU1336<0.85,\"\",VLOOKUP(V1336,J!A$2:X$23,VLOOKUP(F1336,ages!B$1:C$23,2,1),1)),\"\")","v":""},"","","","",-1.0000000000000002E-6,0,0,0,0,0,0,0,0,0,0,0,null,null,null,null,null,null,null,null,null,null,null,null,null,null,null,null,null,null,null,null,null,null,null,null,null,null,null,null,null,null,null,null,null,null,null,null,null,null,null,null,null,null,null,null,null,null,null,null,null,null,null,null,null,null,null,null,null,null,null,null,null,null,null,null,null,null,null,null,null,null,-9.9999999999999995E-7,-9.9999999999999995E-7,-9.9999999999999995E-7,-9.9999999999999995E-7,-9.9999999999999995E-7,-9.9999999999999995E-7,-9.9999999999999995E-7,-9.9999999999999995E-7,-9.9999999999999995E-7,-9.9999999999999995E-7,-9.9999999999999995E-7,-9.9999999999999995E-7,-9.9999999999999995E-7,-9.9999999999999995E-7,-9.9999999999999995E-7,-9.9999999999999995E-7,-9.9999999999999995E-7,-9.9999999999999995E-7,-9.9999999999999995E-7,-9.9999999999999995E-7,{"$f":"IF(ISERROR(VLOOKUP(F1336,ages!B$1:B$23,1,1)),\"\",VLOOKUP(F1336,ages!B$1:B$23,1,1))","v":""},{"$f":"IF(ISERROR(VLOOKUP(F1336,ages!B$1:D$23,3,1)),\"\",VLOOKUP(F1336,ages!B$1:D$23,3,1))","v":""},0,0,0,0,0]
[null,null,null,null,null,"",null,null,null,null,null,null,"","","","","","","","","","",{"$f":"IF(ISNUMBER(F1343),IF(AL1343<0.85,\"\",VLOOKUP(M1343,A!A$2:X$23,VLOOKUP(F1343,ages!B$1:C$23,2,1),1)),\"\")","v":""},{"$f":"IF(ISNUMBER(F1343),IF(AM1343<0.85,\"\",VLOOKUP(N1343,B!A$2:X$23,VLOOKUP(F1343,ages!B$1:C$23,2,1),1)),\"\")","v":""},{"$f":"IF(ISNUMBER(F1343),IF(AN1343<0.85,\"\",VLOOKUP(O1343,'C'!A$2:X$23,VLOOKUP(F1343,ages!B$1:C$23,2,1),1)),\"\")","v":""},{"$f":"IF(ISNUMBER(F1343),IF(AO1343<0.85,\"\",VLOOKUP(P1343,D!A$2:X$23,VLOOKUP(F1343,ages!B$1:C$23,2,1),1)),\"\")","v":""},{"$f":"IF(ISNUMBER(F1343),IF(AP1343<0.85,\"\",VLOOKUP(Q1343,E!A$2:X$23,VLOOKUP(F1343,ages!B$1:C$23,2,1),1)),\"\")","v":""},{"$f":"IF(ISNUMBER(F1343),IF(AQ1343<0.85,\"\",VLOOKUP(R1343,F!A$2:X$23,VLOOKUP(F1343,ages!B$1:C$23,2,1),1)),\"\")","v":""},{"$f":"IF(ISNUMBER(F1343),IF(AR1343<0.85,\"\",VLOOKUP(S1343,G!A$2:X$23,VLOOKUP(F1343,ages!B$1:C$23,2,1),1)),\"\")","v":""},{"$f":"IF(ISNUMBER(F1343),IF(AS1343<0.85,\"\",VLOOKUP(T1343,H!A$2:X$23,VLOOKUP(F1343,ages!B$1:C$23,2,1),1)),\"\")","v":""},{"$f":"IF(ISNUMBER(F1343),IF(AT1343<0.85,\"\",VLOOKUP(U1343,I!A$2:X$23,VLOOKUP(F1343,ages!B$1:C$23,2,1),1)),\"\")","v":""},{"$f":"IF(ISNUMBER(F1343),IF(AU1343<0.85,\"\",VLOOKUP(V1343,J!A$2:X$23,VLOOKUP(F1343,ages!B$1:C$23,2,1),1)),\"\")","v":""},"","","","",-1.0000000000000002E-6,0,0,0,0,0,0,0,0,0,0,0,null,null,null,null,null,null,null,null,null,null,null,null,null,null,null,null,null,null,null,null,null,null,null,null,null,null,null,null,null,null,null,null,null,null,null,null,null,null,null,null,null,null,null,null,null,null,null,null,null,null,null,null,null,null,null,null,null,null,null,null,null,null,null,null,null,null,null,null,null,null,-9.9999999999999995E-7,-9.9999999999999995E-7,-9.9999999999999995E-7,-9.9999999999999995E-7,-9.9999999999999995E-7,-9.9999999999999995E-7,-9.9999999999999995E-7,-9.9999999999999995E-7,-9.9999999999999995E-7,-9.9999999999999995E-7,-9.9999999999999995E-7,-9.9999999999999995E-7,-9.9999999999999995E-7,-9.9999999999999995E-7,-9.9999999999999995E-7,-9.9999999999999995E-7,-9.9999999999999995E-7,-9.9999999999999995E-7,-9.9999999999999995E-7,-9.9999999999999995E-7,{"$f":"IF(ISERROR(VLOOKUP(F1343,ages!B$1:B$23,1,1)),\"\",VLOOKUP(F1343,ages!B$1:B$23,1,1))","v":""},{"$f":"IF(ISERROR(VLOOKUP(F1343,ages!B$1:D$23,3,1)),\"\",VLOOKUP(F1343,ages!B$1:D$23,3,1))","v":""},0,0,0,0,0]
[null,null,null,null,null,"",null,null,null,null,null,null,"","","","","","","","","","",{"$f":"IF(ISNUMBER(F1348),IF(AL1348<0.85,\"\",VLOOKUP(M1348,A!A$2:X$23,VLOOKUP(F1348,ages!B$1:C$23,2,1),1)),\"\")","v":""},{"$f":"IF(ISNUMBER(F1348),IF(AM1348<0.85,\"\",VLOOKUP(N1348,B!A$2:X$23,VLOOKUP(F1348,ages!B$1:C$23,2,1),1)),\"\")","v":""},{"$f":"IF(ISNUMBER(F1348),IF(AN1348<0.85,\"\",VLOOKUP(O1348,'C'!A$2:X$23,VLOOKUP(F1348,ages!B$1:C$23,2,1),1)),\"\")","v":""},{"$f":"IF(ISNUMBER(F1348),IF(AO1348<0.85,\"\",VLOOKUP(P1348,D!A$2:X$23,VLOOKUP(F1348,ages!B$1:C$23,2,1),1)),\"\")","v":""},{"$f":"IF(ISNUMBER(F1348),IF(AP1348<0.85,\"\",VLOOKUP(Q1348,E!A$2:X$23,VLOOKUP(F1348,ages!B$1:C$23,2,1),1)),\"\")","v":""},{"$f":"IF(ISNUMBER(F1348),IF(AQ1348<0.85,\"\",VLOOKUP(R1348,F!A$2:X$23,VLOOKUP(F1348,ages!B$1:C$23,2,1),1)),\"\")","v":""},{"$f":"IF(ISNUMBER(F1348),IF(AR1348<0.85,\"\",VLOOKUP(S1348,G!A$2:X$23,VLOOKUP(F1348,ages!B$1:C$23,2,1),1)),\"\")","v":""},{"$f":"IF(ISNUMBER(F1348),IF(AS1348<0.85,\"\",VLOOKUP(T1348,H!A$2:X$23,VLOOKUP(F1348,ages!B$1:C$23,2,1),1)),\"\")","v":""},{"$f":"IF(ISNUMBER(F1348),IF(AT1348<0.85,\"\",VLOOKUP(U1348,I!A$2:X$23,VLOOKUP(F1348,ages!B$1:C$23,2,1),1)),\"\")","v":""},{"$f":"IF(ISNUMBER(F1348),IF(AU1348<0.85,\"\",VLOOKUP(V1348,J!A$2:X$23,VLOOKUP(F1348,ages!B$1:C$23,2,1),1)),\"\")","v":""},"","","","",-1.0000000000000002E-6,0,0,0,0,0,0,0,0,0,0,0,null,null,null,null,null,null,null,null,null,null,null,null,null,null,null,null,null,null,null,null,null,null,null,null,null,null,null,null,null,null,null,null,null,null,null,null,null,null,null,null,null,null,null,null,null,null,null,null,null,null,null,null,null,null,null,null,null,null,null,null,null,null,null,null,null,null,null,null,null,null,-9.9999999999999995E-7,-9.9999999999999995E-7,-9.9999999999999995E-7,-9.9999999999999995E-7,-9.9999999999999995E-7,-9.9999999999999995E-7,-9.9999999999999995E-7,-9.9999999999999995E-7,-9.9999999999999995E-7,-9.9999999999999995E-7,-9.9999999999999995E-7,-9.9999999999999995E-7,-9.9999999999999995E-7,-9.9999999999999995E-7,-9.9999999999999995E-7,-9.9999999999999995E-7,-9.9999999999999995E-7,-9.9999999999999995E-7,-9.9999999999999995E-7,-9.9999999999999995E-7,{"$f":"IF(ISERROR(VLOOKUP(F1348,ages!B$1:B$23,1,1)),\"\",VLOOKUP(F1348,ages!B$1:B$23,1,1))","v":""},{"$f":"IF(ISERROR(VLOOKUP(F1348,ages!B$1:D$23,3,1)),\"\",VLOOKUP(F1348,ages!B$1:D$23,3,1))","v":""},0,0,0,0,0]
[null,null,null,null,null,{"$f":"IF(OR(D1353=\"\",E1353=\"\"),\"\",IF((EK1353*12+EL1353)<48,\"ald<4:0\",IF((EK1353*12+EL1353)>203,\"ald>16:11\",EK1353*12+EL1353)))","v":""},null,null,null,null,null,null,{"$f":"IF(AL1353>0.79,ROUND(($DO1353+$DV1353+$AX1353+$BT1353+$BY1353+$CH1353+$CN1353)/AL1353,0),\"\")","v":""},{"$f":"IF(AM1353>0.79,ROUND(($DS1353+$EG1353+$AW1353+$BM1353+$BW1353+$CF1353+$CM1353)/AM1353,0),\"\")","v":""},{"$f":"IF(AN1353>0.79,ROUND(($EB1353+$ED1353+$AZ1353+$BB1353+$BH1353+$CB1353+$CP1353)/AN1353,0),\"\")","v":""},{"$f":"IF(AO1353>0.79,ROUND(($DQ1353+$EF1353+$BF1353+$BU1353+$CJ1353+$CR1353+$CT1353)/AO1353,0),\"\")","v":""},{"$f":"IF(AP1353>0.79,ROUND(($DW1353+$EH1353+$BA1353+$BQ1353+$CE1353+$CG1353+$CO1353)/AP1353,0),\"\")","v":""},{"$f":"IF(AQ1353>0.79,ROUND(($DY1353+$DZ1353+$BG1353+$BN1353+$BS1353+$BZ1353+$CL1353)/AQ1353,0),\"\")","v":""},{"$f":"IF(AR1353>0.79,ROUND(($DR1353+$DX1353+$BK1353+$BO1353+$BX1353+$CD1353+$CK1353)/AR1353,0),\"\")","v":""},{"$f":"IF(AS1353>0.79,ROUND(($DT1353+$EC1353+$BD1353+$BJ1353+$BP1353+$CA1353+$CI1353)/AS1353,0),\"\")","v":""},{"$f":"IF(AT1353>0.79,ROUND(($DU1353+$EE1353+$AY1353+$BC1353+$BI1353+$BL1353+$CC1353)/AT1353,0),\"\")","v":""},{"$f":"IF(AU1353>0.79,ROUND(($DP1353+$EA1353+$BE1353+$BR1353+$BV1353+$CQ1353+$CS1353)/AU1353,0),\"\")","v":""},{"$f":"IF(ISNUMBER(F1353),IF(AL1353<0.85,\"\",VLOOKUP(M1353,A!A$2:X$23,VLOOKUP(F1353,ages!B$1:C$23,2,1),1)),\"\")","v":""},{"$f":"IF(ISNUMBER(F1353),IF(AM1353<0.85,\"\",VLOOKUP(N1353,B!A$2:X$23,VLOOKUP(F1353,ages!B$1:C$23,2,1),1)),\"\")","v":""},{"$f":"IF(ISNUMBER(F1353),IF(AN1353<0.85,\"\",VLOOKUP(O1353,'C'!A$2:X$23,VLOOKUP(F1353,ages!B$1:C$23,2,1),1)),\"\")","v":""},{"$f":"IF(ISNUMBER(F1353),IF(AO1353<0.85,\"\",VLOOKUP(P1353,D!A$2:X$23,VLOOKUP(F1353,ages!B$1:C$23,2,1),1)),\"\")","v":""},{"$f":"IF(ISNUMBER(F1353),IF(AP1353<0.85,\"\",VLOOKUP(Q1353,E!A$2:X$23,VLOOKUP(F1353,ages!B$1:C$23,2,1),1)),\"\")","v":""},{"$f":"IF(ISNUMBER(F1353),IF(AQ1353<0.85,\"\",VLOOKUP(R1353,F!A$2:X$23,VLOOKUP(F1353,ages!B$1:C$23,2,1),1)),\"\")","v":""},{"$f":"IF(ISNUMBER(F1353),IF(AR1353<0.85,\"\",VLOOKUP(S1353,G!A$2:X$23,VLOOKUP(F1353,ages!B$1:C$23,2,1),1)),\"\")","v":""},{"$f":"IF(ISNUMBER(F1353),IF(AS1353<0.85,\"\",VLOOKUP(T1353,H!A$2:X$23,VLOOKUP(F1353,ages!B$1:C$23,2,1),1)),\"\")","v":""},{"$f":"IF(ISNUMBER(F1353),IF(AT1353<0.85,\"\",VLOOKUP(U1353,I!A$2:X$23,VLOOKUP(F1353,ages!B$1:C$23,2,1),1)),\"\")","v":""},{"$f":"IF(ISNUMBER(F1353),IF(AU1353<0.85,\"\",VLOOKUP(V1353,J!A$2:X$23,VLOOKUP(F1353,ages!B$1:C$23,2,1),1)),\"\")","v":""},"","",{"$f":"IF(AG1353=\"\",\"\",IF(ISNUMBER(AJ1353),IF(AND(AK1353>1.5,(AK1353-AJ1353)>1.3),0,1),\"\"))","v":""},{"$f":"IF(COUNT(AW1353:CT1353)>45,SUM(AW1353:CT1353)/COUNT(AW1353:CT1353),\"\")","v":""},-1.0000000000000002E-6,{"$f":"COUNT($AX1353,$BT1353,$BY1353,$CH1353,$CN1353,$CU1353,$DB1353)/7","v":0},{"$f":"COUNT($AW1353,$BM1353,$BW1353,$CF1353,$CM1353,$CY1353,$DM1353)/7","v":0},{"$f":"COUNT($AZ1353,$BB1353,$BH1353,$CB1353,$CP1353,$DH1353,$DJ1353)/7","v":0},{"$f":"COUNT($BF1353,$BU1353,$CJ1353,$CR1353,$CT1353,$CW1353,$DL1353)/7","v":0},{"$f":"COUNT($BA1353,$BQ1353,$CE1353,$CG1353,$CO1353,$DC1353,$DN1353)/7","v":0},{"$f":"COUNT($BG1353,$BN1353,$BS1353,$BZ1353,$CL1353,$DE1353,$DF1353)/7","v":0},{"$f":"COUNT($BK1353,$BO1353,$BX1353,$CD1353,$CK1353,$CX1353,$DD1353)/7","v":0},{"$f":"COUNT($BD1353,$BJ1353,$BP1353,$CA1353,$CI1353,$CZ1353,$DI1353)/7","v":0},{"$f":"COUNT($AY1353,$BC1353,$BI1353,$BL1353,$CC1353,$DA1353,$DK1353)/7","v":0},{"$f":"COUNT($BE1353,$BR1353,$BV1353,$CQ1353,$CS1353,$CV1353,$DG1353)/7","v":0},{"$f":"COUNT(AW1353:DN1353)/70","v":0},null,null,null,null,null,null,null,null,null,null,null,null,null,null,null,null,null,null,null,null,null,null,null,null,null,null,null,null,null,null,null,null,null,null,null,null,null,null,null,null,null,null,null,null,null,null,null,null,null,null,null,null,null,null,null,null,null,null,null,null,null,null,null,null,null,null,null,null,null,null,{"$f":"IF(ISNUMBER(CU1353),3-CU1353,-0.000001)","v":-9.9999999999999995E-7},-9.9999999999999995E-7,-9.9999999999999995E-7,-9.9999999999999995E-7,-9.9999999999999995E-7,-9.9999999999999995E-7,-9.9999999999999995E-7,-9.9999999999999995E-7,-9.9999999999999995E-7,-9.9999999999999995E-7,-9.9999999999999995E-7,-9.9999999999999995E-7,-9.9999999999999995E-7,-9.9999999999999995E-7,-9.9999999999999995E-7,-9.9999999999999995E-7,-9.9999999999999995E-7,-9.9999999999999995E-7,-9.9999999999999995E-7,-9.9999999999999995E-7,{"$f":"IF(ISERROR(VLOOKUP(F1353,ages!B$1:B$23,1,1)),\"\",VLOOKUP(F1353,ages!B$1:B$23,1,1))","v":""},{"$f":"IF(ISERROR(VLOOKUP(F1353,ages!B$1:D$23,3,1)),\"\",VLOOKUP(F1353,ages!B$1:D$23,3,1))","v":""},{"$f":"YEAR(E1353)-YEAR(D1353)-EN1353","v":0},{"$f":"IF(MONTH(E1353)-MONTH(D1353)-EO1353<0,12+MONTH(E1353)-MONTH(D1353)-EO1353,MONTH(E1353)-MONTH(D1353)-EO1353)","v":0},{"$f":"IF(DAY(E1353)-DAY(D1353)<0,30+DAY(E1353)-DAY(D1353),DAY(E1353)-DAY(D1353))","v":0},{"$f":"IF(MONTH(E1353)-MONTH(D1353)-EO1353<0,1,0)","v":0},{"$f":"IF(DAY(E1353)-DAY(D1353)<0,1,0)","v":0}]
[null,null,null,null,null,"",null,null,null,null,null,null,"","","","","","","","","","",{"$f":"IF(ISNUMBER(F1355),IF(AL1355<0.85,\"\",VLOOKUP(M1355,A!A$2:X$23,VLOOKUP(F1355,ages!B$1:C$23,2,1),1)),\"\")","v":""},{"$f":"IF(ISNUMBER(F1355),IF(AM1355<0.85,\"\",VLOOKUP(N1355,B!A$2:X$23,VLOOKUP(F1355,ages!B$1:C$23,2,1),1)),\"\")","v":""},{"$f":"IF(ISNUMBER(F1355),IF(AN1355<0.85,\"\",VLOOKUP(O1355,'C'!A$2:X$23,VLOOKUP(F1355,ages!B$1:C$23,2,1),1)),\"\")","v":""},{"$f":"IF(ISNUMBER(F1355),IF(AO1355<0.85,\"\",VLOOKUP(P1355,D!A$2:X$23,VLOOKUP(F1355,ages!B$1:C$23,2,1),1)),\"\")","v":""},{"$f":"IF(ISNUMBER(F1355),IF(AP1355<0.85,\"\",VLOOKUP(Q1355,E!A$2:X$23,VLOOKUP(F1355,ages!B$1:C$23,2,1),1)),\"\")","v":""},{"$f":"IF(ISNUMBER(F1355),IF(AQ1355<0.85,\"\",VLOOKUP(R1355,F!A$2:X$23,VLOOKUP(F1355,ages!B$1:C$23,2,1),1)),\"\")","v":""},{"$f":"IF(ISNUMBER(F1355),IF(AR1355<0.85,\"\",VLOOKUP(S1355,G!A$2:X$23,VLOOKUP(F1355,ages!B$1:C$23,2,1),1)),\"\")","v":""},{"$f":"IF(ISNUMBER(F1355),IF(AS1355<0.85,\"\",VLOOKUP(T1355,H!A$2:X$23,VLOOKUP(F1355,ages!B$1:C$23,2,1),1)),\"\")","v":""},{"$f":"IF(ISNUMBER(F1355),IF(AT1355<0.85,\"\",VLOOKUP(U1355,I!A$2:X$23,VLOOKUP(F1355,ages!B$1:C$23,2,1),1)),\"\")","v":""},{"$f":"IF(ISNUMBER(F1355),IF(AU1355<0.85,\"\",VLOOKUP(V1355,J!A$2:X$23,VLOOKUP(F1355,ages!B$1:C$23,2,1),1)),\"\")","v":""},"","","","",-1.0000000000000002E-6,0,0,0,0,0,0,0,0,0,0,0,null,null,null,null,null,null,null,null,null,null,null,null,null,null,null,null,null,null,null,null,null,null,null,null,null,null,null,null,null,null,null,null,null,null,null,null,null,null,null,null,null,null,null,null,null,null,null,null,null,null,null,null,null,null,null,null,null,null,null,null,null,null,null,null,null,null,null,null,null,null,-9.9999999999999995E-7,-9.9999999999999995E-7,-9.9999999999999995E-7,-9.9999999999999995E-7,-9.9999999999999995E-7,-9.9999999999999995E-7,-9.9999999999999995E-7,-9.9999999999999995E-7,-9.9999999999999995E-7,-9.9999999999999995E-7,-9.9999999999999995E-7,-9.9999999999999995E-7,-9.9999999999999995E-7,-9.9999999999999995E-7,-9.9999999999999995E-7,-9.9999999999999995E-7,-9.9999999999999995E-7,-9.9999999999999995E-7,-9.9999999999999995E-7,-9.9999999999999995E-7,{"$f":"IF(ISERROR(VLOOKUP(F1355,ages!B$1:B$23,1,1)),\"\",VLOOKUP(F1355,ages!B$1:B$23,1,1))","v":""},{"$f":"IF(ISERROR(VLOOKUP(F1355,ages!B$1:D$23,3,1)),\"\",VLOOKUP(F1355,ages!B$1:D$23,3,1))","v":""},0,0,0,0,0]
[null,null,null,null,null,"",null,null,null,null,null,null,"","","","","","","","","","",{"$f":"IF(ISNUMBER(F1363),IF(AL1363<0.85,\"\",VLOOKUP(M1363,A!A$2:X$23,VLOOKUP(F1363,ages!B$1:C$23,2,1),1)),\"\")","v":""},{"$f":"IF(ISNUMBER(F1363),IF(AM1363<0.85,\"\",VLOOKUP(N1363,B!A$2:X$23,VLOOKUP(F1363,ages!B$1:C$23,2,1),1)),\"\")","v":""},{"$f":"IF(ISNUMBER(F1363),IF(AN1363<0.85,\"\",VLOOKUP(O1363,'C'!A$2:X$23,VLOOKUP(F1363,ages!B$1:C$23,2,1),1)),\"\")","v":""},{"$f":"IF(ISNUMBER(F1363),IF(AO1363<0.85,\"\",VLOOKUP(P1363,D!A$2:X$23,VLOOKUP(F1363,ages!B$1:C$23,2,1),1)),\"\")","v":""},{"$f":"IF(ISNUMBER(F1363),IF(AP1363<0.85,\"\",VLOOKUP(Q1363,E!A$2:X$23,VLOOKUP(F1363,ages!B$1:C$23,2,1),1)),\"\")","v":""},{"$f":"IF(ISNUMBER(F1363),IF(AQ1363<0.85,\"\",VLOOKUP(R1363,F!A$2:X$23,VLOOKUP(F1363,ages!B$1:C$23,2,1),1)),\"\")","v":""},{"$f":"IF(ISNUMBER(F1363),IF(AR1363<0.85,\"\",VLOOKUP(S1363,G!A$2:X$23,VLOOKUP(F1363,ages!B$1:C$23,2,1),1)),\"\")","v":""},{"$f":"IF(ISNUMBER(F1363),IF(AS1363<0.85,\"\",VLOOKUP(T1363,H!A$2:X$23,VLOOKUP(F1363,ages!B$1:C$23,2,1),1)),\"\")","v":""},{"$f":"IF(ISNUMBER(F1363),IF(AT1363<0.85,\"\",VLOOKUP(U1363,I!A$2:X$23,VLOOKUP(F1363,ages!B$1:C$23,2,1),1)),\"\")","v":""},{"$f":"IF(ISNUMBER(F1363),IF(AU1363<0.85,\"\",VLOOKUP(V1363,J!A$2:X$23,VLOOKUP(F1363,ages!B$1:C$23,2,1),1)),\"\")","v":""},"","","","",-1.0000000000000002E-6,0,0,0,0,0,0,0,0,0,0,0,null,null,null,null,null,null,null,null,null,null,null,null,null,null,null,null,null,null,null,null,null,null,null,null,null,null,null,null,null,null,null,null,null,null,null,null,null,null,null,null,null,null,null,null,null,null,null,null,null,null,null,null,null,null,null,null,null,null,null,null,null,null,null,null,null,null,null,null,null,null,-9.9999999999999995E-7,-9.9999999999999995E-7,-9.9999999999999995E-7,-9.9999999999999995E-7,-9.9999999999999995E-7,-9.9999999999999995E-7,-9.9999999999999995E-7,-9.9999999999999995E-7,-9.9999999999999995E-7,-9.9999999999999995E-7,-9.9999999999999995E-7,-9.9999999999999995E-7,-9.9999999999999995E-7,-9.9999999999999995E-7,-9.9999999999999995E-7,-9.9999999999999995E-7,-9.9999999999999995E-7,-9.9999999999999995E-7,-9.9999999999999995E-7,-9.9999999999999995E-7,{"$f":"IF(ISERROR(VLOOKUP(F1363,ages!B$1:B$23,1,1)),\"\",VLOOKUP(F1363,ages!B$1:B$23,1,1))","v":""},{"$f":"IF(ISERROR(VLOOKUP(F1363,ages!B$1:D$23,3,1)),\"\",VLOOKUP(F1363,ages!B$1:D$23,3,1))","v":""},0,0,0,0,0]
[null,null,null,null,null,"",null,null,null,null,null,null,"","","","","","","","","","",{"$f":"IF(ISNUMBER(F1368),IF(AL1368<0.85,\"\",VLOOKUP(M1368,A!A$2:X$23,VLOOKUP(F1368,ages!B$1:C$23,2,1),1)),\"\")","v":""},{"$f":"IF(ISNUMBER(F1368),IF(AM1368<0.85,\"\",VLOOKUP(N1368,B!A$2:X$23,VLOOKUP(F1368,ages!B$1:C$23,2,1),1)),\"\")","v":""},{"$f":"IF(ISNUMBER(F1368),IF(AN1368<0.85,\"\",VLOOKUP(O1368,'C'!A$2:X$23,VLOOKUP(F1368,ages!B$1:C$23,2,1),1)),\"\")","v":""},{"$f":"IF(ISNUMBER(F1368),IF(AO1368<0.85,\"\",VLOOKUP(P1368,D!A$2:X$23,VLOOKUP(F1368,ages!B$1:C$23,2,1),1)),\"\")","v":""},{"$f":"IF(ISNUMBER(F1368),IF(AP1368<0.85,\"\",VLOOKUP(Q1368,E!A$2:X$23,VLOOKUP(F1368,ages!B$1:C$23,2,1),1)),\"\")","v":""},{"$f":"IF(ISNUMBER(F1368),IF(AQ1368<0.85,\"\",VLOOKUP(R1368,F!A$2:X$23,VLOOKUP(F1368,ages!B$1:C$23,2,1),1)),\"\")","v":""},{"$f":"IF(ISNUMBER(F1368),IF(AR1368<0.85,\"\",VLOOKUP(S1368,G!A$2:X$23,VLOOKUP(F1368,ages!B$1:C$23,2,1),1)),\"\")","v":""},{"$f":"IF(ISNUMBER(F1368),IF(AS1368<0.85,\"\",VLOOKUP(T1368,H!A$2:X$23,VLOOKUP(F1368,ages!B$1:C$23,2,1),1)),\"\")","v":""},{"$f":"IF(ISNUMBER(F1368),IF(AT1368<0.85,\"\",VLOOKUP(U1368,I!A$2:X$23,VLOOKUP(F1368,ages!B$1:C$23,2,1),1)),\"\")","v":""},{"$f":"IF(ISNUMBER(F1368),IF(AU1368<0.85,\"\",VLOOKUP(V1368,J!A$2:X$23,VLOOKUP(F1368,ages!B$1:C$23,2,1),1)),\"\")","v":""},"","","","",-1.0000000000000002E-6,0,0,0,0,0,0,0,0,0,0,0,null,null,null,null,null,null,null,null,null,null,null,null,null,null,null,null,null,null,null,null,null,null,null,null,null,null,null,null,null,null,null,null,null,null,null,null,null,null,null,null,null,null,null,null,null,null,null,null,null,null,null,null,null,null,null,null,null,null,null,null,null,null,null,null,null,null,null,null,null,null,-9.9999999999999995E-7,-9.9999999999999995E-7,-9.9999999999999995E-7,-9.9999999999999995E-7,-9.9999999999999995E-7,-9.9999999999999995E-7,-9.9999999999999995E-7,-9.9999999999999995E-7,-9.9999999999999995E-7,-9.9999999999999995E-7,-9.9999999999999995E-7,-9.9999999999999995E-7,-9.9999999999999995E-7,-9.9999999999999995E-7,-9.9999999999999995E-7,-9.9999999999999995E-7,-9.9999999999999995E-7,-9.9999999999999995E-7,-9.9999999999999995E-7,-9.9999999999999995E-7,{"$f":"IF(ISERROR(VLOOKUP(F1368,ages!B$1:B$23,1,1)),\"\",VLOOKUP(F1368,ages!B$1:B$23,1,1))","v":""},{"$f":"IF(ISERROR(VLOOKUP(F1368,ages!B$1:D$23,3,1)),\"\",VLOOKUP(F1368,ages!B$1:D$23,3,1))","v":""},0,0,0,0,0]
[null,null,null,null,null,"",null,null,null,null,null,null,"","","","","","","","","","",{"$f":"IF(ISNUMBER(F1369),IF(AL1369<0.85,\"\",VLOOKUP(M1369,A!A$2:X$23,VLOOKUP(F1369,ages!B$1:C$23,2,1),1)),\"\")","v":""},{"$f":"IF(ISNUMBER(F1369),IF(AM1369<0.85,\"\",VLOOKUP(N1369,B!A$2:X$23,VLOOKUP(F1369,ages!B$1:C$23,2,1),1)),\"\")","v":""},{"$f":"IF(ISNUMBER(F1369),IF(AN1369<0.85,\"\",VLOOKUP(O1369,'C'!A$2:X$23,VLOOKUP(F1369,ages!B$1:C$23,2,1),1)),\"\")","v":""},{"$f":"IF(ISNUMBER(F1369),IF(AO1369<0.85,\"\",VLOOKUP(P1369,D!A$2:X$23,VLOOKUP(F1369,ages!B$1:C$23,2,1),1)),\"\")","v":""},{"$f":"IF(ISNUMBER(F1369),IF(AP1369<0.85,\"\",VLOOKUP(Q1369,E!A$2:X$23,VLOOKUP(F1369,ages!B$1:C$23,2,1),1)),\"\")","v":""},{"$f":"IF(ISNUMBER(F1369),IF(AQ1369<0.85,\"\",VLOOKUP(R1369,F!A$2:X$23,VLOOKUP(F1369,ages!B$1:C$23,2,1),1)),\"\")","v":""},{"$f":"IF(ISNUMBER(F1369),IF(AR1369<0.85,\"\",VLOOKUP(S1369,G!A$2:X$23,VLOOKUP(F1369,ages!B$1:C$23,2,1),1)),\"\")","v":""},{"$f":"IF(ISNUMBER(F1369),IF(AS1369<0.85,\"\",VLOOKUP(T1369,H!A$2:X$23,VLOOKUP(F1369,ages!B$1:C$23,2,1),1)),\"\")","v":""},{"$f":"IF(ISNUMBER(F1369),IF(AT1369<0.85,\"\",VLOOKUP(U1369,I!A$2:X$23,VLOOKUP(F1369,ages!B$1:C$23,2,1),1)),\"\")","v":""},{"$f":"IF(ISNUMBER(F1369),IF(AU1369<0.85,\"\",VLOOKUP(V1369,J!A$2:X$23,VLOOKUP(F1369,ages!B$1:C$23,2,1),1)),\"\")","v":""},"","","","",-1.0000000000000002E-6,0,0,0,0,0,0,0,0,0,0,0,null,null,null,null,null,null,null,null,null,null,null,null,null,null,null,null,null,null,null,null,null,null,null,null,null,null,null,null,null,null,null,null,null,null,null,null,null,null,null,null,null,null,null,null,null,null,null,null,null,null,null,null,null,null,null,null,null,null,null,null,null,null,null,null,null,null,null,null,null,null,-9.9999999999999995E-7,-9.9999999999999995E-7,-9.9999999999999995E-7,-9.9999999999999995E-7,-9.9999999999999995E-7,-9.9999999999999995E-7,-9.9999999999999995E-7,-9.9999999999999995E-7,-9.9999999999999995E-7,-9.9999999999999995E-7,-9.9999999999999995E-7,-9.9999999999999995E-7,-9.9999999999999995E-7,-9.9999999999999995E-7,-9.9999999999999995E-7,-9.9999999999999995E-7,-9.9999999999999995E-7,-9.9999999999999995E-7,-9.9999999999999995E-7,-9.9999999999999995E-7,{"$f":"IF(ISERROR(VLOOKUP(F1369,ages!B$1:B$23,1,1)),\"\",VLOOKUP(F1369,ages!B$1:B$23,1,1))","v":""},{"$f":"IF(ISERROR(VLOOKUP(F1369,ages!B$1:D$23,3,1)),\"\",VLOOKUP(F1369,ages!B$1:D$23,3,1))","v":""},0,0,0,0,0]
[null,null,null,null,null,"",null,null,null,null,null,null,"","","","","","","","","","",{"$f":"IF(ISNUMBER(F1374),IF(AL1374<0.85,\"\",VLOOKUP(M1374,A!A$2:X$23,VLOOKUP(F1374,ages!B$1:C$23,2,1),1)),\"\")","v":""},{"$f":"IF(ISNUMBER(F1374),IF(AM1374<0.85,\"\",VLOOKUP(N1374,B!A$2:X$23,VLOOKUP(F1374,ages!B$1:C$23,2,1),1)),\"\")","v":""},{"$f":"IF(ISNUMBER(F1374),IF(AN1374<0.85,\"\",VLOOKUP(O1374,'C'!A$2:X$23,VLOOKUP(F1374,ages!B$1:C$23,2,1),1)),\"\")","v":""},{"$f":"IF(ISNUMBER(F1374),IF(AO1374<0.85,\"\",VLOOKUP(P1374,D!A$2:X$23,VLOOKUP(F1374,ages!B$1:C$23,2,1),1)),\"\")","v":""},{"$f":"IF(ISNUMBER(F1374),IF(AP1374<0.85,\"\",VLOOKUP(Q1374,E!A$2:X$23,VLOOKUP(F1374,ages!B$1:C$23,2,1),1)),\"\")","v":""},{"$f":"IF(ISNUMBER(F1374),IF(AQ1374<0.85,\"\",VLOOKUP(R1374,F!A$2:X$23,VLOOKUP(F1374,ages!B$1:C$23,2,1),1)),\"\")","v":""},{"$f":"IF(ISNUMBER(F1374),IF(AR1374<0.85,\"\",VLOOKUP(S1374,G!A$2:X$23,VLOOKUP(F1374,ages!B$1:C$23,2,1),1)),\"\")","v":""},{"$f":"IF(ISNUMBER(F1374),IF(AS1374<0.85,\"\",VLOOKUP(T1374,H!A$2:X$23,VLOOKUP(F1374,ages!B$1:C$23,2,1),1)),\"\")","v":""},{"$f":"IF(ISNUMBER(F1374),IF(AT1374<0.85,\"\",VLOOKUP(U1374,I!A$2:X$23,VLOOKUP(F1374,ages!B$1:C$23,2,1),1)),\"\")","v":""},{"$f":"IF(ISNUMBER(F1374),IF(AU1374<0.85,\"\",VLOOKUP(V1374,J!A$2:X$23,VLOOKUP(F1374,ages!B$1:C$23,2,1),1)),\"\")","v":""},"","","","",-1.0000000000000002E-6,0,0,0,0,0,0,0,0,0,0,0,null,null,null,null,null,null,null,null,null,null,null,null,null,null,null,null,null,null,null,null,null,null,null,null,null,null,null,null,null,null,null,null,null,null,null,null,null,null,null,null,null,null,null,null,null,null,null,null,null,null,null,null,null,null,null,null,null,null,null,null,null,null,null,null,null,null,null,null,null,null,-9.9999999999999995E-7,-9.9999999999999995E-7,-9.9999999999999995E-7,-9.9999999999999995E-7,-9.9999999999999995E-7,-9.9999999999999995E-7,-9.9999999999999995E-7,-9.9999999999999995E-7,-9.9999999999999995E-7,-9.9999999999999995E-7,-9.9999999999999995E-7,-9.9999999999999995E-7,-9.9999999999999995E-7,-9.9999999999999995E-7,-9.9999999999999995E-7,-9.9999999999999995E-7,-9.9999999999999995E-7,-9.9999999999999995E-7,-9.9999999999999995E-7,-9.9999999999999995E-7,{"$f":"IF(ISERROR(VLOOKUP(F1374,ages!B$1:B$23,1,1)),\"\",VLOOKUP(F1374,ages!B$1:B$23,1,1))","v":""},{"$f":"IF(ISERROR(VLOOKUP(F1374,ages!B$1:D$23,3,1)),\"\",VLOOKUP(F1374,ages!B$1:D$23,3,1))","v":""},0,0,0,0,0]
[null,null,null,null,null,"",null,null,null,null,null,null,"","","","","","","","","","",{"$f":"IF(ISNUMBER(F1380),IF(AL1380<0.85,\"\",VLOOKUP(M1380,A!A$2:X$23,VLOOKUP(F1380,ages!B$1:C$23,2,1),1)),\"\")","v":""},{"$f":"IF(ISNUMBER(F1380),IF(AM1380<0.85,\"\",VLOOKUP(N1380,B!A$2:X$23,VLOOKUP(F1380,ages!B$1:C$23,2,1),1)),\"\")","v":""},{"$f":"IF(ISNUMBER(F1380),IF(AN1380<0.85,\"\",VLOOKUP(O1380,'C'!A$2:X$23,VLOOKUP(F1380,ages!B$1:C$23,2,1),1)),\"\")","v":""},{"$f":"IF(ISNUMBER(F1380),IF(AO1380<0.85,\"\",VLOOKUP(P1380,D!A$2:X$23,VLOOKUP(F1380,ages!B$1:C$23,2,1),1)),\"\")","v":""},{"$f":"IF(ISNUMBER(F1380),IF(AP1380<0.85,\"\",VLOOKUP(Q1380,E!A$2:X$23,VLOOKUP(F1380,ages!B$1:C$23,2,1),1)),\"\")","v":""},{"$f":"IF(ISNUMBER(F1380),IF(AQ1380<0.85,\"\",VLOOKUP(R1380,F!A$2:X$23,VLOOKUP(F1380,ages!B$1:C$23,2,1),1)),\"\")","v":""},{"$f":"IF(ISNUMBER(F1380),IF(AR1380<0.85,\"\",VLOOKUP(S1380,G!A$2:X$23,VLOOKUP(F1380,ages!B$1:C$23,2,1),1)),\"\")","v":""},{"$f":"IF(ISNUMBER(F1380),IF(AS1380<0.85,\"\",VLOOKUP(T1380,H!A$2:X$23,VLOOKUP(F1380,ages!B$1:C$23,2,1),1)),\"\")","v":""},{"$f":"IF(ISNUMBER(F1380),IF(AT1380<0.85,\"\",VLOOKUP(U1380,I!A$2:X$23,VLOOKUP(F1380,ages!B$1:C$23,2,1),1)),\"\")","v":""},{"$f":"IF(ISNUMBER(F1380),IF(AU1380<0.85,\"\",VLOOKUP(V1380,J!A$2:X$23,VLOOKUP(F1380,ages!B$1:C$23,2,1),1)),\"\")","v":""},"","","","",-1.0000000000000002E-6,0,0,0,0,0,0,0,0,0,0,0,null,null,null,null,null,null,null,null,null,null,null,null,null,null,null,null,null,null,null,null,null,null,null,null,null,null,null,null,null,null,null,null,null,null,null,null,null,null,null,null,null,null,null,null,null,null,null,null,null,null,null,null,null,null,null,null,null,null,null,null,null,null,null,null,null,null,null,null,null,null,-9.9999999999999995E-7,-9.9999999999999995E-7,-9.9999999999999995E-7,-9.9999999999999995E-7,-9.9999999999999995E-7,-9.9999999999999995E-7,-9.9999999999999995E-7,-9.9999999999999995E-7,-9.9999999999999995E-7,-9.9999999999999995E-7,-9.9999999999999995E-7,-9.9999999999999995E-7,-9.9999999999999995E-7,-9.9999999999999995E-7,-9.9999999999999995E-7,-9.9999999999999995E-7,-9.9999999999999995E-7,-9.9999999999999995E-7,-9.9999999999999995E-7,-9.9999999999999995E-7,{"$f":"IF(ISERROR(VLOOKUP(F1380,ages!B$1:B$23,1,1)),\"\",VLOOKUP(F1380,ages!B$1:B$23,1,1))","v":""},{"$f":"IF(ISERROR(VLOOKUP(F1380,ages!B$1:D$23,3,1)),\"\",VLOOKUP(F1380,ages!B$1:D$23,3,1))","v":""},0,0,0,0,0]
[null,null,null,null,null,"",null,null,null,null,null,null,"","","","","","","","","","",{"$f":"IF(ISNUMBER(F1384),IF(AL1384<0.85,\"\",VLOOKUP(M1384,A!A$2:X$23,VLOOKUP(F1384,ages!B$1:C$23,2,1),1)),\"\")","v":""},{"$f":"IF(ISNUMBER(F1384),IF(AM1384<0.85,\"\",VLOOKUP(N1384,B!A$2:X$23,VLOOKUP(F1384,ages!B$1:C$23,2,1),1)),\"\")","v":""},{"$f":"IF(ISNUMBER(F1384),IF(AN1384<0.85,\"\",VLOOKUP(O1384,'C'!A$2:X$23,VLOOKUP(F1384,ages!B$1:C$23,2,1),1)),\"\")","v":""},{"$f":"IF(ISNUMBER(F1384),IF(AO1384<0.85,\"\",VLOOKUP(P1384,D!A$2:X$23,VLOOKUP(F1384,ages!B$1:C$23,2,1),1)),\"\")","v":""},{"$f":"IF(ISNUMBER(F1384),IF(AP1384<0.85,\"\",VLOOKUP(Q1384,E!A$2:X$23,VLOOKUP(F1384,ages!B$1:C$23,2,1),1)),\"\")","v":""},{"$f":"IF(ISNUMBER(F1384),IF(AQ1384<0.85,\"\",VLOOKUP(R1384,F!A$2:X$23,VLOOKUP(F1384,ages!B$1:C$23,2,1),1)),\"\")","v":""},{"$f":"IF(ISNUMBER(F1384),IF(AR1384<0.85,\"\",VLOOKUP(S1384,G!A$2:X$23,VLOOKUP(F1384,ages!B$1:C$23,2,1),1)),\"\")","v":""},{"$f":"IF(ISNUMBER(F1384),IF(AS1384<0.85,\"\",VLOOKUP(T1384,H!A$2:X$23,VLOOKUP(F1384,ages!B$1:C$23,2,1),1)),\"\")","v":""},{"$f":"IF(ISNUMBER(F1384),IF(AT1384<0.85,\"\",VLOOKUP(U1384,I!A$2:X$23,VLOOKUP(F1384,ages!B$1:C$23,2,1),1)),\"\")","v":""},{"$f":"IF(ISNUMBER(F1384),IF(AU1384<0.85,\"\",VLOOKUP(V1384,J!A$2:X$23,VLOOKUP(F1384,ages!B$1:C$23,2,1),1)),\"\")","v":""},"","","","",-1.0000000000000002E-6,0,0,0,0,0,0,0,0,0,0,0,null,null,null,null,null,null,null,null,null,null,null,null,null,null,null,null,null,null,null,null,null,null,null,null,null,null,null,null,null,null,null,null,null,null,null,null,null,null,null,null,null,null,null,null,null,null,null,null,null,null,null,null,null,null,null,null,null,null,null,null,null,null,null,null,null,null,null,null,null,null,-9.9999999999999995E-7,-9.9999999999999995E-7,-9.9999999999999995E-7,-9.9999999999999995E-7,-9.9999999999999995E-7,-9.9999999999999995E-7,-9.9999999999999995E-7,-9.9999999999999995E-7,-9.9999999999999995E-7,-9.9999999999999995E-7,-9.9999999999999995E-7,-9.9999999999999995E-7,-9.9999999999999995E-7,-9.9999999999999995E-7,-9.9999999999999995E-7,-9.9999999999999995E-7,-9.9999999999999995E-7,-9.9999999999999995E-7,-9.9999999999999995E-7,-9.9999999999999995E-7,{"$f":"IF(ISERROR(VLOOKUP(F1384,ages!B$1:B$23,1,1)),\"\",VLOOKUP(F1384,ages!B$1:B$23,1,1))","v":""},{"$f":"IF(ISERROR(VLOOKUP(F1384,ages!B$1:D$23,3,1)),\"\",VLOOKUP(F1384,ages!B$1:D$23,3,1))","v":""},0,0,0,0,0]
[null,null,null,null,null,"",null,null,null,null,null,null,"","","","","","","","","","",{"$f":"IF(ISNUMBER(F1389),IF(AL1389<0.85,\"\",VLOOKUP(M1389,A!A$2:X$23,VLOOKUP(F1389,ages!B$1:C$23,2,1),1)),\"\")","v":""},{"$f":"IF(ISNUMBER(F1389),IF(AM1389<0.85,\"\",VLOOKUP(N1389,B!A$2:X$23,VLOOKUP(F1389,ages!B$1:C$23,2,1),1)),\"\")","v":""},{"$f":"IF(ISNUMBER(F1389),IF(AN1389<0.85,\"\",VLOOKUP(O1389,'C'!A$2:X$23,VLOOKUP(F1389,ages!B$1:C$23,2,1),1)),\"\")","v":""},{"$f":"IF(ISNUMBER(F1389),IF(AO1389<0.85,\"\",VLOOKUP(P1389,D!A$2:X$23,VLOOKUP(F1389,ages!B$1:C$23,2,1),1)),\"\")","v":""},{"$f":"IF(ISNUMBER(F1389),IF(AP1389<0.85,\"\",VLOOKUP(Q1389,E!A$2:X$23,VLOOKUP(F1389,ages!B$1:C$23,2,1),1)),\"\")","v":""},{"$f":"IF(ISNUMBER(F1389),IF(AQ1389<0.85,\"\",VLOOKUP(R1389,F!A$2:X$23,VLOOKUP(F1389,ages!B$1:C$23,2,1),1)),\"\")","v":""},{"$f":"IF(ISNUMBER(F1389),IF(AR1389<0.85,\"\",VLOOKUP(S1389,G!A$2:X$23,VLOOKUP(F1389,ages!B$1:C$23,2,1),1)),\"\")","v":""},{"$f":"IF(ISNUMBER(F1389),IF(AS1389<0.85,\"\",VLOOKUP(T1389,H!A$2:X$23,VLOOKUP(F1389,ages!B$1:C$23,2,1),1)),\"\")","v":""},{"$f":"IF(ISNUMBER(F1389),IF(AT1389<0.85,\"\",VLOOKUP(U1389,I!A$2:X$23,VLOOKUP(F1389,ages!B$1:C$23,2,1),1)),\"\")","v":""},{"$f":"IF(ISNUMBER(F1389),IF(AU1389<0.85,\"\",VLOOKUP(V1389,J!A$2:X$23,VLOOKUP(F1389,ages!B$1:C$23,2,1),1)),\"\")","v":""},"","","","",-1.0000000000000002E-6,0,0,0,0,0,0,0,0,0,0,0,null,null,null,null,null,null,null,null,null,null,null,null,null,null,null,null,null,null,null,null,null,null,null,null,null,null,null,null,null,null,null,null,null,null,null,null,null,null,null,null,null,null,null,null,null,null,null,null,null,null,null,null,null,null,null,null,null,null,null,null,null,null,null,null,null,null,null,null,null,null,-9.9999999999999995E-7,-9.9999999999999995E-7,-9.9999999999999995E-7,-9.9999999999999995E-7,-9.9999999999999995E-7,-9.9999999999999995E-7,-9.9999999999999995E-7,-9.9999999999999995E-7,-9.9999999999999995E-7,-9.9999999999999995E-7,-9.9999999999999995E-7,-9.9999999999999995E-7,-9.9999999999999995E-7,-9.9999999999999995E-7,-9.9999999999999995E-7,-9.9999999999999995E-7,-9.9999999999999995E-7,-9.9999999999999995E-7,-9.9999999999999995E-7,-9.9999999999999995E-7,{"$f":"IF(ISERROR(VLOOKUP(F1389,ages!B$1:B$23,1,1)),\"\",VLOOKUP(F1389,ages!B$1:B$23,1,1))","v":""},{"$f":"IF(ISERROR(VLOOKUP(F1389,ages!B$1:D$23,3,1)),\"\",VLOOKUP(F1389,ages!B$1:D$23,3,1))","v":""},0,0,0,0,0]
[null,null,null,null,null,"",null,null,null,null,null,null,"","","","","","","","","","",{"$f":"IF(ISNUMBER(F1395),IF(AL1395<0.85,\"\",VLOOKUP(M1395,A!A$2:X$23,VLOOKUP(F1395,ages!B$1:C$23,2,1),1)),\"\")","v":""},{"$f":"IF(ISNUMBER(F1395),IF(AM1395<0.85,\"\",VLOOKUP(N1395,B!A$2:X$23,VLOOKUP(F1395,ages!B$1:C$23,2,1),1)),\"\")","v":""},{"$f":"IF(ISNUMBER(F1395),IF(AN1395<0.85,\"\",VLOOKUP(O1395,'C'!A$2:X$23,VLOOKUP(F1395,ages!B$1:C$23,2,1),1)),\"\")","v":""},{"$f":"IF(ISNUMBER(F1395),IF(AO1395<0.85,\"\",VLOOKUP(P1395,D!A$2:X$23,VLOOKUP(F1395,ages!B$1:C$23,2,1),1)),\"\")","v":""},{"$f":"IF(ISNUMBER(F1395),IF(AP1395<0.85,\"\",VLOOKUP(Q1395,E!A$2:X$23,VLOOKUP(F1395,ages!B$1:C$23,2,1),1)),\"\")","v":""},{"$f":"IF(ISNUMBER(F1395),IF(AQ1395<0.85,\"\",VLOOKUP(R1395,F!A$2:X$23,VLOOKUP(F1395,ages!B$1:C$23,2,1),1)),\"\")","v":""},{"$f":"IF(ISNUMBER(F1395),IF(AR1395<0.85,\"\",VLOOKUP(S1395,G!A$2:X$23,VLOOKUP(F1395,ages!B$1:C$23,2,1),1)),\"\")","v":""},{"$f":"IF(ISNUMBER(F1395),IF(AS1395<0.85,\"\",VLOOKUP(T1395,H!A$2:X$23,VLOOKUP(F1395,ages!B$1:C$23,2,1),1)),\"\")","v":""},{"$f":"IF(ISNUMBER(F1395),IF(AT1395<0.85,\"\",VLOOKUP(U1395,I!A$2:X$23,VLOOKUP(F1395,ages!B$1:C$23,2,1),1)),\"\")","v":""},{"$f":"IF(ISNUMBER(F1395),IF(AU1395<0.85,\"\",VLOOKUP(V1395,J!A$2:X$23,VLOOKUP(F1395,ages!B$1:C$23,2,1),1)),\"\")","v":""},"","","","",-1.0000000000000002E-6,0,0,0,0,0,0,0,0,0,0,0,null,null,null,null,null,null,null,null,null,null,null,null,null,null,null,null,null,null,null,null,null,null,null,null,null,null,null,null,null,null,null,null,null,null,null,null,null,null,null,null,null,null,null,null,null,null,null,null,null,null,null,null,null,null,null,null,null,null,null,null,null,null,null,null,null,null,null,null,null,null,-9.9999999999999995E-7,-9.9999999999999995E-7,-9.9999999999999995E-7,-9.9999999999999995E-7,-9.9999999999999995E-7,-9.9999999999999995E-7,-9.9999999999999995E-7,-9.9999999999999995E-7,-9.9999999999999995E-7,-9.9999999999999995E-7,-9.9999999999999995E-7,-9.9999999999999995E-7,-9.9999999999999995E-7,-9.9999999999999995E-7,-9.9999999999999995E-7,-9.9999999999999995E-7,-9.9999999999999995E-7,-9.9999999999999995E-7,-9.9999999999999995E-7,-9.9999999999999995E-7,{"$f":"IF(ISERROR(VLOOKUP(F1395,ages!B$1:B$23,1,1)),\"\",VLOOKUP(F1395,ages!B$1:B$23,1,1))","v":""},{"$f":"IF(ISERROR(VLOOKUP(F1395,ages!B$1:D$23,3,1)),\"\",VLOOKUP(F1395,ages!B$1:D$23,3,1))","v":""},0,0,0,0,0]
[null,null,null,null,null,"",null,null,null,null,null,null,"","","","","","","","","","",{"$f":"IF(ISNUMBER(F1399),IF(AL1399<0.85,\"\",VLOOKUP(M1399,A!A$2:X$23,VLOOKUP(F1399,ages!B$1:C$23,2,1),1)),\"\")","v":""},{"$f":"IF(ISNUMBER(F1399),IF(AM1399<0.85,\"\",VLOOKUP(N1399,B!A$2:X$23,VLOOKUP(F1399,ages!B$1:C$23,2,1),1)),\"\")","v":""},{"$f":"IF(ISNUMBER(F1399),IF(AN1399<0.85,\"\",VLOOKUP(O1399,'C'!A$2:X$23,VLOOKUP(F1399,ages!B$1:C$23,2,1),1)),\"\")","v":""},{"$f":"IF(ISNUMBER(F1399),IF(AO1399<0.85,\"\",VLOOKUP(P1399,D!A$2:X$23,VLOOKUP(F1399,ages!B$1:C$23,2,1),1)),\"\")","v":""},{"$f":"IF(ISNUMBER(F1399),IF(AP1399<0.85,\"\",VLOOKUP(Q1399,E!A$2:X$23,VLOOKUP(F1399,ages!B$1:C$23,2,1),1)),\"\")","v":""},{"$f":"IF(ISNUMBER(F1399),IF(AQ1399<0.85,\"\",VLOOKUP(R1399,F!A$2:X$23,VLOOKUP(F1399,ages!B$1:C$23,2,1),1)),\"\")","v":""},{"$f":"IF(ISNUMBER(F1399),IF(AR1399<0.85,\"\",VLOOKUP(S1399,G!A$2:X$23,VLOOKUP(F1399,ages!B$1:C$23,2,1),1)),\"\")","v":""},{"$f":"IF(ISNUMBER(F1399),IF(AS1399<0.85,\"\",VLOOKUP(T1399,H!A$2:X$23,VLOOKUP(F1399,ages!B$1:C$23,2,1),1)),\"\")","v":""},{"$f":"IF(ISNUMBER(F1399),IF(AT1399<0.85,\"\",VLOOKUP(U1399,I!A$2:X$23,VLOOKUP(F1399,ages!B$1:C$23,2,1),1)),\"\")","v":""},{"$f":"IF(ISNUMBER(F1399),IF(AU1399<0.85,\"\",VLOOKUP(V1399,J!A$2:X$23,VLOOKUP(F1399,ages!B$1:C$23,2,1),1)),\"\")","v":""},"","","","",-1.0000000000000002E-6,0,0,0,0,0,0,0,0,0,0,0,null,null,null,null,null,null,null,null,null,null,null,null,null,null,null,null,null,null,null,null,null,null,null,null,null,null,null,null,null,null,null,null,null,null,null,null,null,null,null,null,null,null,null,null,null,null,null,null,null,null,null,null,null,null,null,null,null,null,null,null,null,null,null,null,null,null,null,null,null,null,-9.9999999999999995E-7,-9.9999999999999995E-7,-9.9999999999999995E-7,-9.9999999999999995E-7,-9.9999999999999995E-7,-9.9999999999999995E-7,-9.9999999999999995E-7,-9.9999999999999995E-7,-9.9999999999999995E-7,-9.9999999999999995E-7,-9.9999999999999995E-7,-9.9999999999999995E-7,-9.9999999999999995E-7,-9.9999999999999995E-7,-9.9999999999999995E-7,-9.9999999999999995E-7,-9.9999999999999995E-7,-9.9999999999999995E-7,-9.9999999999999995E-7,-9.9999999999999995E-7,{"$f":"IF(ISERROR(VLOOKUP(F1399,ages!B$1:B$23,1,1)),\"\",VLOOKUP(F1399,ages!B$1:B$23,1,1))","v":""},{"$f":"IF(ISERROR(VLOOKUP(F1399,ages!B$1:D$23,3,1)),\"\",VLOOKUP(F1399,ages!B$1:D$23,3,1))","v":""},0,0,0,0,0]
[null,null,null,null,null,"",null,null,null,null,null,null,"","","","","","","","","","",{"$f":"IF(ISNUMBER(F1405),IF(AL1405<0.85,\"\",VLOOKUP(M1405,A!A$2:X$23,VLOOKUP(F1405,ages!B$1:C$23,2,1),1)),\"\")","v":""},{"$f":"IF(ISNUMBER(F1405),IF(AM1405<0.85,\"\",VLOOKUP(N1405,B!A$2:X$23,VLOOKUP(F1405,ages!B$1:C$23,2,1),1)),\"\")","v":""},{"$f":"IF(ISNUMBER(F1405),IF(AN1405<0.85,\"\",VLOOKUP(O1405,'C'!A$2:X$23,VLOOKUP(F1405,ages!B$1:C$23,2,1),1)),\"\")","v":""},{"$f":"IF(ISNUMBER(F1405),IF(AO1405<0.85,\"\",VLOOKUP(P1405,D!A$2:X$23,VLOOKUP(F1405,ages!B$1:C$23,2,1),1)),\"\")","v":""},{"$f":"IF(ISNUMBER(F1405),IF(AP1405<0.85,\"\",VLOOKUP(Q1405,E!A$2:X$23,VLOOKUP(F1405,ages!B$1:C$23,2,1),1)),\"\")","v":""},{"$f":"IF(ISNUMBER(F1405),IF(AQ1405<0.85,\"\",VLOOKUP(R1405,F!A$2:X$23,VLOOKUP(F1405,ages!B$1:C$23,2,1),1)),\"\")","v":""},{"$f":"IF(ISNUMBER(F1405),IF(AR1405<0.85,\"\",VLOOKUP(S1405,G!A$2:X$23,VLOOKUP(F1405,ages!B$1:C$23,2,1),1)),\"\")","v":""},{"$f":"IF(ISNUMBER(F1405),IF(AS1405<0.85,\"\",VLOOKUP(T1405,H!A$2:X$23,VLOOKUP(F1405,ages!B$1:C$23,2,1),1)),\"\")","v":""},{"$f":"IF(ISNUMBER(F1405),IF(AT1405<0.85,\"\",VLOOKUP(U1405,I!A$2:X$23,VLOOKUP(F1405,ages!B$1:C$23,2,1),1)),\"\")","v":""},{"$f":"IF(ISNUMBER(F1405),IF(AU1405<0.85,\"\",VLOOKUP(V1405,J!A$2:X$23,VLOOKUP(F1405,ages!B$1:C$23,2,1),1)),\"\")","v":""},"","","","",-1.0000000000000002E-6,0,0,0,0,0,0,0,0,0,0,0,null,null,null,null,null,null,null,null,null,null,null,null,null,null,null,null,null,null,null,null,null,null,null,null,null,null,null,null,null,null,null,null,null,null,null,null,null,null,null,null,null,null,null,null,null,null,null,null,null,null,null,null,null,null,null,null,null,null,null,null,null,null,null,null,null,null,null,null,null,null,-9.9999999999999995E-7,-9.9999999999999995E-7,-9.9999999999999995E-7,-9.9999999999999995E-7,-9.9999999999999995E-7,-9.9999999999999995E-7,-9.9999999999999995E-7,-9.9999999999999995E-7,-9.9999999999999995E-7,-9.9999999999999995E-7,-9.9999999999999995E-7,-9.9999999999999995E-7,-9.9999999999999995E-7,-9.9999999999999995E-7,-9.9999999999999995E-7,-9.9999999999999995E-7,-9.9999999999999995E-7,-9.9999999999999995E-7,-9.9999999999999995E-7,-9.9999999999999995E-7,{"$f":"IF(ISERROR(VLOOKUP(F1405,ages!B$1:B$23,1,1)),\"\",VLOOKUP(F1405,ages!B$1:B$23,1,1))","v":""},{"$f":"IF(ISERROR(VLOOKUP(F1405,ages!B$1:D$23,3,1)),\"\",VLOOKUP(F1405,ages!B$1:D$23,3,1))","v":""},0,0,0,0,0]
[null,null,null,null,null,"",null,null,null,null,null,null,"","","","","","","","","","",{"$f":"IF(ISNUMBER(F1410),IF(AL1410<0.85,\"\",VLOOKUP(M1410,A!A$2:X$23,VLOOKUP(F1410,ages!B$1:C$23,2,1),1)),\"\")","v":""},{"$f":"IF(ISNUMBER(F1410),IF(AM1410<0.85,\"\",VLOOKUP(N1410,B!A$2:X$23,VLOOKUP(F1410,ages!B$1:C$23,2,1),1)),\"\")","v":""},{"$f":"IF(ISNUMBER(F1410),IF(AN1410<0.85,\"\",VLOOKUP(O1410,'C'!A$2:X$23,VLOOKUP(F1410,ages!B$1:C$23,2,1),1)),\"\")","v":""},{"$f":"IF(ISNUMBER(F1410),IF(AO1410<0.85,\"\",VLOOKUP(P1410,D!A$2:X$23,VLOOKUP(F1410,ages!B$1:C$23,2,1),1)),\"\")","v":""},{"$f":"IF(ISNUMBER(F1410),IF(AP1410<0.85,\"\",VLOOKUP(Q1410,E!A$2:X$23,VLOOKUP(F1410,ages!B$1:C$23,2,1),1)),\"\")","v":""},{"$f":"IF(ISNUMBER(F1410),IF(AQ1410<0.85,\"\",VLOOKUP(R1410,F!A$2:X$23,VLOOKUP(F1410,ages!B$1:C$23,2,1),1)),\"\")","v":""},{"$f":"IF(ISNUMBER(F1410),IF(AR1410<0.85,\"\",VLOOKUP(S1410,G!A$2:X$23,VLOOKUP(F1410,ages!B$1:C$23,2,1),1)),\"\")","v":""},{"$f":"IF(ISNUMBER(F1410),IF(AS1410<0.85,\"\",VLOOKUP(T1410,H!A$2:X$23,VLOOKUP(F1410,ages!B$1:C$23,2,1),1)),\"\")","v":""},{"$f":"IF(ISNUMBER(F1410),IF(AT1410<0.85,\"\",VLOOKUP(U1410,I!A$2:X$23,VLOOKUP(F1410,ages!B$1:C$23,2,1),1)),\"\")","v":""},{"$f":"IF(ISNUMBER(F1410),IF(AU1410<0.85,\"\",VLOOKUP(V1410,J!A$2:X$23,VLOOKUP(F1410,ages!B$1:C$23,2,1),1)),\"\")","v":""},"","","","",-1.0000000000000002E-6,0,0,0,0,0,0,0,0,0,0,0,null,null,null,null,null,null,null,null,null,null,null,null,null,null,null,null,null,null,null,null,null,null,null,null,null,null,null,null,null,null,null,null,null,null,null,null,null,null,null,null,null,null,null,null,null,null,null,null,null,null,null,null,null,null,null,null,null,null,null,null,null,null,null,null,null,null,null,null,null,null,-9.9999999999999995E-7,-9.9999999999999995E-7,-9.9999999999999995E-7,-9.9999999999999995E-7,-9.9999999999999995E-7,-9.9999999999999995E-7,-9.9999999999999995E-7,-9.9999999999999995E-7,-9.9999999999999995E-7,-9.9999999999999995E-7,-9.9999999999999995E-7,-9.9999999999999995E-7,-9.9999999999999995E-7,-9.9999999999999995E-7,-9.9999999999999995E-7,-9.9999999999999995E-7,-9.9999999999999995E-7,-9.9999999999999995E-7,-9.9999999999999995E-7,-9.9999999999999995E-7,{"$f":"IF(ISERROR(VLOOKUP(F1410,ages!B$1:B$23,1,1)),\"\",VLOOKUP(F1410,ages!B$1:B$23,1,1))","v":""},{"$f":"IF(ISERROR(VLOOKUP(F1410,ages!B$1:D$23,3,1)),\"\",VLOOKUP(F1410,ages!B$1:D$23,3,1))","v":""},0,0,0,0,0]
[null,null,null,null,null,"",null,null,null,null,null,null,"","","","","","","","","","",{"$f":"IF(ISNUMBER(F1415),IF(AL1415<0.85,\"\",VLOOKUP(M1415,A!A$2:X$23,VLOOKUP(F1415,ages!B$1:C$23,2,1),1)),\"\")","v":""},{"$f":"IF(ISNUMBER(F1415),IF(AM1415<0.85,\"\",VLOOKUP(N1415,B!A$2:X$23,VLOOKUP(F1415,ages!B$1:C$23,2,1),1)),\"\")","v":""},{"$f":"IF(ISNUMBER(F1415),IF(AN1415<0.85,\"\",VLOOKUP(O1415,'C'!A$2:X$23,VLOOKUP(F1415,ages!B$1:C$23,2,1),1)),\"\")","v":""},{"$f":"IF(ISNUMBER(F1415),IF(AO1415<0.85,\"\",VLOOKUP(P1415,D!A$2:X$23,VLOOKUP(F1415,ages!B$1:C$23,2,1),1)),\"\")","v":""},{"$f":"IF(ISNUMBER(F1415),IF(AP1415<0.85,\"\",VLOOKUP(Q1415,E!A$2:X$23,VLOOKUP(F1415,ages!B$1:C$23,2,1),1)),\"\")","v":""},{"$f":"IF(ISNUMBER(F1415),IF(AQ1415<0.85,\"\",VLOOKUP(R1415,F!A$2:X$23,VLOOKUP(F1415,ages!B$1:C$23,2,1),1)),\"\")","v":""},{"$f":"IF(ISNUMBER(F1415),IF(AR1415<0.85,\"\",VLOOKUP(S1415,G!A$2:X$23,VLOOKUP(F1415,ages!B$1:C$23,2,1),1)),\"\")","v":""},{"$f":"IF(ISNUMBER(F1415),IF(AS1415<0.85,\"\",VLOOKUP(T1415,H!A$2:X$23,VLOOKUP(F1415,ages!B$1:C$23,2,1),1)),\"\")","v":""},{"$f":"IF(ISNUMBER(F1415),IF(AT1415<0.85,\"\",VLOOKUP(U1415,I!A$2:X$23,VLOOKUP(F1415,ages!B$1:C$23,2,1),1)),\"\")","v":""},{"$f":"IF(ISNUMBER(F1415),IF(AU1415<0.85,\"\",VLOOKUP(V1415,J!A$2:X$23,VLOOKUP(F1415,ages!B$1:C$23,2,1),1)),\"\")","v":""},"","","","",-1.0000000000000002E-6,0,0,0,0,0,0,0,0,0,0,0,null,null,null,null,null,null,null,null,null,null,null,null,null,null,null,null,null,null,null,null,null,null,null,null,null,null,null,null,null,null,null,null,null,null,null,null,null,null,null,null,null,null,null,null,null,null,null,null,null,null,null,null,null,null,null,null,null,null,null,null,null,null,null,null,null,null,null,null,null,null,-9.9999999999999995E-7,-9.9999999999999995E-7,-9.9999999999999995E-7,-9.9999999999999995E-7,-9.9999999999999995E-7,-9.9999999999999995E-7,-9.9999999999999995E-7,-9.9999999999999995E-7,-9.9999999999999995E-7,-9.9999999999999995E-7,-9.9999999999999995E-7,-9.9999999999999995E-7,-9.9999999999999995E-7,-9.9999999999999995E-7,-9.9999999999999995E-7,-9.9999999999999995E-7,-9.9999999999999995E-7,-9.9999999999999995E-7,-9.9999999999999995E-7,-9.9999999999999995E-7,{"$f":"IF(ISERROR(VLOOKUP(F1415,ages!B$1:B$23,1,1)),\"\",VLOOKUP(F1415,ages!B$1:B$23,1,1))","v":""},{"$f":"IF(ISERROR(VLOOKUP(F1415,ages!B$1:D$23,3,1)),\"\",VLOOKUP(F1415,ages!B$1:D$23,3,1))","v":""},0,0,0,0,0]
[null,null,null,null,null,"",null,null,null,null,null,null,"","","","","","","","","","",{"$f":"IF(ISNUMBER(F1421),IF(AL1421<0.85,\"\",VLOOKUP(M1421,A!A$2:X$23,VLOOKUP(F1421,ages!B$1:C$23,2,1),1)),\"\")","v":""},{"$f":"IF(ISNUMBER(F1421),IF(AM1421<0.85,\"\",VLOOKUP(N1421,B!A$2:X$23,VLOOKUP(F1421,ages!B$1:C$23,2,1),1)),\"\")","v":""},{"$f":"IF(ISNUMBER(F1421),IF(AN1421<0.85,\"\",VLOOKUP(O1421,'C'!A$2:X$23,VLOOKUP(F1421,ages!B$1:C$23,2,1),1)),\"\")","v":""},{"$f":"IF(ISNUMBER(F1421),IF(AO1421<0.85,\"\",VLOOKUP(P1421,D!A$2:X$23,VLOOKUP(F1421,ages!B$1:C$23,2,1),1)),\"\")","v":""},{"$f":"IF(ISNUMBER(F1421),IF(AP1421<0.85,\"\",VLOOKUP(Q1421,E!A$2:X$23,VLOOKUP(F1421,ages!B$1:C$23,2,1),1)),\"\")","v":""},{"$f":"IF(ISNUMBER(F1421),IF(AQ1421<0.85,\"\",VLOOKUP(R1421,F!A$2:X$23,VLOOKUP(F1421,ages!B$1:C$23,2,1),1)),\"\")","v":""},{"$f":"IF(ISNUMBER(F1421),IF(AR1421<0.85,\"\",VLOOKUP(S1421,G!A$2:X$23,VLOOKUP(F1421,ages!B$1:C$23,2,1),1)),\"\")","v":""},{"$f":"IF(ISNUMBER(F1421),IF(AS1421<0.85,\"\",VLOOKUP(T1421,H!A$2:X$23,VLOOKUP(F1421,ages!B$1:C$23,2,1),1)),\"\")","v":""},{"$f":"IF(ISNUMBER(F1421),IF(AT1421<0.85,\"\",VLOOKUP(U1421,I!A$2:X$23,VLOOKUP(F1421,ages!B$1:C$23,2,1),1)),\"\")","v":""},{"$f":"IF(ISNUMBER(F1421),IF(AU1421<0.85,\"\",VLOOKUP(V1421,J!A$2:X$23,VLOOKUP(F1421,ages!B$1:C$23,2,1),1)),\"\")","v":""},"","","","",-1.0000000000000002E-6,0,0,0,0,0,0,0,0,0,0,0,null,null,null,null,null,null,null,null,null,null,null,null,null,null,null,null,null,null,null,null,null,null,null,null,null,null,null,null,null,null,null,null,null,null,null,null,null,null,null,null,null,null,null,null,null,null,null,null,null,null,null,null,null,null,null,null,null,null,null,null,null,null,null,null,null,null,null,null,null,null,-9.9999999999999995E-7,-9.9999999999999995E-7,-9.9999999999999995E-7,-9.9999999999999995E-7,-9.9999999999999995E-7,-9.9999999999999995E-7,-9.9999999999999995E-7,-9.9999999999999995E-7,-9.9999999999999995E-7,-9.9999999999999995E-7,-9.9999999999999995E-7,-9.9999999999999995E-7,-9.9999999999999995E-7,-9.9999999999999995E-7,-9.9999999999999995E-7,-9.9999999999999995E-7,-9.9999999999999995E-7,-9.9999999999999995E-7,-9.9999999999999995E-7,-9.9999999999999995E-7,{"$f":"IF(ISERROR(VLOOKUP(F1421,ages!B$1:B$23,1,1)),\"\",VLOOKUP(F1421,ages!B$1:B$23,1,1))","v":""},{"$f":"IF(ISERROR(VLOOKUP(F1421,ages!B$1:D$23,3,1)),\"\",VLOOKUP(F1421,ages!B$1:D$23,3,1))","v":""},0,0,0,0,0]
[null,null,null,null,null,"",null,null,null,null,null,null,"","","","","","","","","","",{"$f":"IF(ISNUMBER(F1424),IF(AL1424<0.85,\"\",VLOOKUP(M1424,A!A$2:X$23,VLOOKUP(F1424,ages!B$1:C$23,2,1),1)),\"\")","v":""},{"$f":"IF(ISNUMBER(F1424),IF(AM1424<0.85,\"\",VLOOKUP(N1424,B!A$2:X$23,VLOOKUP(F1424,ages!B$1:C$23,2,1),1)),\"\")","v":""},{"$f":"IF(ISNUMBER(F1424),IF(AN1424<0.85,\"\",VLOOKUP(O1424,'C'!A$2:X$23,VLOOKUP(F1424,ages!B$1:C$23,2,1),1)),\"\")","v":""},{"$f":"IF(ISNUMBER(F1424),IF(AO1424<0.85,\"\",VLOOKUP(P1424,D!A$2:X$23,VLOOKUP(F1424,ages!B$1:C$23,2,1),1)),\"\")","v":""},{"$f":"IF(ISNUMBER(F1424),IF(AP1424<0.85,\"\",VLOOKUP(Q1424,E!A$2:X$23,VLOOKUP(F1424,ages!B$1:C$23,2,1),1)),\"\")","v":""},{"$f":"IF(ISNUMBER(F1424),IF(AQ1424<0.85,\"\",VLOOKUP(R1424,F!A$2:X$23,VLOOKUP(F1424,ages!B$1:C$23,2,1),1)),\"\")","v":""},{"$f":"IF(ISNUMBER(F1424),IF(AR1424<0.85,\"\",VLOOKUP(S1424,G!A$2:X$23,VLOOKUP(F1424,ages!B$1:C$23,2,1),1)),\"\")","v":""},{"$f":"IF(ISNUMBER(F1424),IF(AS1424<0.85,\"\",VLOOKUP(T1424,H!A$2:X$23,VLOOKUP(F1424,ages!B$1:C$23,2,1),1)),\"\")","v":""},{"$f":"IF(ISNUMBER(F1424),IF(AT1424<0.85,\"\",VLOOKUP(U1424,I!A$2:X$23,VLOOKUP(F1424,ages!B$1:C$23,2,1),1)),\"\")","v":""},{"$f":"IF(ISNUMBER(F1424),IF(AU1424<0.85,\"\",VLOOKUP(V1424,J!A$2:X$23,VLOOKUP(F1424,ages!B$1:C$23,2,1),1)),\"\")","v":""},"","","","",-1.0000000000000002E-6,0,0,0,0,0,0,0,0,0,0,0,null,null,null,null,null,null,null,null,null,null,null,null,null,null,null,null,null,null,null,null,null,null,null,null,null,null,null,null,null,null,null,null,null,null,null,null,null,null,null,null,null,null,null,null,null,null,null,null,null,null,null,null,null,null,null,null,null,null,null,null,null,null,null,null,null,null,null,null,null,null,-9.9999999999999995E-7,-9.9999999999999995E-7,-9.9999999999999995E-7,-9.9999999999999995E-7,-9.9999999999999995E-7,-9.9999999999999995E-7,-9.9999999999999995E-7,-9.9999999999999995E-7,-9.9999999999999995E-7,-9.9999999999999995E-7,-9.9999999999999995E-7,-9.9999999999999995E-7,-9.9999999999999995E-7,-9.9999999999999995E-7,-9.9999999999999995E-7,-9.9999999999999995E-7,-9.9999999999999995E-7,-9.9999999999999995E-7,-9.9999999999999995E-7,-9.9999999999999995E-7,{"$f":"IF(ISERROR(VLOOKUP(F1424,ages!B$1:B$23,1,1)),\"\",VLOOKUP(F1424,ages!B$1:B$23,1,1))","v":""},{"$f":"IF(ISERROR(VLOOKUP(F1424,ages!B$1:D$23,3,1)),\"\",VLOOKUP(F1424,ages!B$1:D$23,3,1))","v":""},0,0,0,0,0]
[null,null,null,null,null,"",null,null,null,null,null,null,"","","","","","","","","","",{"$f":"IF(ISNUMBER(F1430),IF(AL1430<0.85,\"\",VLOOKUP(M1430,A!A$2:X$23,VLOOKUP(F1430,ages!B$1:C$23,2,1),1)),\"\")","v":""},{"$f":"IF(ISNUMBER(F1430),IF(AM1430<0.85,\"\",VLOOKUP(N1430,B!A$2:X$23,VLOOKUP(F1430,ages!B$1:C$23,2,1),1)),\"\")","v":""},{"$f":"IF(ISNUMBER(F1430),IF(AN1430<0.85,\"\",VLOOKUP(O1430,'C'!A$2:X$23,VLOOKUP(F1430,ages!B$1:C$23,2,1),1)),\"\")","v":""},{"$f":"IF(ISNUMBER(F1430),IF(AO1430<0.85,\"\",VLOOKUP(P1430,D!A$2:X$23,VLOOKUP(F1430,ages!B$1:C$23,2,1),1)),\"\")","v":""},{"$f":"IF(ISNUMBER(F1430),IF(AP1430<0.85,\"\",VLOOKUP(Q1430,E!A$2:X$23,VLOOKUP(F1430,ages!B$1:C$23,2,1),1)),\"\")","v":""},{"$f":"IF(ISNUMBER(F1430),IF(AQ1430<0.85,\"\",VLOOKUP(R1430,F!A$2:X$23,VLOOKUP(F1430,ages!B$1:C$23,2,1),1)),\"\")","v":""},{"$f":"IF(ISNUMBER(F1430),IF(AR1430<0.85,\"\",VLOOKUP(S1430,G!A$2:X$23,VLOOKUP(F1430,ages!B$1:C$23,2,1),1)),\"\")","v":""},{"$f":"IF(ISNUMBER(F1430),IF(AS1430<0.85,\"\",VLOOKUP(T1430,H!A$2:X$23,VLOOKUP(F1430,ages!B$1:C$23,2,1),1)),\"\")","v":""},{"$f":"IF(ISNUMBER(F1430),IF(AT1430<0.85,\"\",VLOOKUP(U1430,I!A$2:X$23,VLOOKUP(F1430,ages!B$1:C$23,2,1),1)),\"\")","v":""},{"$f":"IF(ISNUMBER(F1430),IF(AU1430<0.85,\"\",VLOOKUP(V1430,J!A$2:X$23,VLOOKUP(F1430,ages!B$1:C$23,2,1),1)),\"\")","v":""},"","","","",-1.0000000000000002E-6,0,0,0,0,0,0,0,0,0,0,0,null,null,null,null,null,null,null,null,null,null,null,null,null,null,null,null,null,null,null,null,null,null,null,null,null,null,null,null,null,null,null,null,null,null,null,null,null,null,null,null,null,null,null,null,null,null,null,null,null,null,null,null,null,null,null,null,null,null,null,null,null,null,null,null,null,null,null,null,null,null,-9.9999999999999995E-7,-9.9999999999999995E-7,-9.9999999999999995E-7,-9.9999999999999995E-7,-9.9999999999999995E-7,-9.9999999999999995E-7,-9.9999999999999995E-7,-9.9999999999999995E-7,-9.9999999999999995E-7,-9.9999999999999995E-7,-9.9999999999999995E-7,-9.9999999999999995E-7,-9.9999999999999995E-7,-9.9999999999999995E-7,-9.9999999999999995E-7,-9.9999999999999995E-7,-9.9999999999999995E-7,-9.9999999999999995E-7,-9.9999999999999995E-7,-9.9999999999999995E-7,{"$f":"IF(ISERROR(VLOOKUP(F1430,ages!B$1:B$23,1,1)),\"\",VLOOKUP(F1430,ages!B$1:B$23,1,1))","v":""},{"$f":"IF(ISERROR(VLOOKUP(F1430,ages!B$1:D$23,3,1)),\"\",VLOOKUP(F1430,ages!B$1:D$23,3,1))","v":""},0,0,0,0,0]
[null,null,null,null,null,"",null,null,null,null,null,null,"","","","","","","","","","",{"$f":"IF(ISNUMBER(F1431),IF(AL1431<0.85,\"\",VLOOKUP(M1431,A!A$2:X$23,VLOOKUP(F1431,ages!B$1:C$23,2,1),1)),\"\")","v":""},{"$f":"IF(ISNUMBER(F1431),IF(AM1431<0.85,\"\",VLOOKUP(N1431,B!A$2:X$23,VLOOKUP(F1431,ages!B$1:C$23,2,1),1)),\"\")","v":""},{"$f":"IF(ISNUMBER(F1431),IF(AN1431<0.85,\"\",VLOOKUP(O1431,'C'!A$2:X$23,VLOOKUP(F1431,ages!B$1:C$23,2,1),1)),\"\")","v":""},{"$f":"IF(ISNUMBER(F1431),IF(AO1431<0.85,\"\",VLOOKUP(P1431,D!A$2:X$23,VLOOKUP(F1431,ages!B$1:C$23,2,1),1)),\"\")","v":""},{"$f":"IF(ISNUMBER(F1431),IF(AP1431<0.85,\"\",VLOOKUP(Q1431,E!A$2:X$23,VLOOKUP(F1431,ages!B$1:C$23,2,1),1)),\"\")","v":""},{"$f":"IF(ISNUMBER(F1431),IF(AQ1431<0.85,\"\",VLOOKUP(R1431,F!A$2:X$23,VLOOKUP(F1431,ages!B$1:C$23,2,1),1)),\"\")","v":""},{"$f":"IF(ISNUMBER(F1431),IF(AR1431<0.85,\"\",VLOOKUP(S1431,G!A$2:X$23,VLOOKUP(F1431,ages!B$1:C$23,2,1),1)),\"\")","v":""},{"$f":"IF(ISNUMBER(F1431),IF(AS1431<0.85,\"\",VLOOKUP(T1431,H!A$2:X$23,VLOOKUP(F1431,ages!B$1:C$23,2,1),1)),\"\")","v":""},{"$f":"IF(ISNUMBER(F1431),IF(AT1431<0.85,\"\",VLOOKUP(U1431,I!A$2:X$23,VLOOKUP(F1431,ages!B$1:C$23,2,1),1)),\"\")","v":""},{"$f":"IF(ISNUMBER(F1431),IF(AU1431<0.85,\"\",VLOOKUP(V1431,J!A$2:X$23,VLOOKUP(F1431,ages!B$1:C$23,2,1),1)),\"\")","v":""},"","","","",-1.0000000000000002E-6,0,0,0,0,0,0,0,0,0,0,0,null,null,null,null,null,null,null,null,null,null,null,null,null,null,null,null,null,null,null,null,null,null,null,null,null,null,null,null,null,null,null,null,null,null,null,null,null,null,null,null,null,null,null,null,null,null,null,null,null,null,null,null,null,null,null,null,null,null,null,null,null,null,null,null,null,null,null,null,null,null,-9.9999999999999995E-7,-9.9999999999999995E-7,-9.9999999999999995E-7,-9.9999999999999995E-7,-9.9999999999999995E-7,-9.9999999999999995E-7,-9.9999999999999995E-7,-9.9999999999999995E-7,-9.9999999999999995E-7,-9.9999999999999995E-7,-9.9999999999999995E-7,-9.9999999999999995E-7,-9.9999999999999995E-7,-9.9999999999999995E-7,-9.9999999999999995E-7,-9.9999999999999995E-7,-9.9999999999999995E-7,-9.9999999999999995E-7,-9.9999999999999995E-7,-9.9999999999999995E-7,{"$f":"IF(ISERROR(VLOOKUP(F1431,ages!B$1:B$23,1,1)),\"\",VLOOKUP(F1431,ages!B$1:B$23,1,1))","v":""},{"$f":"IF(ISERROR(VLOOKUP(F1431,ages!B$1:D$23,3,1)),\"\",VLOOKUP(F1431,ages!B$1:D$23,3,1))","v":""},0,0,0,0,0]
[null,null,null,null,null,"",null,null,null,null,null,null,"","","","","","","","","","",{"$f":"IF(ISNUMBER(F1436),IF(AL1436<0.85,\"\",VLOOKUP(M1436,A!A$2:X$23,VLOOKUP(F1436,ages!B$1:C$23,2,1),1)),\"\")","v":""},{"$f":"IF(ISNUMBER(F1436),IF(AM1436<0.85,\"\",VLOOKUP(N1436,B!A$2:X$23,VLOOKUP(F1436,ages!B$1:C$23,2,1),1)),\"\")","v":""},{"$f":"IF(ISNUMBER(F1436),IF(AN1436<0.85,\"\",VLOOKUP(O1436,'C'!A$2:X$23,VLOOKUP(F1436,ages!B$1:C$23,2,1),1)),\"\")","v":""},{"$f":"IF(ISNUMBER(F1436),IF(AO1436<0.85,\"\",VLOOKUP(P1436,D!A$2:X$23,VLOOKUP(F1436,ages!B$1:C$23,2,1),1)),\"\")","v":""},{"$f":"IF(ISNUMBER(F1436),IF(AP1436<0.85,\"\",VLOOKUP(Q1436,E!A$2:X$23,VLOOKUP(F1436,ages!B$1:C$23,2,1),1)),\"\")","v":""},{"$f":"IF(ISNUMBER(F1436),IF(AQ1436<0.85,\"\",VLOOKUP(R1436,F!A$2:X$23,VLOOKUP(F1436,ages!B$1:C$23,2,1),1)),\"\")","v":""},{"$f":"IF(ISNUMBER(F1436),IF(AR1436<0.85,\"\",VLOOKUP(S1436,G!A$2:X$23,VLOOKUP(F1436,ages!B$1:C$23,2,1),1)),\"\")","v":""},{"$f":"IF(ISNUMBER(F1436),IF(AS1436<0.85,\"\",VLOOKUP(T1436,H!A$2:X$23,VLOOKUP(F1436,ages!B$1:C$23,2,1),1)),\"\")","v":""},{"$f":"IF(ISNUMBER(F1436),IF(AT1436<0.85,\"\",VLOOKUP(U1436,I!A$2:X$23,VLOOKUP(F1436,ages!B$1:C$23,2,1),1)),\"\")","v":""},{"$f":"IF(ISNUMBER(F1436),IF(AU1436<0.85,\"\",VLOOKUP(V1436,J!A$2:X$23,VLOOKUP(F1436,ages!B$1:C$23,2,1),1)),\"\")","v":""},"","","","",-1.0000000000000002E-6,0,0,0,0,0,0,0,0,0,0,0,null,null,null,null,null,null,null,null,null,null,null,null,null,null,null,null,null,null,null,null,null,null,null,null,null,null,null,null,null,null,null,null,null,null,null,null,null,null,null,null,null,null,null,null,null,null,null,null,null,null,null,null,null,null,null,null,null,null,null,null,null,null,null,null,null,null,null,null,null,null,-9.9999999999999995E-7,-9.9999999999999995E-7,-9.9999999999999995E-7,-9.9999999999999995E-7,-9.9999999999999995E-7,-9.9999999999999995E-7,-9.9999999999999995E-7,-9.9999999999999995E-7,-9.9999999999999995E-7,-9.9999999999999995E-7,-9.9999999999999995E-7,-9.9999999999999995E-7,-9.9999999999999995E-7,-9.9999999999999995E-7,-9.9999999999999995E-7,-9.9999999999999995E-7,-9.9999999999999995E-7,-9.9999999999999995E-7,-9.9999999999999995E-7,-9.9999999999999995E-7,{"$f":"IF(ISERROR(VLOOKUP(F1436,ages!B$1:B$23,1,1)),\"\",VLOOKUP(F1436,ages!B$1:B$23,1,1))","v":""},{"$f":"IF(ISERROR(VLOOKUP(F1436,ages!B$1:D$23,3,1)),\"\",VLOOKUP(F1436,ages!B$1:D$23,3,1))","v":""},0,0,0,0,0]
[null,null,null,null,null,"",null,null,null,null,null,null,"","","","","","","","","","",{"$f":"IF(ISNUMBER(F1442),IF(AL1442<0.85,\"\",VLOOKUP(M1442,A!A$2:X$23,VLOOKUP(F1442,ages!B$1:C$23,2,1),1)),\"\")","v":""},{"$f":"IF(ISNUMBER(F1442),IF(AM1442<0.85,\"\",VLOOKUP(N1442,B!A$2:X$23,VLOOKUP(F1442,ages!B$1:C$23,2,1),1)),\"\")","v":""},{"$f":"IF(ISNUMBER(F1442),IF(AN1442<0.85,\"\",VLOOKUP(O1442,'C'!A$2:X$23,VLOOKUP(F1442,ages!B$1:C$23,2,1),1)),\"\")","v":""},{"$f":"IF(ISNUMBER(F1442),IF(AO1442<0.85,\"\",VLOOKUP(P1442,D!A$2:X$23,VLOOKUP(F1442,ages!B$1:C$23,2,1),1)),\"\")","v":""},{"$f":"IF(ISNUMBER(F1442),IF(AP1442<0.85,\"\",VLOOKUP(Q1442,E!A$2:X$23,VLOOKUP(F1442,ages!B$1:C$23,2,1),1)),\"\")","v":""},{"$f":"IF(ISNUMBER(F1442),IF(AQ1442<0.85,\"\",VLOOKUP(R1442,F!A$2:X$23,VLOOKUP(F1442,ages!B$1:C$23,2,1),1)),\"\")","v":""},{"$f":"IF(ISNUMBER(F1442),IF(AR1442<0.85,\"\",VLOOKUP(S1442,G!A$2:X$23,VLOOKUP(F1442,ages!B$1:C$23,2,1),1)),\"\")","v":""},{"$f":"IF(ISNUMBER(F1442),IF(AS1442<0.85,\"\",VLOOKUP(T1442,H!A$2:X$23,VLOOKUP(F1442,ages!B$1:C$23,2,1),1)),\"\")","v":""},{"$f":"IF(ISNUMBER(F1442),IF(AT1442<0.85,\"\",VLOOKUP(U1442,I!A$2:X$23,VLOOKUP(F1442,ages!B$1:C$23,2,1),1)),\"\")","v":""},{"$f":"IF(ISNUMBER(F1442),IF(AU1442<0.85,\"\",VLOOKUP(V1442,J!A$2:X$23,VLOOKUP(F1442,ages!B$1:C$23,2,1),1)),\"\")","v":""},"","","","",-1.0000000000000002E-6,0,0,0,0,0,0,0,0,0,0,0,null,null,null,null,null,null,null,null,null,null,null,null,null,null,null,null,null,null,null,null,null,null,null,null,null,null,null,null,null,null,null,null,null,null,null,null,null,null,null,null,null,null,null,null,null,null,null,null,null,null,null,null,null,null,null,null,null,null,null,null,null,null,null,null,null,null,null,null,null,null,-9.9999999999999995E-7,-9.9999999999999995E-7,-9.9999999999999995E-7,-9.9999999999999995E-7,-9.9999999999999995E-7,-9.9999999999999995E-7,-9.9999999999999995E-7,-9.9999999999999995E-7,-9.9999999999999995E-7,-9.9999999999999995E-7,-9.9999999999999995E-7,-9.9999999999999995E-7,-9.9999999999999995E-7,-9.9999999999999995E-7,-9.9999999999999995E-7,-9.9999999999999995E-7,-9.9999999999999995E-7,-9.9999999999999995E-7,-9.9999999999999995E-7,-9.9999999999999995E-7,{"$f":"IF(ISERROR(VLOOKUP(F1442,ages!B$1:B$23,1,1)),\"\",VLOOKUP(F1442,ages!B$1:B$23,1,1))","v":""},{"$f":"IF(ISERROR(VLOOKUP(F1442,ages!B$1:D$23,3,1)),\"\",VLOOKUP(F1442,ages!B$1:D$23,3,1))","v":""},0,0,0,0,0]
[null,null,null,null,null,"",null,null,null,null,null,null,"","","","","","","","","","",{"$f":"IF(ISNUMBER(F1446),IF(AL1446<0.85,\"\",VLOOKUP(M1446,A!A$2:X$23,VLOOKUP(F1446,ages!B$1:C$23,2,1),1)),\"\")","v":""},{"$f":"IF(ISNUMBER(F1446),IF(AM1446<0.85,\"\",VLOOKUP(N1446,B!A$2:X$23,VLOOKUP(F1446,ages!B$1:C$23,2,1),1)),\"\")","v":""},{"$f":"IF(ISNUMBER(F1446),IF(AN1446<0.85,\"\",VLOOKUP(O1446,'C'!A$2:X$23,VLOOKUP(F1446,ages!B$1:C$23,2,1),1)),\"\")","v":""},{"$f":"IF(ISNUMBER(F1446),IF(AO1446<0.85,\"\",VLOOKUP(P1446,D!A$2:X$23,VLOOKUP(F1446,ages!B$1:C$23,2,1),1)),\"\")","v":""},{"$f":"IF(ISNUMBER(F1446),IF(AP1446<0.85,\"\",VLOOKUP(Q1446,E!A$2:X$23,VLOOKUP(F1446,ages!B$1:C$23,2,1),1)),\"\")","v":""},{"$f":"IF(ISNUMBER(F1446),IF(AQ1446<0.85,\"\",VLOOKUP(R1446,F!A$2:X$23,VLOOKUP(F1446,ages!B$1:C$23,2,1),1)),\"\")","v":""},{"$f":"IF(ISNUMBER(F1446),IF(AR1446<0.85,\"\",VLOOKUP(S1446,G!A$2:X$23,VLOOKUP(F1446,ages!B$1:C$23,2,1),1)),\"\")","v":""},{"$f":"IF(ISNUMBER(F1446),IF(AS1446<0.85,\"\",VLOOKUP(T1446,H!A$2:X$23,VLOOKUP(F1446,ages!B$1:C$23,2,1),1)),\"\")","v":""},{"$f":"IF(ISNUMBER(F1446),IF(AT1446<0.85,\"\",VLOOKUP(U1446,I!A$2:X$23,VLOOKUP(F1446,ages!B$1:C$23,2,1),1)),\"\")","v":""},{"$f":"IF(ISNUMBER(F1446),IF(AU1446<0.85,\"\",VLOOKUP(V1446,J!A$2:X$23,VLOOKUP(F1446,ages!B$1:C$23,2,1),1)),\"\")","v":""},"","","","",-1.0000000000000002E-6,0,0,0,0,0,0,0,0,0,0,0,null,null,null,null,null,null,null,null,null,null,null,null,null,null,null,null,null,null,null,null,null,null,null,null,null,null,null,null,null,null,null,null,null,null,null,null,null,null,null,null,null,null,null,null,null,null,null,null,null,null,null,null,null,null,null,null,null,null,null,null,null,null,null,null,null,null,null,null,null,null,-9.9999999999999995E-7,-9.9999999999999995E-7,-9.9999999999999995E-7,-9.9999999999999995E-7,-9.9999999999999995E-7,-9.9999999999999995E-7,-9.9999999999999995E-7,-9.9999999999999995E-7,-9.9999999999999995E-7,-9.9999999999999995E-7,-9.9999999999999995E-7,-9.9999999999999995E-7,-9.9999999999999995E-7,-9.9999999999999995E-7,-9.9999999999999995E-7,-9.9999999999999995E-7,-9.9999999999999995E-7,-9.9999999999999995E-7,-9.9999999999999995E-7,-9.9999999999999995E-7,{"$f":"IF(ISERROR(VLOOKUP(F1446,ages!B$1:B$23,1,1)),\"\",VLOOKUP(F1446,ages!B$1:B$23,1,1))","v":""},{"$f":"IF(ISERROR(VLOOKUP(F1446,ages!B$1:D$23,3,1)),\"\",VLOOKUP(F1446,ages!B$1:D$23,3,1))","v":""},0,0,0,0,0]
[null,null,null,null,null,"",null,null,null,null,null,null,"","","","","","","","","","",{"$f":"IF(ISNUMBER(F1447),IF(AL1447<0.85,\"\",VLOOKUP(M1447,A!A$2:X$23,VLOOKUP(F1447,ages!B$1:C$23,2,1),1)),\"\")","v":""},{"$f":"IF(ISNUMBER(F1447),IF(AM1447<0.85,\"\",VLOOKUP(N1447,B!A$2:X$23,VLOOKUP(F1447,ages!B$1:C$23,2,1),1)),\"\")","v":""},{"$f":"IF(ISNUMBER(F1447),IF(AN1447<0.85,\"\",VLOOKUP(O1447,'C'!A$2:X$23,VLOOKUP(F1447,ages!B$1:C$23,2,1),1)),\"\")","v":""},{"$f":"IF(ISNUMBER(F1447),IF(AO1447<0.85,\"\",VLOOKUP(P1447,D!A$2:X$23,VLOOKUP(F1447,ages!B$1:C$23,2,1),1)),\"\")","v":""},{"$f":"IF(ISNUMBER(F1447),IF(AP1447<0.85,\"\",VLOOKUP(Q1447,E!A$2:X$23,VLOOKUP(F1447,ages!B$1:C$23,2,1),1)),\"\")","v":""},{"$f":"IF(ISNUMBER(F1447),IF(AQ1447<0.85,\"\",VLOOKUP(R1447,F!A$2:X$23,VLOOKUP(F1447,ages!B$1:C$23,2,1),1)),\"\")","v":""},{"$f":"IF(ISNUMBER(F1447),IF(AR1447<0.85,\"\",VLOOKUP(S1447,G!A$2:X$23,VLOOKUP(F1447,ages!B$1:C$23,2,1),1)),\"\")","v":""},{"$f":"IF(ISNUMBER(F1447),IF(AS1447<0.85,\"\",VLOOKUP(T1447,H!A$2:X$23,VLOOKUP(F1447,ages!B$1:C$23,2,1),1)),\"\")","v":""},{"$f":"IF(ISNUMBER(F1447),IF(AT1447<0.85,\"\",VLOOKUP(U1447,I!A$2:X$23,VLOOKUP(F1447,ages!B$1:C$23,2,1),1)),\"\")","v":""},{"$f":"IF(ISNUMBER(F1447),IF(AU1447<0.85,\"\",VLOOKUP(V1447,J!A$2:X$23,VLOOKUP(F1447,ages!B$1:C$23,2,1),1)),\"\")","v":""},"","","","",-1.0000000000000002E-6,0,0,0,0,0,0,0,0,0,0,0,null,null,null,null,null,null,null,null,null,null,null,null,null,null,null,null,null,null,null,null,null,null,null,null,null,null,null,null,null,null,null,null,null,null,null,null,null,null,null,null,null,null,null,null,null,null,null,null,null,null,null,null,null,null,null,null,null,null,null,null,null,null,null,null,null,null,null,null,null,null,-9.9999999999999995E-7,-9.9999999999999995E-7,-9.9999999999999995E-7,-9.9999999999999995E-7,-9.9999999999999995E-7,-9.9999999999999995E-7,-9.9999999999999995E-7,-9.9999999999999995E-7,-9.9999999999999995E-7,-9.9999999999999995E-7,-9.9999999999999995E-7,-9.9999999999999995E-7,-9.9999999999999995E-7,-9.9999999999999995E-7,-9.9999999999999995E-7,-9.9999999999999995E-7,-9.9999999999999995E-7,-9.9999999999999995E-7,-9.9999999999999995E-7,-9.9999999999999995E-7,{"$f":"IF(ISERROR(VLOOKUP(F1447,ages!B$1:B$23,1,1)),\"\",VLOOKUP(F1447,ages!B$1:B$23,1,1))","v":""},{"$f":"IF(ISERROR(VLOOKUP(F1447,ages!B$1:D$23,3,1)),\"\",VLOOKUP(F1447,ages!B$1:D$23,3,1))","v":""},0,0,0,0,0]
[null,null,null,null,null,"",null,null,null,null,null,null,"","","","","","","","","","",{"$f":"IF(ISNUMBER(F1448),IF(AL1448<0.85,\"\",VLOOKUP(M1448,A!A$2:X$23,VLOOKUP(F1448,ages!B$1:C$23,2,1),1)),\"\")","v":""},{"$f":"IF(ISNUMBER(F1448),IF(AM1448<0.85,\"\",VLOOKUP(N1448,B!A$2:X$23,VLOOKUP(F1448,ages!B$1:C$23,2,1),1)),\"\")","v":""},{"$f":"IF(ISNUMBER(F1448),IF(AN1448<0.85,\"\",VLOOKUP(O1448,'C'!A$2:X$23,VLOOKUP(F1448,ages!B$1:C$23,2,1),1)),\"\")","v":""},{"$f":"IF(ISNUMBER(F1448),IF(AO1448<0.85,\"\",VLOOKUP(P1448,D!A$2:X$23,VLOOKUP(F1448,ages!B$1:C$23,2,1),1)),\"\")","v":""},{"$f":"IF(ISNUMBER(F1448),IF(AP1448<0.85,\"\",VLOOKUP(Q1448,E!A$2:X$23,VLOOKUP(F1448,ages!B$1:C$23,2,1),1)),\"\")","v":""},{"$f":"IF(ISNUMBER(F1448),IF(AQ1448<0.85,\"\",VLOOKUP(R1448,F!A$2:X$23,VLOOKUP(F1448,ages!B$1:C$23,2,1),1)),\"\")","v":""},{"$f":"IF(ISNUMBER(F1448),IF(AR1448<0.85,\"\",VLOOKUP(S1448,G!A$2:X$23,VLOOKUP(F1448,ages!B$1:C$23,2,1),1)),\"\")","v":""},{"$f":"IF(ISNUMBER(F1448),IF(AS1448<0.85,\"\",VLOOKUP(T1448,H!A$2:X$23,VLOOKUP(F1448,ages!B$1:C$23,2,1),1)),\"\")","v":""},{"$f":"IF(ISNUMBER(F1448),IF(AT1448<0.85,\"\",VLOOKUP(U1448,I!A$2:X$23,VLOOKUP(F1448,ages!B$1:C$23,2,1),1)),\"\")","v":""},{"$f":"IF(ISNUMBER(F1448),IF(AU1448<0.85,\"\",VLOOKUP(V1448,J!A$2:X$23,VLOOKUP(F1448,ages!B$1:C$23,2,1),1)),\"\")","v":""},"","","","",-1.0000000000000002E-6,0,0,0,0,0,0,0,0,0,0,0,null,null,null,null,null,null,null,null,null,null,null,null,null,null,null,null,null,null,null,null,null,null,null,null,null,null,null,null,null,null,null,null,null,null,null,null,null,null,null,null,null,null,null,null,null,null,null,null,null,null,null,null,null,null,null,null,null,null,null,null,null,null,null,null,null,null,null,null,null,null,-9.9999999999999995E-7,-9.9999999999999995E-7,-9.9999999999999995E-7,-9.9999999999999995E-7,-9.9999999999999995E-7,-9.9999999999999995E-7,-9.9999999999999995E-7,-9.9999999999999995E-7,-9.9999999999999995E-7,-9.9999999999999995E-7,-9.9999999999999995E-7,-9.9999999999999995E-7,-9.9999999999999995E-7,-9.9999999999999995E-7,-9.9999999999999995E-7,-9.9999999999999995E-7,-9.9999999999999995E-7,-9.9999999999999995E-7,-9.9999999999999995E-7,-9.9999999999999995E-7,{"$f":"IF(ISERROR(VLOOKUP(F1448,ages!B$1:B$23,1,1)),\"\",VLOOKUP(F1448,ages!B$1:B$23,1,1))","v":""},{"$f":"IF(ISERROR(VLOOKUP(F1448,ages!B$1:D$23,3,1)),\"\",VLOOKUP(F1448,ages!B$1:D$23,3,1))","v":""},0,0,0,0,0]
[null,null,null,null,null,"",null,null,null,null,null,null,"","","","","","","","","","",{"$f":"IF(ISNUMBER(F1449),IF(AL1449<0.85,\"\",VLOOKUP(M1449,A!A$2:X$23,VLOOKUP(F1449,ages!B$1:C$23,2,1),1)),\"\")","v":""},{"$f":"IF(ISNUMBER(F1449),IF(AM1449<0.85,\"\",VLOOKUP(N1449,B!A$2:X$23,VLOOKUP(F1449,ages!B$1:C$23,2,1),1)),\"\")","v":""},{"$f":"IF(ISNUMBER(F1449),IF(AN1449<0.85,\"\",VLOOKUP(O1449,'C'!A$2:X$23,VLOOKUP(F1449,ages!B$1:C$23,2,1),1)),\"\")","v":""},{"$f":"IF(ISNUMBER(F1449),IF(AO1449<0.85,\"\",VLOOKUP(P1449,D!A$2:X$23,VLOOKUP(F1449,ages!B$1:C$23,2,1),1)),\"\")","v":""},{"$f":"IF(ISNUMBER(F1449),IF(AP1449<0.85,\"\",VLOOKUP(Q1449,E!A$2:X$23,VLOOKUP(F1449,ages!B$1:C$23,2,1),1)),\"\")","v":""},{"$f":"IF(ISNUMBER(F1449),IF(AQ1449<0.85,\"\",VLOOKUP(R1449,F!A$2:X$23,VLOOKUP(F1449,ages!B$1:C$23,2,1),1)),\"\")","v":""},{"$f":"IF(ISNUMBER(F1449),IF(AR1449<0.85,\"\",VLOOKUP(S1449,G!A$2:X$23,VLOOKUP(F1449,ages!B$1:C$23,2,1),1)),\"\")","v":""},{"$f":"IF(ISNUMBER(F1449),IF(AS1449<0.85,\"\",VLOOKUP(T1449,H!A$2:X$23,VLOOKUP(F1449,ages!B$1:C$23,2,1),1)),\"\")","v":""},{"$f":"IF(ISNUMBER(F1449),IF(AT1449<0.85,\"\",VLOOKUP(U1449,I!A$2:X$23,VLOOKUP(F1449,ages!B$1:C$23,2,1),1)),\"\")","v":""},{"$f":"IF(ISNUMBER(F1449),IF(AU1449<0.85,\"\",VLOOKUP(V1449,J!A$2:X$23,VLOOKUP(F1449,ages!B$1:C$23,2,1),1)),\"\")","v":""},"","","","",-1.0000000000000002E-6,0,0,0,0,0,0,0,0,0,0,0,null,null,null,null,null,null,null,null,null,null,null,null,null,null,null,null,null,null,null,null,null,null,null,null,null,null,null,null,null,null,null,null,null,null,null,null,null,null,null,null,null,null,null,null,null,null,null,null,null,null,null,null,null,null,null,null,null,null,null,null,null,null,null,null,null,null,null,null,null,null,-9.9999999999999995E-7,-9.9999999999999995E-7,-9.9999999999999995E-7,-9.9999999999999995E-7,-9.9999999999999995E-7,-9.9999999999999995E-7,-9.9999999999999995E-7,-9.9999999999999995E-7,-9.9999999999999995E-7,-9.9999999999999995E-7,-9.9999999999999995E-7,-9.9999999999999995E-7,-9.9999999999999995E-7,-9.9999999999999995E-7,-9.9999999999999995E-7,-9.9999999999999995E-7,-9.9999999999999995E-7,-9.9999999999999995E-7,-9.9999999999999995E-7,-9.9999999999999995E-7,{"$f":"IF(ISERROR(VLOOKUP(F1449,ages!B$1:B$23,1,1)),\"\",VLOOKUP(F1449,ages!B$1:B$23,1,1))","v":""},{"$f":"IF(ISERROR(VLOOKUP(F1449,ages!B$1:D$23,3,1)),\"\",VLOOKUP(F1449,ages!B$1:D$23,3,1))","v":""},0,0,0,0,0]
[null,null,null,null,null,"",null,null,null,null,null,null,"","","","","","","","","","",{"$f":"IF(ISNUMBER(F1450),IF(AL1450<0.85,\"\",VLOOKUP(M1450,A!A$2:X$23,VLOOKUP(F1450,ages!B$1:C$23,2,1),1)),\"\")","v":""},{"$f":"IF(ISNUMBER(F1450),IF(AM1450<0.85,\"\",VLOOKUP(N1450,B!A$2:X$23,VLOOKUP(F1450,ages!B$1:C$23,2,1),1)),\"\")","v":""},{"$f":"IF(ISNUMBER(F1450),IF(AN1450<0.85,\"\",VLOOKUP(O1450,'C'!A$2:X$23,VLOOKUP(F1450,ages!B$1:C$23,2,1),1)),\"\")","v":""},{"$f":"IF(ISNUMBER(F1450),IF(AO1450<0.85,\"\",VLOOKUP(P1450,D!A$2:X$23,VLOOKUP(F1450,ages!B$1:C$23,2,1),1)),\"\")","v":""},{"$f":"IF(ISNUMBER(F1450),IF(AP1450<0.85,\"\",VLOOKUP(Q1450,E!A$2:X$23,VLOOKUP(F1450,ages!B$1:C$23,2,1),1)),\"\")","v":""},{"$f":"IF(ISNUMBER(F1450),IF(AQ1450<0.85,\"\",VLOOKUP(R1450,F!A$2:X$23,VLOOKUP(F1450,ages!B$1:C$23,2,1),1)),\"\")","v":""},{"$f":"IF(ISNUMBER(F1450),IF(AR1450<0.85,\"\",VLOOKUP(S1450,G!A$2:X$23,VLOOKUP(F1450,ages!B$1:C$23,2,1),1)),\"\")","v":""},{"$f":"IF(ISNUMBER(F1450),IF(AS1450<0.85,\"\",VLOOKUP(T1450,H!A$2:X$23,VLOOKUP(F1450,ages!B$1:C$23,2,1),1)),\"\")","v":""},{"$f":"IF(ISNUMBER(F1450),IF(AT1450<0.85,\"\",VLOOKUP(U1450,I!A$2:X$23,VLOOKUP(F1450,ages!B$1:C$23,2,1),1)),\"\")","v":""},{"$f":"IF(ISNUMBER(F1450),IF(AU1450<0.85,\"\",VLOOKUP(V1450,J!A$2:X$23,VLOOKUP(F1450,ages!B$1:C$23,2,1),1)),\"\")","v":""},"","","","",-1.0000000000000002E-6,0,0,0,0,0,0,0,0,0,0,0,null,null,null,null,null,null,null,null,null,null,null,null,null,null,null,null,null,null,null,null,null,null,null,null,null,null,null,null,null,null,null,null,null,null,null,null,null,null,null,null,null,null,null,null,null,null,null,null,null,null,null,null,null,null,null,null,null,null,null,null,null,null,null,null,null,null,null,null,null,null,-9.9999999999999995E-7,-9.9999999999999995E-7,-9.9999999999999995E-7,-9.9999999999999995E-7,-9.9999999999999995E-7,-9.9999999999999995E-7,-9.9999999999999995E-7,-9.9999999999999995E-7,-9.9999999999999995E-7,-9.9999999999999995E-7,-9.9999999999999995E-7,-9.9999999999999995E-7,-9.9999999999999995E-7,-9.9999999999999995E-7,-9.9999999999999995E-7,-9.9999999999999995E-7,-9.9999999999999995E-7,-9.9999999999999995E-7,-9.9999999999999995E-7,-9.9999999999999995E-7,{"$f":"IF(ISERROR(VLOOKUP(F1450,ages!B$1:B$23,1,1)),\"\",VLOOKUP(F1450,ages!B$1:B$23,1,1))","v":""},{"$f":"IF(ISERROR(VLOOKUP(F1450,ages!B$1:D$23,3,1)),\"\",VLOOKUP(F1450,ages!B$1:D$23,3,1))","v":""},0,0,0,0,0]
[null,null,null,null,null,"",null,null,null,null,null,null,"","","","","","","","","","",{"$f":"IF(ISNUMBER(F1451),IF(AL1451<0.85,\"\",VLOOKUP(M1451,A!A$2:X$23,VLOOKUP(F1451,ages!B$1:C$23,2,1),1)),\"\")","v":""},{"$f":"IF(ISNUMBER(F1451),IF(AM1451<0.85,\"\",VLOOKUP(N1451,B!A$2:X$23,VLOOKUP(F1451,ages!B$1:C$23,2,1),1)),\"\")","v":""},{"$f":"IF(ISNUMBER(F1451),IF(AN1451<0.85,\"\",VLOOKUP(O1451,'C'!A$2:X$23,VLOOKUP(F1451,ages!B$1:C$23,2,1),1)),\"\")","v":""},{"$f":"IF(ISNUMBER(F1451),IF(AO1451<0.85,\"\",VLOOKUP(P1451,D!A$2:X$23,VLOOKUP(F1451,ages!B$1:C$23,2,1),1)),\"\")","v":""},{"$f":"IF(ISNUMBER(F1451),IF(AP1451<0.85,\"\",VLOOKUP(Q1451,E!A$2:X$23,VLOOKUP(F1451,ages!B$1:C$23,2,1),1)),\"\")","v":""},{"$f":"IF(ISNUMBER(F1451),IF(AQ1451<0.85,\"\",VLOOKUP(R1451,F!A$2:X$23,VLOOKUP(F1451,ages!B$1:C$23,2,1),1)),\"\")","v":""},{"$f":"IF(ISNUMBER(F1451),IF(AR1451<0.85,\"\",VLOOKUP(S1451,G!A$2:X$23,VLOOKUP(F1451,ages!B$1:C$23,2,1),1)),\"\")","v":""},{"$f":"IF(ISNUMBER(F1451),IF(AS1451<0.85,\"\",VLOOKUP(T1451,H!A$2:X$23,VLOOKUP(F1451,ages!B$1:C$23,2,1),1)),\"\")","v":""},{"$f":"IF(ISNUMBER(F1451),IF(AT1451<0.85,\"\",VLOOKUP(U1451,I!A$2:X$23,VLOOKUP(F1451,ages!B$1:C$23,2,1),1)),\"\")","v":""},{"$f":"IF(ISNUMBER(F1451),IF(AU1451<0.85,\"\",VLOOKUP(V1451,J!A$2:X$23,VLOOKUP(F1451,ages!B$1:C$23,2,1),1)),\"\")","v":""},"","","","",-1.0000000000000002E-6,0,0,0,0,0,0,0,0,0,0,0,null,null,null,null,null,null,null,null,null,null,null,null,null,null,null,null,null,null,null,null,null,null,null,null,null,null,null,null,null,null,null,null,null,null,null,null,null,null,null,null,null,null,null,null,null,null,null,null,null,null,null,null,null,null,null,null,null,null,null,null,null,null,null,null,null,null,null,null,null,null,-9.9999999999999995E-7,-9.9999999999999995E-7,-9.9999999999999995E-7,-9.9999999999999995E-7,-9.9999999999999995E-7,-9.9999999999999995E-7,-9.9999999999999995E-7,-9.9999999999999995E-7,-9.9999999999999995E-7,-9.9999999999999995E-7,-9.9999999999999995E-7,-9.9999999999999995E-7,-9.9999999999999995E-7,-9.9999999999999995E-7,-9.9999999999999995E-7,-9.9999999999999995E-7,-9.9999999999999995E-7,-9.9999999999999995E-7,-9.9999999999999995E-7,-9.9999999999999995E-7,{"$f":"IF(ISERROR(VLOOKUP(F1451,ages!B$1:B$23,1,1)),\"\",VLOOKUP(F1451,ages!B$1:B$23,1,1))","v":""},{"$f":"IF(ISERROR(VLOOKUP(F1451,ages!B$1:D$23,3,1)),\"\",VLOOKUP(F1451,ages!B$1:D$23,3,1))","v":""},0,0,0,0,0]
[null,null,null,null,null,"",null,null,null,null,null,null,"","","","","","","","","","",{"$f":"IF(ISNUMBER(F1452),IF(AL1452<0.85,\"\",VLOOKUP(M1452,A!A$2:X$23,VLOOKUP(F1452,ages!B$1:C$23,2,1),1)),\"\")","v":""},{"$f":"IF(ISNUMBER(F1452),IF(AM1452<0.85,\"\",VLOOKUP(N1452,B!A$2:X$23,VLOOKUP(F1452,ages!B$1:C$23,2,1),1)),\"\")","v":""},{"$f":"IF(ISNUMBER(F1452),IF(AN1452<0.85,\"\",VLOOKUP(O1452,'C'!A$2:X$23,VLOOKUP(F1452,ages!B$1:C$23,2,1),1)),\"\")","v":""},{"$f":"IF(ISNUMBER(F1452),IF(AO1452<0.85,\"\",VLOOKUP(P1452,D!A$2:X$23,VLOOKUP(F1452,ages!B$1:C$23,2,1),1)),\"\")","v":""},{"$f":"IF(ISNUMBER(F1452),IF(AP1452<0.85,\"\",VLOOKUP(Q1452,E!A$2:X$23,VLOOKUP(F1452,ages!B$1:C$23,2,1),1)),\"\")","v":""},{"$f":"IF(ISNUMBER(F1452),IF(AQ1452<0.85,\"\",VLOOKUP(R1452,F!A$2:X$23,VLOOKUP(F1452,ages!B$1:C$23,2,1),1)),\"\")","v":""},{"$f":"IF(ISNUMBER(F1452),IF(AR1452<0.85,\"\",VLOOKUP(S1452,G!A$2:X$23,VLOOKUP(F1452,ages!B$1:C$23,2,1),1)),\"\")","v":""},{"$f":"IF(ISNUMBER(F1452),IF(AS1452<0.85,\"\",VLOOKUP(T1452,H!A$2:X$23,VLOOKUP(F1452,ages!B$1:C$23,2,1),1)),\"\")","v":""},{"$f":"IF(ISNUMBER(F1452),IF(AT1452<0.85,\"\",VLOOKUP(U1452,I!A$2:X$23,VLOOKUP(F1452,ages!B$1:C$23,2,1),1)),\"\")","v":""},{"$f":"IF(ISNUMBER(F1452),IF(AU1452<0.85,\"\",VLOOKUP(V1452,J!A$2:X$23,VLOOKUP(F1452,ages!B$1:C$23,2,1),1)),\"\")","v":""},"","","","",-1.0000000000000002E-6,0,0,0,0,0,0,0,0,0,0,0,null,null,null,null,null,null,null,null,null,null,null,null,null,null,null,null,null,null,null,null,null,null,null,null,null,null,null,null,null,null,null,null,null,null,null,null,null,null,null,null,null,null,null,null,null,null,null,null,null,null,null,null,null,null,null,null,null,null,null,null,null,null,null,null,null,null,null,null,null,null,-9.9999999999999995E-7,-9.9999999999999995E-7,-9.9999999999999995E-7,-9.9999999999999995E-7,-9.9999999999999995E-7,-9.9999999999999995E-7,-9.9999999999999995E-7,-9.9999999999999995E-7,-9.9999999999999995E-7,-9.9999999999999995E-7,-9.9999999999999995E-7,-9.9999999999999995E-7,-9.9999999999999995E-7,-9.9999999999999995E-7,-9.9999999999999995E-7,-9.9999999999999995E-7,-9.9999999999999995E-7,-9.9999999999999995E-7,-9.9999999999999995E-7,-9.9999999999999995E-7,{"$f":"IF(ISERROR(VLOOKUP(F1452,ages!B$1:B$23,1,1)),\"\",VLOOKUP(F1452,ages!B$1:B$23,1,1))","v":""},{"$f":"IF(ISERROR(VLOOKUP(F1452,ages!B$1:D$23,3,1)),\"\",VLOOKUP(F1452,ages!B$1:D$23,3,1))","v":""},0,0,0,0,0]
[null,null,null,null,null,"",null,null,null,null,null,null,"","","","","","","","","","",{"$f":"IF(ISNUMBER(F1453),IF(AL1453<0.85,\"\",VLOOKUP(M1453,A!A$2:X$23,VLOOKUP(F1453,ages!B$1:C$23,2,1),1)),\"\")","v":""},{"$f":"IF(ISNUMBER(F1453),IF(AM1453<0.85,\"\",VLOOKUP(N1453,B!A$2:X$23,VLOOKUP(F1453,ages!B$1:C$23,2,1),1)),\"\")","v":""},{"$f":"IF(ISNUMBER(F1453),IF(AN1453<0.85,\"\",VLOOKUP(O1453,'C'!A$2:X$23,VLOOKUP(F1453,ages!B$1:C$23,2,1),1)),\"\")","v":""},{"$f":"IF(ISNUMBER(F1453),IF(AO1453<0.85,\"\",VLOOKUP(P1453,D!A$2:X$23,VLOOKUP(F1453,ages!B$1:C$23,2,1),1)),\"\")","v":""},{"$f":"IF(ISNUMBER(F1453),IF(AP1453<0.85,\"\",VLOOKUP(Q1453,E!A$2:X$23,VLOOKUP(F1453,ages!B$1:C$23,2,1),1)),\"\")","v":""},{"$f":"IF(ISNUMBER(F1453),IF(AQ1453<0.85,\"\",VLOOKUP(R1453,F!A$2:X$23,VLOOKUP(F1453,ages!B$1:C$23,2,1),1)),\"\")","v":""},{"$f":"IF(ISNUMBER(F1453),IF(AR1453<0.85,\"\",VLOOKUP(S1453,G!A$2:X$23,VLOOKUP(F1453,ages!B$1:C$23,2,1),1)),\"\")","v":""},{"$f":"IF(ISNUMBER(F1453),IF(AS1453<0.85,\"\",VLOOKUP(T1453,H!A$2:X$23,VLOOKUP(F1453,ages!B$1:C$23,2,1),1)),\"\")","v":""},{"$f":"IF(ISNUMBER(F1453),IF(AT1453<0.85,\"\",VLOOKUP(U1453,I!A$2:X$23,VLOOKUP(F1453,ages!B$1:C$23,2,1),1)),\"\")","v":""},{"$f":"IF(ISNUMBER(F1453),IF(AU1453<0.85,\"\",VLOOKUP(V1453,J!A$2:X$23,VLOOKUP(F1453,ages!B$1:C$23,2,1),1)),\"\")","v":""},"","","","",-1.0000000000000002E-6,0,0,0,0,0,0,0,0,0,0,0,null,null,null,null,null,null,null,null,null,null,null,null,null,null,null,null,null,null,null,null,null,null,null,null,null,null,null,null,null,null,null,null,null,null,null,null,null,null,null,null,null,null,null,null,null,null,null,null,null,null,null,null,null,null,null,null,null,null,null,null,null,null,null,null,null,null,null,null,null,null,-9.9999999999999995E-7,-9.9999999999999995E-7,-9.9999999999999995E-7,-9.9999999999999995E-7,-9.9999999999999995E-7,-9.9999999999999995E-7,-9.9999999999999995E-7,-9.9999999999999995E-7,-9.9999999999999995E-7,-9.9999999999999995E-7,-9.9999999999999995E-7,-9.9999999999999995E-7,-9.9999999999999995E-7,-9.9999999999999995E-7,-9.9999999999999995E-7,-9.9999999999999995E-7,-9.9999999999999995E-7,-9.9999999999999995E-7,-9.9999999999999995E-7,-9.9999999999999995E-7,{"$f":"IF(ISERROR(VLOOKUP(F1453,ages!B$1:B$23,1,1)),\"\",VLOOKUP(F1453,ages!B$1:B$23,1,1))","v":""},{"$f":"IF(ISERROR(VLOOKUP(F1453,ages!B$1:D$23,3,1)),\"\",VLOOKUP(F1453,ages!B$1:D$23,3,1))","v":""},0,0,0,0,0]
[null,null,null,null,null,"",null,null,null,null,null,null,"","","","","","","","","","",{"$f":"IF(ISNUMBER(F1454),IF(AL1454<0.85,\"\",VLOOKUP(M1454,A!A$2:X$23,VLOOKUP(F1454,ages!B$1:C$23,2,1),1)),\"\")","v":""},{"$f":"IF(ISNUMBER(F1454),IF(AM1454<0.85,\"\",VLOOKUP(N1454,B!A$2:X$23,VLOOKUP(F1454,ages!B$1:C$23,2,1),1)),\"\")","v":""},{"$f":"IF(ISNUMBER(F1454),IF(AN1454<0.85,\"\",VLOOKUP(O1454,'C'!A$2:X$23,VLOOKUP(F1454,ages!B$1:C$23,2,1),1)),\"\")","v":""},{"$f":"IF(ISNUMBER(F1454),IF(AO1454<0.85,\"\",VLOOKUP(P1454,D!A$2:X$23,VLOOKUP(F1454,ages!B$1:C$23,2,1),1)),\"\")","v":""},{"$f":"IF(ISNUMBER(F1454),IF(AP1454<0.85,\"\",VLOOKUP(Q1454,E!A$2:X$23,VLOOKUP(F1454,ages!B$1:C$23,2,1),1)),\"\")","v":""},{"$f":"IF(ISNUMBER(F1454),IF(AQ1454<0.85,\"\",VLOOKUP(R1454,F!A$2:X$23,VLOOKUP(F1454,ages!B$1:C$23,2,1),1)),\"\")","v":""},{"$f":"IF(ISNUMBER(F1454),IF(AR1454<0.85,\"\",VLOOKUP(S1454,G!A$2:X$23,VLOOKUP(F1454,ages!B$1:C$23,2,1),1)),\"\")","v":""},{"$f":"IF(ISNUMBER(F1454),IF(AS1454<0.85,\"\",VLOOKUP(T1454,H!A$2:X$23,VLOOKUP(F1454,ages!B$1:C$23,2,1),1)),\"\")","v":""},{"$f":"IF(ISNUMBER(F1454),IF(AT1454<0.85,\"\",VLOOKUP(U1454,I!A$2:X$23,VLOOKUP(F1454,ages!B$1:C$23,2,1),1)),\"\")","v":""},{"$f":"IF(ISNUMBER(F1454),IF(AU1454<0.85,\"\",VLOOKUP(V1454,J!A$2:X$23,VLOOKUP(F1454,ages!B$1:C$23,2,1),1)),\"\")","v":""},"","","","",-1.0000000000000002E-6,0,0,0,0,0,0,0,0,0,0,0,null,null,null,null,null,null,null,null,null,null,null,null,null,null,null,null,null,null,null,null,null,null,null,null,null,null,null,null,null,null,null,null,null,null,null,null,null,null,null,null,null,null,null,null,null,null,null,null,null,null,null,null,null,null,null,null,null,null,null,null,null,null,null,null,null,null,null,null,null,null,-9.9999999999999995E-7,-9.9999999999999995E-7,-9.9999999999999995E-7,-9.9999999999999995E-7,-9.9999999999999995E-7,-9.9999999999999995E-7,-9.9999999999999995E-7,-9.9999999999999995E-7,-9.9999999999999995E-7,-9.9999999999999995E-7,-9.9999999999999995E-7,-9.9999999999999995E-7,-9.9999999999999995E-7,-9.9999999999999995E-7,-9.9999999999999995E-7,-9.9999999999999995E-7,-9.9999999999999995E-7,-9.9999999999999995E-7,-9.9999999999999995E-7,-9.9999999999999995E-7,{"$f":"IF(ISERROR(VLOOKUP(F1454,ages!B$1:B$23,1,1)),\"\",VLOOKUP(F1454,ages!B$1:B$23,1,1))","v":""},{"$f":"IF(ISERROR(VLOOKUP(F1454,ages!B$1:D$23,3,1)),\"\",VLOOKUP(F1454,ages!B$1:D$23,3,1))","v":""},0,0,0,0,0]
[null,null,null,null,null,"",null,null,null,null,null,null,"","","","","","","","","","",{"$f":"IF(ISNUMBER(F1455),IF(AL1455<0.85,\"\",VLOOKUP(M1455,A!A$2:X$23,VLOOKUP(F1455,ages!B$1:C$23,2,1),1)),\"\")","v":""},{"$f":"IF(ISNUMBER(F1455),IF(AM1455<0.85,\"\",VLOOKUP(N1455,B!A$2:X$23,VLOOKUP(F1455,ages!B$1:C$23,2,1),1)),\"\")","v":""},{"$f":"IF(ISNUMBER(F1455),IF(AN1455<0.85,\"\",VLOOKUP(O1455,'C'!A$2:X$23,VLOOKUP(F1455,ages!B$1:C$23,2,1),1)),\"\")","v":""},{"$f":"IF(ISNUMBER(F1455),IF(AO1455<0.85,\"\",VLOOKUP(P1455,D!A$2:X$23,VLOOKUP(F1455,ages!B$1:C$23,2,1),1)),\"\")","v":""},{"$f":"IF(ISNUMBER(F1455),IF(AP1455<0.85,\"\",VLOOKUP(Q1455,E!A$2:X$23,VLOOKUP(F1455,ages!B$1:C$23,2,1),1)),\"\")","v":""},{"$f":"IF(ISNUMBER(F1455),IF(AQ1455<0.85,\"\",VLOOKUP(R1455,F!A$2:X$23,VLOOKUP(F1455,ages!B$1:C$23,2,1),1)),\"\")","v":""},{"$f":"IF(ISNUMBER(F1455),IF(AR1455<0.85,\"\",VLOOKUP(S1455,G!A$2:X$23,VLOOKUP(F1455,ages!B$1:C$23,2,1),1)),\"\")","v":""},{"$f":"IF(ISNUMBER(F1455),IF(AS1455<0.85,\"\",VLOOKUP(T1455,H!A$2:X$23,VLOOKUP(F1455,ages!B$1:C$23,2,1),1)),\"\")","v":""},{"$f":"IF(ISNUMBER(F1455),IF(AT1455<0.85,\"\",VLOOKUP(U1455,I!A$2:X$23,VLOOKUP(F1455,ages!B$1:C$23,2,1),1)),\"\")","v":""},{"$f":"IF(ISNUMBER(F1455),IF(AU1455<0.85,\"\",VLOOKUP(V1455,J!A$2:X$23,VLOOKUP(F1455,ages!B$1:C$23,2,1),1)),\"\")","v":""},"","","","",-1.0000000000000002E-6,0,0,0,0,0,0,0,0,0,0,0,null,null,null,null,null,null,null,null,null,null,null,null,null,null,null,null,null,null,null,null,null,null,null,null,null,null,null,null,null,null,null,null,null,null,null,null,null,null,null,null,null,null,null,null,null,null,null,null,null,null,null,null,null,null,null,null,null,null,null,null,null,null,null,null,null,null,null,null,null,null,-9.9999999999999995E-7,-9.9999999999999995E-7,-9.9999999999999995E-7,-9.9999999999999995E-7,-9.9999999999999995E-7,-9.9999999999999995E-7,-9.9999999999999995E-7,-9.9999999999999995E-7,-9.9999999999999995E-7,-9.9999999999999995E-7,-9.9999999999999995E-7,-9.9999999999999995E-7,-9.9999999999999995E-7,-9.9999999999999995E-7,-9.9999999999999995E-7,-9.9999999999999995E-7,-9.9999999999999995E-7,-9.9999999999999995E-7,-9.9999999999999995E-7,-9.9999999999999995E-7,{"$f":"IF(ISERROR(VLOOKUP(F1455,ages!B$1:B$23,1,1)),\"\",VLOOKUP(F1455,ages!B$1:B$23,1,1))","v":""},{"$f":"IF(ISERROR(VLOOKUP(F1455,ages!B$1:D$23,3,1)),\"\",VLOOKUP(F1455,ages!B$1:D$23,3,1))","v":""},0,0,0,0,0]
[null,null,null,null,null,"",null,null,null,null,null,null,"","","","","","","","","","",{"$f":"IF(ISNUMBER(F1456),IF(AL1456<0.85,\"\",VLOOKUP(M1456,A!A$2:X$23,VLOOKUP(F1456,ages!B$1:C$23,2,1),1)),\"\")","v":""},{"$f":"IF(ISNUMBER(F1456),IF(AM1456<0.85,\"\",VLOOKUP(N1456,B!A$2:X$23,VLOOKUP(F1456,ages!B$1:C$23,2,1),1)),\"\")","v":""},{"$f":"IF(ISNUMBER(F1456),IF(AN1456<0.85,\"\",VLOOKUP(O1456,'C'!A$2:X$23,VLOOKUP(F1456,ages!B$1:C$23,2,1),1)),\"\")","v":""},{"$f":"IF(ISNUMBER(F1456),IF(AO1456<0.85,\"\",VLOOKUP(P1456,D!A$2:X$23,VLOOKUP(F1456,ages!B$1:C$23,2,1),1)),\"\")","v":""},{"$f":"IF(ISNUMBER(F1456),IF(AP1456<0.85,\"\",VLOOKUP(Q1456,E!A$2:X$23,VLOOKUP(F1456,ages!B$1:C$23,2,1),1)),\"\")","v":""},{"$f":"IF(ISNUMBER(F1456),IF(AQ1456<0.85,\"\",VLOOKUP(R1456,F!A$2:X$23,VLOOKUP(F1456,ages!B$1:C$23,2,1),1)),\"\")","v":""},{"$f":"IF(ISNUMBER(F1456),IF(AR1456<0.85,\"\",VLOOKUP(S1456,G!A$2:X$23,VLOOKUP(F1456,ages!B$1:C$23,2,1),1)),\"\")","v":""},{"$f":"IF(ISNUMBER(F1456),IF(AS1456<0.85,\"\",VLOOKUP(T1456,H!A$2:X$23,VLOOKUP(F1456,ages!B$1:C$23,2,1),1)),\"\")","v":""},{"$f":"IF(ISNUMBER(F1456),IF(AT1456<0.85,\"\",VLOOKUP(U1456,I!A$2:X$23,VLOOKUP(F1456,ages!B$1:C$23,2,1),1)),\"\")","v":""},{"$f":"IF(ISNUMBER(F1456),IF(AU1456<0.85,\"\",VLOOKUP(V1456,J!A$2:X$23,VLOOKUP(F1456,ages!B$1:C$23,2,1),1)),\"\")","v":""},"","","","",-1.0000000000000002E-6,0,0,0,0,0,0,0,0,0,0,0,null,null,null,null,null,null,null,null,null,null,null,null,null,null,null,null,null,null,null,null,null,null,null,null,null,null,null,null,null,null,null,null,null,null,null,null,null,null,null,null,null,null,null,null,null,null,null,null,null,null,null,null,null,null,null,null,null,null,null,null,null,null,null,null,null,null,null,null,null,null,-9.9999999999999995E-7,-9.9999999999999995E-7,-9.9999999999999995E-7,-9.9999999999999995E-7,-9.9999999999999995E-7,-9.9999999999999995E-7,-9.9999999999999995E-7,-9.9999999999999995E-7,-9.9999999999999995E-7,-9.9999999999999995E-7,-9.9999999999999995E-7,-9.9999999999999995E-7,-9.9999999999999995E-7,-9.9999999999999995E-7,-9.9999999999999995E-7,-9.9999999999999995E-7,-9.9999999999999995E-7,-9.9999999999999995E-7,-9.9999999999999995E-7,-9.9999999999999995E-7,{"$f":"IF(ISERROR(VLOOKUP(F1456,ages!B$1:B$23,1,1)),\"\",VLOOKUP(F1456,ages!B$1:B$23,1,1))","v":""},{"$f":"IF(ISERROR(VLOOKUP(F1456,ages!B$1:D$23,3,1)),\"\",VLOOKUP(F1456,ages!B$1:D$23,3,1))","v":""},0,0,0,0,0]
[null,null,null,null,null,"",null,null,null,null,null,null,"","","","","","","","","","",{"$f":"IF(ISNUMBER(F1457),IF(AL1457<0.85,\"\",VLOOKUP(M1457,A!A$2:X$23,VLOOKUP(F1457,ages!B$1:C$23,2,1),1)),\"\")","v":""},{"$f":"IF(ISNUMBER(F1457),IF(AM1457<0.85,\"\",VLOOKUP(N1457,B!A$2:X$23,VLOOKUP(F1457,ages!B$1:C$23,2,1),1)),\"\")","v":""},{"$f":"IF(ISNUMBER(F1457),IF(AN1457<0.85,\"\",VLOOKUP(O1457,'C'!A$2:X$23,VLOOKUP(F1457,ages!B$1:C$23,2,1),1)),\"\")","v":""},{"$f":"IF(ISNUMBER(F1457),IF(AO1457<0.85,\"\",VLOOKUP(P1457,D!A$2:X$23,VLOOKUP(F1457,ages!B$1:C$23,2,1),1)),\"\")","v":""},{"$f":"IF(ISNUMBER(F1457),IF(AP1457<0.85,\"\",VLOOKUP(Q1457,E!A$2:X$23,VLOOKUP(F1457,ages!B$1:C$23,2,1),1)),\"\")","v":""},{"$f":"IF(ISNUMBER(F1457),IF(AQ1457<0.85,\"\",VLOOKUP(R1457,F!A$2:X$23,VLOOKUP(F1457,ages!B$1:C$23,2,1),1)),\"\")","v":""},{"$f":"IF(ISNUMBER(F1457),IF(AR1457<0.85,\"\",VLOOKUP(S1457,G!A$2:X$23,VLOOKUP(F1457,ages!B$1:C$23,2,1),1)),\"\")","v":""},{"$f":"IF(ISNUMBER(F1457),IF(AS1457<0.85,\"\",VLOOKUP(T1457,H!A$2:X$23,VLOOKUP(F1457,ages!B$1:C$23,2,1),1)),\"\")","v":""},{"$f":"IF(ISNUMBER(F1457),IF(AT1457<0.85,\"\",VLOOKUP(U1457,I!A$2:X$23,VLOOKUP(F1457,ages!B$1:C$23,2,1),1)),\"\")","v":""},{"$f":"IF(ISNUMBER(F1457),IF(AU1457<0.85,\"\",VLOOKUP(V1457,J!A$2:X$23,VLOOKUP(F1457,ages!B$1:C$23,2,1),1)),\"\")","v":""},"","","","",-1.0000000000000002E-6,0,0,0,0,0,0,0,0,0,0,0,null,null,null,null,null,null,null,null,null,null,null,null,null,null,null,null,null,null,null,null,null,null,null,null,null,null,null,null,null,null,null,null,null,null,null,null,null,null,null,null,null,null,null,null,null,null,null,null,null,null,null,null,null,null,null,null,null,null,null,null,null,null,null,null,null,null,null,null,null,null,-9.9999999999999995E-7,-9.9999999999999995E-7,-9.9999999999999995E-7,-9.9999999999999995E-7,-9.9999999999999995E-7,-9.9999999999999995E-7,-9.9999999999999995E-7,-9.9999999999999995E-7,-9.9999999999999995E-7,-9.9999999999999995E-7,-9.9999999999999995E-7,-9.9999999999999995E-7,-9.9999999999999995E-7,-9.9999999999999995E-7,-9.9999999999999995E-7,-9.9999999999999995E-7,-9.9999999999999995E-7,-9.9999999999999995E-7,-9.9999999999999995E-7,-9.9999999999999995E-7,{"$f":"IF(ISERROR(VLOOKUP(F1457,ages!B$1:B$23,1,1)),\"\",VLOOKUP(F1457,ages!B$1:B$23,1,1))","v":""},{"$f":"IF(ISERROR(VLOOKUP(F1457,ages!B$1:D$23,3,1)),\"\",VLOOKUP(F1457,ages!B$1:D$23,3,1))","v":""},0,0,0,0,0]
[null,null,null,null,null,"",null,null,null,null,null,null,"","","","","","","","","","",{"$f":"IF(ISNUMBER(F1458),IF(AL1458<0.85,\"\",VLOOKUP(M1458,A!A$2:X$23,VLOOKUP(F1458,ages!B$1:C$23,2,1),1)),\"\")","v":""},{"$f":"IF(ISNUMBER(F1458),IF(AM1458<0.85,\"\",VLOOKUP(N1458,B!A$2:X$23,VLOOKUP(F1458,ages!B$1:C$23,2,1),1)),\"\")","v":""},{"$f":"IF(ISNUMBER(F1458),IF(AN1458<0.85,\"\",VLOOKUP(O1458,'C'!A$2:X$23,VLOOKUP(F1458,ages!B$1:C$23,2,1),1)),\"\")","v":""},{"$f":"IF(ISNUMBER(F1458),IF(AO1458<0.85,\"\",VLOOKUP(P1458,D!A$2:X$23,VLOOKUP(F1458,ages!B$1:C$23,2,1),1)),\"\")","v":""},{"$f":"IF(ISNUMBER(F1458),IF(AP1458<0.85,\"\",VLOOKUP(Q1458,E!A$2:X$23,VLOOKUP(F1458,ages!B$1:C$23,2,1),1)),\"\")","v":""},{"$f":"IF(ISNUMBER(F1458),IF(AQ1458<0.85,\"\",VLOOKUP(R1458,F!A$2:X$23,VLOOKUP(F1458,ages!B$1:C$23,2,1),1)),\"\")","v":""},{"$f":"IF(ISNUMBER(F1458),IF(AR1458<0.85,\"\",VLOOKUP(S1458,G!A$2:X$23,VLOOKUP(F1458,ages!B$1:C$23,2,1),1)),\"\")","v":""},{"$f":"IF(ISNUMBER(F1458),IF(AS1458<0.85,\"\",VLOOKUP(T1458,H!A$2:X$23,VLOOKUP(F1458,ages!B$1:C$23,2,1),1)),\"\")","v":""},{"$f":"IF(ISNUMBER(F1458),IF(AT1458<0.85,\"\",VLOOKUP(U1458,I!A$2:X$23,VLOOKUP(F1458,ages!B$1:C$23,2,1),1)),\"\")","v":""},{"$f":"IF(ISNUMBER(F1458),IF(AU1458<0.85,\"\",VLOOKUP(V1458,J!A$2:X$23,VLOOKUP(F1458,ages!B$1:C$23,2,1),1)),\"\")","v":""},"","","","",-1.0000000000000002E-6,0,0,0,0,0,0,0,0,0,0,0,null,null,null,null,null,null,null,null,null,null,null,null,null,null,null,null,null,null,null,null,null,null,null,null,null,null,null,null,null,null,null,null,null,null,null,null,null,null,null,null,null,null,null,null,null,null,null,null,null,null,null,null,null,null,null,null,null,null,null,null,null,null,null,null,null,null,null,null,null,null,-9.9999999999999995E-7,-9.9999999999999995E-7,-9.9999999999999995E-7,-9.9999999999999995E-7,-9.9999999999999995E-7,-9.9999999999999995E-7,-9.9999999999999995E-7,-9.9999999999999995E-7,-9.9999999999999995E-7,-9.9999999999999995E-7,-9.9999999999999995E-7,-9.9999999999999995E-7,-9.9999999999999995E-7,-9.9999999999999995E-7,-9.9999999999999995E-7,-9.9999999999999995E-7,-9.9999999999999995E-7,-9.9999999999999995E-7,-9.9999999999999995E-7,-9.9999999999999995E-7,{"$f":"IF(ISERROR(VLOOKUP(F1458,ages!B$1:B$23,1,1)),\"\",VLOOKUP(F1458,ages!B$1:B$23,1,1))","v":""},{"$f":"IF(ISERROR(VLOOKUP(F1458,ages!B$1:D$23,3,1)),\"\",VLOOKUP(F1458,ages!B$1:D$23,3,1))","v":""},0,0,0,0,0]
[null,null,null,null,null,"",null,null,null,null,null,null,"","","","","","","","","","",{"$f":"IF(ISNUMBER(F1459),IF(AL1459<0.85,\"\",VLOOKUP(M1459,A!A$2:X$23,VLOOKUP(F1459,ages!B$1:C$23,2,1),1)),\"\")","v":""},{"$f":"IF(ISNUMBER(F1459),IF(AM1459<0.85,\"\",VLOOKUP(N1459,B!A$2:X$23,VLOOKUP(F1459,ages!B$1:C$23,2,1),1)),\"\")","v":""},{"$f":"IF(ISNUMBER(F1459),IF(AN1459<0.85,\"\",VLOOKUP(O1459,'C'!A$2:X$23,VLOOKUP(F1459,ages!B$1:C$23,2,1),1)),\"\")","v":""},{"$f":"IF(ISNUMBER(F1459),IF(AO1459<0.85,\"\",VLOOKUP(P1459,D!A$2:X$23,VLOOKUP(F1459,ages!B$1:C$23,2,1),1)),\"\")","v":""},{"$f":"IF(ISNUMBER(F1459),IF(AP1459<0.85,\"\",VLOOKUP(Q1459,E!A$2:X$23,VLOOKUP(F1459,ages!B$1:C$23,2,1),1)),\"\")","v":""},{"$f":"IF(ISNUMBER(F1459),IF(AQ1459<0.85,\"\",VLOOKUP(R1459,F!A$2:X$23,VLOOKUP(F1459,ages!B$1:C$23,2,1),1)),\"\")","v":""},{"$f":"IF(ISNUMBER(F1459),IF(AR1459<0.85,\"\",VLOOKUP(S1459,G!A$2:X$23,VLOOKUP(F1459,ages!B$1:C$23,2,1),1)),\"\")","v":""},{"$f":"IF(ISNUMBER(F1459),IF(AS1459<0.85,\"\",VLOOKUP(T1459,H!A$2:X$23,VLOOKUP(F1459,ages!B$1:C$23,2,1),1)),\"\")","v":""},{"$f":"IF(ISNUMBER(F1459),IF(AT1459<0.85,\"\",VLOOKUP(U1459,I!A$2:X$23,VLOOKUP(F1459,ages!B$1:C$23,2,1),1)),\"\")","v":""},{"$f":"IF(ISNUMBER(F1459),IF(AU1459<0.85,\"\",VLOOKUP(V1459,J!A$2:X$23,VLOOKUP(F1459,ages!B$1:C$23,2,1),1)),\"\")","v":""},"","","","",-1.0000000000000002E-6,0,0,0,0,0,0,0,0,0,0,0,null,null,null,null,null,null,null,null,null,null,null,null,null,null,null,null,null,null,null,null,null,null,null,null,null,null,null,null,null,null,null,null,null,null,null,null,null,null,null,null,null,null,null,null,null,null,null,null,null,null,null,null,null,null,null,null,null,null,null,null,null,null,null,null,null,null,null,null,null,null,-9.9999999999999995E-7,-9.9999999999999995E-7,-9.9999999999999995E-7,-9.9999999999999995E-7,-9.9999999999999995E-7,-9.9999999999999995E-7,-9.9999999999999995E-7,-9.9999999999999995E-7,-9.9999999999999995E-7,-9.9999999999999995E-7,-9.9999999999999995E-7,-9.9999999999999995E-7,-9.9999999999999995E-7,-9.9999999999999995E-7,-9.9999999999999995E-7,-9.9999999999999995E-7,-9.9999999999999995E-7,-9.9999999999999995E-7,-9.9999999999999995E-7,-9.9999999999999995E-7,{"$f":"IF(ISERROR(VLOOKUP(F1459,ages!B$1:B$23,1,1)),\"\",VLOOKUP(F1459,ages!B$1:B$23,1,1))","v":""},{"$f":"IF(ISERROR(VLOOKUP(F1459,ages!B$1:D$23,3,1)),\"\",VLOOKUP(F1459,ages!B$1:D$23,3,1))","v":""},0,0,0,0,0]
[null,null,null,null,null,"",null,null,null,null,null,null,"","","","","","","","","","",{"$f":"IF(ISNUMBER(F1460),IF(AL1460<0.85,\"\",VLOOKUP(M1460,A!A$2:X$23,VLOOKUP(F1460,ages!B$1:C$23,2,1),1)),\"\")","v":""},{"$f":"IF(ISNUMBER(F1460),IF(AM1460<0.85,\"\",VLOOKUP(N1460,B!A$2:X$23,VLOOKUP(F1460,ages!B$1:C$23,2,1),1)),\"\")","v":""},{"$f":"IF(ISNUMBER(F1460),IF(AN1460<0.85,\"\",VLOOKUP(O1460,'C'!A$2:X$23,VLOOKUP(F1460,ages!B$1:C$23,2,1),1)),\"\")","v":""},{"$f":"IF(ISNUMBER(F1460),IF(AO1460<0.85,\"\",VLOOKUP(P1460,D!A$2:X$23,VLOOKUP(F1460,ages!B$1:C$23,2,1),1)),\"\")","v":""},{"$f":"IF(ISNUMBER(F1460),IF(AP1460<0.85,\"\",VLOOKUP(Q1460,E!A$2:X$23,VLOOKUP(F1460,ages!B$1:C$23,2,1),1)),\"\")","v":""},{"$f":"IF(ISNUMBER(F1460),IF(AQ1460<0.85,\"\",VLOOKUP(R1460,F!A$2:X$23,VLOOKUP(F1460,ages!B$1:C$23,2,1),1)),\"\")","v":""},{"$f":"IF(ISNUMBER(F1460),IF(AR1460<0.85,\"\",VLOOKUP(S1460,G!A$2:X$23,VLOOKUP(F1460,ages!B$1:C$23,2,1),1)),\"\")","v":""},{"$f":"IF(ISNUMBER(F1460),IF(AS1460<0.85,\"\",VLOOKUP(T1460,H!A$2:X$23,VLOOKUP(F1460,ages!B$1:C$23,2,1),1)),\"\")","v":""},{"$f":"IF(ISNUMBER(F1460),IF(AT1460<0.85,\"\",VLOOKUP(U1460,I!A$2:X$23,VLOOKUP(F1460,ages!B$1:C$23,2,1),1)),\"\")","v":""},{"$f":"IF(ISNUMBER(F1460),IF(AU1460<0.85,\"\",VLOOKUP(V1460,J!A$2:X$23,VLOOKUP(F1460,ages!B$1:C$23,2,1),1)),\"\")","v":""},"","","","",-1.0000000000000002E-6,0,0,0,0,0,0,0,0,0,0,0,null,null,null,null,null,null,null,null,null,null,null,null,null,null,null,null,null,null,null,null,null,null,null,null,null,null,null,null,null,null,null,null,null,null,null,null,null,null,null,null,null,null,null,null,null,null,null,null,null,null,null,null,null,null,null,null,null,null,null,null,null,null,null,null,null,null,null,null,null,null,-9.9999999999999995E-7,-9.9999999999999995E-7,-9.9999999999999995E-7,-9.9999999999999995E-7,-9.9999999999999995E-7,-9.9999999999999995E-7,-9.9999999999999995E-7,-9.9999999999999995E-7,-9.9999999999999995E-7,-9.9999999999999995E-7,-9.9999999999999995E-7,-9.9999999999999995E-7,-9.9999999999999995E-7,-9.9999999999999995E-7,-9.9999999999999995E-7,-9.9999999999999995E-7,-9.9999999999999995E-7,-9.9999999999999995E-7,-9.9999999999999995E-7,-9.9999999999999995E-7,{"$f":"IF(ISERROR(VLOOKUP(F1460,ages!B$1:B$23,1,1)),\"\",VLOOKUP(F1460,ages!B$1:B$23,1,1))","v":""},{"$f":"IF(ISERROR(VLOOKUP(F1460,ages!B$1:D$23,3,1)),\"\",VLOOKUP(F1460,ages!B$1:D$23,3,1))","v":""},0,0,0,0,0]
[null,null,null,null,null,"",null,null,null,null,null,null,"","","","","","","","","","",{"$f":"IF(ISNUMBER(F1461),IF(AL1461<0.85,\"\",VLOOKUP(M1461,A!A$2:X$23,VLOOKUP(F1461,ages!B$1:C$23,2,1),1)),\"\")","v":""},{"$f":"IF(ISNUMBER(F1461),IF(AM1461<0.85,\"\",VLOOKUP(N1461,B!A$2:X$23,VLOOKUP(F1461,ages!B$1:C$23,2,1),1)),\"\")","v":""},{"$f":"IF(ISNUMBER(F1461),IF(AN1461<0.85,\"\",VLOOKUP(O1461,'C'!A$2:X$23,VLOOKUP(F1461,ages!B$1:C$23,2,1),1)),\"\")","v":""},{"$f":"IF(ISNUMBER(F1461),IF(AO1461<0.85,\"\",VLOOKUP(P1461,D!A$2:X$23,VLOOKUP(F1461,ages!B$1:C$23,2,1),1)),\"\")","v":""},{"$f":"IF(ISNUMBER(F1461),IF(AP1461<0.85,\"\",VLOOKUP(Q1461,E!A$2:X$23,VLOOKUP(F1461,ages!B$1:C$23,2,1),1)),\"\")","v":""},{"$f":"IF(ISNUMBER(F1461),IF(AQ1461<0.85,\"\",VLOOKUP(R1461,F!A$2:X$23,VLOOKUP(F1461,ages!B$1:C$23,2,1),1)),\"\")","v":""},{"$f":"IF(ISNUMBER(F1461),IF(AR1461<0.85,\"\",VLOOKUP(S1461,G!A$2:X$23,VLOOKUP(F1461,ages!B$1:C$23,2,1),1)),\"\")","v":""},{"$f":"IF(ISNUMBER(F1461),IF(AS1461<0.85,\"\",VLOOKUP(T1461,H!A$2:X$23,VLOOKUP(F1461,ages!B$1:C$23,2,1),1)),\"\")","v":""},{"$f":"IF(ISNUMBER(F1461),IF(AT1461<0.85,\"\",VLOOKUP(U1461,I!A$2:X$23,VLOOKUP(F1461,ages!B$1:C$23,2,1),1)),\"\")","v":""},{"$f":"IF(ISNUMBER(F1461),IF(AU1461<0.85,\"\",VLOOKUP(V1461,J!A$2:X$23,VLOOKUP(F1461,ages!B$1:C$23,2,1),1)),\"\")","v":""},"","","","",-1.0000000000000002E-6,0,0,0,0,0,0,0,0,0,0,0,null,null,null,null,null,null,null,null,null,null,null,null,null,null,null,null,null,null,null,null,null,null,null,null,null,null,null,null,null,null,null,null,null,null,null,null,null,null,null,null,null,null,null,null,null,null,null,null,null,null,null,null,null,null,null,null,null,null,null,null,null,null,null,null,null,null,null,null,null,null,-9.9999999999999995E-7,-9.9999999999999995E-7,-9.9999999999999995E-7,-9.9999999999999995E-7,-9.9999999999999995E-7,-9.9999999999999995E-7,-9.9999999999999995E-7,-9.9999999999999995E-7,-9.9999999999999995E-7,-9.9999999999999995E-7,-9.9999999999999995E-7,-9.9999999999999995E-7,-9.9999999999999995E-7,-9.9999999999999995E-7,-9.9999999999999995E-7,-9.9999999999999995E-7,-9.9999999999999995E-7,-9.9999999999999995E-7,-9.9999999999999995E-7,-9.9999999999999995E-7,{"$f":"IF(ISERROR(VLOOKUP(F1461,ages!B$1:B$23,1,1)),\"\",VLOOKUP(F1461,ages!B$1:B$23,1,1))","v":""},{"$f":"IF(ISERROR(VLOOKUP(F1461,ages!B$1:D$23,3,1)),\"\",VLOOKUP(F1461,ages!B$1:D$23,3,1))","v":""},0,0,0,0,0]
[null,null,null,null,null,"",null,null,null,null,null,null,"","","","","","","","","","",{"$f":"IF(ISNUMBER(F1462),IF(AL1462<0.85,\"\",VLOOKUP(M1462,A!A$2:X$23,VLOOKUP(F1462,ages!B$1:C$23,2,1),1)),\"\")","v":""},{"$f":"IF(ISNUMBER(F1462),IF(AM1462<0.85,\"\",VLOOKUP(N1462,B!A$2:X$23,VLOOKUP(F1462,ages!B$1:C$23,2,1),1)),\"\")","v":""},{"$f":"IF(ISNUMBER(F1462),IF(AN1462<0.85,\"\",VLOOKUP(O1462,'C'!A$2:X$23,VLOOKUP(F1462,ages!B$1:C$23,2,1),1)),\"\")","v":""},{"$f":"IF(ISNUMBER(F1462),IF(AO1462<0.85,\"\",VLOOKUP(P1462,D!A$2:X$23,VLOOKUP(F1462,ages!B$1:C$23,2,1),1)),\"\")","v":""},{"$f":"IF(ISNUMBER(F1462),IF(AP1462<0.85,\"\",VLOOKUP(Q1462,E!A$2:X$23,VLOOKUP(F1462,ages!B$1:C$23,2,1),1)),\"\")","v":""},{"$f":"IF(ISNUMBER(F1462),IF(AQ1462<0.85,\"\",VLOOKUP(R1462,F!A$2:X$23,VLOOKUP(F1462,ages!B$1:C$23,2,1),1)),\"\")","v":""},{"$f":"IF(ISNUMBER(F1462),IF(AR1462<0.85,\"\",VLOOKUP(S1462,G!A$2:X$23,VLOOKUP(F1462,ages!B$1:C$23,2,1),1)),\"\")","v":""},{"$f":"IF(ISNUMBER(F1462),IF(AS1462<0.85,\"\",VLOOKUP(T1462,H!A$2:X$23,VLOOKUP(F1462,ages!B$1:C$23,2,1),1)),\"\")","v":""},{"$f":"IF(ISNUMBER(F1462),IF(AT1462<0.85,\"\",VLOOKUP(U1462,I!A$2:X$23,VLOOKUP(F1462,ages!B$1:C$23,2,1),1)),\"\")","v":""},{"$f":"IF(ISNUMBER(F1462),IF(AU1462<0.85,\"\",VLOOKUP(V1462,J!A$2:X$23,VLOOKUP(F1462,ages!B$1:C$23,2,1),1)),\"\")","v":""},"","","","",-1.0000000000000002E-6,0,0,0,0,0,0,0,0,0,0,0,null,null,null,null,null,null,null,null,null,null,null,null,null,null,null,null,null,null,null,null,null,null,null,null,null,null,null,null,null,null,null,null,null,null,null,null,null,null,null,null,null,null,null,null,null,null,null,null,null,null,null,null,null,null,null,null,null,null,null,null,null,null,null,null,null,null,null,null,null,null,-9.9999999999999995E-7,-9.9999999999999995E-7,-9.9999999999999995E-7,-9.9999999999999995E-7,-9.9999999999999995E-7,-9.9999999999999995E-7,-9.9999999999999995E-7,-9.9999999999999995E-7,-9.9999999999999995E-7,-9.9999999999999995E-7,-9.9999999999999995E-7,-9.9999999999999995E-7,-9.9999999999999995E-7,-9.9999999999999995E-7,-9.9999999999999995E-7,-9.9999999999999995E-7,-9.9999999999999995E-7,-9.9999999999999995E-7,-9.9999999999999995E-7,-9.9999999999999995E-7,{"$f":"IF(ISERROR(VLOOKUP(F1462,ages!B$1:B$23,1,1)),\"\",VLOOKUP(F1462,ages!B$1:B$23,1,1))","v":""},{"$f":"IF(ISERROR(VLOOKUP(F1462,ages!B$1:D$23,3,1)),\"\",VLOOKUP(F1462,ages!B$1:D$23,3,1))","v":""},0,0,0,0,0]
[null,null,null,null,null,"",null,null,null,null,null,null,"","","","","","","","","","",{"$f":"IF(ISNUMBER(F1463),IF(AL1463<0.85,\"\",VLOOKUP(M1463,A!A$2:X$23,VLOOKUP(F1463,ages!B$1:C$23,2,1),1)),\"\")","v":""},{"$f":"IF(ISNUMBER(F1463),IF(AM1463<0.85,\"\",VLOOKUP(N1463,B!A$2:X$23,VLOOKUP(F1463,ages!B$1:C$23,2,1),1)),\"\")","v":""},{"$f":"IF(ISNUMBER(F1463),IF(AN1463<0.85,\"\",VLOOKUP(O1463,'C'!A$2:X$23,VLOOKUP(F1463,ages!B$1:C$23,2,1),1)),\"\")","v":""},{"$f":"IF(ISNUMBER(F1463),IF(AO1463<0.85,\"\",VLOOKUP(P1463,D!A$2:X$23,VLOOKUP(F1463,ages!B$1:C$23,2,1),1)),\"\")","v":""},{"$f":"IF(ISNUMBER(F1463),IF(AP1463<0.85,\"\",VLOOKUP(Q1463,E!A$2:X$23,VLOOKUP(F1463,ages!B$1:C$23,2,1),1)),\"\")","v":""},{"$f":"IF(ISNUMBER(F1463),IF(AQ1463<0.85,\"\",VLOOKUP(R1463,F!A$2:X$23,VLOOKUP(F1463,ages!B$1:C$23,2,1),1)),\"\")","v":""},{"$f":"IF(ISNUMBER(F1463),IF(AR1463<0.85,\"\",VLOOKUP(S1463,G!A$2:X$23,VLOOKUP(F1463,ages!B$1:C$23,2,1),1)),\"\")","v":""},{"$f":"IF(ISNUMBER(F1463),IF(AS1463<0.85,\"\",VLOOKUP(T1463,H!A$2:X$23,VLOOKUP(F1463,ages!B$1:C$23,2,1),1)),\"\")","v":""},{"$f":"IF(ISNUMBER(F1463),IF(AT1463<0.85,\"\",VLOOKUP(U1463,I!A$2:X$23,VLOOKUP(F1463,ages!B$1:C$23,2,1),1)),\"\")","v":""},{"$f":"IF(ISNUMBER(F1463),IF(AU1463<0.85,\"\",VLOOKUP(V1463,J!A$2:X$23,VLOOKUP(F1463,ages!B$1:C$23,2,1),1)),\"\")","v":""},"","","","",-1.0000000000000002E-6,0,0,0,0,0,0,0,0,0,0,0,null,null,null,null,null,null,null,null,null,null,null,null,null,null,null,null,null,null,null,null,null,null,null,null,null,null,null,null,null,null,null,null,null,null,null,null,null,null,null,null,null,null,null,null,null,null,null,null,null,null,null,null,null,null,null,null,null,null,null,null,null,null,null,null,null,null,null,null,null,null,-9.9999999999999995E-7,-9.9999999999999995E-7,-9.9999999999999995E-7,-9.9999999999999995E-7,-9.9999999999999995E-7,-9.9999999999999995E-7,-9.9999999999999995E-7,-9.9999999999999995E-7,-9.9999999999999995E-7,-9.9999999999999995E-7,-9.9999999999999995E-7,-9.9999999999999995E-7,-9.9999999999999995E-7,-9.9999999999999995E-7,-9.9999999999999995E-7,-9.9999999999999995E-7,-9.9999999999999995E-7,-9.9999999999999995E-7,-9.9999999999999995E-7,-9.9999999999999995E-7,{"$f":"IF(ISERROR(VLOOKUP(F1463,ages!B$1:B$23,1,1)),\"\",VLOOKUP(F1463,ages!B$1:B$23,1,1))","v":""},{"$f":"IF(ISERROR(VLOOKUP(F1463,ages!B$1:D$23,3,1)),\"\",VLOOKUP(F1463,ages!B$1:D$23,3,1))","v":""},0,0,0,0,0]
[null,null,null,null,null,"",null,null,null,null,null,null,"","","","","","","","","","",{"$f":"IF(ISNUMBER(F1464),IF(AL1464<0.85,\"\",VLOOKUP(M1464,A!A$2:X$23,VLOOKUP(F1464,ages!B$1:C$23,2,1),1)),\"\")","v":""},{"$f":"IF(ISNUMBER(F1464),IF(AM1464<0.85,\"\",VLOOKUP(N1464,B!A$2:X$23,VLOOKUP(F1464,ages!B$1:C$23,2,1),1)),\"\")","v":""},{"$f":"IF(ISNUMBER(F1464),IF(AN1464<0.85,\"\",VLOOKUP(O1464,'C'!A$2:X$23,VLOOKUP(F1464,ages!B$1:C$23,2,1),1)),\"\")","v":""},{"$f":"IF(ISNUMBER(F1464),IF(AO1464<0.85,\"\",VLOOKUP(P1464,D!A$2:X$23,VLOOKUP(F1464,ages!B$1:C$23,2,1),1)),\"\")","v":""},{"$f":"IF(ISNUMBER(F1464),IF(AP1464<0.85,\"\",VLOOKUP(Q1464,E!A$2:X$23,VLOOKUP(F1464,ages!B$1:C$23,2,1),1)),\"\")","v":""},{"$f":"IF(ISNUMBER(F1464),IF(AQ1464<0.85,\"\",VLOOKUP(R1464,F!A$2:X$23,VLOOKUP(F1464,ages!B$1:C$23,2,1),1)),\"\")","v":""},{"$f":"IF(ISNUMBER(F1464),IF(AR1464<0.85,\"\",VLOOKUP(S1464,G!A$2:X$23,VLOOKUP(F1464,ages!B$1:C$23,2,1),1)),\"\")","v":""},{"$f":"IF(ISNUMBER(F1464),IF(AS1464<0.85,\"\",VLOOKUP(T1464,H!A$2:X$23,VLOOKUP(F1464,ages!B$1:C$23,2,1),1)),\"\")","v":""},{"$f":"IF(ISNUMBER(F1464),IF(AT1464<0.85,\"\",VLOOKUP(U1464,I!A$2:X$23,VLOOKUP(F1464,ages!B$1:C$23,2,1),1)),\"\")","v":""},{"$f":"IF(ISNUMBER(F1464),IF(AU1464<0.85,\"\",VLOOKUP(V1464,J!A$2:X$23,VLOOKUP(F1464,ages!B$1:C$23,2,1),1)),\"\")","v":""},"","","","",-1.0000000000000002E-6,0,0,0,0,0,0,0,0,0,0,0,null,null,null,null,null,null,null,null,null,null,null,null,null,null,null,null,null,null,null,null,null,null,null,null,null,null,null,null,null,null,null,null,null,null,null,null,null,null,null,null,null,null,null,null,null,null,null,null,null,null,null,null,null,null,null,null,null,null,null,null,null,null,null,null,null,null,null,null,null,null,-9.9999999999999995E-7,-9.9999999999999995E-7,-9.9999999999999995E-7,-9.9999999999999995E-7,-9.9999999999999995E-7,-9.9999999999999995E-7,-9.9999999999999995E-7,-9.9999999999999995E-7,-9.9999999999999995E-7,-9.9999999999999995E-7,-9.9999999999999995E-7,-9.9999999999999995E-7,-9.9999999999999995E-7,-9.9999999999999995E-7,-9.9999999999999995E-7,-9.9999999999999995E-7,-9.9999999999999995E-7,-9.9999999999999995E-7,-9.9999999999999995E-7,-9.9999999999999995E-7,{"$f":"IF(ISERROR(VLOOKUP(F1464,ages!B$1:B$23,1,1)),\"\",VLOOKUP(F1464,ages!B$1:B$23,1,1))","v":""},{"$f":"IF(ISERROR(VLOOKUP(F1464,ages!B$1:D$23,3,1)),\"\",VLOOKUP(F1464,ages!B$1:D$23,3,1))","v":""},0,0,0,0,0]
[null,null,null,null,null,"",null,null,null,null,null,null,"","","","","","","","","","",{"$f":"IF(ISNUMBER(F1465),IF(AL1465<0.85,\"\",VLOOKUP(M1465,A!A$2:X$23,VLOOKUP(F1465,ages!B$1:C$23,2,1),1)),\"\")","v":""},{"$f":"IF(ISNUMBER(F1465),IF(AM1465<0.85,\"\",VLOOKUP(N1465,B!A$2:X$23,VLOOKUP(F1465,ages!B$1:C$23,2,1),1)),\"\")","v":""},{"$f":"IF(ISNUMBER(F1465),IF(AN1465<0.85,\"\",VLOOKUP(O1465,'C'!A$2:X$23,VLOOKUP(F1465,ages!B$1:C$23,2,1),1)),\"\")","v":""},{"$f":"IF(ISNUMBER(F1465),IF(AO1465<0.85,\"\",VLOOKUP(P1465,D!A$2:X$23,VLOOKUP(F1465,ages!B$1:C$23,2,1),1)),\"\")","v":""},{"$f":"IF(ISNUMBER(F1465),IF(AP1465<0.85,\"\",VLOOKUP(Q1465,E!A$2:X$23,VLOOKUP(F1465,ages!B$1:C$23,2,1),1)),\"\")","v":""},{"$f":"IF(ISNUMBER(F1465),IF(AQ1465<0.85,\"\",VLOOKUP(R1465,F!A$2:X$23,VLOOKUP(F1465,ages!B$1:C$23,2,1),1)),\"\")","v":""},{"$f":"IF(ISNUMBER(F1465),IF(AR1465<0.85,\"\",VLOOKUP(S1465,G!A$2:X$23,VLOOKUP(F1465,ages!B$1:C$23,2,1),1)),\"\")","v":""},{"$f":"IF(ISNUMBER(F1465),IF(AS1465<0.85,\"\",VLOOKUP(T1465,H!A$2:X$23,VLOOKUP(F1465,ages!B$1:C$23,2,1),1)),\"\")","v":""},{"$f":"IF(ISNUMBER(F1465),IF(AT1465<0.85,\"\",VLOOKUP(U1465,I!A$2:X$23,VLOOKUP(F1465,ages!B$1:C$23,2,1),1)),\"\")","v":""},{"$f":"IF(ISNUMBER(F1465),IF(AU1465<0.85,\"\",VLOOKUP(V1465,J!A$2:X$23,VLOOKUP(F1465,ages!B$1:C$23,2,1),1)),\"\")","v":""},"","","","",-1.0000000000000002E-6,0,0,0,0,0,0,0,0,0,0,0,null,null,null,null,null,null,null,null,null,null,null,null,null,null,null,null,null,null,null,null,null,null,null,null,null,null,null,null,null,null,null,null,null,null,null,null,null,null,null,null,null,null,null,null,null,null,null,null,null,null,null,null,null,null,null,null,null,null,null,null,null,null,null,null,null,null,null,null,null,null,-9.9999999999999995E-7,-9.9999999999999995E-7,-9.9999999999999995E-7,-9.9999999999999995E-7,-9.9999999999999995E-7,-9.9999999999999995E-7,-9.9999999999999995E-7,-9.9999999999999995E-7,-9.9999999999999995E-7,-9.9999999999999995E-7,-9.9999999999999995E-7,-9.9999999999999995E-7,-9.9999999999999995E-7,-9.9999999999999995E-7,-9.9999999999999995E-7,-9.9999999999999995E-7,-9.9999999999999995E-7,-9.9999999999999995E-7,-9.9999999999999995E-7,-9.9999999999999995E-7,{"$f":"IF(ISERROR(VLOOKUP(F1465,ages!B$1:B$23,1,1)),\"\",VLOOKUP(F1465,ages!B$1:B$23,1,1))","v":""},{"$f":"IF(ISERROR(VLOOKUP(F1465,ages!B$1:D$23,3,1)),\"\",VLOOKUP(F1465,ages!B$1:D$23,3,1))","v":""},0,0,0,0,0]
[null,null,null,null,null,"",null,null,null,null,null,null,"","","","","","","","","","",{"$f":"IF(ISNUMBER(F1466),IF(AL1466<0.85,\"\",VLOOKUP(M1466,A!A$2:X$23,VLOOKUP(F1466,ages!B$1:C$23,2,1),1)),\"\")","v":""},{"$f":"IF(ISNUMBER(F1466),IF(AM1466<0.85,\"\",VLOOKUP(N1466,B!A$2:X$23,VLOOKUP(F1466,ages!B$1:C$23,2,1),1)),\"\")","v":""},{"$f":"IF(ISNUMBER(F1466),IF(AN1466<0.85,\"\",VLOOKUP(O1466,'C'!A$2:X$23,VLOOKUP(F1466,ages!B$1:C$23,2,1),1)),\"\")","v":""},{"$f":"IF(ISNUMBER(F1466),IF(AO1466<0.85,\"\",VLOOKUP(P1466,D!A$2:X$23,VLOOKUP(F1466,ages!B$1:C$23,2,1),1)),\"\")","v":""},{"$f":"IF(ISNUMBER(F1466),IF(AP1466<0.85,\"\",VLOOKUP(Q1466,E!A$2:X$23,VLOOKUP(F1466,ages!B$1:C$23,2,1),1)),\"\")","v":""},{"$f":"IF(ISNUMBER(F1466),IF(AQ1466<0.85,\"\",VLOOKUP(R1466,F!A$2:X$23,VLOOKUP(F1466,ages!B$1:C$23,2,1),1)),\"\")","v":""},{"$f":"IF(ISNUMBER(F1466),IF(AR1466<0.85,\"\",VLOOKUP(S1466,G!A$2:X$23,VLOOKUP(F1466,ages!B$1:C$23,2,1),1)),\"\")","v":""},{"$f":"IF(ISNUMBER(F1466),IF(AS1466<0.85,\"\",VLOOKUP(T1466,H!A$2:X$23,VLOOKUP(F1466,ages!B$1:C$23,2,1),1)),\"\")","v":""},{"$f":"IF(ISNUMBER(F1466),IF(AT1466<0.85,\"\",VLOOKUP(U1466,I!A$2:X$23,VLOOKUP(F1466,ages!B$1:C$23,2,1),1)),\"\")","v":""},{"$f":"IF(ISNUMBER(F1466),IF(AU1466<0.85,\"\",VLOOKUP(V1466,J!A$2:X$23,VLOOKUP(F1466,ages!B$1:C$23,2,1),1)),\"\")","v":""},"","","","",-1.0000000000000002E-6,0,0,0,0,0,0,0,0,0,0,0,null,null,null,null,null,null,null,null,null,null,null,null,null,null,null,null,null,null,null,null,null,null,null,null,null,null,null,null,null,null,null,null,null,null,null,null,null,null,null,null,null,null,null,null,null,null,null,null,null,null,null,null,null,null,null,null,null,null,null,null,null,null,null,null,null,null,null,null,null,null,-9.9999999999999995E-7,-9.9999999999999995E-7,-9.9999999999999995E-7,-9.9999999999999995E-7,-9.9999999999999995E-7,-9.9999999999999995E-7,-9.9999999999999995E-7,-9.9999999999999995E-7,-9.9999999999999995E-7,-9.9999999999999995E-7,-9.9999999999999995E-7,-9.9999999999999995E-7,-9.9999999999999995E-7,-9.9999999999999995E-7,-9.9999999999999995E-7,-9.9999999999999995E-7,-9.9999999999999995E-7,-9.9999999999999995E-7,-9.9999999999999995E-7,-9.9999999999999995E-7,{"$f":"IF(ISERROR(VLOOKUP(F1466,ages!B$1:B$23,1,1)),\"\",VLOOKUP(F1466,ages!B$1:B$23,1,1))","v":""},{"$f":"IF(ISERROR(VLOOKUP(F1466,ages!B$1:D$23,3,1)),\"\",VLOOKUP(F1466,ages!B$1:D$23,3,1))","v":""},0,0,0,0,0]
[null,null,null,null,null,"",null,null,null,null,null,null,"","","","","","","","","","",{"$f":"IF(ISNUMBER(F1467),IF(AL1467<0.85,\"\",VLOOKUP(M1467,A!A$2:X$23,VLOOKUP(F1467,ages!B$1:C$23,2,1),1)),\"\")","v":""},{"$f":"IF(ISNUMBER(F1467),IF(AM1467<0.85,\"\",VLOOKUP(N1467,B!A$2:X$23,VLOOKUP(F1467,ages!B$1:C$23,2,1),1)),\"\")","v":""},{"$f":"IF(ISNUMBER(F1467),IF(AN1467<0.85,\"\",VLOOKUP(O1467,'C'!A$2:X$23,VLOOKUP(F1467,ages!B$1:C$23,2,1),1)),\"\")","v":""},{"$f":"IF(ISNUMBER(F1467),IF(AO1467<0.85,\"\",VLOOKUP(P1467,D!A$2:X$23,VLOOKUP(F1467,ages!B$1:C$23,2,1),1)),\"\")","v":""},{"$f":"IF(ISNUMBER(F1467),IF(AP1467<0.85,\"\",VLOOKUP(Q1467,E!A$2:X$23,VLOOKUP(F1467,ages!B$1:C$23,2,1),1)),\"\")","v":""},{"$f":"IF(ISNUMBER(F1467),IF(AQ1467<0.85,\"\",VLOOKUP(R1467,F!A$2:X$23,VLOOKUP(F1467,ages!B$1:C$23,2,1),1)),\"\")","v":""},{"$f":"IF(ISNUMBER(F1467),IF(AR1467<0.85,\"\",VLOOKUP(S1467,G!A$2:X$23,VLOOKUP(F1467,ages!B$1:C$23,2,1),1)),\"\")","v":""},{"$f":"IF(ISNUMBER(F1467),IF(AS1467<0.85,\"\",VLOOKUP(T1467,H!A$2:X$23,VLOOKUP(F1467,ages!B$1:C$23,2,1),1)),\"\")","v":""},{"$f":"IF(ISNUMBER(F1467),IF(AT1467<0.85,\"\",VLOOKUP(U1467,I!A$2:X$23,VLOOKUP(F1467,ages!B$1:C$23,2,1),1)),\"\")","v":""},{"$f":"IF(ISNUMBER(F1467),IF(AU1467<0.85,\"\",VLOOKUP(V1467,J!A$2:X$23,VLOOKUP(F1467,ages!B$1:C$23,2,1),1)),\"\")","v":""},"","","","",-1.0000000000000002E-6,0,0,0,0,0,0,0,0,0,0,0,null,null,null,null,null,null,null,null,null,null,null,null,null,null,null,null,null,null,null,null,null,null,null,null,null,null,null,null,null,null,null,null,null,null,null,null,null,null,null,null,null,null,null,null,null,null,null,null,null,null,null,null,null,null,null,null,null,null,null,null,null,null,null,null,null,null,null,null,null,null,-9.9999999999999995E-7,-9.9999999999999995E-7,-9.9999999999999995E-7,-9.9999999999999995E-7,-9.9999999999999995E-7,-9.9999999999999995E-7,-9.9999999999999995E-7,-9.9999999999999995E-7,-9.9999999999999995E-7,-9.9999999999999995E-7,-9.9999999999999995E-7,-9.9999999999999995E-7,-9.9999999999999995E-7,-9.9999999999999995E-7,-9.9999999999999995E-7,-9.9999999999999995E-7,-9.9999999999999995E-7,-9.9999999999999995E-7,-9.9999999999999995E-7,-9.9999999999999995E-7,{"$f":"IF(ISERROR(VLOOKUP(F1467,ages!B$1:B$23,1,1)),\"\",VLOOKUP(F1467,ages!B$1:B$23,1,1))","v":""},{"$f":"IF(ISERROR(VLOOKUP(F1467,ages!B$1:D$23,3,1)),\"\",VLOOKUP(F1467,ages!B$1:D$23,3,1))","v":""},0,0,0,0,0]
[null,null,null,null,null,"",null,null,null,null,null,null,"","","","","","","","","","",{"$f":"IF(ISNUMBER(F1468),IF(AL1468<0.85,\"\",VLOOKUP(M1468,A!A$2:X$23,VLOOKUP(F1468,ages!B$1:C$23,2,1),1)),\"\")","v":""},{"$f":"IF(ISNUMBER(F1468),IF(AM1468<0.85,\"\",VLOOKUP(N1468,B!A$2:X$23,VLOOKUP(F1468,ages!B$1:C$23,2,1),1)),\"\")","v":""},{"$f":"IF(ISNUMBER(F1468),IF(AN1468<0.85,\"\",VLOOKUP(O1468,'C'!A$2:X$23,VLOOKUP(F1468,ages!B$1:C$23,2,1),1)),\"\")","v":""},{"$f":"IF(ISNUMBER(F1468),IF(AO1468<0.85,\"\",VLOOKUP(P1468,D!A$2:X$23,VLOOKUP(F1468,ages!B$1:C$23,2,1),1)),\"\")","v":""},{"$f":"IF(ISNUMBER(F1468),IF(AP1468<0.85,\"\",VLOOKUP(Q1468,E!A$2:X$23,VLOOKUP(F1468,ages!B$1:C$23,2,1),1)),\"\")","v":""},{"$f":"IF(ISNUMBER(F1468),IF(AQ1468<0.85,\"\",VLOOKUP(R1468,F!A$2:X$23,VLOOKUP(F1468,ages!B$1:C$23,2,1),1)),\"\")","v":""},{"$f":"IF(ISNUMBER(F1468),IF(AR1468<0.85,\"\",VLOOKUP(S1468,G!A$2:X$23,VLOOKUP(F1468,ages!B$1:C$23,2,1),1)),\"\")","v":""},{"$f":"IF(ISNUMBER(F1468),IF(AS1468<0.85,\"\",VLOOKUP(T1468,H!A$2:X$23,VLOOKUP(F1468,ages!B$1:C$23,2,1),1)),\"\")","v":""},{"$f":"IF(ISNUMBER(F1468),IF(AT1468<0.85,\"\",VLOOKUP(U1468,I!A$2:X$23,VLOOKUP(F1468,ages!B$1:C$23,2,1),1)),\"\")","v":""},{"$f":"IF(ISNUMBER(F1468),IF(AU1468<0.85,\"\",VLOOKUP(V1468,J!A$2:X$23,VLOOKUP(F1468,ages!B$1:C$23,2,1),1)),\"\")","v":""},"","","","",-1.0000000000000002E-6,0,0,0,0,0,0,0,0,0,0,0,null,null,null,null,null,null,null,null,null,null,null,null,null,null,null,null,null,null,null,null,null,null,null,null,null,null,null,null,null,null,null,null,null,null,null,null,null,null,null,null,null,null,null,null,null,null,null,null,null,null,null,null,null,null,null,null,null,null,null,null,null,null,null,null,null,null,null,null,null,null,-9.9999999999999995E-7,-9.9999999999999995E-7,-9.9999999999999995E-7,-9.9999999999999995E-7,-9.9999999999999995E-7,-9.9999999999999995E-7,-9.9999999999999995E-7,-9.9999999999999995E-7,-9.9999999999999995E-7,-9.9999999999999995E-7,-9.9999999999999995E-7,-9.9999999999999995E-7,-9.9999999999999995E-7,-9.9999999999999995E-7,-9.9999999999999995E-7,-9.9999999999999995E-7,-9.9999999999999995E-7,-9.9999999999999995E-7,-9.9999999999999995E-7,-9.9999999999999995E-7,{"$f":"IF(ISERROR(VLOOKUP(F1468,ages!B$1:B$23,1,1)),\"\",VLOOKUP(F1468,ages!B$1:B$23,1,1))","v":""},{"$f":"IF(ISERROR(VLOOKUP(F1468,ages!B$1:D$23,3,1)),\"\",VLOOKUP(F1468,ages!B$1:D$23,3,1))","v":""},0,0,0,0,0]
[null,null,null,null,null,"",null,null,null,null,null,null,"","","","","","","","","","",{"$f":"IF(ISNUMBER(F1469),IF(AL1469<0.85,\"\",VLOOKUP(M1469,A!A$2:X$23,VLOOKUP(F1469,ages!B$1:C$23,2,1),1)),\"\")","v":""},{"$f":"IF(ISNUMBER(F1469),IF(AM1469<0.85,\"\",VLOOKUP(N1469,B!A$2:X$23,VLOOKUP(F1469,ages!B$1:C$23,2,1),1)),\"\")","v":""},{"$f":"IF(ISNUMBER(F1469),IF(AN1469<0.85,\"\",VLOOKUP(O1469,'C'!A$2:X$23,VLOOKUP(F1469,ages!B$1:C$23,2,1),1)),\"\")","v":""},{"$f":"IF(ISNUMBER(F1469),IF(AO1469<0.85,\"\",VLOOKUP(P1469,D!A$2:X$23,VLOOKUP(F1469,ages!B$1:C$23,2,1),1)),\"\")","v":""},{"$f":"IF(ISNUMBER(F1469),IF(AP1469<0.85,\"\",VLOOKUP(Q1469,E!A$2:X$23,VLOOKUP(F1469,ages!B$1:C$23,2,1),1)),\"\")","v":""},{"$f":"IF(ISNUMBER(F1469),IF(AQ1469<0.85,\"\",VLOOKUP(R1469,F!A$2:X$23,VLOOKUP(F1469,ages!B$1:C$23,2,1),1)),\"\")","v":""},{"$f":"IF(ISNUMBER(F1469),IF(AR1469<0.85,\"\",VLOOKUP(S1469,G!A$2:X$23,VLOOKUP(F1469,ages!B$1:C$23,2,1),1)),\"\")","v":""},{"$f":"IF(ISNUMBER(F1469),IF(AS1469<0.85,\"\",VLOOKUP(T1469,H!A$2:X$23,VLOOKUP(F1469,ages!B$1:C$23,2,1),1)),\"\")","v":""},{"$f":"IF(ISNUMBER(F1469),IF(AT1469<0.85,\"\",VLOOKUP(U1469,I!A$2:X$23,VLOOKUP(F1469,ages!B$1:C$23,2,1),1)),\"\")","v":""},{"$f":"IF(ISNUMBER(F1469),IF(AU1469<0.85,\"\",VLOOKUP(V1469,J!A$2:X$23,VLOOKUP(F1469,ages!B$1:C$23,2,1),1)),\"\")","v":""},"","","","",-1.0000000000000002E-6,0,0,0,0,0,0,0,0,0,0,0,null,null,null,null,null,null,null,null,null,null,null,null,null,null,null,null,null,null,null,null,null,null,null,null,null,null,null,null,null,null,null,null,null,null,null,null,null,null,null,null,null,null,null,null,null,null,null,null,null,null,null,null,null,null,null,null,null,null,null,null,null,null,null,null,null,null,null,null,null,null,-9.9999999999999995E-7,-9.9999999999999995E-7,-9.9999999999999995E-7,-9.9999999999999995E-7,-9.9999999999999995E-7,-9.9999999999999995E-7,-9.9999999999999995E-7,-9.9999999999999995E-7,-9.9999999999999995E-7,-9.9999999999999995E-7,-9.9999999999999995E-7,-9.9999999999999995E-7,-9.9999999999999995E-7,-9.9999999999999995E-7,-9.9999999999999995E-7,-9.9999999999999995E-7,-9.9999999999999995E-7,-9.9999999999999995E-7,-9.9999999999999995E-7,-9.9999999999999995E-7,{"$f":"IF(ISERROR(VLOOKUP(F1469,ages!B$1:B$23,1,1)),\"\",VLOOKUP(F1469,ages!B$1:B$23,1,1))","v":""},{"$f":"IF(ISERROR(VLOOKUP(F1469,ages!B$1:D$23,3,1)),\"\",VLOOKUP(F1469,ages!B$1:D$23,3,1))","v":""},0,0,0,0,0]
[null,null,null,null,null,"",null,null,null,null,null,null,"","","","","","","","","","",{"$f":"IF(ISNUMBER(F1470),IF(AL1470<0.85,\"\",VLOOKUP(M1470,A!A$2:X$23,VLOOKUP(F1470,ages!B$1:C$23,2,1),1)),\"\")","v":""},{"$f":"IF(ISNUMBER(F1470),IF(AM1470<0.85,\"\",VLOOKUP(N1470,B!A$2:X$23,VLOOKUP(F1470,ages!B$1:C$23,2,1),1)),\"\")","v":""},{"$f":"IF(ISNUMBER(F1470),IF(AN1470<0.85,\"\",VLOOKUP(O1470,'C'!A$2:X$23,VLOOKUP(F1470,ages!B$1:C$23,2,1),1)),\"\")","v":""},{"$f":"IF(ISNUMBER(F1470),IF(AO1470<0.85,\"\",VLOOKUP(P1470,D!A$2:X$23,VLOOKUP(F1470,ages!B$1:C$23,2,1),1)),\"\")","v":""},{"$f":"IF(ISNUMBER(F1470),IF(AP1470<0.85,\"\",VLOOKUP(Q1470,E!A$2:X$23,VLOOKUP(F1470,ages!B$1:C$23,2,1),1)),\"\")","v":""},{"$f":"IF(ISNUMBER(F1470),IF(AQ1470<0.85,\"\",VLOOKUP(R1470,F!A$2:X$23,VLOOKUP(F1470,ages!B$1:C$23,2,1),1)),\"\")","v":""},{"$f":"IF(ISNUMBER(F1470),IF(AR1470<0.85,\"\",VLOOKUP(S1470,G!A$2:X$23,VLOOKUP(F1470,ages!B$1:C$23,2,1),1)),\"\")","v":""},{"$f":"IF(ISNUMBER(F1470),IF(AS1470<0.85,\"\",VLOOKUP(T1470,H!A$2:X$23,VLOOKUP(F1470,ages!B$1:C$23,2,1),1)),\"\")","v":""},{"$f":"IF(ISNUMBER(F1470),IF(AT1470<0.85,\"\",VLOOKUP(U1470,I!A$2:X$23,VLOOKUP(F1470,ages!B$1:C$23,2,1),1)),\"\")","v":""},{"$f":"IF(ISNUMBER(F1470),IF(AU1470<0.85,\"\",VLOOKUP(V1470,J!A$2:X$23,VLOOKUP(F1470,ages!B$1:C$23,2,1),1)),\"\")","v":""},"","","","",-1.0000000000000002E-6,0,0,0,0,0,0,0,0,0,0,0,null,null,null,null,null,null,null,null,null,null,null,null,null,null,null,null,null,null,null,null,null,null,null,null,null,null,null,null,null,null,null,null,null,null,null,null,null,null,null,null,null,null,null,null,null,null,null,null,null,null,null,null,null,null,null,null,null,null,null,null,null,null,null,null,null,null,null,null,null,null,-9.9999999999999995E-7,-9.9999999999999995E-7,-9.9999999999999995E-7,-9.9999999999999995E-7,-9.9999999999999995E-7,-9.9999999999999995E-7,-9.9999999999999995E-7,-9.9999999999999995E-7,-9.9999999999999995E-7,-9.9999999999999995E-7,-9.9999999999999995E-7,-9.9999999999999995E-7,-9.9999999999999995E-7,-9.9999999999999995E-7,-9.9999999999999995E-7,-9.9999999999999995E-7,-9.9999999999999995E-7,-9.9999999999999995E-7,-9.9999999999999995E-7,-9.9999999999999995E-7,{"$f":"IF(ISERROR(VLOOKUP(F1470,ages!B$1:B$23,1,1)),\"\",VLOOKUP(F1470,ages!B$1:B$23,1,1))","v":""},{"$f":"IF(ISERROR(VLOOKUP(F1470,ages!B$1:D$23,3,1)),\"\",VLOOKUP(F1470,ages!B$1:D$23,3,1))","v":""},0,0,0,0,0]
[null,null,null,null,null,"",null,null,null,null,null,null,"","","","","","","","","","",{"$f":"IF(ISNUMBER(F1471),IF(AL1471<0.85,\"\",VLOOKUP(M1471,A!A$2:X$23,VLOOKUP(F1471,ages!B$1:C$23,2,1),1)),\"\")","v":""},{"$f":"IF(ISNUMBER(F1471),IF(AM1471<0.85,\"\",VLOOKUP(N1471,B!A$2:X$23,VLOOKUP(F1471,ages!B$1:C$23,2,1),1)),\"\")","v":""},{"$f":"IF(ISNUMBER(F1471),IF(AN1471<0.85,\"\",VLOOKUP(O1471,'C'!A$2:X$23,VLOOKUP(F1471,ages!B$1:C$23,2,1),1)),\"\")","v":""},{"$f":"IF(ISNUMBER(F1471),IF(AO1471<0.85,\"\",VLOOKUP(P1471,D!A$2:X$23,VLOOKUP(F1471,ages!B$1:C$23,2,1),1)),\"\")","v":""},{"$f":"IF(ISNUMBER(F1471),IF(AP1471<0.85,\"\",VLOOKUP(Q1471,E!A$2:X$23,VLOOKUP(F1471,ages!B$1:C$23,2,1),1)),\"\")","v":""},{"$f":"IF(ISNUMBER(F1471),IF(AQ1471<0.85,\"\",VLOOKUP(R1471,F!A$2:X$23,VLOOKUP(F1471,ages!B$1:C$23,2,1),1)),\"\")","v":""},{"$f":"IF(ISNUMBER(F1471),IF(AR1471<0.85,\"\",VLOOKUP(S1471,G!A$2:X$23,VLOOKUP(F1471,ages!B$1:C$23,2,1),1)),\"\")","v":""},{"$f":"IF(ISNUMBER(F1471),IF(AS1471<0.85,\"\",VLOOKUP(T1471,H!A$2:X$23,VLOOKUP(F1471,ages!B$1:C$23,2,1),1)),\"\")","v":""},{"$f":"IF(ISNUMBER(F1471),IF(AT1471<0.85,\"\",VLOOKUP(U1471,I!A$2:X$23,VLOOKUP(F1471,ages!B$1:C$23,2,1),1)),\"\")","v":""},{"$f":"IF(ISNUMBER(F1471),IF(AU1471<0.85,\"\",VLOOKUP(V1471,J!A$2:X$23,VLOOKUP(F1471,ages!B$1:C$23,2,1),1)),\"\")","v":""},"","","","",-1.0000000000000002E-6,0,0,0,0,0,0,0,0,0,0,0,null,null,null,null,null,null,null,null,null,null,null,null,null,null,null,null,null,null,null,null,null,null,null,null,null,null,null,null,null,null,null,null,null,null,null,null,null,null,null,null,null,null,null,null,null,null,null,null,null,null,null,null,null,null,null,null,null,null,null,null,null,null,null,null,null,null,null,null,null,null,-9.9999999999999995E-7,-9.9999999999999995E-7,-9.9999999999999995E-7,-9.9999999999999995E-7,-9.9999999999999995E-7,-9.9999999999999995E-7,-9.9999999999999995E-7,-9.9999999999999995E-7,-9.9999999999999995E-7,-9.9999999999999995E-7,-9.9999999999999995E-7,-9.9999999999999995E-7,-9.9999999999999995E-7,-9.9999999999999995E-7,-9.9999999999999995E-7,-9.9999999999999995E-7,-9.9999999999999995E-7,-9.9999999999999995E-7,-9.9999999999999995E-7,-9.9999999999999995E-7,{"$f":"IF(ISERROR(VLOOKUP(F1471,ages!B$1:B$23,1,1)),\"\",VLOOKUP(F1471,ages!B$1:B$23,1,1))","v":""},{"$f":"IF(ISERROR(VLOOKUP(F1471,ages!B$1:D$23,3,1)),\"\",VLOOKUP(F1471,ages!B$1:D$23,3,1))","v":""},0,0,0,0,0]
[null,null,null,null,null,"",null,null,null,null,null,null,"","","","","","","","","","",{"$f":"IF(ISNUMBER(F1472),IF(AL1472<0.85,\"\",VLOOKUP(M1472,A!A$2:X$23,VLOOKUP(F1472,ages!B$1:C$23,2,1),1)),\"\")","v":""},{"$f":"IF(ISNUMBER(F1472),IF(AM1472<0.85,\"\",VLOOKUP(N1472,B!A$2:X$23,VLOOKUP(F1472,ages!B$1:C$23,2,1),1)),\"\")","v":""},{"$f":"IF(ISNUMBER(F1472),IF(AN1472<0.85,\"\",VLOOKUP(O1472,'C'!A$2:X$23,VLOOKUP(F1472,ages!B$1:C$23,2,1),1)),\"\")","v":""},{"$f":"IF(ISNUMBER(F1472),IF(AO1472<0.85,\"\",VLOOKUP(P1472,D!A$2:X$23,VLOOKUP(F1472,ages!B$1:C$23,2,1),1)),\"\")","v":""},{"$f":"IF(ISNUMBER(F1472),IF(AP1472<0.85,\"\",VLOOKUP(Q1472,E!A$2:X$23,VLOOKUP(F1472,ages!B$1:C$23,2,1),1)),\"\")","v":""},{"$f":"IF(ISNUMBER(F1472),IF(AQ1472<0.85,\"\",VLOOKUP(R1472,F!A$2:X$23,VLOOKUP(F1472,ages!B$1:C$23,2,1),1)),\"\")","v":""},{"$f":"IF(ISNUMBER(F1472),IF(AR1472<0.85,\"\",VLOOKUP(S1472,G!A$2:X$23,VLOOKUP(F1472,ages!B$1:C$23,2,1),1)),\"\")","v":""},{"$f":"IF(ISNUMBER(F1472),IF(AS1472<0.85,\"\",VLOOKUP(T1472,H!A$2:X$23,VLOOKUP(F1472,ages!B$1:C$23,2,1),1)),\"\")","v":""},{"$f":"IF(ISNUMBER(F1472),IF(AT1472<0.85,\"\",VLOOKUP(U1472,I!A$2:X$23,VLOOKUP(F1472,ages!B$1:C$23,2,1),1)),\"\")","v":""},{"$f":"IF(ISNUMBER(F1472),IF(AU1472<0.85,\"\",VLOOKUP(V1472,J!A$2:X$23,VLOOKUP(F1472,ages!B$1:C$23,2,1),1)),\"\")","v":""},"","","","",-1.0000000000000002E-6,0,0,0,0,0,0,0,0,0,0,0,null,null,null,null,null,null,null,null,null,null,null,null,null,null,null,null,null,null,null,null,null,null,null,null,null,null,null,null,null,null,null,null,null,null,null,null,null,null,null,null,null,null,null,null,null,null,null,null,null,null,null,null,null,null,null,null,null,null,null,null,null,null,null,null,null,null,null,null,null,null,-9.9999999999999995E-7,-9.9999999999999995E-7,-9.9999999999999995E-7,-9.9999999999999995E-7,-9.9999999999999995E-7,-9.9999999999999995E-7,-9.9999999999999995E-7,-9.9999999999999995E-7,-9.9999999999999995E-7,-9.9999999999999995E-7,-9.9999999999999995E-7,-9.9999999999999995E-7,-9.9999999999999995E-7,-9.9999999999999995E-7,-9.9999999999999995E-7,-9.9999999999999995E-7,-9.9999999999999995E-7,-9.9999999999999995E-7,-9.9999999999999995E-7,-9.9999999999999995E-7,{"$f":"IF(ISERROR(VLOOKUP(F1472,ages!B$1:B$23,1,1)),\"\",VLOOKUP(F1472,ages!B$1:B$23,1,1))","v":""},{"$f":"IF(ISERROR(VLOOKUP(F1472,ages!B$1:D$23,3,1)),\"\",VLOOKUP(F1472,ages!B$1:D$23,3,1))","v":""},0,0,0,0,0]
[null,null,null,null,null,"",null,null,null,null,null,null,"","","","","","","","","","",{"$f":"IF(ISNUMBER(F1473),IF(AL1473<0.85,\"\",VLOOKUP(M1473,A!A$2:X$23,VLOOKUP(F1473,ages!B$1:C$23,2,1),1)),\"\")","v":""},{"$f":"IF(ISNUMBER(F1473),IF(AM1473<0.85,\"\",VLOOKUP(N1473,B!A$2:X$23,VLOOKUP(F1473,ages!B$1:C$23,2,1),1)),\"\")","v":""},{"$f":"IF(ISNUMBER(F1473),IF(AN1473<0.85,\"\",VLOOKUP(O1473,'C'!A$2:X$23,VLOOKUP(F1473,ages!B$1:C$23,2,1),1)),\"\")","v":""},{"$f":"IF(ISNUMBER(F1473),IF(AO1473<0.85,\"\",VLOOKUP(P1473,D!A$2:X$23,VLOOKUP(F1473,ages!B$1:C$23,2,1),1)),\"\")","v":""},{"$f":"IF(ISNUMBER(F1473),IF(AP1473<0.85,\"\",VLOOKUP(Q1473,E!A$2:X$23,VLOOKUP(F1473,ages!B$1:C$23,2,1),1)),\"\")","v":""},{"$f":"IF(ISNUMBER(F1473),IF(AQ1473<0.85,\"\",VLOOKUP(R1473,F!A$2:X$23,VLOOKUP(F1473,ages!B$1:C$23,2,1),1)),\"\")","v":""},{"$f":"IF(ISNUMBER(F1473),IF(AR1473<0.85,\"\",VLOOKUP(S1473,G!A$2:X$23,VLOOKUP(F1473,ages!B$1:C$23,2,1),1)),\"\")","v":""},{"$f":"IF(ISNUMBER(F1473),IF(AS1473<0.85,\"\",VLOOKUP(T1473,H!A$2:X$23,VLOOKUP(F1473,ages!B$1:C$23,2,1),1)),\"\")","v":""},{"$f":"IF(ISNUMBER(F1473),IF(AT1473<0.85,\"\",VLOOKUP(U1473,I!A$2:X$23,VLOOKUP(F1473,ages!B$1:C$23,2,1),1)),\"\")","v":""},{"$f":"IF(ISNUMBER(F1473),IF(AU1473<0.85,\"\",VLOOKUP(V1473,J!A$2:X$23,VLOOKUP(F1473,ages!B$1:C$23,2,1),1)),\"\")","v":""},"","","","",-1.0000000000000002E-6,0,0,0,0,0,0,0,0,0,0,0,null,null,null,null,null,null,null,null,null,null,null,null,null,null,null,null,null,null,null,null,null,null,null,null,null,null,null,null,null,null,null,null,null,null,null,null,null,null,null,null,null,null,null,null,null,null,null,null,null,null,null,null,null,null,null,null,null,null,null,null,null,null,null,null,null,null,null,null,null,null,-9.9999999999999995E-7,-9.9999999999999995E-7,-9.9999999999999995E-7,-9.9999999999999995E-7,-9.9999999999999995E-7,-9.9999999999999995E-7,-9.9999999999999995E-7,-9.9999999999999995E-7,-9.9999999999999995E-7,-9.9999999999999995E-7,-9.9999999999999995E-7,-9.9999999999999995E-7,-9.9999999999999995E-7,-9.9999999999999995E-7,-9.9999999999999995E-7,-9.9999999999999995E-7,-9.9999999999999995E-7,-9.9999999999999995E-7,-9.9999999999999995E-7,-9.9999999999999995E-7,{"$f":"IF(ISERROR(VLOOKUP(F1473,ages!B$1:B$23,1,1)),\"\",VLOOKUP(F1473,ages!B$1:B$23,1,1))","v":""},{"$f":"IF(ISERROR(VLOOKUP(F1473,ages!B$1:D$23,3,1)),\"\",VLOOKUP(F1473,ages!B$1:D$23,3,1))","v":""},0,0,0,0,0]
[null,null,null,null,null,"",null,null,null,null,null,null,"","","","","","","","","","",{"$f":"IF(ISNUMBER(F1474),IF(AL1474<0.85,\"\",VLOOKUP(M1474,A!A$2:X$23,VLOOKUP(F1474,ages!B$1:C$23,2,1),1)),\"\")","v":""},{"$f":"IF(ISNUMBER(F1474),IF(AM1474<0.85,\"\",VLOOKUP(N1474,B!A$2:X$23,VLOOKUP(F1474,ages!B$1:C$23,2,1),1)),\"\")","v":""},{"$f":"IF(ISNUMBER(F1474),IF(AN1474<0.85,\"\",VLOOKUP(O1474,'C'!A$2:X$23,VLOOKUP(F1474,ages!B$1:C$23,2,1),1)),\"\")","v":""},{"$f":"IF(ISNUMBER(F1474),IF(AO1474<0.85,\"\",VLOOKUP(P1474,D!A$2:X$23,VLOOKUP(F1474,ages!B$1:C$23,2,1),1)),\"\")","v":""},{"$f":"IF(ISNUMBER(F1474),IF(AP1474<0.85,\"\",VLOOKUP(Q1474,E!A$2:X$23,VLOOKUP(F1474,ages!B$1:C$23,2,1),1)),\"\")","v":""},{"$f":"IF(ISNUMBER(F1474),IF(AQ1474<0.85,\"\",VLOOKUP(R1474,F!A$2:X$23,VLOOKUP(F1474,ages!B$1:C$23,2,1),1)),\"\")","v":""},{"$f":"IF(ISNUMBER(F1474),IF(AR1474<0.85,\"\",VLOOKUP(S1474,G!A$2:X$23,VLOOKUP(F1474,ages!B$1:C$23,2,1),1)),\"\")","v":""},{"$f":"IF(ISNUMBER(F1474),IF(AS1474<0.85,\"\",VLOOKUP(T1474,H!A$2:X$23,VLOOKUP(F1474,ages!B$1:C$23,2,1),1)),\"\")","v":""},{"$f":"IF(ISNUMBER(F1474),IF(AT1474<0.85,\"\",VLOOKUP(U1474,I!A$2:X$23,VLOOKUP(F1474,ages!B$1:C$23,2,1),1)),\"\")","v":""},{"$f":"IF(ISNUMBER(F1474),IF(AU1474<0.85,\"\",VLOOKUP(V1474,J!A$2:X$23,VLOOKUP(F1474,ages!B$1:C$23,2,1),1)),\"\")","v":""},"","","","",-1.0000000000000002E-6,0,0,0,0,0,0,0,0,0,0,0,null,null,null,null,null,null,null,null,null,null,null,null,null,null,null,null,null,null,null,null,null,null,null,null,null,null,null,null,null,null,null,null,null,null,null,null,null,null,null,null,null,null,null,null,null,null,null,null,null,null,null,null,null,null,null,null,null,null,null,null,null,null,null,null,null,null,null,null,null,null,-9.9999999999999995E-7,-9.9999999999999995E-7,-9.9999999999999995E-7,-9.9999999999999995E-7,-9.9999999999999995E-7,-9.9999999999999995E-7,-9.9999999999999995E-7,-9.9999999999999995E-7,-9.9999999999999995E-7,-9.9999999999999995E-7,-9.9999999999999995E-7,-9.9999999999999995E-7,-9.9999999999999995E-7,-9.9999999999999995E-7,-9.9999999999999995E-7,-9.9999999999999995E-7,-9.9999999999999995E-7,-9.9999999999999995E-7,-9.9999999999999995E-7,-9.9999999999999995E-7,{"$f":"IF(ISERROR(VLOOKUP(F1474,ages!B$1:B$23,1,1)),\"\",VLOOKUP(F1474,ages!B$1:B$23,1,1))","v":""},{"$f":"IF(ISERROR(VLOOKUP(F1474,ages!B$1:D$23,3,1)),\"\",VLOOKUP(F1474,ages!B$1:D$23,3,1))","v":""},0,0,0,0,0]
[null,null,null,null,null,"",null,null,null,null,null,null,"","","","","","","","","","",{"$f":"IF(ISNUMBER(F1475),IF(AL1475<0.85,\"\",VLOOKUP(M1475,A!A$2:X$23,VLOOKUP(F1475,ages!B$1:C$23,2,1),1)),\"\")","v":""},{"$f":"IF(ISNUMBER(F1475),IF(AM1475<0.85,\"\",VLOOKUP(N1475,B!A$2:X$23,VLOOKUP(F1475,ages!B$1:C$23,2,1),1)),\"\")","v":""},{"$f":"IF(ISNUMBER(F1475),IF(AN1475<0.85,\"\",VLOOKUP(O1475,'C'!A$2:X$23,VLOOKUP(F1475,ages!B$1:C$23,2,1),1)),\"\")","v":""},{"$f":"IF(ISNUMBER(F1475),IF(AO1475<0.85,\"\",VLOOKUP(P1475,D!A$2:X$23,VLOOKUP(F1475,ages!B$1:C$23,2,1),1)),\"\")","v":""},{"$f":"IF(ISNUMBER(F1475),IF(AP1475<0.85,\"\",VLOOKUP(Q1475,E!A$2:X$23,VLOOKUP(F1475,ages!B$1:C$23,2,1),1)),\"\")","v":""},{"$f":"IF(ISNUMBER(F1475),IF(AQ1475<0.85,\"\",VLOOKUP(R1475,F!A$2:X$23,VLOOKUP(F1475,ages!B$1:C$23,2,1),1)),\"\")","v":""},{"$f":"IF(ISNUMBER(F1475),IF(AR1475<0.85,\"\",VLOOKUP(S1475,G!A$2:X$23,VLOOKUP(F1475,ages!B$1:C$23,2,1),1)),\"\")","v":""},{"$f":"IF(ISNUMBER(F1475),IF(AS1475<0.85,\"\",VLOOKUP(T1475,H!A$2:X$23,VLOOKUP(F1475,ages!B$1:C$23,2,1),1)),\"\")","v":""},{"$f":"IF(ISNUMBER(F1475),IF(AT1475<0.85,\"\",VLOOKUP(U1475,I!A$2:X$23,VLOOKUP(F1475,ages!B$1:C$23,2,1),1)),\"\")","v":""},{"$f":"IF(ISNUMBER(F1475),IF(AU1475<0.85,\"\",VLOOKUP(V1475,J!A$2:X$23,VLOOKUP(F1475,ages!B$1:C$23,2,1),1)),\"\")","v":""},"","","","",-1.0000000000000002E-6,0,0,0,0,0,0,0,0,0,0,0,null,null,null,null,null,null,null,null,null,null,null,null,null,null,null,null,null,null,null,null,null,null,null,null,null,null,null,null,null,null,null,null,null,null,null,null,null,null,null,null,null,null,null,null,null,null,null,null,null,null,null,null,null,null,null,null,null,null,null,null,null,null,null,null,null,null,null,null,null,null,-9.9999999999999995E-7,-9.9999999999999995E-7,-9.9999999999999995E-7,-9.9999999999999995E-7,-9.9999999999999995E-7,-9.9999999999999995E-7,-9.9999999999999995E-7,-9.9999999999999995E-7,-9.9999999999999995E-7,-9.9999999999999995E-7,-9.9999999999999995E-7,-9.9999999999999995E-7,-9.9999999999999995E-7,-9.9999999999999995E-7,-9.9999999999999995E-7,-9.9999999999999995E-7,-9.9999999999999995E-7,-9.9999999999999995E-7,-9.9999999999999995E-7,-9.9999999999999995E-7,{"$f":"IF(ISERROR(VLOOKUP(F1475,ages!B$1:B$23,1,1)),\"\",VLOOKUP(F1475,ages!B$1:B$23,1,1))","v":""},{"$f":"IF(ISERROR(VLOOKUP(F1475,ages!B$1:D$23,3,1)),\"\",VLOOKUP(F1475,ages!B$1:D$23,3,1))","v":""},0,0,0,0,0]
[null,null,null,null,null,"",null,null,null,null,null,null,"","","","","","","","","","",{"$f":"IF(ISNUMBER(F1476),IF(AL1476<0.85,\"\",VLOOKUP(M1476,A!A$2:X$23,VLOOKUP(F1476,ages!B$1:C$23,2,1),1)),\"\")","v":""},{"$f":"IF(ISNUMBER(F1476),IF(AM1476<0.85,\"\",VLOOKUP(N1476,B!A$2:X$23,VLOOKUP(F1476,ages!B$1:C$23,2,1),1)),\"\")","v":""},{"$f":"IF(ISNUMBER(F1476),IF(AN1476<0.85,\"\",VLOOKUP(O1476,'C'!A$2:X$23,VLOOKUP(F1476,ages!B$1:C$23,2,1),1)),\"\")","v":""},{"$f":"IF(ISNUMBER(F1476),IF(AO1476<0.85,\"\",VLOOKUP(P1476,D!A$2:X$23,VLOOKUP(F1476,ages!B$1:C$23,2,1),1)),\"\")","v":""},{"$f":"IF(ISNUMBER(F1476),IF(AP1476<0.85,\"\",VLOOKUP(Q1476,E!A$2:X$23,VLOOKUP(F1476,ages!B$1:C$23,2,1),1)),\"\")","v":""},{"$f":"IF(ISNUMBER(F1476),IF(AQ1476<0.85,\"\",VLOOKUP(R1476,F!A$2:X$23,VLOOKUP(F1476,ages!B$1:C$23,2,1),1)),\"\")","v":""},{"$f":"IF(ISNUMBER(F1476),IF(AR1476<0.85,\"\",VLOOKUP(S1476,G!A$2:X$23,VLOOKUP(F1476,ages!B$1:C$23,2,1),1)),\"\")","v":""},{"$f":"IF(ISNUMBER(F1476),IF(AS1476<0.85,\"\",VLOOKUP(T1476,H!A$2:X$23,VLOOKUP(F1476,ages!B$1:C$23,2,1),1)),\"\")","v":""},{"$f":"IF(ISNUMBER(F1476),IF(AT1476<0.85,\"\",VLOOKUP(U1476,I!A$2:X$23,VLOOKUP(F1476,ages!B$1:C$23,2,1),1)),\"\")","v":""},{"$f":"IF(ISNUMBER(F1476),IF(AU1476<0.85,\"\",VLOOKUP(V1476,J!A$2:X$23,VLOOKUP(F1476,ages!B$1:C$23,2,1),1)),\"\")","v":""},"","","","",-1.0000000000000002E-6,0,0,0,0,0,0,0,0,0,0,0,null,null,null,null,null,null,null,null,null,null,null,null,null,null,null,null,null,null,null,null,null,null,null,null,null,null,null,null,null,null,null,null,null,null,null,null,null,null,null,null,null,null,null,null,null,null,null,null,null,null,null,null,null,null,null,null,null,null,null,null,null,null,null,null,null,null,null,null,null,null,-9.9999999999999995E-7,-9.9999999999999995E-7,-9.9999999999999995E-7,-9.9999999999999995E-7,-9.9999999999999995E-7,-9.9999999999999995E-7,-9.9999999999999995E-7,-9.9999999999999995E-7,-9.9999999999999995E-7,-9.9999999999999995E-7,-9.9999999999999995E-7,-9.9999999999999995E-7,-9.9999999999999995E-7,-9.9999999999999995E-7,-9.9999999999999995E-7,-9.9999999999999995E-7,-9.9999999999999995E-7,-9.9999999999999995E-7,-9.9999999999999995E-7,-9.9999999999999995E-7,{"$f":"IF(ISERROR(VLOOKUP(F1476,ages!B$1:B$23,1,1)),\"\",VLOOKUP(F1476,ages!B$1:B$23,1,1))","v":""},{"$f":"IF(ISERROR(VLOOKUP(F1476,ages!B$1:D$23,3,1)),\"\",VLOOKUP(F1476,ages!B$1:D$23,3,1))","v":""},0,0,0,0,0]
[null,null,null,null,null,"",null,null,null,null,null,null,"","","","","","","","","","",{"$f":"IF(ISNUMBER(F1477),IF(AL1477<0.85,\"\",VLOOKUP(M1477,A!A$2:X$23,VLOOKUP(F1477,ages!B$1:C$23,2,1),1)),\"\")","v":""},{"$f":"IF(ISNUMBER(F1477),IF(AM1477<0.85,\"\",VLOOKUP(N1477,B!A$2:X$23,VLOOKUP(F1477,ages!B$1:C$23,2,1),1)),\"\")","v":""},{"$f":"IF(ISNUMBER(F1477),IF(AN1477<0.85,\"\",VLOOKUP(O1477,'C'!A$2:X$23,VLOOKUP(F1477,ages!B$1:C$23,2,1),1)),\"\")","v":""},{"$f":"IF(ISNUMBER(F1477),IF(AO1477<0.85,\"\",VLOOKUP(P1477,D!A$2:X$23,VLOOKUP(F1477,ages!B$1:C$23,2,1),1)),\"\")","v":""},{"$f":"IF(ISNUMBER(F1477),IF(AP1477<0.85,\"\",VLOOKUP(Q1477,E!A$2:X$23,VLOOKUP(F1477,ages!B$1:C$23,2,1),1)),\"\")","v":""},{"$f":"IF(ISNUMBER(F1477),IF(AQ1477<0.85,\"\",VLOOKUP(R1477,F!A$2:X$23,VLOOKUP(F1477,ages!B$1:C$23,2,1),1)),\"\")","v":""},{"$f":"IF(ISNUMBER(F1477),IF(AR1477<0.85,\"\",VLOOKUP(S1477,G!A$2:X$23,VLOOKUP(F1477,ages!B$1:C$23,2,1),1)),\"\")","v":""},{"$f":"IF(ISNUMBER(F1477),IF(AS1477<0.85,\"\",VLOOKUP(T1477,H!A$2:X$23,VLOOKUP(F1477,ages!B$1:C$23,2,1),1)),\"\")","v":""},{"$f":"IF(ISNUMBER(F1477),IF(AT1477<0.85,\"\",VLOOKUP(U1477,I!A$2:X$23,VLOOKUP(F1477,ages!B$1:C$23,2,1),1)),\"\")","v":""},{"$f":"IF(ISNUMBER(F1477),IF(AU1477<0.85,\"\",VLOOKUP(V1477,J!A$2:X$23,VLOOKUP(F1477,ages!B$1:C$23,2,1),1)),\"\")","v":""},"","","","",-1.0000000000000002E-6,0,0,0,0,0,0,0,0,0,0,0,null,null,null,null,null,null,null,null,null,null,null,null,null,null,null,null,null,null,null,null,null,null,null,null,null,null,null,null,null,null,null,null,null,null,null,null,null,null,null,null,null,null,null,null,null,null,null,null,null,null,null,null,null,null,null,null,null,null,null,null,null,null,null,null,null,null,null,null,null,null,-9.9999999999999995E-7,-9.9999999999999995E-7,-9.9999999999999995E-7,-9.9999999999999995E-7,-9.9999999999999995E-7,-9.9999999999999995E-7,-9.9999999999999995E-7,-9.9999999999999995E-7,-9.9999999999999995E-7,-9.9999999999999995E-7,-9.9999999999999995E-7,-9.9999999999999995E-7,-9.9999999999999995E-7,-9.9999999999999995E-7,-9.9999999999999995E-7,-9.9999999999999995E-7,-9.9999999999999995E-7,-9.9999999999999995E-7,-9.9999999999999995E-7,-9.9999999999999995E-7,{"$f":"IF(ISERROR(VLOOKUP(F1477,ages!B$1:B$23,1,1)),\"\",VLOOKUP(F1477,ages!B$1:B$23,1,1))","v":""},{"$f":"IF(ISERROR(VLOOKUP(F1477,ages!B$1:D$23,3,1)),\"\",VLOOKUP(F1477,ages!B$1:D$23,3,1))","v":""},0,0,0,0,0]
[null,null,null,null,null,"",null,null,null,null,null,null,"","","","","","","","","","",{"$f":"IF(ISNUMBER(F1478),IF(AL1478<0.85,\"\",VLOOKUP(M1478,A!A$2:X$23,VLOOKUP(F1478,ages!B$1:C$23,2,1),1)),\"\")","v":""},{"$f":"IF(ISNUMBER(F1478),IF(AM1478<0.85,\"\",VLOOKUP(N1478,B!A$2:X$23,VLOOKUP(F1478,ages!B$1:C$23,2,1),1)),\"\")","v":""},{"$f":"IF(ISNUMBER(F1478),IF(AN1478<0.85,\"\",VLOOKUP(O1478,'C'!A$2:X$23,VLOOKUP(F1478,ages!B$1:C$23,2,1),1)),\"\")","v":""},{"$f":"IF(ISNUMBER(F1478),IF(AO1478<0.85,\"\",VLOOKUP(P1478,D!A$2:X$23,VLOOKUP(F1478,ages!B$1:C$23,2,1),1)),\"\")","v":""},{"$f":"IF(ISNUMBER(F1478),IF(AP1478<0.85,\"\",VLOOKUP(Q1478,E!A$2:X$23,VLOOKUP(F1478,ages!B$1:C$23,2,1),1)),\"\")","v":""},{"$f":"IF(ISNUMBER(F1478),IF(AQ1478<0.85,\"\",VLOOKUP(R1478,F!A$2:X$23,VLOOKUP(F1478,ages!B$1:C$23,2,1),1)),\"\")","v":""},{"$f":"IF(ISNUMBER(F1478),IF(AR1478<0.85,\"\",VLOOKUP(S1478,G!A$2:X$23,VLOOKUP(F1478,ages!B$1:C$23,2,1),1)),\"\")","v":""},{"$f":"IF(ISNUMBER(F1478),IF(AS1478<0.85,\"\",VLOOKUP(T1478,H!A$2:X$23,VLOOKUP(F1478,ages!B$1:C$23,2,1),1)),\"\")","v":""},{"$f":"IF(ISNUMBER(F1478),IF(AT1478<0.85,\"\",VLOOKUP(U1478,I!A$2:X$23,VLOOKUP(F1478,ages!B$1:C$23,2,1),1)),\"\")","v":""},{"$f":"IF(ISNUMBER(F1478),IF(AU1478<0.85,\"\",VLOOKUP(V1478,J!A$2:X$23,VLOOKUP(F1478,ages!B$1:C$23,2,1),1)),\"\")","v":""},"","","","",-1.0000000000000002E-6,0,0,0,0,0,0,0,0,0,0,0,null,null,null,null,null,null,null,null,null,null,null,null,null,null,null,null,null,null,null,null,null,null,null,null,null,null,null,null,null,null,null,null,null,null,null,null,null,null,null,null,null,null,null,null,null,null,null,null,null,null,null,null,null,null,null,null,null,null,null,null,null,null,null,null,null,null,null,null,null,null,-9.9999999999999995E-7,-9.9999999999999995E-7,-9.9999999999999995E-7,-9.9999999999999995E-7,-9.9999999999999995E-7,-9.9999999999999995E-7,-9.9999999999999995E-7,-9.9999999999999995E-7,-9.9999999999999995E-7,-9.9999999999999995E-7,-9.9999999999999995E-7,-9.9999999999999995E-7,-9.9999999999999995E-7,-9.9999999999999995E-7,-9.9999999999999995E-7,-9.9999999999999995E-7,-9.9999999999999995E-7,-9.9999999999999995E-7,-9.9999999999999995E-7,-9.9999999999999995E-7,{"$f":"IF(ISERROR(VLOOKUP(F1478,ages!B$1:B$23,1,1)),\"\",VLOOKUP(F1478,ages!B$1:B$23,1,1))","v":""},{"$f":"IF(ISERROR(VLOOKUP(F1478,ages!B$1:D$23,3,1)),\"\",VLOOKUP(F1478,ages!B$1:D$23,3,1))","v":""},0,0,0,0,0]
[null,null,null,null,null,"",null,null,null,null,null,null,"","","","","","","","","","",{"$f":"IF(ISNUMBER(F1479),IF(AL1479<0.85,\"\",VLOOKUP(M1479,A!A$2:X$23,VLOOKUP(F1479,ages!B$1:C$23,2,1),1)),\"\")","v":""},{"$f":"IF(ISNUMBER(F1479),IF(AM1479<0.85,\"\",VLOOKUP(N1479,B!A$2:X$23,VLOOKUP(F1479,ages!B$1:C$23,2,1),1)),\"\")","v":""},{"$f":"IF(ISNUMBER(F1479),IF(AN1479<0.85,\"\",VLOOKUP(O1479,'C'!A$2:X$23,VLOOKUP(F1479,ages!B$1:C$23,2,1),1)),\"\")","v":""},{"$f":"IF(ISNUMBER(F1479),IF(AO1479<0.85,\"\",VLOOKUP(P1479,D!A$2:X$23,VLOOKUP(F1479,ages!B$1:C$23,2,1),1)),\"\")","v":""},{"$f":"IF(ISNUMBER(F1479),IF(AP1479<0.85,\"\",VLOOKUP(Q1479,E!A$2:X$23,VLOOKUP(F1479,ages!B$1:C$23,2,1),1)),\"\")","v":""},{"$f":"IF(ISNUMBER(F1479),IF(AQ1479<0.85,\"\",VLOOKUP(R1479,F!A$2:X$23,VLOOKUP(F1479,ages!B$1:C$23,2,1),1)),\"\")","v":""},{"$f":"IF(ISNUMBER(F1479),IF(AR1479<0.85,\"\",VLOOKUP(S1479,G!A$2:X$23,VLOOKUP(F1479,ages!B$1:C$23,2,1),1)),\"\")","v":""},{"$f":"IF(ISNUMBER(F1479),IF(AS1479<0.85,\"\",VLOOKUP(T1479,H!A$2:X$23,VLOOKUP(F1479,ages!B$1:C$23,2,1),1)),\"\")","v":""},{"$f":"IF(ISNUMBER(F1479),IF(AT1479<0.85,\"\",VLOOKUP(U1479,I!A$2:X$23,VLOOKUP(F1479,ages!B$1:C$23,2,1),1)),\"\")","v":""},{"$f":"IF(ISNUMBER(F1479),IF(AU1479<0.85,\"\",VLOOKUP(V1479,J!A$2:X$23,VLOOKUP(F1479,ages!B$1:C$23,2,1),1)),\"\")","v":""},"","","","",-1.0000000000000002E-6,0,0,0,0,0,0,0,0,0,0,0,null,null,null,null,null,null,null,null,null,null,null,null,null,null,null,null,null,null,null,null,null,null,null,null,null,null,null,null,null,null,null,null,null,null,null,null,null,null,null,null,null,null,null,null,null,null,null,null,null,null,null,null,null,null,null,null,null,null,null,null,null,null,null,null,null,null,null,null,null,null,-9.9999999999999995E-7,-9.9999999999999995E-7,-9.9999999999999995E-7,-9.9999999999999995E-7,-9.9999999999999995E-7,-9.9999999999999995E-7,-9.9999999999999995E-7,-9.9999999999999995E-7,-9.9999999999999995E-7,-9.9999999999999995E-7,-9.9999999999999995E-7,-9.9999999999999995E-7,-9.9999999999999995E-7,-9.9999999999999995E-7,-9.9999999999999995E-7,-9.9999999999999995E-7,-9.9999999999999995E-7,-9.9999999999999995E-7,-9.9999999999999995E-7,-9.9999999999999995E-7,{"$f":"IF(ISERROR(VLOOKUP(F1479,ages!B$1:B$23,1,1)),\"\",VLOOKUP(F1479,ages!B$1:B$23,1,1))","v":""},{"$f":"IF(ISERROR(VLOOKUP(F1479,ages!B$1:D$23,3,1)),\"\",VLOOKUP(F1479,ages!B$1:D$23,3,1))","v":""},0,0,0,0,0]
[null,null,null,null,null,"",null,null,null,null,null,null,"","","","","","","","","","",{"$f":"IF(ISNUMBER(F1480),IF(AL1480<0.85,\"\",VLOOKUP(M1480,A!A$2:X$23,VLOOKUP(F1480,ages!B$1:C$23,2,1),1)),\"\")","v":""},{"$f":"IF(ISNUMBER(F1480),IF(AM1480<0.85,\"\",VLOOKUP(N1480,B!A$2:X$23,VLOOKUP(F1480,ages!B$1:C$23,2,1),1)),\"\")","v":""},{"$f":"IF(ISNUMBER(F1480),IF(AN1480<0.85,\"\",VLOOKUP(O1480,'C'!A$2:X$23,VLOOKUP(F1480,ages!B$1:C$23,2,1),1)),\"\")","v":""},{"$f":"IF(ISNUMBER(F1480),IF(AO1480<0.85,\"\",VLOOKUP(P1480,D!A$2:X$23,VLOOKUP(F1480,ages!B$1:C$23,2,1),1)),\"\")","v":""},{"$f":"IF(ISNUMBER(F1480),IF(AP1480<0.85,\"\",VLOOKUP(Q1480,E!A$2:X$23,VLOOKUP(F1480,ages!B$1:C$23,2,1),1)),\"\")","v":""},{"$f":"IF(ISNUMBER(F1480),IF(AQ1480<0.85,\"\",VLOOKUP(R1480,F!A$2:X$23,VLOOKUP(F1480,ages!B$1:C$23,2,1),1)),\"\")","v":""},{"$f":"IF(ISNUMBER(F1480),IF(AR1480<0.85,\"\",VLOOKUP(S1480,G!A$2:X$23,VLOOKUP(F1480,ages!B$1:C$23,2,1),1)),\"\")","v":""},{"$f":"IF(ISNUMBER(F1480),IF(AS1480<0.85,\"\",VLOOKUP(T1480,H!A$2:X$23,VLOOKUP(F1480,ages!B$1:C$23,2,1),1)),\"\")","v":""},{"$f":"IF(ISNUMBER(F1480),IF(AT1480<0.85,\"\",VLOOKUP(U1480,I!A$2:X$23,VLOOKUP(F1480,ages!B$1:C$23,2,1),1)),\"\")","v":""},{"$f":"IF(ISNUMBER(F1480),IF(AU1480<0.85,\"\",VLOOKUP(V1480,J!A$2:X$23,VLOOKUP(F1480,ages!B$1:C$23,2,1),1)),\"\")","v":""},"","","","",{"$f":"IF(COUNT(DO1480:EH1480)>15,SUM(DO1480:EH1480)/COUNT(DO1480:EH1480),\"\")","v":-1.0000000000000002E-6},0,0,0,0,0,0,0,0,0,0,0,null,null,null,null,null,null,null,null,null,null,null,null,null,null,null,null,null,null,null,null,null,null,null,null,null,null,null,null,null,null,null,null,null,null,null,null,null,null,null,null,null,null,null,null,null,null,null,null,null,null,null,null,null,null,null,null,null,null,null,null,null,null,null,null,null,null,null,null,null,null,-9.9999999999999995E-7,{"$f":"IF(ISNUMBER(CV1480),3-CV1480,-0.000001)","v":-9.9999999999999995E-7},{"$f":"IF(ISNUMBER(CW1480),3-CW1480,-0.000001)","v":-9.9999999999999995E-7},{"$f":"IF(ISNUMBER(CX1480),3-CX1480,-0.000001)","v":-9.9999999999999995E-7},{"$f":"IF(ISNUMBER(CY1480),3-CY1480,-0.000001)","v":-9.9999999999999995E-7},{"$f":"IF(ISNUMBER(CZ1480),3-CZ1480,-0.000001)","v":-9.9999999999999995E-7},{"$f":"IF(ISNUMBER(DA1480),3-DA1480,-0.000001)","v":-9.9999999999999995E-7},{"$f":"IF(ISNUMBER(DB1480),3-DB1480,-0.000001)","v":-9.9999999999999995E-7},{"$f":"IF(ISNUMBER(DC1480),3-DC1480,-0.000001)","v":-9.9999999999999995E-7},{"$f":"IF(ISNUMBER(DD1480),3-DD1480,-0.000001)","v":-9.9999999999999995E-7},{"$f":"IF(ISNUMBER(DE1480),3-DE1480,-0.000001)","v":-9.9999999999999995E-7},{"$f":"IF(ISNUMBER(DF1480),3-DF1480,-0.000001)","v":-9.9999999999999995E-7},{"$f":"IF(ISNUMBER(DG1480),3-DG1480,-0.000001)","v":-9.9999999999999995E-7},{"$f":"IF(ISNUMBER(DH1480),3-DH1480,-0.000001)","v":-9.9999999999999995E-7},{"$f":"IF(ISNUMBER(DI1480),3-DI1480,-0.000001)","v":-9.9999999999999995E-7},{"$f":"IF(ISNUMBER(DJ1480),3-DJ1480,-0.000001)","v":-9.9999999999999995E-7},{"$f":"IF(ISNUMBER(DK1480),3-DK1480,-0.000001)","v":-9.9999999999999995E-7},{"$f":"IF(ISNUMBER(DL1480),3-DL1480,-0.000001)","v":-9.9999999999999995E-7},{"$f":"IF(ISNUMBER(DM1480),3-DM1480,-0.000001)","v":-9.9999999999999995E-7},{"$f":"IF(ISNUMBER(DN1480),3-DN1480,-0.000001)","v":-9.9999999999999995E-7},{"$f":"IF(ISERROR(VLOOKUP(F1480,ages!B$1:B$23,1,1)),\"\",VLOOKUP(F1480,ages!B$1:B$23,1,1))","v":""},{"$f":"IF(ISERROR(VLOOKUP(F1480,ages!B$1:D$23,3,1)),\"\",VLOOKUP(F1480,ages!B$1:D$23,3,1))","v":""},0,0,0,0,0]
[null,null,null,null,null,{"$f":"IF(OR(D1481=\"\",E1481=\"\"),\"\",IF((EK1481*12+EL1481)<48,\"ald<4:0\",IF((EK1481*12+EL1481)>203,\"ald>16:11\",EK1481*12+EL1481)))","v":""},null,null,null,null,null,null,{"$f":"IF(AL1481>0.79,ROUND(($DO1481+$DV1481+$AX1481+$BT1481+$BY1481+$CH1481+$CN1481)/AL1481,0),\"\")","v":""},{"$f":"IF(AM1481>0.79,ROUND(($DS1481+$EG1481+$AW1481+$BM1481+$BW1481+$CF1481+$CM1481)/AM1481,0),\"\")","v":""},{"$f":"IF(AN1481>0.79,ROUND(($EB1481+$ED1481+$AZ1481+$BB1481+$BH1481+$CB1481+$CP1481)/AN1481,0),\"\")","v":""},{"$f":"IF(AO1481>0.79,ROUND(($DQ1481+$EF1481+$BF1481+$BU1481+$CJ1481+$CR1481+$CT1481)/AO1481,0),\"\")","v":""},{"$f":"IF(AP1481>0.79,ROUND(($DW1481+$EH1481+$BA1481+$BQ1481+$CE1481+$CG1481+$CO1481)/AP1481,0),\"\")","v":""},{"$f":"IF(AQ1481>0.79,ROUND(($DY1481+$DZ1481+$BG1481+$BN1481+$BS1481+$BZ1481+$CL1481)/AQ1481,0),\"\")","v":""},{"$f":"IF(AR1481>0.79,ROUND(($DR1481+$DX1481+$BK1481+$BO1481+$BX1481+$CD1481+$CK1481)/AR1481,0),\"\")","v":""},{"$f":"IF(AS1481>0.79,ROUND(($DT1481+$EC1481+$BD1481+$BJ1481+$BP1481+$CA1481+$CI1481)/AS1481,0),\"\")","v":""},{"$f":"IF(AT1481>0.79,ROUND(($DU1481+$EE1481+$AY1481+$BC1481+$BI1481+$BL1481+$CC1481)/AT1481,0),\"\")","v":""},{"$f":"IF(AU1481>0.79,ROUND(($DP1481+$EA1481+$BE1481+$BR1481+$BV1481+$CQ1481+$CS1481)/AU1481,0),\"\")","v":""},{"$f":"IF(ISNUMBER(F1481),IF(AL1481<0.85,\"\",VLOOKUP(M1481,A!A$2:X$23,VLOOKUP(F1481,ages!B$1:C$23,2,1),1)),\"\")","v":""},{"$f":"IF(ISNUMBER(F1481),IF(AM1481<0.85,\"\",VLOOKUP(N1481,B!A$2:X$23,VLOOKUP(F1481,ages!B$1:C$23,2,1),1)),\"\")","v":""},{"$f":"IF(ISNUMBER(F1481),IF(AN1481<0.85,\"\",VLOOKUP(O1481,'C'!A$2:X$23,VLOOKUP(F1481,ages!B$1:C$23,2,1),1)),\"\")","v":""},{"$f":"IF(ISNUMBER(F1481),IF(AO1481<0.85,\"\",VLOOKUP(P1481,D!A$2:X$23,VLOOKUP(F1481,ages!B$1:C$23,2,1),1)),\"\")","v":""},{"$f":"IF(ISNUMBER(F1481),IF(AP1481<0.85,\"\",VLOOKUP(Q1481,E!A$2:X$23,VLOOKUP(F1481,ages!B$1:C$23,2,1),1)),\"\")","v":""},{"$f":"IF(ISNUMBER(F1481),IF(AQ1481<0.85,\"\",VLOOKUP(R1481,F!A$2:X$23,VLOOKUP(F1481,ages!B$1:C$23,2,1),1)),\"\")","v":""},{"$f":"IF(ISNUMBER(F1481),IF(AR1481<0.85,\"\",VLOOKUP(S1481,G!A$2:X$23,VLOOKUP(F1481,ages!B$1:C$23,2,1),1)),\"\")","v":""},{"$f":"IF(ISNUMBER(F1481),IF(AS1481<0.85,\"\",VLOOKUP(T1481,H!A$2:X$23,VLOOKUP(F1481,ages!B$1:C$23,2,1),1)),\"\")","v":""},{"$f":"IF(ISNUMBER(F1481),IF(AT1481<0.85,\"\",VLOOKUP(U1481,I!A$2:X$23,VLOOKUP(F1481,ages!B$1:C$23,2,1),1)),\"\")","v":""},{"$f":"IF(ISNUMBER(F1481),IF(AU1481<0.85,\"\",VLOOKUP(V1481,J!A$2:X$23,VLOOKUP(F1481,ages!B$1:C$23,2,1),1)),\"\")","v":""},"","",{"$f":"IF(AG1481=\"\",\"\",IF(ISNUMBER(AJ1481),IF(AND(AK1481>1.5,(AK1481-AJ1481)>1.3),0,1),\"\"))","v":""},{"$f":"IF(COUNT(AW1481:CT1481)>45,SUM(AW1481:CT1481)/COUNT(AW1481:CT1481),\"\")","v":""},-1.0000000000000002E-6,{"$f":"COUNT($AX1481,$BT1481,$BY1481,$CH1481,$CN1481,$CU1481,$DB1481)/7","v":0},{"$f":"COUNT($AW1481,$BM1481,$BW1481,$CF1481,$CM1481,$CY1481,$DM1481)/7","v":0},{"$f":"COUNT($AZ1481,$BB1481,$BH1481,$CB1481,$CP1481,$DH1481,$DJ1481)/7","v":0},{"$f":"COUNT($BF1481,$BU1481,$CJ1481,$CR1481,$CT1481,$CW1481,$DL1481)/7","v":0},{"$f":"COUNT($BA1481,$BQ1481,$CE1481,$CG1481,$CO1481,$DC1481,$DN1481)/7","v":0},{"$f":"COUNT($BG1481,$BN1481,$BS1481,$BZ1481,$CL1481,$DE1481,$DF1481)/7","v":0},{"$f":"COUNT($BK1481,$BO1481,$BX1481,$CD1481,$CK1481,$CX1481,$DD1481)/7","v":0},{"$f":"COUNT($BD1481,$BJ1481,$BP1481,$CA1481,$CI1481,$CZ1481,$DI1481)/7","v":0},{"$f":"COUNT($AY1481,$BC1481,$BI1481,$BL1481,$CC1481,$DA1481,$DK1481)/7","v":0},{"$f":"COUNT($BE1481,$BR1481,$BV1481,$CQ1481,$CS1481,$CV1481,$DG1481)/7","v":0},{"$f":"COUNT(AW1481:DN1481)/70","v":0},null,null,null,null,null,null,null,null,null,null,null,null,null,null,null,null,null,null,null,null,null,null,null,null,null,null,null,null,null,null,null,null,null,null,null,null,null,null,null,null,null,null,null,null,null,null,null,null,null,null,null,null,null,null,null,null,null,null,null,null,null,null,null,null,null,null,null,null,null,null,{"$f":"IF(ISNUMBER(CU1481),3-CU1481,-0.000001)","v":-9.9999999999999995E-7},-9.9999999999999995E-7,-9.9999999999999995E-7,-9.9999999999999995E-7,-9.9999999999999995E-7,-9.9999999999999995E-7,-9.9999999999999995E-7,-9.9999999999999995E-7,-9.9999999999999995E-7,-9.9999999999999995E-7,-9.9999999999999995E-7,-9.9999999999999995E-7,-9.9999999999999995E-7,-9.9999999999999995E-7,-9.9999999999999995E-7,-9.9999999999999995E-7,-9.9999999999999995E-7,-9.9999999999999995E-7,-9.9999999999999995E-7,-9.9999999999999995E-7,{"$f":"IF(ISERROR(VLOOKUP(F1481,ages!B$1:B$23,1,1)),\"\",VLOOKUP(F1481,ages!B$1:B$23,1,1))","v":""},{"$f":"IF(ISERROR(VLOOKUP(F1481,ages!B$1:D$23,3,1)),\"\",VLOOKUP(F1481,ages!B$1:D$23,3,1))","v":""},{"$f":"YEAR(E1481)-YEAR(D1481)-EN1481","v":0},{"$f":"IF(MONTH(E1481)-MONTH(D1481)-EO1481<0,12+MONTH(E1481)-MONTH(D1481)-EO1481,MONTH(E1481)-MONTH(D1481)-EO1481)","v":0},{"$f":"IF(DAY(E1481)-DAY(D1481)<0,30+DAY(E1481)-DAY(D1481),DAY(E1481)-DAY(D1481))","v":0},{"$f":"IF(MONTH(E1481)-MONTH(D1481)-EO1481<0,1,0)","v":0},{"$f":"IF(DAY(E1481)-DAY(D1481)<0,1,0)","v":0}]
[null,null,null,null,null,"",null,null,null,null,null,null,"","","","","","","","","","",{"$f":"IF(ISNUMBER(F1482),IF(AL1482<0.85,\"\",VLOOKUP(M1482,A!A$2:X$23,VLOOKUP(F1482,ages!B$1:C$23,2,1),1)),\"\")","v":""},{"$f":"IF(ISNUMBER(F1482),IF(AM1482<0.85,\"\",VLOOKUP(N1482,B!A$2:X$23,VLOOKUP(F1482,ages!B$1:C$23,2,1),1)),\"\")","v":""},{"$f":"IF(ISNUMBER(F1482),IF(AN1482<0.85,\"\",VLOOKUP(O1482,'C'!A$2:X$23,VLOOKUP(F1482,ages!B$1:C$23,2,1),1)),\"\")","v":""},{"$f":"IF(ISNUMBER(F1482),IF(AO1482<0.85,\"\",VLOOKUP(P1482,D!A$2:X$23,VLOOKUP(F1482,ages!B$1:C$23,2,1),1)),\"\")","v":""},{"$f":"IF(ISNUMBER(F1482),IF(AP1482<0.85,\"\",VLOOKUP(Q1482,E!A$2:X$23,VLOOKUP(F1482,ages!B$1:C$23,2,1),1)),\"\")","v":""},{"$f":"IF(ISNUMBER(F1482),IF(AQ1482<0.85,\"\",VLOOKUP(R1482,F!A$2:X$23,VLOOKUP(F1482,ages!B$1:C$23,2,1),1)),\"\")","v":""},{"$f":"IF(ISNUMBER(F1482),IF(AR1482<0.85,\"\",VLOOKUP(S1482,G!A$2:X$23,VLOOKUP(F1482,ages!B$1:C$23,2,1),1)),\"\")","v":""},{"$f":"IF(ISNUMBER(F1482),IF(AS1482<0.85,\"\",VLOOKUP(T1482,H!A$2:X$23,VLOOKUP(F1482,ages!B$1:C$23,2,1),1)),\"\")","v":""},{"$f":"IF(ISNUMBER(F1482),IF(AT1482<0.85,\"\",VLOOKUP(U1482,I!A$2:X$23,VLOOKUP(F1482,ages!B$1:C$23,2,1),1)),\"\")","v":""},{"$f":"IF(ISNUMBER(F1482),IF(AU1482<0.85,\"\",VLOOKUP(V1482,J!A$2:X$23,VLOOKUP(F1482,ages!B$1:C$23,2,1),1)),\"\")","v":""},{"$f":"IF(ISNUMBER(F1482),IF((COUNT(W1482:AD1482)=8),SUM(W1482:AD1482),\"\"),\"\")","v":""},{"$f":"IF(ISNUMBER(F1482),IF((COUNT(W1482:AF1482)=10),SUM(AA1482,AD1482:AF1482)-SUM(W1482:Z1482),\"\"),\"\")","v":""},"","",-1.0000000000000002E-6,0,0,0,0,0,0,0,0,0,0,0,null,null,null,null,null,null,null,null,null,null,null,null,null,null,null,null,null,null,null,null,null,null,null,null,null,null,null,null,null,null,null,null,null,null,null,null,null,null,null,null,null,null,null,null,null,null,null,null,null,null,null,null,null,null,null,null,null,null,null,null,null,null,null,null,null,null,null,null,null,null,-9.9999999999999995E-7,-9.9999999999999995E-7,-9.9999999999999995E-7,-9.9999999999999995E-7,-9.9999999999999995E-7,-9.9999999999999995E-7,-9.9999999999999995E-7,-9.9999999999999995E-7,-9.9999999999999995E-7,-9.9999999999999995E-7,-9.9999999999999995E-7,-9.9999999999999995E-7,-9.9999999999999995E-7,-9.9999999999999995E-7,-9.9999999999999995E-7,-9.9999999999999995E-7,-9.9999999999999995E-7,-9.9999999999999995E-7,-9.9999999999999995E-7,-9.9999999999999995E-7,{"$f":"IF(ISERROR(VLOOKUP(F1482,ages!B$1:B$23,1,1)),\"\",VLOOKUP(F1482,ages!B$1:B$23,1,1))","v":""},{"$f":"IF(ISERROR(VLOOKUP(F1482,ages!B$1:D$23,3,1)),\"\",VLOOKUP(F1482,ages!B$1:D$23,3,1))","v":""},0,0,0,0,0]
[null,null,null,null,null,"",null,null,null,null,null,null,"","","","","","","","","","",{"$f":"IF(ISNUMBER(F1483),IF(AL1483<0.85,\"\",VLOOKUP(M1483,A!A$2:X$23,VLOOKUP(F1483,ages!B$1:C$23,2,1),1)),\"\")","v":""},{"$f":"IF(ISNUMBER(F1483),IF(AM1483<0.85,\"\",VLOOKUP(N1483,B!A$2:X$23,VLOOKUP(F1483,ages!B$1:C$23,2,1),1)),\"\")","v":""},{"$f":"IF(ISNUMBER(F1483),IF(AN1483<0.85,\"\",VLOOKUP(O1483,'C'!A$2:X$23,VLOOKUP(F1483,ages!B$1:C$23,2,1),1)),\"\")","v":""},{"$f":"IF(ISNUMBER(F1483),IF(AO1483<0.85,\"\",VLOOKUP(P1483,D!A$2:X$23,VLOOKUP(F1483,ages!B$1:C$23,2,1),1)),\"\")","v":""},{"$f":"IF(ISNUMBER(F1483),IF(AP1483<0.85,\"\",VLOOKUP(Q1483,E!A$2:X$23,VLOOKUP(F1483,ages!B$1:C$23,2,1),1)),\"\")","v":""},{"$f":"IF(ISNUMBER(F1483),IF(AQ1483<0.85,\"\",VLOOKUP(R1483,F!A$2:X$23,VLOOKUP(F1483,ages!B$1:C$23,2,1),1)),\"\")","v":""},{"$f":"IF(ISNUMBER(F1483),IF(AR1483<0.85,\"\",VLOOKUP(S1483,G!A$2:X$23,VLOOKUP(F1483,ages!B$1:C$23,2,1),1)),\"\")","v":""},{"$f":"IF(ISNUMBER(F1483),IF(AS1483<0.85,\"\",VLOOKUP(T1483,H!A$2:X$23,VLOOKUP(F1483,ages!B$1:C$23,2,1),1)),\"\")","v":""},{"$f":"IF(ISNUMBER(F1483),IF(AT1483<0.85,\"\",VLOOKUP(U1483,I!A$2:X$23,VLOOKUP(F1483,ages!B$1:C$23,2,1),1)),\"\")","v":""},{"$f":"IF(ISNUMBER(F1483),IF(AU1483<0.85,\"\",VLOOKUP(V1483,J!A$2:X$23,VLOOKUP(F1483,ages!B$1:C$23,2,1),1)),\"\")","v":""},"","","","",-1.0000000000000002E-6,0,0,0,0,0,0,0,0,0,0,0,null,null,null,null,null,null,null,null,null,null,null,null,null,null,null,null,null,null,null,null,null,null,null,null,null,null,null,null,null,null,null,null,null,null,null,null,null,null,null,null,null,null,null,null,null,null,null,null,null,null,null,null,null,null,null,null,null,null,null,null,null,null,null,null,null,null,null,null,null,null,-9.9999999999999995E-7,-9.9999999999999995E-7,-9.9999999999999995E-7,-9.9999999999999995E-7,-9.9999999999999995E-7,-9.9999999999999995E-7,-9.9999999999999995E-7,-9.9999999999999995E-7,-9.9999999999999995E-7,-9.9999999999999995E-7,-9.9999999999999995E-7,-9.9999999999999995E-7,-9.9999999999999995E-7,-9.9999999999999995E-7,-9.9999999999999995E-7,-9.9999999999999995E-7,-9.9999999999999995E-7,-9.9999999999999995E-7,-9.9999999999999995E-7,-9.9999999999999995E-7,{"$f":"IF(ISERROR(VLOOKUP(F1483,ages!B$1:B$23,1,1)),\"\",VLOOKUP(F1483,ages!B$1:B$23,1,1))","v":""},{"$f":"IF(ISERROR(VLOOKUP(F1483,ages!B$1:D$23,3,1)),\"\",VLOOKUP(F1483,ages!B$1:D$23,3,1))","v":""},0,0,0,0,0]
[null,null,null,null,null,"",null,null,null,null,null,null,"","","","","","","","","","",{"$f":"IF(ISNUMBER(F1484),IF(AL1484<0.85,\"\",VLOOKUP(M1484,A!A$2:X$23,VLOOKUP(F1484,ages!B$1:C$23,2,1),1)),\"\")","v":""},{"$f":"IF(ISNUMBER(F1484),IF(AM1484<0.85,\"\",VLOOKUP(N1484,B!A$2:X$23,VLOOKUP(F1484,ages!B$1:C$23,2,1),1)),\"\")","v":""},{"$f":"IF(ISNUMBER(F1484),IF(AN1484<0.85,\"\",VLOOKUP(O1484,'C'!A$2:X$23,VLOOKUP(F1484,ages!B$1:C$23,2,1),1)),\"\")","v":""},{"$f":"IF(ISNUMBER(F1484),IF(AO1484<0.85,\"\",VLOOKUP(P1484,D!A$2:X$23,VLOOKUP(F1484,ages!B$1:C$23,2,1),1)),\"\")","v":""},{"$f":"IF(ISNUMBER(F1484),IF(AP1484<0.85,\"\",VLOOKUP(Q1484,E!A$2:X$23,VLOOKUP(F1484,ages!B$1:C$23,2,1),1)),\"\")","v":""},{"$f":"IF(ISNUMBER(F1484),IF(AQ1484<0.85,\"\",VLOOKUP(R1484,F!A$2:X$23,VLOOKUP(F1484,ages!B$1:C$23,2,1),1)),\"\")","v":""},{"$f":"IF(ISNUMBER(F1484),IF(AR1484<0.85,\"\",VLOOKUP(S1484,G!A$2:X$23,VLOOKUP(F1484,ages!B$1:C$23,2,1),1)),\"\")","v":""},{"$f":"IF(ISNUMBER(F1484),IF(AS1484<0.85,\"\",VLOOKUP(T1484,H!A$2:X$23,VLOOKUP(F1484,ages!B$1:C$23,2,1),1)),\"\")","v":""},{"$f":"IF(ISNUMBER(F1484),IF(AT1484<0.85,\"\",VLOOKUP(U1484,I!A$2:X$23,VLOOKUP(F1484,ages!B$1:C$23,2,1),1)),\"\")","v":""},{"$f":"IF(ISNUMBER(F1484),IF(AU1484<0.85,\"\",VLOOKUP(V1484,J!A$2:X$23,VLOOKUP(F1484,ages!B$1:C$23,2,1),1)),\"\")","v":""},"","","","",-1.0000000000000002E-6,0,0,0,0,0,0,0,0,0,0,0,null,null,null,null,null,null,null,null,null,null,null,null,null,null,null,null,null,null,null,null,null,null,null,null,null,null,null,null,null,null,null,null,null,null,null,null,null,null,null,null,null,null,null,null,null,null,null,null,null,null,null,null,null,null,null,null,null,null,null,null,null,null,null,null,null,null,null,null,null,null,-9.9999999999999995E-7,-9.9999999999999995E-7,-9.9999999999999995E-7,-9.9999999999999995E-7,-9.9999999999999995E-7,-9.9999999999999995E-7,-9.9999999999999995E-7,-9.9999999999999995E-7,-9.9999999999999995E-7,-9.9999999999999995E-7,-9.9999999999999995E-7,-9.9999999999999995E-7,-9.9999999999999995E-7,-9.9999999999999995E-7,-9.9999999999999995E-7,-9.9999999999999995E-7,-9.9999999999999995E-7,-9.9999999999999995E-7,-9.9999999999999995E-7,-9.9999999999999995E-7,{"$f":"IF(ISERROR(VLOOKUP(F1484,ages!B$1:B$23,1,1)),\"\",VLOOKUP(F1484,ages!B$1:B$23,1,1))","v":""},{"$f":"IF(ISERROR(VLOOKUP(F1484,ages!B$1:D$23,3,1)),\"\",VLOOKUP(F1484,ages!B$1:D$23,3,1))","v":""},0,0,0,0,0]
[null,null,null,null,null,"",null,null,null,null,null,null,"","","","","","","","","","",{"$f":"IF(ISNUMBER(F1485),IF(AL1485<0.85,\"\",VLOOKUP(M1485,A!A$2:X$23,VLOOKUP(F1485,ages!B$1:C$23,2,1),1)),\"\")","v":""},{"$f":"IF(ISNUMBER(F1485),IF(AM1485<0.85,\"\",VLOOKUP(N1485,B!A$2:X$23,VLOOKUP(F1485,ages!B$1:C$23,2,1),1)),\"\")","v":""},{"$f":"IF(ISNUMBER(F1485),IF(AN1485<0.85,\"\",VLOOKUP(O1485,'C'!A$2:X$23,VLOOKUP(F1485,ages!B$1:C$23,2,1),1)),\"\")","v":""},{"$f":"IF(ISNUMBER(F1485),IF(AO1485<0.85,\"\",VLOOKUP(P1485,D!A$2:X$23,VLOOKUP(F1485,ages!B$1:C$23,2,1),1)),\"\")","v":""},{"$f":"IF(ISNUMBER(F1485),IF(AP1485<0.85,\"\",VLOOKUP(Q1485,E!A$2:X$23,VLOOKUP(F1485,ages!B$1:C$23,2,1),1)),\"\")","v":""},{"$f":"IF(ISNUMBER(F1485),IF(AQ1485<0.85,\"\",VLOOKUP(R1485,F!A$2:X$23,VLOOKUP(F1485,ages!B$1:C$23,2,1),1)),\"\")","v":""},{"$f":"IF(ISNUMBER(F1485),IF(AR1485<0.85,\"\",VLOOKUP(S1485,G!A$2:X$23,VLOOKUP(F1485,ages!B$1:C$23,2,1),1)),\"\")","v":""},{"$f":"IF(ISNUMBER(F1485),IF(AS1485<0.85,\"\",VLOOKUP(T1485,H!A$2:X$23,VLOOKUP(F1485,ages!B$1:C$23,2,1),1)),\"\")","v":""},{"$f":"IF(ISNUMBER(F1485),IF(AT1485<0.85,\"\",VLOOKUP(U1485,I!A$2:X$23,VLOOKUP(F1485,ages!B$1:C$23,2,1),1)),\"\")","v":""},{"$f":"IF(ISNUMBER(F1485),IF(AU1485<0.85,\"\",VLOOKUP(V1485,J!A$2:X$23,VLOOKUP(F1485,ages!B$1:C$23,2,1),1)),\"\")","v":""},"","","","",-1.0000000000000002E-6,0,0,0,0,0,0,0,0,0,0,0,null,null,null,null,null,null,null,null,null,null,null,null,null,null,null,null,null,null,null,null,null,null,null,null,null,null,null,null,null,null,null,null,null,null,null,null,null,null,null,null,null,null,null,null,null,null,null,null,null,null,null,null,null,null,null,null,null,null,null,null,null,null,null,null,null,null,null,null,null,null,-9.9999999999999995E-7,-9.9999999999999995E-7,-9.9999999999999995E-7,-9.9999999999999995E-7,-9.9999999999999995E-7,-9.9999999999999995E-7,-9.9999999999999995E-7,-9.9999999999999995E-7,-9.9999999999999995E-7,-9.9999999999999995E-7,-9.9999999999999995E-7,-9.9999999999999995E-7,-9.9999999999999995E-7,-9.9999999999999995E-7,-9.9999999999999995E-7,-9.9999999999999995E-7,-9.9999999999999995E-7,-9.9999999999999995E-7,-9.9999999999999995E-7,-9.9999999999999995E-7,{"$f":"IF(ISERROR(VLOOKUP(F1485,ages!B$1:B$23,1,1)),\"\",VLOOKUP(F1485,ages!B$1:B$23,1,1))","v":""},{"$f":"IF(ISERROR(VLOOKUP(F1485,ages!B$1:D$23,3,1)),\"\",VLOOKUP(F1485,ages!B$1:D$23,3,1))","v":""},0,0,0,0,0]
[null,null,null,null,null,"",null,null,null,null,null,null,"","","","","","","","","","",{"$f":"IF(ISNUMBER(F1486),IF(AL1486<0.85,\"\",VLOOKUP(M1486,A!A$2:X$23,VLOOKUP(F1486,ages!B$1:C$23,2,1),1)),\"\")","v":""},{"$f":"IF(ISNUMBER(F1486),IF(AM1486<0.85,\"\",VLOOKUP(N1486,B!A$2:X$23,VLOOKUP(F1486,ages!B$1:C$23,2,1),1)),\"\")","v":""},{"$f":"IF(ISNUMBER(F1486),IF(AN1486<0.85,\"\",VLOOKUP(O1486,'C'!A$2:X$23,VLOOKUP(F1486,ages!B$1:C$23,2,1),1)),\"\")","v":""},{"$f":"IF(ISNUMBER(F1486),IF(AO1486<0.85,\"\",VLOOKUP(P1486,D!A$2:X$23,VLOOKUP(F1486,ages!B$1:C$23,2,1),1)),\"\")","v":""},{"$f":"IF(ISNUMBER(F1486),IF(AP1486<0.85,\"\",VLOOKUP(Q1486,E!A$2:X$23,VLOOKUP(F1486,ages!B$1:C$23,2,1),1)),\"\")","v":""},{"$f":"IF(ISNUMBER(F1486),IF(AQ1486<0.85,\"\",VLOOKUP(R1486,F!A$2:X$23,VLOOKUP(F1486,ages!B$1:C$23,2,1),1)),\"\")","v":""},{"$f":"IF(ISNUMBER(F1486),IF(AR1486<0.85,\"\",VLOOKUP(S1486,G!A$2:X$23,VLOOKUP(F1486,ages!B$1:C$23,2,1),1)),\"\")","v":""},{"$f":"IF(ISNUMBER(F1486),IF(AS1486<0.85,\"\",VLOOKUP(T1486,H!A$2:X$23,VLOOKUP(F1486,ages!B$1:C$23,2,1),1)),\"\")","v":""},{"$f":"IF(ISNUMBER(F1486),IF(AT1486<0.85,\"\",VLOOKUP(U1486,I!A$2:X$23,VLOOKUP(F1486,ages!B$1:C$23,2,1),1)),\"\")","v":""},{"$f":"IF(ISNUMBER(F1486),IF(AU1486<0.85,\"\",VLOOKUP(V1486,J!A$2:X$23,VLOOKUP(F1486,ages!B$1:C$23,2,1),1)),\"\")","v":""},"","","","",-1.0000000000000002E-6,0,0,0,0,0,0,0,0,0,0,0,null,null,null,null,null,null,null,null,null,null,null,null,null,null,null,null,null,null,null,null,null,null,null,null,null,null,null,null,null,null,null,null,null,null,null,null,null,null,null,null,null,null,null,null,null,null,null,null,null,null,null,null,null,null,null,null,null,null,null,null,null,null,null,null,null,null,null,null,null,null,-9.9999999999999995E-7,-9.9999999999999995E-7,-9.9999999999999995E-7,-9.9999999999999995E-7,-9.9999999999999995E-7,-9.9999999999999995E-7,-9.9999999999999995E-7,-9.9999999999999995E-7,-9.9999999999999995E-7,-9.9999999999999995E-7,-9.9999999999999995E-7,-9.9999999999999995E-7,-9.9999999999999995E-7,-9.9999999999999995E-7,-9.9999999999999995E-7,-9.9999999999999995E-7,-9.9999999999999995E-7,-9.9999999999999995E-7,-9.9999999999999995E-7,-9.9999999999999995E-7,{"$f":"IF(ISERROR(VLOOKUP(F1486,ages!B$1:B$23,1,1)),\"\",VLOOKUP(F1486,ages!B$1:B$23,1,1))","v":""},{"$f":"IF(ISERROR(VLOOKUP(F1486,ages!B$1:D$23,3,1)),\"\",VLOOKUP(F1486,ages!B$1:D$23,3,1))","v":""},0,0,0,0,0]
[null,null,null,null,null,"",null,null,null,null,null,null,"","","","","","","","","","",{"$f":"IF(ISNUMBER(F1487),IF(AL1487<0.85,\"\",VLOOKUP(M1487,A!A$2:X$23,VLOOKUP(F1487,ages!B$1:C$23,2,1),1)),\"\")","v":""},{"$f":"IF(ISNUMBER(F1487),IF(AM1487<0.85,\"\",VLOOKUP(N1487,B!A$2:X$23,VLOOKUP(F1487,ages!B$1:C$23,2,1),1)),\"\")","v":""},{"$f":"IF(ISNUMBER(F1487),IF(AN1487<0.85,\"\",VLOOKUP(O1487,'C'!A$2:X$23,VLOOKUP(F1487,ages!B$1:C$23,2,1),1)),\"\")","v":""},{"$f":"IF(ISNUMBER(F1487),IF(AO1487<0.85,\"\",VLOOKUP(P1487,D!A$2:X$23,VLOOKUP(F1487,ages!B$1:C$23,2,1),1)),\"\")","v":""},{"$f":"IF(ISNUMBER(F1487),IF(AP1487<0.85,\"\",VLOOKUP(Q1487,E!A$2:X$23,VLOOKUP(F1487,ages!B$1:C$23,2,1),1)),\"\")","v":""},{"$f":"IF(ISNUMBER(F1487),IF(AQ1487<0.85,\"\",VLOOKUP(R1487,F!A$2:X$23,VLOOKUP(F1487,ages!B$1:C$23,2,1),1)),\"\")","v":""},{"$f":"IF(ISNUMBER(F1487),IF(AR1487<0.85,\"\",VLOOKUP(S1487,G!A$2:X$23,VLOOKUP(F1487,ages!B$1:C$23,2,1),1)),\"\")","v":""},{"$f":"IF(ISNUMBER(F1487),IF(AS1487<0.85,\"\",VLOOKUP(T1487,H!A$2:X$23,VLOOKUP(F1487,ages!B$1:C$23,2,1),1)),\"\")","v":""},{"$f":"IF(ISNUMBER(F1487),IF(AT1487<0.85,\"\",VLOOKUP(U1487,I!A$2:X$23,VLOOKUP(F1487,ages!B$1:C$23,2,1),1)),\"\")","v":""},{"$f":"IF(ISNUMBER(F1487),IF(AU1487<0.85,\"\",VLOOKUP(V1487,J!A$2:X$23,VLOOKUP(F1487,ages!B$1:C$23,2,1),1)),\"\")","v":""},"","","","",-1.0000000000000002E-6,0,0,0,0,0,0,0,0,0,0,0,null,null,null,null,null,null,null,null,null,null,null,null,null,null,null,null,null,null,null,null,null,null,null,null,null,null,null,null,null,null,null,null,null,null,null,null,null,null,null,null,null,null,null,null,null,null,null,null,null,null,null,null,null,null,null,null,null,null,null,null,null,null,null,null,null,null,null,null,null,null,-9.9999999999999995E-7,-9.9999999999999995E-7,-9.9999999999999995E-7,-9.9999999999999995E-7,-9.9999999999999995E-7,-9.9999999999999995E-7,-9.9999999999999995E-7,-9.9999999999999995E-7,-9.9999999999999995E-7,-9.9999999999999995E-7,-9.9999999999999995E-7,-9.9999999999999995E-7,-9.9999999999999995E-7,-9.9999999999999995E-7,-9.9999999999999995E-7,-9.9999999999999995E-7,-9.9999999999999995E-7,-9.9999999999999995E-7,-9.9999999999999995E-7,-9.9999999999999995E-7,{"$f":"IF(ISERROR(VLOOKUP(F1487,ages!B$1:B$23,1,1)),\"\",VLOOKUP(F1487,ages!B$1:B$23,1,1))","v":""},{"$f":"IF(ISERROR(VLOOKUP(F1487,ages!B$1:D$23,3,1)),\"\",VLOOKUP(F1487,ages!B$1:D$23,3,1))","v":""},0,0,0,0,0]
[null,null,null,null,null,"",null,null,null,null,null,null,"","","","","","","","","","",{"$f":"IF(ISNUMBER(F1488),IF(AL1488<0.85,\"\",VLOOKUP(M1488,A!A$2:X$23,VLOOKUP(F1488,ages!B$1:C$23,2,1),1)),\"\")","v":""},{"$f":"IF(ISNUMBER(F1488),IF(AM1488<0.85,\"\",VLOOKUP(N1488,B!A$2:X$23,VLOOKUP(F1488,ages!B$1:C$23,2,1),1)),\"\")","v":""},{"$f":"IF(ISNUMBER(F1488),IF(AN1488<0.85,\"\",VLOOKUP(O1488,'C'!A$2:X$23,VLOOKUP(F1488,ages!B$1:C$23,2,1),1)),\"\")","v":""},{"$f":"IF(ISNUMBER(F1488),IF(AO1488<0.85,\"\",VLOOKUP(P1488,D!A$2:X$23,VLOOKUP(F1488,ages!B$1:C$23,2,1),1)),\"\")","v":""},{"$f":"IF(ISNUMBER(F1488),IF(AP1488<0.85,\"\",VLOOKUP(Q1488,E!A$2:X$23,VLOOKUP(F1488,ages!B$1:C$23,2,1),1)),\"\")","v":""},{"$f":"IF(ISNUMBER(F1488),IF(AQ1488<0.85,\"\",VLOOKUP(R1488,F!A$2:X$23,VLOOKUP(F1488,ages!B$1:C$23,2,1),1)),\"\")","v":""},{"$f":"IF(ISNUMBER(F1488),IF(AR1488<0.85,\"\",VLOOKUP(S1488,G!A$2:X$23,VLOOKUP(F1488,ages!B$1:C$23,2,1),1)),\"\")","v":""},{"$f":"IF(ISNUMBER(F1488),IF(AS1488<0.85,\"\",VLOOKUP(T1488,H!A$2:X$23,VLOOKUP(F1488,ages!B$1:C$23,2,1),1)),\"\")","v":""},{"$f":"IF(ISNUMBER(F1488),IF(AT1488<0.85,\"\",VLOOKUP(U1488,I!A$2:X$23,VLOOKUP(F1488,ages!B$1:C$23,2,1),1)),\"\")","v":""},{"$f":"IF(ISNUMBER(F1488),IF(AU1488<0.85,\"\",VLOOKUP(V1488,J!A$2:X$23,VLOOKUP(F1488,ages!B$1:C$23,2,1),1)),\"\")","v":""},"","","","",-1.0000000000000002E-6,0,0,0,0,0,0,0,0,0,0,0,null,null,null,null,null,null,null,null,null,null,null,null,null,null,null,null,null,null,null,null,null,null,null,null,null,null,null,null,null,null,null,null,null,null,null,null,null,null,null,null,null,null,null,null,null,null,null,null,null,null,null,null,null,null,null,null,null,null,null,null,null,null,null,null,null,null,null,null,null,null,-9.9999999999999995E-7,-9.9999999999999995E-7,-9.9999999999999995E-7,-9.9999999999999995E-7,-9.9999999999999995E-7,-9.9999999999999995E-7,-9.9999999999999995E-7,-9.9999999999999995E-7,-9.9999999999999995E-7,-9.9999999999999995E-7,-9.9999999999999995E-7,-9.9999999999999995E-7,-9.9999999999999995E-7,-9.9999999999999995E-7,-9.9999999999999995E-7,-9.9999999999999995E-7,-9.9999999999999995E-7,-9.9999999999999995E-7,-9.9999999999999995E-7,-9.9999999999999995E-7,{"$f":"IF(ISERROR(VLOOKUP(F1488,ages!B$1:B$23,1,1)),\"\",VLOOKUP(F1488,ages!B$1:B$23,1,1))","v":""},{"$f":"IF(ISERROR(VLOOKUP(F1488,ages!B$1:D$23,3,1)),\"\",VLOOKUP(F1488,ages!B$1:D$23,3,1))","v":""},0,0,0,0,0]
[null,null,null,null,null,"",null,null,null,null,null,null,"","","","","","","","","","",{"$f":"IF(ISNUMBER(F1489),IF(AL1489<0.85,\"\",VLOOKUP(M1489,A!A$2:X$23,VLOOKUP(F1489,ages!B$1:C$23,2,1),1)),\"\")","v":""},{"$f":"IF(ISNUMBER(F1489),IF(AM1489<0.85,\"\",VLOOKUP(N1489,B!A$2:X$23,VLOOKUP(F1489,ages!B$1:C$23,2,1),1)),\"\")","v":""},{"$f":"IF(ISNUMBER(F1489),IF(AN1489<0.85,\"\",VLOOKUP(O1489,'C'!A$2:X$23,VLOOKUP(F1489,ages!B$1:C$23,2,1),1)),\"\")","v":""},{"$f":"IF(ISNUMBER(F1489),IF(AO1489<0.85,\"\",VLOOKUP(P1489,D!A$2:X$23,VLOOKUP(F1489,ages!B$1:C$23,2,1),1)),\"\")","v":""},{"$f":"IF(ISNUMBER(F1489),IF(AP1489<0.85,\"\",VLOOKUP(Q1489,E!A$2:X$23,VLOOKUP(F1489,ages!B$1:C$23,2,1),1)),\"\")","v":""},{"$f":"IF(ISNUMBER(F1489),IF(AQ1489<0.85,\"\",VLOOKUP(R1489,F!A$2:X$23,VLOOKUP(F1489,ages!B$1:C$23,2,1),1)),\"\")","v":""},{"$f":"IF(ISNUMBER(F1489),IF(AR1489<0.85,\"\",VLOOKUP(S1489,G!A$2:X$23,VLOOKUP(F1489,ages!B$1:C$23,2,1),1)),\"\")","v":""},{"$f":"IF(ISNUMBER(F1489),IF(AS1489<0.85,\"\",VLOOKUP(T1489,H!A$2:X$23,VLOOKUP(F1489,ages!B$1:C$23,2,1),1)),\"\")","v":""},{"$f":"IF(ISNUMBER(F1489),IF(AT1489<0.85,\"\",VLOOKUP(U1489,I!A$2:X$23,VLOOKUP(F1489,ages!B$1:C$23,2,1),1)),\"\")","v":""},{"$f":"IF(ISNUMBER(F1489),IF(AU1489<0.85,\"\",VLOOKUP(V1489,J!A$2:X$23,VLOOKUP(F1489,ages!B$1:C$23,2,1),1)),\"\")","v":""},"","","","",-1.0000000000000002E-6,0,0,0,0,0,0,0,0,0,0,0,null,null,null,null,null,null,null,null,null,null,null,null,null,null,null,null,null,null,null,null,null,null,null,null,null,null,null,null,null,null,null,null,null,null,null,null,null,null,null,null,null,null,null,null,null,null,null,null,null,null,null,null,null,null,null,null,null,null,null,null,null,null,null,null,null,null,null,null,null,null,-9.9999999999999995E-7,-9.9999999999999995E-7,-9.9999999999999995E-7,-9.9999999999999995E-7,-9.9999999999999995E-7,-9.9999999999999995E-7,-9.9999999999999995E-7,-9.9999999999999995E-7,-9.9999999999999995E-7,-9.9999999999999995E-7,-9.9999999999999995E-7,-9.9999999999999995E-7,-9.9999999999999995E-7,-9.9999999999999995E-7,-9.9999999999999995E-7,-9.9999999999999995E-7,-9.9999999999999995E-7,-9.9999999999999995E-7,-9.9999999999999995E-7,-9.9999999999999995E-7,{"$f":"IF(ISERROR(VLOOKUP(F1489,ages!B$1:B$23,1,1)),\"\",VLOOKUP(F1489,ages!B$1:B$23,1,1))","v":""},{"$f":"IF(ISERROR(VLOOKUP(F1489,ages!B$1:D$23,3,1)),\"\",VLOOKUP(F1489,ages!B$1:D$23,3,1))","v":""},0,0,0,0,0]
[null,null,null,null,null,"",null,null,null,null,null,null,"","","","","","","","","","",{"$f":"IF(ISNUMBER(F1490),IF(AL1490<0.85,\"\",VLOOKUP(M1490,A!A$2:X$23,VLOOKUP(F1490,ages!B$1:C$23,2,1),1)),\"\")","v":""},{"$f":"IF(ISNUMBER(F1490),IF(AM1490<0.85,\"\",VLOOKUP(N1490,B!A$2:X$23,VLOOKUP(F1490,ages!B$1:C$23,2,1),1)),\"\")","v":""},{"$f":"IF(ISNUMBER(F1490),IF(AN1490<0.85,\"\",VLOOKUP(O1490,'C'!A$2:X$23,VLOOKUP(F1490,ages!B$1:C$23,2,1),1)),\"\")","v":""},{"$f":"IF(ISNUMBER(F1490),IF(AO1490<0.85,\"\",VLOOKUP(P1490,D!A$2:X$23,VLOOKUP(F1490,ages!B$1:C$23,2,1),1)),\"\")","v":""},{"$f":"IF(ISNUMBER(F1490),IF(AP1490<0.85,\"\",VLOOKUP(Q1490,E!A$2:X$23,VLOOKUP(F1490,ages!B$1:C$23,2,1),1)),\"\")","v":""},{"$f":"IF(ISNUMBER(F1490),IF(AQ1490<0.85,\"\",VLOOKUP(R1490,F!A$2:X$23,VLOOKUP(F1490,ages!B$1:C$23,2,1),1)),\"\")","v":""},{"$f":"IF(ISNUMBER(F1490),IF(AR1490<0.85,\"\",VLOOKUP(S1490,G!A$2:X$23,VLOOKUP(F1490,ages!B$1:C$23,2,1),1)),\"\")","v":""},{"$f":"IF(ISNUMBER(F1490),IF(AS1490<0.85,\"\",VLOOKUP(T1490,H!A$2:X$23,VLOOKUP(F1490,ages!B$1:C$23,2,1),1)),\"\")","v":""},{"$f":"IF(ISNUMBER(F1490),IF(AT1490<0.85,\"\",VLOOKUP(U1490,I!A$2:X$23,VLOOKUP(F1490,ages!B$1:C$23,2,1),1)),\"\")","v":""},{"$f":"IF(ISNUMBER(F1490),IF(AU1490<0.85,\"\",VLOOKUP(V1490,J!A$2:X$23,VLOOKUP(F1490,ages!B$1:C$23,2,1),1)),\"\")","v":""},"","","","",-1.0000000000000002E-6,0,0,0,0,0,0,0,0,0,0,0,null,null,null,null,null,null,null,null,null,null,null,null,null,null,null,null,null,null,null,null,null,null,null,null,null,null,null,null,null,null,null,null,null,null,null,null,null,null,null,null,null,null,null,null,null,null,null,null,null,null,null,null,null,null,null,null,null,null,null,null,null,null,null,null,null,null,null,null,null,null,-9.9999999999999995E-7,-9.9999999999999995E-7,-9.9999999999999995E-7,-9.9999999999999995E-7,-9.9999999999999995E-7,-9.9999999999999995E-7,-9.9999999999999995E-7,-9.9999999999999995E-7,-9.9999999999999995E-7,-9.9999999999999995E-7,-9.9999999999999995E-7,-9.9999999999999995E-7,-9.9999999999999995E-7,-9.9999999999999995E-7,-9.9999999999999995E-7,-9.9999999999999995E-7,-9.9999999999999995E-7,-9.9999999999999995E-7,-9.9999999999999995E-7,-9.9999999999999995E-7,{"$f":"IF(ISERROR(VLOOKUP(F1490,ages!B$1:B$23,1,1)),\"\",VLOOKUP(F1490,ages!B$1:B$23,1,1))","v":""},{"$f":"IF(ISERROR(VLOOKUP(F1490,ages!B$1:D$23,3,1)),\"\",VLOOKUP(F1490,ages!B$1:D$23,3,1))","v":""},0,0,0,0,0]
[null,null,null,null,null,"",null,null,null,null,null,null,"","","","","","","","","","",{"$f":"IF(ISNUMBER(F1491),IF(AL1491<0.85,\"\",VLOOKUP(M1491,A!A$2:X$23,VLOOKUP(F1491,ages!B$1:C$23,2,1),1)),\"\")","v":""},{"$f":"IF(ISNUMBER(F1491),IF(AM1491<0.85,\"\",VLOOKUP(N1491,B!A$2:X$23,VLOOKUP(F1491,ages!B$1:C$23,2,1),1)),\"\")","v":""},{"$f":"IF(ISNUMBER(F1491),IF(AN1491<0.85,\"\",VLOOKUP(O1491,'C'!A$2:X$23,VLOOKUP(F1491,ages!B$1:C$23,2,1),1)),\"\")","v":""},{"$f":"IF(ISNUMBER(F1491),IF(AO1491<0.85,\"\",VLOOKUP(P1491,D!A$2:X$23,VLOOKUP(F1491,ages!B$1:C$23,2,1),1)),\"\")","v":""},{"$f":"IF(ISNUMBER(F1491),IF(AP1491<0.85,\"\",VLOOKUP(Q1491,E!A$2:X$23,VLOOKUP(F1491,ages!B$1:C$23,2,1),1)),\"\")","v":""},{"$f":"IF(ISNUMBER(F1491),IF(AQ1491<0.85,\"\",VLOOKUP(R1491,F!A$2:X$23,VLOOKUP(F1491,ages!B$1:C$23,2,1),1)),\"\")","v":""},{"$f":"IF(ISNUMBER(F1491),IF(AR1491<0.85,\"\",VLOOKUP(S1491,G!A$2:X$23,VLOOKUP(F1491,ages!B$1:C$23,2,1),1)),\"\")","v":""},{"$f":"IF(ISNUMBER(F1491),IF(AS1491<0.85,\"\",VLOOKUP(T1491,H!A$2:X$23,VLOOKUP(F1491,ages!B$1:C$23,2,1),1)),\"\")","v":""},{"$f":"IF(ISNUMBER(F1491),IF(AT1491<0.85,\"\",VLOOKUP(U1491,I!A$2:X$23,VLOOKUP(F1491,ages!B$1:C$23,2,1),1)),\"\")","v":""},{"$f":"IF(ISNUMBER(F1491),IF(AU1491<0.85,\"\",VLOOKUP(V1491,J!A$2:X$23,VLOOKUP(F1491,ages!B$1:C$23,2,1),1)),\"\")","v":""},"","","","",-1.0000000000000002E-6,0,0,0,0,0,0,0,0,0,0,0,null,null,null,null,null,null,null,null,null,null,null,null,null,null,null,null,null,null,null,null,null,null,null,null,null,null,null,null,null,null,null,null,null,null,null,null,null,null,null,null,null,null,null,null,null,null,null,null,null,null,null,null,null,null,null,null,null,null,null,null,null,null,null,null,null,null,null,null,null,null,-9.9999999999999995E-7,-9.9999999999999995E-7,-9.9999999999999995E-7,-9.9999999999999995E-7,-9.9999999999999995E-7,-9.9999999999999995E-7,-9.9999999999999995E-7,-9.9999999999999995E-7,-9.9999999999999995E-7,-9.9999999999999995E-7,-9.9999999999999995E-7,-9.9999999999999995E-7,-9.9999999999999995E-7,-9.9999999999999995E-7,-9.9999999999999995E-7,-9.9999999999999995E-7,-9.9999999999999995E-7,-9.9999999999999995E-7,-9.9999999999999995E-7,-9.9999999999999995E-7,{"$f":"IF(ISERROR(VLOOKUP(F1491,ages!B$1:B$23,1,1)),\"\",VLOOKUP(F1491,ages!B$1:B$23,1,1))","v":""},{"$f":"IF(ISERROR(VLOOKUP(F1491,ages!B$1:D$23,3,1)),\"\",VLOOKUP(F1491,ages!B$1:D$23,3,1))","v":""},0,0,0,0,0]
[null,null,null,null,null,"",null,null,null,null,null,null,"","","","","","","","","","",{"$f":"IF(ISNUMBER(F1492),IF(AL1492<0.85,\"\",VLOOKUP(M1492,A!A$2:X$23,VLOOKUP(F1492,ages!B$1:C$23,2,1),1)),\"\")","v":""},{"$f":"IF(ISNUMBER(F1492),IF(AM1492<0.85,\"\",VLOOKUP(N1492,B!A$2:X$23,VLOOKUP(F1492,ages!B$1:C$23,2,1),1)),\"\")","v":""},{"$f":"IF(ISNUMBER(F1492),IF(AN1492<0.85,\"\",VLOOKUP(O1492,'C'!A$2:X$23,VLOOKUP(F1492,ages!B$1:C$23,2,1),1)),\"\")","v":""},{"$f":"IF(ISNUMBER(F1492),IF(AO1492<0.85,\"\",VLOOKUP(P1492,D!A$2:X$23,VLOOKUP(F1492,ages!B$1:C$23,2,1),1)),\"\")","v":""},{"$f":"IF(ISNUMBER(F1492),IF(AP1492<0.85,\"\",VLOOKUP(Q1492,E!A$2:X$23,VLOOKUP(F1492,ages!B$1:C$23,2,1),1)),\"\")","v":""},{"$f":"IF(ISNUMBER(F1492),IF(AQ1492<0.85,\"\",VLOOKUP(R1492,F!A$2:X$23,VLOOKUP(F1492,ages!B$1:C$23,2,1),1)),\"\")","v":""},{"$f":"IF(ISNUMBER(F1492),IF(AR1492<0.85,\"\",VLOOKUP(S1492,G!A$2:X$23,VLOOKUP(F1492,ages!B$1:C$23,2,1),1)),\"\")","v":""},{"$f":"IF(ISNUMBER(F1492),IF(AS1492<0.85,\"\",VLOOKUP(T1492,H!A$2:X$23,VLOOKUP(F1492,ages!B$1:C$23,2,1),1)),\"\")","v":""},{"$f":"IF(ISNUMBER(F1492),IF(AT1492<0.85,\"\",VLOOKUP(U1492,I!A$2:X$23,VLOOKUP(F1492,ages!B$1:C$23,2,1),1)),\"\")","v":""},{"$f":"IF(ISNUMBER(F1492),IF(AU1492<0.85,\"\",VLOOKUP(V1492,J!A$2:X$23,VLOOKUP(F1492,ages!B$1:C$23,2,1),1)),\"\")","v":""},"","","","",-1.0000000000000002E-6,0,0,0,0,0,0,0,0,0,0,0,null,null,null,null,null,null,null,null,null,null,null,null,null,null,null,null,null,null,null,null,null,null,null,null,null,null,null,null,null,null,null,null,null,null,null,null,null,null,null,null,null,null,null,null,null,null,null,null,null,null,null,null,null,null,null,null,null,null,null,null,null,null,null,null,null,null,null,null,null,null,-9.9999999999999995E-7,-9.9999999999999995E-7,-9.9999999999999995E-7,-9.9999999999999995E-7,-9.9999999999999995E-7,-9.9999999999999995E-7,-9.9999999999999995E-7,-9.9999999999999995E-7,-9.9999999999999995E-7,-9.9999999999999995E-7,-9.9999999999999995E-7,-9.9999999999999995E-7,-9.9999999999999995E-7,-9.9999999999999995E-7,-9.9999999999999995E-7,-9.9999999999999995E-7,-9.9999999999999995E-7,-9.9999999999999995E-7,-9.9999999999999995E-7,-9.9999999999999995E-7,{"$f":"IF(ISERROR(VLOOKUP(F1492,ages!B$1:B$23,1,1)),\"\",VLOOKUP(F1492,ages!B$1:B$23,1,1))","v":""},{"$f":"IF(ISERROR(VLOOKUP(F1492,ages!B$1:D$23,3,1)),\"\",VLOOKUP(F1492,ages!B$1:D$23,3,1))","v":""},0,0,0,0,0]
[null,null,null,null,null,"",null,null,null,null,null,null,"","","","","","","","","","",{"$f":"IF(ISNUMBER(F1493),IF(AL1493<0.85,\"\",VLOOKUP(M1493,A!A$2:X$23,VLOOKUP(F1493,ages!B$1:C$23,2,1),1)),\"\")","v":""},{"$f":"IF(ISNUMBER(F1493),IF(AM1493<0.85,\"\",VLOOKUP(N1493,B!A$2:X$23,VLOOKUP(F1493,ages!B$1:C$23,2,1),1)),\"\")","v":""},{"$f":"IF(ISNUMBER(F1493),IF(AN1493<0.85,\"\",VLOOKUP(O1493,'C'!A$2:X$23,VLOOKUP(F1493,ages!B$1:C$23,2,1),1)),\"\")","v":""},{"$f":"IF(ISNUMBER(F1493),IF(AO1493<0.85,\"\",VLOOKUP(P1493,D!A$2:X$23,VLOOKUP(F1493,ages!B$1:C$23,2,1),1)),\"\")","v":""},{"$f":"IF(ISNUMBER(F1493),IF(AP1493<0.85,\"\",VLOOKUP(Q1493,E!A$2:X$23,VLOOKUP(F1493,ages!B$1:C$23,2,1),1)),\"\")","v":""},{"$f":"IF(ISNUMBER(F1493),IF(AQ1493<0.85,\"\",VLOOKUP(R1493,F!A$2:X$23,VLOOKUP(F1493,ages!B$1:C$23,2,1),1)),\"\")","v":""},{"$f":"IF(ISNUMBER(F1493),IF(AR1493<0.85,\"\",VLOOKUP(S1493,G!A$2:X$23,VLOOKUP(F1493,ages!B$1:C$23,2,1),1)),\"\")","v":""},{"$f":"IF(ISNUMBER(F1493),IF(AS1493<0.85,\"\",VLOOKUP(T1493,H!A$2:X$23,VLOOKUP(F1493,ages!B$1:C$23,2,1),1)),\"\")","v":""},{"$f":"IF(ISNUMBER(F1493),IF(AT1493<0.85,\"\",VLOOKUP(U1493,I!A$2:X$23,VLOOKUP(F1493,ages!B$1:C$23,2,1),1)),\"\")","v":""},{"$f":"IF(ISNUMBER(F1493),IF(AU1493<0.85,\"\",VLOOKUP(V1493,J!A$2:X$23,VLOOKUP(F1493,ages!B$1:C$23,2,1),1)),\"\")","v":""},"","","","",-1.0000000000000002E-6,0,0,0,0,0,0,0,0,0,0,0,null,null,null,null,null,null,null,null,null,null,null,null,null,null,null,null,null,null,null,null,null,null,null,null,null,null,null,null,null,null,null,null,null,null,null,null,null,null,null,null,null,null,null,null,null,null,null,null,null,null,null,null,null,null,null,null,null,null,null,null,null,null,null,null,null,null,null,null,null,null,-9.9999999999999995E-7,-9.9999999999999995E-7,-9.9999999999999995E-7,-9.9999999999999995E-7,-9.9999999999999995E-7,-9.9999999999999995E-7,-9.9999999999999995E-7,-9.9999999999999995E-7,-9.9999999999999995E-7,-9.9999999999999995E-7,-9.9999999999999995E-7,-9.9999999999999995E-7,-9.9999999999999995E-7,-9.9999999999999995E-7,-9.9999999999999995E-7,-9.9999999999999995E-7,-9.9999999999999995E-7,-9.9999999999999995E-7,-9.9999999999999995E-7,-9.9999999999999995E-7,{"$f":"IF(ISERROR(VLOOKUP(F1493,ages!B$1:B$23,1,1)),\"\",VLOOKUP(F1493,ages!B$1:B$23,1,1))","v":""},{"$f":"IF(ISERROR(VLOOKUP(F1493,ages!B$1:D$23,3,1)),\"\",VLOOKUP(F1493,ages!B$1:D$23,3,1))","v":""},0,0,0,0,0]
[null,null,null,null,null,"",null,null,null,null,null,null,"","","","","","","","","","",{"$f":"IF(ISNUMBER(F1494),IF(AL1494<0.85,\"\",VLOOKUP(M1494,A!A$2:X$23,VLOOKUP(F1494,ages!B$1:C$23,2,1),1)),\"\")","v":""},{"$f":"IF(ISNUMBER(F1494),IF(AM1494<0.85,\"\",VLOOKUP(N1494,B!A$2:X$23,VLOOKUP(F1494,ages!B$1:C$23,2,1),1)),\"\")","v":""},{"$f":"IF(ISNUMBER(F1494),IF(AN1494<0.85,\"\",VLOOKUP(O1494,'C'!A$2:X$23,VLOOKUP(F1494,ages!B$1:C$23,2,1),1)),\"\")","v":""},{"$f":"IF(ISNUMBER(F1494),IF(AO1494<0.85,\"\",VLOOKUP(P1494,D!A$2:X$23,VLOOKUP(F1494,ages!B$1:C$23,2,1),1)),\"\")","v":""},{"$f":"IF(ISNUMBER(F1494),IF(AP1494<0.85,\"\",VLOOKUP(Q1494,E!A$2:X$23,VLOOKUP(F1494,ages!B$1:C$23,2,1),1)),\"\")","v":""},{"$f":"IF(ISNUMBER(F1494),IF(AQ1494<0.85,\"\",VLOOKUP(R1494,F!A$2:X$23,VLOOKUP(F1494,ages!B$1:C$23,2,1),1)),\"\")","v":""},{"$f":"IF(ISNUMBER(F1494),IF(AR1494<0.85,\"\",VLOOKUP(S1494,G!A$2:X$23,VLOOKUP(F1494,ages!B$1:C$23,2,1),1)),\"\")","v":""},{"$f":"IF(ISNUMBER(F1494),IF(AS1494<0.85,\"\",VLOOKUP(T1494,H!A$2:X$23,VLOOKUP(F1494,ages!B$1:C$23,2,1),1)),\"\")","v":""},{"$f":"IF(ISNUMBER(F1494),IF(AT1494<0.85,\"\",VLOOKUP(U1494,I!A$2:X$23,VLOOKUP(F1494,ages!B$1:C$23,2,1),1)),\"\")","v":""},{"$f":"IF(ISNUMBER(F1494),IF(AU1494<0.85,\"\",VLOOKUP(V1494,J!A$2:X$23,VLOOKUP(F1494,ages!B$1:C$23,2,1),1)),\"\")","v":""},"","","","",-1.0000000000000002E-6,0,0,0,0,0,0,0,0,0,0,0,null,null,null,null,null,null,null,null,null,null,null,null,null,null,null,null,null,null,null,null,null,null,null,null,null,null,null,null,null,null,null,null,null,null,null,null,null,null,null,null,null,null,null,null,null,null,null,null,null,null,null,null,null,null,null,null,null,null,null,null,null,null,null,null,null,null,null,null,null,null,-9.9999999999999995E-7,-9.9999999999999995E-7,-9.9999999999999995E-7,-9.9999999999999995E-7,-9.9999999999999995E-7,-9.9999999999999995E-7,-9.9999999999999995E-7,-9.9999999999999995E-7,-9.9999999999999995E-7,-9.9999999999999995E-7,-9.9999999999999995E-7,-9.9999999999999995E-7,-9.9999999999999995E-7,-9.9999999999999995E-7,-9.9999999999999995E-7,-9.9999999999999995E-7,-9.9999999999999995E-7,-9.9999999999999995E-7,-9.9999999999999995E-7,-9.9999999999999995E-7,{"$f":"IF(ISERROR(VLOOKUP(F1494,ages!B$1:B$23,1,1)),\"\",VLOOKUP(F1494,ages!B$1:B$23,1,1))","v":""},{"$f":"IF(ISERROR(VLOOKUP(F1494,ages!B$1:D$23,3,1)),\"\",VLOOKUP(F1494,ages!B$1:D$23,3,1))","v":""},0,0,0,0,0]
[null,null,null,null,null,"",null,null,null,null,null,null,"","","","","","","","","","",{"$f":"IF(ISNUMBER(F1495),IF(AL1495<0.85,\"\",VLOOKUP(M1495,A!A$2:X$23,VLOOKUP(F1495,ages!B$1:C$23,2,1),1)),\"\")","v":""},{"$f":"IF(ISNUMBER(F1495),IF(AM1495<0.85,\"\",VLOOKUP(N1495,B!A$2:X$23,VLOOKUP(F1495,ages!B$1:C$23,2,1),1)),\"\")","v":""},{"$f":"IF(ISNUMBER(F1495),IF(AN1495<0.85,\"\",VLOOKUP(O1495,'C'!A$2:X$23,VLOOKUP(F1495,ages!B$1:C$23,2,1),1)),\"\")","v":""},{"$f":"IF(ISNUMBER(F1495),IF(AO1495<0.85,\"\",VLOOKUP(P1495,D!A$2:X$23,VLOOKUP(F1495,ages!B$1:C$23,2,1),1)),\"\")","v":""},{"$f":"IF(ISNUMBER(F1495),IF(AP1495<0.85,\"\",VLOOKUP(Q1495,E!A$2:X$23,VLOOKUP(F1495,ages!B$1:C$23,2,1),1)),\"\")","v":""},{"$f":"IF(ISNUMBER(F1495),IF(AQ1495<0.85,\"\",VLOOKUP(R1495,F!A$2:X$23,VLOOKUP(F1495,ages!B$1:C$23,2,1),1)),\"\")","v":""},{"$f":"IF(ISNUMBER(F1495),IF(AR1495<0.85,\"\",VLOOKUP(S1495,G!A$2:X$23,VLOOKUP(F1495,ages!B$1:C$23,2,1),1)),\"\")","v":""},{"$f":"IF(ISNUMBER(F1495),IF(AS1495<0.85,\"\",VLOOKUP(T1495,H!A$2:X$23,VLOOKUP(F1495,ages!B$1:C$23,2,1),1)),\"\")","v":""},{"$f":"IF(ISNUMBER(F1495),IF(AT1495<0.85,\"\",VLOOKUP(U1495,I!A$2:X$23,VLOOKUP(F1495,ages!B$1:C$23,2,1),1)),\"\")","v":""},{"$f":"IF(ISNUMBER(F1495),IF(AU1495<0.85,\"\",VLOOKUP(V1495,J!A$2:X$23,VLOOKUP(F1495,ages!B$1:C$23,2,1),1)),\"\")","v":""},"","","","",-1.0000000000000002E-6,0,0,0,0,0,0,0,0,0,0,0,null,null,null,null,null,null,null,null,null,null,null,null,null,null,null,null,null,null,null,null,null,null,null,null,null,null,null,null,null,null,null,null,null,null,null,null,null,null,null,null,null,null,null,null,null,null,null,null,null,null,null,null,null,null,null,null,null,null,null,null,null,null,null,null,null,null,null,null,null,null,-9.9999999999999995E-7,-9.9999999999999995E-7,-9.9999999999999995E-7,-9.9999999999999995E-7,-9.9999999999999995E-7,-9.9999999999999995E-7,-9.9999999999999995E-7,-9.9999999999999995E-7,-9.9999999999999995E-7,-9.9999999999999995E-7,-9.9999999999999995E-7,-9.9999999999999995E-7,-9.9999999999999995E-7,-9.9999999999999995E-7,-9.9999999999999995E-7,-9.9999999999999995E-7,-9.9999999999999995E-7,-9.9999999999999995E-7,-9.9999999999999995E-7,-9.9999999999999995E-7,{"$f":"IF(ISERROR(VLOOKUP(F1495,ages!B$1:B$23,1,1)),\"\",VLOOKUP(F1495,ages!B$1:B$23,1,1))","v":""},{"$f":"IF(ISERROR(VLOOKUP(F1495,ages!B$1:D$23,3,1)),\"\",VLOOKUP(F1495,ages!B$1:D$23,3,1))","v":""},0,0,0,0,0]
[null,null,null,null,null,"",null,null,null,null,null,null,"","","","","","","","","","",{"$f":"IF(ISNUMBER(F1496),IF(AL1496<0.85,\"\",VLOOKUP(M1496,A!A$2:X$23,VLOOKUP(F1496,ages!B$1:C$23,2,1),1)),\"\")","v":""},{"$f":"IF(ISNUMBER(F1496),IF(AM1496<0.85,\"\",VLOOKUP(N1496,B!A$2:X$23,VLOOKUP(F1496,ages!B$1:C$23,2,1),1)),\"\")","v":""},{"$f":"IF(ISNUMBER(F1496),IF(AN1496<0.85,\"\",VLOOKUP(O1496,'C'!A$2:X$23,VLOOKUP(F1496,ages!B$1:C$23,2,1),1)),\"\")","v":""},{"$f":"IF(ISNUMBER(F1496),IF(AO1496<0.85,\"\",VLOOKUP(P1496,D!A$2:X$23,VLOOKUP(F1496,ages!B$1:C$23,2,1),1)),\"\")","v":""},{"$f":"IF(ISNUMBER(F1496),IF(AP1496<0.85,\"\",VLOOKUP(Q1496,E!A$2:X$23,VLOOKUP(F1496,ages!B$1:C$23,2,1),1)),\"\")","v":""},{"$f":"IF(ISNUMBER(F1496),IF(AQ1496<0.85,\"\",VLOOKUP(R1496,F!A$2:X$23,VLOOKUP(F1496,ages!B$1:C$23,2,1),1)),\"\")","v":""},{"$f":"IF(ISNUMBER(F1496),IF(AR1496<0.85,\"\",VLOOKUP(S1496,G!A$2:X$23,VLOOKUP(F1496,ages!B$1:C$23,2,1),1)),\"\")","v":""},{"$f":"IF(ISNUMBER(F1496),IF(AS1496<0.85,\"\",VLOOKUP(T1496,H!A$2:X$23,VLOOKUP(F1496,ages!B$1:C$23,2,1),1)),\"\")","v":""},{"$f":"IF(ISNUMBER(F1496),IF(AT1496<0.85,\"\",VLOOKUP(U1496,I!A$2:X$23,VLOOKUP(F1496,ages!B$1:C$23,2,1),1)),\"\")","v":""},{"$f":"IF(ISNUMBER(F1496),IF(AU1496<0.85,\"\",VLOOKUP(V1496,J!A$2:X$23,VLOOKUP(F1496,ages!B$1:C$23,2,1),1)),\"\")","v":""},"","","","",-1.0000000000000002E-6,0,0,0,0,0,0,0,0,0,0,0,null,null,null,null,null,null,null,null,null,null,null,null,null,null,null,null,null,null,null,null,null,null,null,null,null,null,null,null,null,null,null,null,null,null,null,null,null,null,null,null,null,null,null,null,null,null,null,null,null,null,null,null,null,null,null,null,null,null,null,null,null,null,null,null,null,null,null,null,null,null,-9.9999999999999995E-7,-9.9999999999999995E-7,-9.9999999999999995E-7,-9.9999999999999995E-7,-9.9999999999999995E-7,-9.9999999999999995E-7,-9.9999999999999995E-7,-9.9999999999999995E-7,-9.9999999999999995E-7,-9.9999999999999995E-7,-9.9999999999999995E-7,-9.9999999999999995E-7,-9.9999999999999995E-7,-9.9999999999999995E-7,-9.9999999999999995E-7,-9.9999999999999995E-7,-9.9999999999999995E-7,-9.9999999999999995E-7,-9.9999999999999995E-7,-9.9999999999999995E-7,{"$f":"IF(ISERROR(VLOOKUP(F1496,ages!B$1:B$23,1,1)),\"\",VLOOKUP(F1496,ages!B$1:B$23,1,1))","v":""},{"$f":"IF(ISERROR(VLOOKUP(F1496,ages!B$1:D$23,3,1)),\"\",VLOOKUP(F1496,ages!B$1:D$23,3,1))","v":""},0,0,0,0,0]
[null,null,null,null,null,"",null,null,null,null,null,null,"","","","","","","","","","",{"$f":"IF(ISNUMBER(F1497),IF(AL1497<0.85,\"\",VLOOKUP(M1497,A!A$2:X$23,VLOOKUP(F1497,ages!B$1:C$23,2,1),1)),\"\")","v":""},{"$f":"IF(ISNUMBER(F1497),IF(AM1497<0.85,\"\",VLOOKUP(N1497,B!A$2:X$23,VLOOKUP(F1497,ages!B$1:C$23,2,1),1)),\"\")","v":""},{"$f":"IF(ISNUMBER(F1497),IF(AN1497<0.85,\"\",VLOOKUP(O1497,'C'!A$2:X$23,VLOOKUP(F1497,ages!B$1:C$23,2,1),1)),\"\")","v":""},{"$f":"IF(ISNUMBER(F1497),IF(AO1497<0.85,\"\",VLOOKUP(P1497,D!A$2:X$23,VLOOKUP(F1497,ages!B$1:C$23,2,1),1)),\"\")","v":""},{"$f":"IF(ISNUMBER(F1497),IF(AP1497<0.85,\"\",VLOOKUP(Q1497,E!A$2:X$23,VLOOKUP(F1497,ages!B$1:C$23,2,1),1)),\"\")","v":""},{"$f":"IF(ISNUMBER(F1497),IF(AQ1497<0.85,\"\",VLOOKUP(R1497,F!A$2:X$23,VLOOKUP(F1497,ages!B$1:C$23,2,1),1)),\"\")","v":""},{"$f":"IF(ISNUMBER(F1497),IF(AR1497<0.85,\"\",VLOOKUP(S1497,G!A$2:X$23,VLOOKUP(F1497,ages!B$1:C$23,2,1),1)),\"\")","v":""},{"$f":"IF(ISNUMBER(F1497),IF(AS1497<0.85,\"\",VLOOKUP(T1497,H!A$2:X$23,VLOOKUP(F1497,ages!B$1:C$23,2,1),1)),\"\")","v":""},{"$f":"IF(ISNUMBER(F1497),IF(AT1497<0.85,\"\",VLOOKUP(U1497,I!A$2:X$23,VLOOKUP(F1497,ages!B$1:C$23,2,1),1)),\"\")","v":""},{"$f":"IF(ISNUMBER(F1497),IF(AU1497<0.85,\"\",VLOOKUP(V1497,J!A$2:X$23,VLOOKUP(F1497,ages!B$1:C$23,2,1),1)),\"\")","v":""},"","","","",-1.0000000000000002E-6,0,0,0,0,0,0,0,0,0,0,0,null,null,null,null,null,null,null,null,null,null,null,null,null,null,null,null,null,null,null,null,null,null,null,null,null,null,null,null,null,null,null,null,null,null,null,null,null,null,null,null,null,null,null,null,null,null,null,null,null,null,null,null,null,null,null,null,null,null,null,null,null,null,null,null,null,null,null,null,null,null,-9.9999999999999995E-7,-9.9999999999999995E-7,-9.9999999999999995E-7,-9.9999999999999995E-7,-9.9999999999999995E-7,-9.9999999999999995E-7,-9.9999999999999995E-7,-9.9999999999999995E-7,-9.9999999999999995E-7,-9.9999999999999995E-7,-9.9999999999999995E-7,-9.9999999999999995E-7,-9.9999999999999995E-7,-9.9999999999999995E-7,-9.9999999999999995E-7,-9.9999999999999995E-7,-9.9999999999999995E-7,-9.9999999999999995E-7,-9.9999999999999995E-7,-9.9999999999999995E-7,{"$f":"IF(ISERROR(VLOOKUP(F1497,ages!B$1:B$23,1,1)),\"\",VLOOKUP(F1497,ages!B$1:B$23,1,1))","v":""},{"$f":"IF(ISERROR(VLOOKUP(F1497,ages!B$1:D$23,3,1)),\"\",VLOOKUP(F1497,ages!B$1:D$23,3,1))","v":""},0,0,0,0,0]
[null,null,null,null,null,"",null,null,null,null,null,null,"","","","","","","","","","",{"$f":"IF(ISNUMBER(F1498),IF(AL1498<0.85,\"\",VLOOKUP(M1498,A!A$2:X$23,VLOOKUP(F1498,ages!B$1:C$23,2,1),1)),\"\")","v":""},{"$f":"IF(ISNUMBER(F1498),IF(AM1498<0.85,\"\",VLOOKUP(N1498,B!A$2:X$23,VLOOKUP(F1498,ages!B$1:C$23,2,1),1)),\"\")","v":""},{"$f":"IF(ISNUMBER(F1498),IF(AN1498<0.85,\"\",VLOOKUP(O1498,'C'!A$2:X$23,VLOOKUP(F1498,ages!B$1:C$23,2,1),1)),\"\")","v":""},{"$f":"IF(ISNUMBER(F1498),IF(AO1498<0.85,\"\",VLOOKUP(P1498,D!A$2:X$23,VLOOKUP(F1498,ages!B$1:C$23,2,1),1)),\"\")","v":""},{"$f":"IF(ISNUMBER(F1498),IF(AP1498<0.85,\"\",VLOOKUP(Q1498,E!A$2:X$23,VLOOKUP(F1498,ages!B$1:C$23,2,1),1)),\"\")","v":""},{"$f":"IF(ISNUMBER(F1498),IF(AQ1498<0.85,\"\",VLOOKUP(R1498,F!A$2:X$23,VLOOKUP(F1498,ages!B$1:C$23,2,1),1)),\"\")","v":""},{"$f":"IF(ISNUMBER(F1498),IF(AR1498<0.85,\"\",VLOOKUP(S1498,G!A$2:X$23,VLOOKUP(F1498,ages!B$1:C$23,2,1),1)),\"\")","v":""},{"$f":"IF(ISNUMBER(F1498),IF(AS1498<0.85,\"\",VLOOKUP(T1498,H!A$2:X$23,VLOOKUP(F1498,ages!B$1:C$23,2,1),1)),\"\")","v":""},{"$f":"IF(ISNUMBER(F1498),IF(AT1498<0.85,\"\",VLOOKUP(U1498,I!A$2:X$23,VLOOKUP(F1498,ages!B$1:C$23,2,1),1)),\"\")","v":""},{"$f":"IF(ISNUMBER(F1498),IF(AU1498<0.85,\"\",VLOOKUP(V1498,J!A$2:X$23,VLOOKUP(F1498,ages!B$1:C$23,2,1),1)),\"\")","v":""},"","","","",-1.0000000000000002E-6,0,0,0,0,0,0,0,0,0,0,0,null,null,null,null,null,null,null,null,null,null,null,null,null,null,null,null,null,null,null,null,null,null,null,null,null,null,null,null,null,null,null,null,null,null,null,null,null,null,null,null,null,null,null,null,null,null,null,null,null,null,null,null,null,null,null,null,null,null,null,null,null,null,null,null,null,null,null,null,null,null,-9.9999999999999995E-7,-9.9999999999999995E-7,-9.9999999999999995E-7,-9.9999999999999995E-7,-9.9999999999999995E-7,-9.9999999999999995E-7,-9.9999999999999995E-7,-9.9999999999999995E-7,-9.9999999999999995E-7,-9.9999999999999995E-7,-9.9999999999999995E-7,-9.9999999999999995E-7,-9.9999999999999995E-7,-9.9999999999999995E-7,-9.9999999999999995E-7,-9.9999999999999995E-7,-9.9999999999999995E-7,-9.9999999999999995E-7,-9.9999999999999995E-7,-9.9999999999999995E-7,{"$f":"IF(ISERROR(VLOOKUP(F1498,ages!B$1:B$23,1,1)),\"\",VLOOKUP(F1498,ages!B$1:B$23,1,1))","v":""},{"$f":"IF(ISERROR(VLOOKUP(F1498,ages!B$1:D$23,3,1)),\"\",VLOOKUP(F1498,ages!B$1:D$23,3,1))","v":""},0,0,0,0,0]
[null,null,null,null,null,"",null,null,null,null,null,null,"","","","","","","","","","",{"$f":"IF(ISNUMBER(F1499),IF(AL1499<0.85,\"\",VLOOKUP(M1499,A!A$2:X$23,VLOOKUP(F1499,ages!B$1:C$23,2,1),1)),\"\")","v":""},{"$f":"IF(ISNUMBER(F1499),IF(AM1499<0.85,\"\",VLOOKUP(N1499,B!A$2:X$23,VLOOKUP(F1499,ages!B$1:C$23,2,1),1)),\"\")","v":""},{"$f":"IF(ISNUMBER(F1499),IF(AN1499<0.85,\"\",VLOOKUP(O1499,'C'!A$2:X$23,VLOOKUP(F1499,ages!B$1:C$23,2,1),1)),\"\")","v":""},{"$f":"IF(ISNUMBER(F1499),IF(AO1499<0.85,\"\",VLOOKUP(P1499,D!A$2:X$23,VLOOKUP(F1499,ages!B$1:C$23,2,1),1)),\"\")","v":""},{"$f":"IF(ISNUMBER(F1499),IF(AP1499<0.85,\"\",VLOOKUP(Q1499,E!A$2:X$23,VLOOKUP(F1499,ages!B$1:C$23,2,1),1)),\"\")","v":""},{"$f":"IF(ISNUMBER(F1499),IF(AQ1499<0.85,\"\",VLOOKUP(R1499,F!A$2:X$23,VLOOKUP(F1499,ages!B$1:C$23,2,1),1)),\"\")","v":""},{"$f":"IF(ISNUMBER(F1499),IF(AR1499<0.85,\"\",VLOOKUP(S1499,G!A$2:X$23,VLOOKUP(F1499,ages!B$1:C$23,2,1),1)),\"\")","v":""},{"$f":"IF(ISNUMBER(F1499),IF(AS1499<0.85,\"\",VLOOKUP(T1499,H!A$2:X$23,VLOOKUP(F1499,ages!B$1:C$23,2,1),1)),\"\")","v":""},{"$f":"IF(ISNUMBER(F1499),IF(AT1499<0.85,\"\",VLOOKUP(U1499,I!A$2:X$23,VLOOKUP(F1499,ages!B$1:C$23,2,1),1)),\"\")","v":""},{"$f":"IF(ISNUMBER(F1499),IF(AU1499<0.85,\"\",VLOOKUP(V1499,J!A$2:X$23,VLOOKUP(F1499,ages!B$1:C$23,2,1),1)),\"\")","v":""},"","","","",-1.0000000000000002E-6,0,0,0,0,0,0,0,0,0,0,0,null,null,null,null,null,null,null,null,null,null,null,null,null,null,null,null,null,null,null,null,null,null,null,null,null,null,null,null,null,null,null,null,null,null,null,null,null,null,null,null,null,null,null,null,null,null,null,null,null,null,null,null,null,null,null,null,null,null,null,null,null,null,null,null,null,null,null,null,null,null,-9.9999999999999995E-7,-9.9999999999999995E-7,-9.9999999999999995E-7,-9.9999999999999995E-7,-9.9999999999999995E-7,-9.9999999999999995E-7,-9.9999999999999995E-7,-9.9999999999999995E-7,-9.9999999999999995E-7,-9.9999999999999995E-7,-9.9999999999999995E-7,-9.9999999999999995E-7,-9.9999999999999995E-7,-9.9999999999999995E-7,-9.9999999999999995E-7,-9.9999999999999995E-7,-9.9999999999999995E-7,-9.9999999999999995E-7,-9.9999999999999995E-7,-9.9999999999999995E-7,{"$f":"IF(ISERROR(VLOOKUP(F1499,ages!B$1:B$23,1,1)),\"\",VLOOKUP(F1499,ages!B$1:B$23,1,1))","v":""},{"$f":"IF(ISERROR(VLOOKUP(F1499,ages!B$1:D$23,3,1)),\"\",VLOOKUP(F1499,ages!B$1:D$23,3,1))","v":""},0,0,0,0,0]
[null,null,null,null,null,"",null,null,null,null,null,null,"","","","","","","","","","",{"$f":"IF(ISNUMBER(F1500),IF(AL1500<0.85,\"\",VLOOKUP(M1500,A!A$2:X$23,VLOOKUP(F1500,ages!B$1:C$23,2,1),1)),\"\")","v":""},{"$f":"IF(ISNUMBER(F1500),IF(AM1500<0.85,\"\",VLOOKUP(N1500,B!A$2:X$23,VLOOKUP(F1500,ages!B$1:C$23,2,1),1)),\"\")","v":""},{"$f":"IF(ISNUMBER(F1500),IF(AN1500<0.85,\"\",VLOOKUP(O1500,'C'!A$2:X$23,VLOOKUP(F1500,ages!B$1:C$23,2,1),1)),\"\")","v":""},{"$f":"IF(ISNUMBER(F1500),IF(AO1500<0.85,\"\",VLOOKUP(P1500,D!A$2:X$23,VLOOKUP(F1500,ages!B$1:C$23,2,1),1)),\"\")","v":""},{"$f":"IF(ISNUMBER(F1500),IF(AP1500<0.85,\"\",VLOOKUP(Q1500,E!A$2:X$23,VLOOKUP(F1500,ages!B$1:C$23,2,1),1)),\"\")","v":""},{"$f":"IF(ISNUMBER(F1500),IF(AQ1500<0.85,\"\",VLOOKUP(R1500,F!A$2:X$23,VLOOKUP(F1500,ages!B$1:C$23,2,1),1)),\"\")","v":""},{"$f":"IF(ISNUMBER(F1500),IF(AR1500<0.85,\"\",VLOOKUP(S1500,G!A$2:X$23,VLOOKUP(F1500,ages!B$1:C$23,2,1),1)),\"\")","v":""},{"$f":"IF(ISNUMBER(F1500),IF(AS1500<0.85,\"\",VLOOKUP(T1500,H!A$2:X$23,VLOOKUP(F1500,ages!B$1:C$23,2,1),1)),\"\")","v":""},{"$f":"IF(ISNUMBER(F1500),IF(AT1500<0.85,\"\",VLOOKUP(U1500,I!A$2:X$23,VLOOKUP(F1500,ages!B$1:C$23,2,1),1)),\"\")","v":""},{"$f":"IF(ISNUMBER(F1500),IF(AU1500<0.85,\"\",VLOOKUP(V1500,J!A$2:X$23,VLOOKUP(F1500,ages!B$1:C$23,2,1),1)),\"\")","v":""},"","","","",-1.0000000000000002E-6,0,0,0,0,0,0,0,0,0,0,0,null,null,null,null,null,null,null,null,null,null,null,null,null,null,null,null,null,null,null,null,null,null,null,null,null,null,null,null,null,null,null,null,null,null,null,null,null,null,null,null,null,null,null,null,null,null,null,null,null,null,null,null,null,null,null,null,null,null,null,null,null,null,null,null,null,null,null,null,null,null,-9.9999999999999995E-7,-9.9999999999999995E-7,-9.9999999999999995E-7,-9.9999999999999995E-7,-9.9999999999999995E-7,-9.9999999999999995E-7,-9.9999999999999995E-7,-9.9999999999999995E-7,-9.9999999999999995E-7,-9.9999999999999995E-7,-9.9999999999999995E-7,-9.9999999999999995E-7,-9.9999999999999995E-7,-9.9999999999999995E-7,-9.9999999999999995E-7,-9.9999999999999995E-7,-9.9999999999999995E-7,-9.9999999999999995E-7,-9.9999999999999995E-7,-9.9999999999999995E-7,{"$f":"IF(ISERROR(VLOOKUP(F1500,ages!B$1:B$23,1,1)),\"\",VLOOKUP(F1500,ages!B$1:B$23,1,1))","v":""},{"$f":"IF(ISERROR(VLOOKUP(F1500,ages!B$1:D$23,3,1)),\"\",VLOOKUP(F1500,ages!B$1:D$23,3,1))","v":""},0,0,0,0,0]
[null,null,null,null,null,"",null,null,null,null,null,null,"","","","","","","","","","",{"$f":"IF(ISNUMBER(F1501),IF(AL1501<0.85,\"\",VLOOKUP(M1501,A!A$2:X$23,VLOOKUP(F1501,ages!B$1:C$23,2,1),1)),\"\")","v":""},{"$f":"IF(ISNUMBER(F1501),IF(AM1501<0.85,\"\",VLOOKUP(N1501,B!A$2:X$23,VLOOKUP(F1501,ages!B$1:C$23,2,1),1)),\"\")","v":""},{"$f":"IF(ISNUMBER(F1501),IF(AN1501<0.85,\"\",VLOOKUP(O1501,'C'!A$2:X$23,VLOOKUP(F1501,ages!B$1:C$23,2,1),1)),\"\")","v":""},{"$f":"IF(ISNUMBER(F1501),IF(AO1501<0.85,\"\",VLOOKUP(P1501,D!A$2:X$23,VLOOKUP(F1501,ages!B$1:C$23,2,1),1)),\"\")","v":""},{"$f":"IF(ISNUMBER(F1501),IF(AP1501<0.85,\"\",VLOOKUP(Q1501,E!A$2:X$23,VLOOKUP(F1501,ages!B$1:C$23,2,1),1)),\"\")","v":""},{"$f":"IF(ISNUMBER(F1501),IF(AQ1501<0.85,\"\",VLOOKUP(R1501,F!A$2:X$23,VLOOKUP(F1501,ages!B$1:C$23,2,1),1)),\"\")","v":""},{"$f":"IF(ISNUMBER(F1501),IF(AR1501<0.85,\"\",VLOOKUP(S1501,G!A$2:X$23,VLOOKUP(F1501,ages!B$1:C$23,2,1),1)),\"\")","v":""},{"$f":"IF(ISNUMBER(F1501),IF(AS1501<0.85,\"\",VLOOKUP(T1501,H!A$2:X$23,VLOOKUP(F1501,ages!B$1:C$23,2,1),1)),\"\")","v":""},{"$f":"IF(ISNUMBER(F1501),IF(AT1501<0.85,\"\",VLOOKUP(U1501,I!A$2:X$23,VLOOKUP(F1501,ages!B$1:C$23,2,1),1)),\"\")","v":""},{"$f":"IF(ISNUMBER(F1501),IF(AU1501<0.85,\"\",VLOOKUP(V1501,J!A$2:X$23,VLOOKUP(F1501,ages!B$1:C$23,2,1),1)),\"\")","v":""},"","","","",-1.0000000000000002E-6,0,0,0,0,0,0,0,0,0,0,0,null,null,null,null,null,null,null,null,null,null,null,null,null,null,null,null,null,null,null,null,null,null,null,null,null,null,null,null,null,null,null,null,null,null,null,null,null,null,null,null,null,null,null,null,null,null,null,null,null,null,null,null,null,null,null,null,null,null,null,null,null,null,null,null,null,null,null,null,null,null,-9.9999999999999995E-7,-9.9999999999999995E-7,-9.9999999999999995E-7,-9.9999999999999995E-7,-9.9999999999999995E-7,-9.9999999999999995E-7,-9.9999999999999995E-7,-9.9999999999999995E-7,-9.9999999999999995E-7,-9.9999999999999995E-7,-9.9999999999999995E-7,-9.9999999999999995E-7,-9.9999999999999995E-7,-9.9999999999999995E-7,-9.9999999999999995E-7,-9.9999999999999995E-7,-9.9999999999999995E-7,-9.9999999999999995E-7,-9.9999999999999995E-7,-9.9999999999999995E-7,{"$f":"IF(ISERROR(VLOOKUP(F1501,ages!B$1:B$23,1,1)),\"\",VLOOKUP(F1501,ages!B$1:B$23,1,1))","v":""},{"$f":"IF(ISERROR(VLOOKUP(F1501,ages!B$1:D$23,3,1)),\"\",VLOOKUP(F1501,ages!B$1:D$23,3,1))","v":""},0,0,0,0,0]
[null,null,null,null,null,"",null,null,null,null,null,null,"","","","","","","","","","",{"$f":"IF(ISNUMBER(F1502),IF(AL1502<0.85,\"\",VLOOKUP(M1502,A!A$2:X$23,VLOOKUP(F1502,ages!B$1:C$23,2,1),1)),\"\")","v":""},{"$f":"IF(ISNUMBER(F1502),IF(AM1502<0.85,\"\",VLOOKUP(N1502,B!A$2:X$23,VLOOKUP(F1502,ages!B$1:C$23,2,1),1)),\"\")","v":""},{"$f":"IF(ISNUMBER(F1502),IF(AN1502<0.85,\"\",VLOOKUP(O1502,'C'!A$2:X$23,VLOOKUP(F1502,ages!B$1:C$23,2,1),1)),\"\")","v":""},{"$f":"IF(ISNUMBER(F1502),IF(AO1502<0.85,\"\",VLOOKUP(P1502,D!A$2:X$23,VLOOKUP(F1502,ages!B$1:C$23,2,1),1)),\"\")","v":""},{"$f":"IF(ISNUMBER(F1502),IF(AP1502<0.85,\"\",VLOOKUP(Q1502,E!A$2:X$23,VLOOKUP(F1502,ages!B$1:C$23,2,1),1)),\"\")","v":""},{"$f":"IF(ISNUMBER(F1502),IF(AQ1502<0.85,\"\",VLOOKUP(R1502,F!A$2:X$23,VLOOKUP(F1502,ages!B$1:C$23,2,1),1)),\"\")","v":""},{"$f":"IF(ISNUMBER(F1502),IF(AR1502<0.85,\"\",VLOOKUP(S1502,G!A$2:X$23,VLOOKUP(F1502,ages!B$1:C$23,2,1),1)),\"\")","v":""},{"$f":"IF(ISNUMBER(F1502),IF(AS1502<0.85,\"\",VLOOKUP(T1502,H!A$2:X$23,VLOOKUP(F1502,ages!B$1:C$23,2,1),1)),\"\")","v":""},{"$f":"IF(ISNUMBER(F1502),IF(AT1502<0.85,\"\",VLOOKUP(U1502,I!A$2:X$23,VLOOKUP(F1502,ages!B$1:C$23,2,1),1)),\"\")","v":""},{"$f":"IF(ISNUMBER(F1502),IF(AU1502<0.85,\"\",VLOOKUP(V1502,J!A$2:X$23,VLOOKUP(F1502,ages!B$1:C$23,2,1),1)),\"\")","v":""},"","","","",-1.0000000000000002E-6,0,0,0,0,0,0,0,0,0,0,0,null,null,null,null,null,null,null,null,null,null,null,null,null,null,null,null,null,null,null,null,null,null,null,null,null,null,null,null,null,null,null,null,null,null,null,null,null,null,null,null,null,null,null,null,null,null,null,null,null,null,null,null,null,null,null,null,null,null,null,null,null,null,null,null,null,null,null,null,null,null,-9.9999999999999995E-7,-9.9999999999999995E-7,-9.9999999999999995E-7,-9.9999999999999995E-7,-9.9999999999999995E-7,-9.9999999999999995E-7,-9.9999999999999995E-7,-9.9999999999999995E-7,-9.9999999999999995E-7,-9.9999999999999995E-7,-9.9999999999999995E-7,-9.9999999999999995E-7,-9.9999999999999995E-7,-9.9999999999999995E-7,-9.9999999999999995E-7,-9.9999999999999995E-7,-9.9999999999999995E-7,-9.9999999999999995E-7,-9.9999999999999995E-7,-9.9999999999999995E-7,{"$f":"IF(ISERROR(VLOOKUP(F1502,ages!B$1:B$23,1,1)),\"\",VLOOKUP(F1502,ages!B$1:B$23,1,1))","v":""},{"$f":"IF(ISERROR(VLOOKUP(F1502,ages!B$1:D$23,3,1)),\"\",VLOOKUP(F1502,ages!B$1:D$23,3,1))","v":""},0,0,0,0,0]
[null,null,null,null,null,"",null,null,null,null,null,null,"","","","","","","","","","",{"$f":"IF(ISNUMBER(F1503),IF(AL1503<0.85,\"\",VLOOKUP(M1503,A!A$2:X$23,VLOOKUP(F1503,ages!B$1:C$23,2,1),1)),\"\")","v":""},{"$f":"IF(ISNUMBER(F1503),IF(AM1503<0.85,\"\",VLOOKUP(N1503,B!A$2:X$23,VLOOKUP(F1503,ages!B$1:C$23,2,1),1)),\"\")","v":""},{"$f":"IF(ISNUMBER(F1503),IF(AN1503<0.85,\"\",VLOOKUP(O1503,'C'!A$2:X$23,VLOOKUP(F1503,ages!B$1:C$23,2,1),1)),\"\")","v":""},{"$f":"IF(ISNUMBER(F1503),IF(AO1503<0.85,\"\",VLOOKUP(P1503,D!A$2:X$23,VLOOKUP(F1503,ages!B$1:C$23,2,1),1)),\"\")","v":""},{"$f":"IF(ISNUMBER(F1503),IF(AP1503<0.85,\"\",VLOOKUP(Q1503,E!A$2:X$23,VLOOKUP(F1503,ages!B$1:C$23,2,1),1)),\"\")","v":""},{"$f":"IF(ISNUMBER(F1503),IF(AQ1503<0.85,\"\",VLOOKUP(R1503,F!A$2:X$23,VLOOKUP(F1503,ages!B$1:C$23,2,1),1)),\"\")","v":""},{"$f":"IF(ISNUMBER(F1503),IF(AR1503<0.85,\"\",VLOOKUP(S1503,G!A$2:X$23,VLOOKUP(F1503,ages!B$1:C$23,2,1),1)),\"\")","v":""},{"$f":"IF(ISNUMBER(F1503),IF(AS1503<0.85,\"\",VLOOKUP(T1503,H!A$2:X$23,VLOOKUP(F1503,ages!B$1:C$23,2,1),1)),\"\")","v":""},{"$f":"IF(ISNUMBER(F1503),IF(AT1503<0.85,\"\",VLOOKUP(U1503,I!A$2:X$23,VLOOKUP(F1503,ages!B$1:C$23,2,1),1)),\"\")","v":""},{"$f":"IF(ISNUMBER(F1503),IF(AU1503<0.85,\"\",VLOOKUP(V1503,J!A$2:X$23,VLOOKUP(F1503,ages!B$1:C$23,2,1),1)),\"\")","v":""},"","","","",-1.0000000000000002E-6,0,0,0,0,0,0,0,0,0,0,0,null,null,null,null,null,null,null,null,null,null,null,null,null,null,null,null,null,null,null,null,null,null,null,null,null,null,null,null,null,null,null,null,null,null,null,null,null,null,null,null,null,null,null,null,null,null,null,null,null,null,null,null,null,null,null,null,null,null,null,null,null,null,null,null,null,null,null,null,null,null,-9.9999999999999995E-7,-9.9999999999999995E-7,-9.9999999999999995E-7,-9.9999999999999995E-7,-9.9999999999999995E-7,-9.9999999999999995E-7,-9.9999999999999995E-7,-9.9999999999999995E-7,-9.9999999999999995E-7,-9.9999999999999995E-7,-9.9999999999999995E-7,-9.9999999999999995E-7,-9.9999999999999995E-7,-9.9999999999999995E-7,-9.9999999999999995E-7,-9.9999999999999995E-7,-9.9999999999999995E-7,-9.9999999999999995E-7,-9.9999999999999995E-7,-9.9999999999999995E-7,{"$f":"IF(ISERROR(VLOOKUP(F1503,ages!B$1:B$23,1,1)),\"\",VLOOKUP(F1503,ages!B$1:B$23,1,1))","v":""},{"$f":"IF(ISERROR(VLOOKUP(F1503,ages!B$1:D$23,3,1)),\"\",VLOOKUP(F1503,ages!B$1:D$23,3,1))","v":""},0,0,0,0,0]
[null,null,null,null,null,"",null,null,null,null,null,null,"","","","","","","","","","",{"$f":"IF(ISNUMBER(F1504),IF(AL1504<0.85,\"\",VLOOKUP(M1504,A!A$2:X$23,VLOOKUP(F1504,ages!B$1:C$23,2,1),1)),\"\")","v":""},{"$f":"IF(ISNUMBER(F1504),IF(AM1504<0.85,\"\",VLOOKUP(N1504,B!A$2:X$23,VLOOKUP(F1504,ages!B$1:C$23,2,1),1)),\"\")","v":""},{"$f":"IF(ISNUMBER(F1504),IF(AN1504<0.85,\"\",VLOOKUP(O1504,'C'!A$2:X$23,VLOOKUP(F1504,ages!B$1:C$23,2,1),1)),\"\")","v":""},{"$f":"IF(ISNUMBER(F1504),IF(AO1504<0.85,\"\",VLOOKUP(P1504,D!A$2:X$23,VLOOKUP(F1504,ages!B$1:C$23,2,1),1)),\"\")","v":""},{"$f":"IF(ISNUMBER(F1504),IF(AP1504<0.85,\"\",VLOOKUP(Q1504,E!A$2:X$23,VLOOKUP(F1504,ages!B$1:C$23,2,1),1)),\"\")","v":""},{"$f":"IF(ISNUMBER(F1504),IF(AQ1504<0.85,\"\",VLOOKUP(R1504,F!A$2:X$23,VLOOKUP(F1504,ages!B$1:C$23,2,1),1)),\"\")","v":""},{"$f":"IF(ISNUMBER(F1504),IF(AR1504<0.85,\"\",VLOOKUP(S1504,G!A$2:X$23,VLOOKUP(F1504,ages!B$1:C$23,2,1),1)),\"\")","v":""},{"$f":"IF(ISNUMBER(F1504),IF(AS1504<0.85,\"\",VLOOKUP(T1504,H!A$2:X$23,VLOOKUP(F1504,ages!B$1:C$23,2,1),1)),\"\")","v":""},{"$f":"IF(ISNUMBER(F1504),IF(AT1504<0.85,\"\",VLOOKUP(U1504,I!A$2:X$23,VLOOKUP(F1504,ages!B$1:C$23,2,1),1)),\"\")","v":""},{"$f":"IF(ISNUMBER(F1504),IF(AU1504<0.85,\"\",VLOOKUP(V1504,J!A$2:X$23,VLOOKUP(F1504,ages!B$1:C$23,2,1),1)),\"\")","v":""},"","","","",-1.0000000000000002E-6,0,0,0,0,0,0,0,0,0,0,0,null,null,null,null,null,null,null,null,null,null,null,null,null,null,null,null,null,null,null,null,null,null,null,null,null,null,null,null,null,null,null,null,null,null,null,null,null,null,null,null,null,null,null,null,null,null,null,null,null,null,null,null,null,null,null,null,null,null,null,null,null,null,null,null,null,null,null,null,null,null,-9.9999999999999995E-7,-9.9999999999999995E-7,-9.9999999999999995E-7,-9.9999999999999995E-7,-9.9999999999999995E-7,-9.9999999999999995E-7,-9.9999999999999995E-7,-9.9999999999999995E-7,-9.9999999999999995E-7,-9.9999999999999995E-7,-9.9999999999999995E-7,-9.9999999999999995E-7,-9.9999999999999995E-7,-9.9999999999999995E-7,-9.9999999999999995E-7,-9.9999999999999995E-7,-9.9999999999999995E-7,-9.9999999999999995E-7,-9.9999999999999995E-7,-9.9999999999999995E-7,{"$f":"IF(ISERROR(VLOOKUP(F1504,ages!B$1:B$23,1,1)),\"\",VLOOKUP(F1504,ages!B$1:B$23,1,1))","v":""},{"$f":"IF(ISERROR(VLOOKUP(F1504,ages!B$1:D$23,3,1)),\"\",VLOOKUP(F1504,ages!B$1:D$23,3,1))","v":""},0,0,0,0,0]
[null,null,null,null,null,"",null,null,null,null,null,null,"","","","","","","","","","",{"$f":"IF(ISNUMBER(F1505),IF(AL1505<0.85,\"\",VLOOKUP(M1505,A!A$2:X$23,VLOOKUP(F1505,ages!B$1:C$23,2,1),1)),\"\")","v":""},{"$f":"IF(ISNUMBER(F1505),IF(AM1505<0.85,\"\",VLOOKUP(N1505,B!A$2:X$23,VLOOKUP(F1505,ages!B$1:C$23,2,1),1)),\"\")","v":""},{"$f":"IF(ISNUMBER(F1505),IF(AN1505<0.85,\"\",VLOOKUP(O1505,'C'!A$2:X$23,VLOOKUP(F1505,ages!B$1:C$23,2,1),1)),\"\")","v":""},{"$f":"IF(ISNUMBER(F1505),IF(AO1505<0.85,\"\",VLOOKUP(P1505,D!A$2:X$23,VLOOKUP(F1505,ages!B$1:C$23,2,1),1)),\"\")","v":""},{"$f":"IF(ISNUMBER(F1505),IF(AP1505<0.85,\"\",VLOOKUP(Q1505,E!A$2:X$23,VLOOKUP(F1505,ages!B$1:C$23,2,1),1)),\"\")","v":""},{"$f":"IF(ISNUMBER(F1505),IF(AQ1505<0.85,\"\",VLOOKUP(R1505,F!A$2:X$23,VLOOKUP(F1505,ages!B$1:C$23,2,1),1)),\"\")","v":""},{"$f":"IF(ISNUMBER(F1505),IF(AR1505<0.85,\"\",VLOOKUP(S1505,G!A$2:X$23,VLOOKUP(F1505,ages!B$1:C$23,2,1),1)),\"\")","v":""},{"$f":"IF(ISNUMBER(F1505),IF(AS1505<0.85,\"\",VLOOKUP(T1505,H!A$2:X$23,VLOOKUP(F1505,ages!B$1:C$23,2,1),1)),\"\")","v":""},{"$f":"IF(ISNUMBER(F1505),IF(AT1505<0.85,\"\",VLOOKUP(U1505,I!A$2:X$23,VLOOKUP(F1505,ages!B$1:C$23,2,1),1)),\"\")","v":""},{"$f":"IF(ISNUMBER(F1505),IF(AU1505<0.85,\"\",VLOOKUP(V1505,J!A$2:X$23,VLOOKUP(F1505,ages!B$1:C$23,2,1),1)),\"\")","v":""},"","","","",-1.0000000000000002E-6,0,0,0,0,0,0,0,0,0,0,0,null,null,null,null,null,null,null,null,null,null,null,null,null,null,null,null,null,null,null,null,null,null,null,null,null,null,null,null,null,null,null,null,null,null,null,null,null,null,null,null,null,null,null,null,null,null,null,null,null,null,null,null,null,null,null,null,null,null,null,null,null,null,null,null,null,null,null,null,null,null,-9.9999999999999995E-7,-9.9999999999999995E-7,-9.9999999999999995E-7,-9.9999999999999995E-7,-9.9999999999999995E-7,-9.9999999999999995E-7,-9.9999999999999995E-7,-9.9999999999999995E-7,-9.9999999999999995E-7,-9.9999999999999995E-7,-9.9999999999999995E-7,-9.9999999999999995E-7,-9.9999999999999995E-7,-9.9999999999999995E-7,-9.9999999999999995E-7,-9.9999999999999995E-7,-9.9999999999999995E-7,-9.9999999999999995E-7,-9.9999999999999995E-7,-9.9999999999999995E-7,{"$f":"IF(ISERROR(VLOOKUP(F1505,ages!B$1:B$23,1,1)),\"\",VLOOKUP(F1505,ages!B$1:B$23,1,1))","v":""},{"$f":"IF(ISERROR(VLOOKUP(F1505,ages!B$1:D$23,3,1)),\"\",VLOOKUP(F1505,ages!B$1:D$23,3,1))","v":""},0,0,0,0,0]
[null,null,null,null,null,"",null,null,null,null,null,null,"","","","","","","","","","",{"$f":"IF(ISNUMBER(F1506),IF(AL1506<0.85,\"\",VLOOKUP(M1506,A!A$2:X$23,VLOOKUP(F1506,ages!B$1:C$23,2,1),1)),\"\")","v":""},{"$f":"IF(ISNUMBER(F1506),IF(AM1506<0.85,\"\",VLOOKUP(N1506,B!A$2:X$23,VLOOKUP(F1506,ages!B$1:C$23,2,1),1)),\"\")","v":""},{"$f":"IF(ISNUMBER(F1506),IF(AN1506<0.85,\"\",VLOOKUP(O1506,'C'!A$2:X$23,VLOOKUP(F1506,ages!B$1:C$23,2,1),1)),\"\")","v":""},{"$f":"IF(ISNUMBER(F1506),IF(AO1506<0.85,\"\",VLOOKUP(P1506,D!A$2:X$23,VLOOKUP(F1506,ages!B$1:C$23,2,1),1)),\"\")","v":""},{"$f":"IF(ISNUMBER(F1506),IF(AP1506<0.85,\"\",VLOOKUP(Q1506,E!A$2:X$23,VLOOKUP(F1506,ages!B$1:C$23,2,1),1)),\"\")","v":""},{"$f":"IF(ISNUMBER(F1506),IF(AQ1506<0.85,\"\",VLOOKUP(R1506,F!A$2:X$23,VLOOKUP(F1506,ages!B$1:C$23,2,1),1)),\"\")","v":""},{"$f":"IF(ISNUMBER(F1506),IF(AR1506<0.85,\"\",VLOOKUP(S1506,G!A$2:X$23,VLOOKUP(F1506,ages!B$1:C$23,2,1),1)),\"\")","v":""},{"$f":"IF(ISNUMBER(F1506),IF(AS1506<0.85,\"\",VLOOKUP(T1506,H!A$2:X$23,VLOOKUP(F1506,ages!B$1:C$23,2,1),1)),\"\")","v":""},{"$f":"IF(ISNUMBER(F1506),IF(AT1506<0.85,\"\",VLOOKUP(U1506,I!A$2:X$23,VLOOKUP(F1506,ages!B$1:C$23,2,1),1)),\"\")","v":""},{"$f":"IF(ISNUMBER(F1506),IF(AU1506<0.85,\"\",VLOOKUP(V1506,J!A$2:X$23,VLOOKUP(F1506,ages!B$1:C$23,2,1),1)),\"\")","v":""},"","","","",-1.0000000000000002E-6,0,0,0,0,0,0,0,0,0,0,0,null,null,null,null,null,null,null,null,null,null,null,null,null,null,null,null,null,null,null,null,null,null,null,null,null,null,null,null,null,null,null,null,null,null,null,null,null,null,null,null,null,null,null,null,null,null,null,null,null,null,null,null,null,null,null,null,null,null,null,null,null,null,null,null,null,null,null,null,null,null,-9.9999999999999995E-7,-9.9999999999999995E-7,-9.9999999999999995E-7,-9.9999999999999995E-7,-9.9999999999999995E-7,-9.9999999999999995E-7,-9.9999999999999995E-7,-9.9999999999999995E-7,-9.9999999999999995E-7,-9.9999999999999995E-7,-9.9999999999999995E-7,-9.9999999999999995E-7,-9.9999999999999995E-7,-9.9999999999999995E-7,-9.9999999999999995E-7,-9.9999999999999995E-7,-9.9999999999999995E-7,-9.9999999999999995E-7,-9.9999999999999995E-7,-9.9999999999999995E-7,{"$f":"IF(ISERROR(VLOOKUP(F1506,ages!B$1:B$23,1,1)),\"\",VLOOKUP(F1506,ages!B$1:B$23,1,1))","v":""},{"$f":"IF(ISERROR(VLOOKUP(F1506,ages!B$1:D$23,3,1)),\"\",VLOOKUP(F1506,ages!B$1:D$23,3,1))","v":""},0,0,0,0,0]
[null,null,null,null,null,"",null,null,null,null,null,null,"","","","","","","","","","",{"$f":"IF(ISNUMBER(F1507),IF(AL1507<0.85,\"\",VLOOKUP(M1507,A!A$2:X$23,VLOOKUP(F1507,ages!B$1:C$23,2,1),1)),\"\")","v":""},{"$f":"IF(ISNUMBER(F1507),IF(AM1507<0.85,\"\",VLOOKUP(N1507,B!A$2:X$23,VLOOKUP(F1507,ages!B$1:C$23,2,1),1)),\"\")","v":""},{"$f":"IF(ISNUMBER(F1507),IF(AN1507<0.85,\"\",VLOOKUP(O1507,'C'!A$2:X$23,VLOOKUP(F1507,ages!B$1:C$23,2,1),1)),\"\")","v":""},{"$f":"IF(ISNUMBER(F1507),IF(AO1507<0.85,\"\",VLOOKUP(P1507,D!A$2:X$23,VLOOKUP(F1507,ages!B$1:C$23,2,1),1)),\"\")","v":""},{"$f":"IF(ISNUMBER(F1507),IF(AP1507<0.85,\"\",VLOOKUP(Q1507,E!A$2:X$23,VLOOKUP(F1507,ages!B$1:C$23,2,1),1)),\"\")","v":""},{"$f":"IF(ISNUMBER(F1507),IF(AQ1507<0.85,\"\",VLOOKUP(R1507,F!A$2:X$23,VLOOKUP(F1507,ages!B$1:C$23,2,1),1)),\"\")","v":""},{"$f":"IF(ISNUMBER(F1507),IF(AR1507<0.85,\"\",VLOOKUP(S1507,G!A$2:X$23,VLOOKUP(F1507,ages!B$1:C$23,2,1),1)),\"\")","v":""},{"$f":"IF(ISNUMBER(F1507),IF(AS1507<0.85,\"\",VLOOKUP(T1507,H!A$2:X$23,VLOOKUP(F1507,ages!B$1:C$23,2,1),1)),\"\")","v":""},{"$f":"IF(ISNUMBER(F1507),IF(AT1507<0.85,\"\",VLOOKUP(U1507,I!A$2:X$23,VLOOKUP(F1507,ages!B$1:C$23,2,1),1)),\"\")","v":""},{"$f":"IF(ISNUMBER(F1507),IF(AU1507<0.85,\"\",VLOOKUP(V1507,J!A$2:X$23,VLOOKUP(F1507,ages!B$1:C$23,2,1),1)),\"\")","v":""},"","","","",-1.0000000000000002E-6,0,0,0,0,0,0,0,0,0,0,0,null,null,null,null,null,null,null,null,null,null,null,null,null,null,null,null,null,null,null,null,null,null,null,null,null,null,null,null,null,null,null,null,null,null,null,null,null,null,null,null,null,null,null,null,null,null,null,null,null,null,null,null,null,null,null,null,null,null,null,null,null,null,null,null,null,null,null,null,null,null,-9.9999999999999995E-7,-9.9999999999999995E-7,-9.9999999999999995E-7,-9.9999999999999995E-7,-9.9999999999999995E-7,-9.9999999999999995E-7,-9.9999999999999995E-7,-9.9999999999999995E-7,-9.9999999999999995E-7,-9.9999999999999995E-7,-9.9999999999999995E-7,-9.9999999999999995E-7,-9.9999999999999995E-7,-9.9999999999999995E-7,-9.9999999999999995E-7,-9.9999999999999995E-7,-9.9999999999999995E-7,-9.9999999999999995E-7,-9.9999999999999995E-7,-9.9999999999999995E-7,{"$f":"IF(ISERROR(VLOOKUP(F1507,ages!B$1:B$23,1,1)),\"\",VLOOKUP(F1507,ages!B$1:B$23,1,1))","v":""},{"$f":"IF(ISERROR(VLOOKUP(F1507,ages!B$1:D$23,3,1)),\"\",VLOOKUP(F1507,ages!B$1:D$23,3,1))","v":""},0,0,0,0,0]

{"sheet":"resultatsammenstilling","index":3,"n_rows":35,"n_cols":5,"rows_kept":35,"cut":false,"hidden":false,"merged":[[0,1,0,4]]}
[null,"Children's Communication Checklist, Second Edition:\nResultatsammenstilling"]
[null,"Navn/ID-kode:","navn/kode"]
[null,"Kjønn:","gutt"]
[null,"Gruppe/Diagnose:","ADHD"]
[null,"Fødselsdato:","1997-06-26"]
[null,"Dato for utfylling av CCC-2:","2010-10-30",null,"Normgruppe"]
[null,"Alder (måneder):",160,{"$f":"\"(\"&ROUNDDOWN(C7/12,0)&\" år \"&ROUNDDOWN(MOD(C7,12),0)&\" mnd)\"","v":"(13 år 4 mnd)"},"13:0 - 13:11"]
[null,"Respondent:","mor"]
[null,"Skala","Råskåre","Skalert skåre","Persentil"]
[null,"A. Tale",2,6,{"$f":"IF(D10=\"\",\"\",VLOOKUP($D10,percentiles!$A$3:$K$22,2,0))","v":11}]
[null,"B. Syntaks",1,7,{"$f":"IF(D11=\"\",\"\",VLOOKUP($D11,percentiles!$A$3:$K$22,3,0))","v":22}]
[null,"C. Semantikk",4,5,{"$f":"IF(D12=\"\",\"\",VLOOKUP($D12,percentiles!$A$3:$K$22,4,0))","v":13}]
[null,"D. Sammenheng",2,7,{"$f":"IF(D13=\"\",\"\",VLOOKUP($D13,percentiles!$A$3:$K$22,5,0))","v":25}]
[null,"E. Samtaleinitiativ",1,11,{"$f":"IF(D14=\"\",\"\",VLOOKUP($D14,percentiles!$A$3:$K$22,6,0))","v":66}]
[null,"F. Stereotypiskt språk",2,6,{"$f":"IF(D15=\"\",\"\",VLOOKUP($D15,percentiles!$A$3:$K$22,7,0))","v":14}]
[null,"G. Bruk av kontekst",4,4,{"$f":"IF(D16=\"\",\"\",VLOOKUP($D16,percentiles!$A$3:$K$22,8,0))","v":7}]
[null,"H. Ikke-verbal kommunikasjon",4,6,{"$f":"IF(D17=\"\",\"\",VLOOKUP($D17,percentiles!$A$3:$K$22,9,0))","v":11}]
[null,"I. Sosiale relasjoner",1,9,{"$f":"IF(D18=\"\",\"\",VLOOKUP($D18,percentiles!$A$3:$K$22,10,0))","v":41}]
[null,"J. Intresser",5,5,{"$f":"IF(D19=\"\",\"\",VLOOKUP($D19,percentiles!$A$3:$K$22,11,0))","v":10}]
[null,"Generell kommunikasjonsindeks - GKI1",null,52,{"$f":"IF(D20=\"\",\"\",VLOOKUP($D$20,percentiles!P2:Q61,2,1))","v":8}]
[null,"Indeks for avvik i sosial interaksjon - IASI2",null,6]
[null,"Samsvarssjekk3",null,1]
[]
[null,"Merk:"]
[null,"En høy skalert skåre eller persentil indikerer språklige styrker."]
[null,"1. GKI er summen av de skalerte skårene på skala A til H, og er en indeks for "]
[null,"generelle språklige ferdigheter."]
[null,"2. En negativ verdi på IASI, i kombinasjon med en GKI-skåre på under 55,"]
[null,"indikerer en kommunikasjonsprofil som tyder på en autismespekterforstyrrelse."]
[null,"En IASI på -15 eller lavere er uvanlig, til og med for et barn med en "]
[null,"GKI-skåre i normalområdet."]
[null,"En IASI på 9 eller mer for et barn med en GKI-skåre under 55 indikerer en "]
[null,"kommunikasjonsprofil som kjennetegner spesifikke språkforstyrrelser."]
[null,"3. Dersom samsvarssjekken er lik 0, indikerer dette at CCC-2-besvarelsen ikke"]
[null,"er valid."]

{"sheet":"export","index":4,"n_rows":0,"n_cols":0,"rows_kept":0,"cut":false,"hidden":true,"merged":[]}

{"sheet":"percentiles","index":5,"n_rows":61,"n_cols":17,"rows_kept":61,"cut":false,"hidden":true,"merged":[]}
["updated 2011-09-30; based on norms from Norwegian sample","A: speech","B: syntax","C: semantics","D: coherence","E: inappropriate \ninitiation","F: stereotyped \nconversation","G: use of \ncontext","H: nonverbal \ncommunication","I: social\nrelationships","J: interests",null,null,null,"pragmatic composite","GCC","Cumulative Percent"]
["scaled score","A","B","C","D","E","F","G","H","I","J",null,null,null,null,0,"<1"]
[0,"<1","<1","<1","<1","<1","<1","<1","<1","<1","<1",null,null,null,null,30,1]
[1,"<1",1,1,1,"<1","<1",1,"<1","<1","<1",null,null,null,null,35,2]
[2,1,2,2,2,"<1",1,2,"<1",1,1,null,null,null,null,39,3]
[3,2,4,4,3,1,3,3,1,2,3,null,null,null,null,43,4]
[4,4,6,8,5,3,5,7,2,4,6,null,null,null,null,46,5]
[5,6,8,13,10,8,9,10,4,8,10,null,null,null,null,47,6]
[6,11,14,21,16,15,14,15,11,14,17,null,null,null,null,48,7]
[7,14,22,29,25,23,16,22,21,21,26,null,null,null,null,51,8]
[8,22,28,37,33,33,24,33,29,28,38,null,null,null,null,53,9]
[9,35,38,45,44,46,32,40,40,41,46,null,null,null,null,55,10]
[10,49,49,53,51,58,43,52,51,49,55,null,null,null,null,56,11]
[11,62,59,65,71,66,62,59,60,59,68,null,null,null,null,58,12]
[12,">99",">99",76,84,78,70,65,79,68,79.719188767550705,null,null,null,null,59,13]
[13,">99",">99",83,95,85,95,72,">99",">99",85,null,null,null,null,60,14]
[14,">99",">99",91,">99",93,">99",88,">99",">99",97,null,null,null,null,61,15]
[15,">99",">99",">99",">99",96,">99",97,">99",">99",">99",null,null,null,null,62,16]
[16,">99",">99",">99",">99",">99",">99",">99",">99",">99",">99",null,null,null,null,64,17]
[17,">99",">99",">99",">99",">99",">99",">99",">99",">99",">99",null,null,null,null,65,18]
[18,">99",">99",">99",">99",">99",">99",">99",">99",">99",">99",null,null,null,null,66,19]
[19,">99",">99",">99",">99",">99",">99",">99",">99",">99",">99",null,null,null,null,67,21]
[null,null,null,null,null,null,null,null,null,null,null,null,null,null,null,68,22]
[null,null,null,null,null,null,null,null,null,null,null,null,null,null,null,69,23]
["cumlative percentages",null,null,null,null,null,null,null,null,null,null,null,null,null,null,70,25]
[null,null,null,null,null,null,null,null,null,null,null,null,null,null,null,71,27]
[null,null,null,null,null,null,null,null,null,null,null,null,null,null,null,72,28]
[null,null,null,null,null,null,null,null,null,null,null,null,null,null,null,73,30]
[null,null,null,null,null,null,null,null,null,null,null,null,null,null,null,74,32]
[null,null,null,null,null,null,null,null,null,null,null,null,null,null,null,75,33]
[null,null,null,null,null,null,null,null,null,null,null,null,null,null,null,76,36]
[null,null,null,null,null,null,null,null,null,null,null,null,null,null,null,77,38]
[null,null,null,null,null,null,null,null,null,null,null,null,null,null,null,78,41]
[null,null,null,null,null,null,null,null,null,null,null,null,null,null,null,79,43]
[null,null,null,null,null,null,null,null,null,null,null,null,null,null,null,80,45]
[null,null,null,null,null,null,null,null,null,null,null,null,null,null,null,81,47]
[null,null,null,null,null,null,null,null,null,null,null,null,null,null,null,82,49]
[null,null,null,null,null,null,null,null,null,null,null,null,null,null,null,82.5,50]
[null,null,null,null,null,null,null,null,null,null,null,null,null,null,null,83,51]
[null,null,null,null,null,null,null,null,null,null,null,null,null,null,null,84,54]
[null,null,null,null,null,null,null,null,null,null,null,null,null,null,null,85,56]
[null,null,null,null,null,null,null,null,null,null,null,null,null,null,null,86,59]
[null,null,null,null,null,null,null,null,null,null,null,null,null,null,null,87,62]
[null,null,null,null,null,null,null,null,null,null,null,null,null,null,null,88,64]
[null,null,null,null,null,null,null,null,null,null,null,null,null,null,null,89,66]
[null,null,null,null,null,null,null,null,null,null,null,null,null,null,null,90,69]
[null,null,null,null,null,null,null,null,null,null,null,null,null,null,null,91,71]
[null,null,null,null,null,null,null,null,null,null,null,null,null,null,null,92,74]
[null,null,null,null,null,null,null,null,null,null,null,null,null,null,null,93,77]
[null,null,null,null,null,null,null,null,null,null,null,null,null,null,null,94,78]
[null,null,null,null,null,null,null,null,null,null,null,null,null,null,null,95,80]
[null,null,null,null,null,null,null,null,null,null,null,null,null,null,null,96,83]
[null,null,null,null,null,null,null,null,null,null,null,null,null,null,null,97,85]
[null,null,null,null,null,null,null,null,null,null,null,null,null,null,null,98,88]
[null,null,null,null,null,null,null,null,null,null,null,null,null,null,null,99,90]
[null,null,null,null,null,null,null,null,null,null,null,null,null,null,null,100,94]
[null,null,null,null,null,null,null,null,null,null,null,null,null,null,null,101,95]
[null,null,null,null,null,null,null,null,null,null,null,null,null,null,null,103,96]
[null,null,null,null,null,null,null,null,null,null,null,null,null,null,null,106,99]
[null,null,null,null,null,null,null,null,null,null,null,null,null,null,null,107,">99"]
[null,null,null,null,null,null,null,null,null,null,null,null,null,null,null,130,">99"]

{"sheet":"A","index":6,"n_rows":24,"n_cols":24,"rows_kept":24,"cut":false,"hidden":true,"merged":[]}
[null,4,4.25,4.5,4.75,5,5.25,5.5,5.75,6,6.25,6.5,6.75,7,7.5,8,9,10,11,12,13,14,15,16]
[0,12,12,12,12,12,12,12,12,12,12,12,12,12,12,11,11,11,11,11,11,10,10,9]
[1,10,10,10,9,9,9,9,9,9,9,9,9,9,8,8,8,7,7,6,6,6,5,5]
[2,8,7,7,7,7,7,7,7,7,7,7,7,7,7,6,6,6,6,6,6,5,5,5]
[3,7,7,6,6,6,6,6,6,6,6,6,5,5,5,5,5,4,4,3,3,3,2,2]
[4,6,6,5,5,5,5,5,5,5,5,5,5,5,4,4,4,3,3,2,2,2,2,1]
[5,5,5,4,4,4,4,4,4,4,4,4,4,4,4,3,3,3,3,2,2,2,2,1]
[6,4,4,4,4,4,4,4,4,4,4,4,3,3,3,3,2,2,2,1,1,1,1,0]
[7,4,4,3,3,3,3,3,3,3,3,3,3,3,3,2,2,2,2,1,1,0,0,0]
[8,3,3,3,3,2,2,2,3,3,3,3,2,2,2,2,2,1,1,0,0,0,0,0]
[9,3,2,2,2,2,2,2,2,2,2,2,2,2,2,1,1,0,0,0,0,0,0,0]
[10,2,2,2,2,2,2,2,2,2,2,2,2,2,1,1,1,0,0,0,0,0,0,0]
[11,2,2,2,2,2,2,2,2,2,2,2,2,1,1,0,0,0,0,0,0,0,0,0]
[12,2,2,2,2,1,1,1,1,1,1,1,1,0,0,0,0,0,0,0,0,0,0,0]
[13,2,1,1,1,1,1,1,1,0,0,0,0,0,0,0,0,0,0,0,0,0,0,0]
[14,1,1,1,1,0,0,0,0,0,0,0,0,0,0,0,0,0,0,0,0,0,0,0]
[15,1,1,1,0,0,0,0,0,0,0,0,0,0,0,0,0,0,0,0,0,0,0,0]
[16,1,0,0,0,0,0,0,0,0,0,0,0,0,0,0,0,0,0,0,0,0,0,0]
[17,0,0,0,0,0,0,0,0,0,0,0,0,0,0,0,0,0,0,0,0,0,0,0]
[18,0,0,0,0,0,0,0,0,0,0,0,0,0,0,0,0,0,0,0,0,0,0,0]
[19,0,0,0,0,0,0,0,0,0,0,0,0,0,0,0,0,0,0,0,0,0,0,0]
[20,0,0,0,0,0,0,0,0,0,0,0,0,0,0,0,0,0,0,0,0,0,0,0]
[21,0,0,0,0,0,0,0,0,0,0,0,0,0,0,0,0,0,0,0,0,0,0,0]
["Skala A: Normer"]

{"sheet":"B","index":7,"n_rows":24,"n_cols":24,"rows_kept":24,"cut":false,"hidden":true,"merged":[]}
[null,4,4.25,4.5,4.75,5,5.25,5.5,5.75,6,6.25,6.5,6.75,7,7.5,8,9,10,11,12,13,14,15,16]
[0,12,12,12,12,12,12,12,12,12,12,12,12,11,11,11,11,11,11,11,11,10,10,10]
[1,9,9,9,8,8,8,8,8,8,8,8,8,8,8,8,8,8,8,8,7,7,7,7]
[2,7,7,7,6,6,6,6,6,6,6,6,6,6,6,6,6,6,6,6,6,5,5,5]
[3,5,5,5,5,5,5,5,5,5,5,5,5,5,5,5,4,4,4,4,4,4,3,3]
[4,5,5,4,4,4,4,4,4,4,4,4,4,4,4,4,3,3,3,3,3,2,2,2]
[5,4,4,4,4,4,4,3,3,3,3,3,3,3,3,3,3,2,2,2,2,1,1,1]
[6,4,4,3,3,3,3,3,3,3,3,3,3,2,2,2,2,2,2,2,2,1,1,1]
[7,3,3,3,3,3,3,2,2,2,2,2,2,2,2,2,1,1,1,1,1,0,0,0]
[8,3,3,2,2,2,2,2,2,2,2,2,2,1,1,1,0,0,0,0,0,0,0,0]
[9,2,2,2,2,2,2,1,1,1,1,1,1,1,1,0,0,0,0,0,0,0,0,0]
[10,2,2,1,1,1,1,1,1,1,1,1,1,0,0,0,0,0,0,0,0,0,0,0]
[11,1,1,1,1,1,1,0,0,0,0,0,0,0,0,0,0,0,0,0,0,0,0,0]
[12,1,1,0,0,0,0,0,0,0,0,0,0,0,0,0,0,0,0,0,0,0,0,0]
[13,0,0,0,0,0,0,0,0,0,0,0,0,0,0,0,0,0,0,0,0,0,0,0]
[14,0,0,0,0,0,0,0,0,0,0,0,0,0,0,0,0,0,0,0,0,0,0,0]
[15,0,0,0,0,0,0,0,0,0,0,0,0,0,0,0,0,0,0,0,0,0,0,0]
[16,0,0,0,0,0,0,0,0,0,0,0,0,0,0,0,0,0,0,0,0,0,0,0]
[17,0,0,0,0,0,0,0,0,0,0,0,0,0,0,0,0,0,0,0,0,0,0,0]
[18,0,0,0,0,0,0,0,0,0,0,0,0,0,0,0,0,0,0,0,0,0,0,0]
[19,0,0,0,0,0,0,0,0,0,0,0,0,0,0,0,0,0,0,0,0,0,0,0]
[20,0,0,0,0,0,0,0,0,0,0,0,0,0,0,0,0,0,0,0,0,0,0,0]
[21,0,0,0,0,0,0,0,0,0,0,0,0,0,0,0,0,0,0,0,0,0,0,0]
["Skala B: Normer"]

{"sheet":"C","index":8,"n_rows":24,"n_cols":24,"rows_kept":24,"cut":false,"hidden":true,"merged":[]}
[null,4,4.25,4.5,4.75,5,5.25,5.5,5.75,6,6.25,6.5,6.75,7,7.5,8,9,10,11,12,13,14,15,16]
[0,15,15,15,15,15,15,15,15,15,15,15,15,15,15,14,14,14,13,13,13,12,12,11]
[1,14,14,14,13,13,13,13,13,13,13,12,12,12,12,12,11,10,9,9,8,8,7,7]
[2,12,12,11,11,11,11,11,11,11,11,11,11,11,10,10,9,9,9,8,8,8,7,7]
[3,10,10,10,9,9,9,9,9,9,9,9,8,8,8,8,7,7,7,6,6,6,5,5]
[4,9,9,8,8,8,8,8,8,8,8,8,7,7,7,7,6,6,6,5,5,5,4,4]
[5,8,8,7,7,7,7,7,7,7,7,7,6,6,6,6,6,5,5,4,4,4,3,3]
[6,7,7,6,6,6,6,6,6,6,6,6,6,6,5,5,5,4,4,3,3,3,2,2]
[7,6,5,5,5,5,5,5,5,5,5,5,5,5,5,5,4,4,4,3,3,3,2,2]
[8,5,4,4,4,4,4,4,4,4,4,4,4,4,4,4,4,3,3,2,2,2,1,1]
[9,4,4,4,4,4,4,4,4,4,4,4,4,4,4,4,3,3,3,2,2,1,1,1]
[10,4,4,4,4,4,4,4,4,4,4,4,4,4,3,3,3,2,2,1,1,1,0,0]
[11,3,3,3,3,3,3,3,3,3,3,3,3,3,3,3,2,2,1,1,0,0,0,0]
[12,3,3,3,3,3,3,3,3,3,3,3,3,3,2,2,2,1,1,0,0,0,0,0]
[13,3,3,3,3,3,3,3,3,3,3,2,2,2,2,2,1,0,0,0,0,0,0,0]
[14,3,3,2,2,2,2,2,2,2,2,2,2,2,1,2,1,0,0,0,0,0,0,0]
[15,3,2,2,2,2,2,2,2,2,2,2,2,2,1,1,0,0,0,0,0,0,0,0]
[16,2,2,2,2,2,2,2,2,2,2,2,1,1,1,0,0,0,0,0,0,0,0,0]
[17,2,1,1,1,1,1,1,1,1,1,1,1,0,0,0,0,0,0,0,0,0,0,0]
[18,1,1,1,1,1,1,1,1,1,1,1,0,0,0,0,0,0,0,0,0,0,0,0]
[19,1,1,1,1,0,0,0,0,0,0,0,0,0,0,0,0,0,0,0,0,0,0,0]
[20,1,1,1,0,0,0,0,0,0,0,0,0,0,0,0,0,0,0,0,0,0,0,0]
[21,1,0,0,0,0,0,0,0,0,0,0,0,0,0,0,0,0,0,0,0,0,0,0]
["Skala C: Normer"]

{"sheet":"D","index":9,"n_rows":24,"n_cols":24,"rows_kept":24,"cut":false,"hidden":true,"merged":[]}
[null,4,4.25,4.5,4.75,5,5.25,5.5,5.75,6,6.25,6.5,6.75,7,7.5,8,9,10,11,12,13,14,15,16]
[0,14,14,14,14,14,14,14,14,14,14,14,14,14,14,13,13,13,13,13,13,12,12,12]
[1,12,11,11,11,11,11,11,11,11,11,11,11,11,11,10,10,10,10,10,10,9,9,9]
[2,9,8,8,8,8,8,8,8,8,8,8,8,8,8,8,7,7,7,7,7,6,6,6]
[3,8,7,7,7,7,7,7,7,7,7,7,7,7,7,7,6,6,6,6,6,5,5,5]
[4,7,7,6,6,6,6,6,6,6,6,6,6,6,6,6,5,5,5,5,4,4,4,4]
[5,7,6,6,6,6,6,6,6,6,6,6,5,5,5,5,5,4,4,3,3,3,3,3]
[6,6,6,5,5,5,5,5,5,5,5,5,5,5,5,4,4,4,4,3,3,3,3,2]
[7,6,5,5,5,5,5,5,5,5,5,5,4,4,4,4,3,3,3,2,2,2,2,2]
[8,5,5,4,4,4,4,4,4,4,4,4,4,4,4,3,3,3,3,2,2,2,2,1]
[9,5,5,4,4,4,4,4,4,4,4,4,3,3,3,3,3,2,2,2,2,2,2,1]
[10,4,4,3,3,3,3,3,3,3,3,3,3,3,3,2,2,2,2,1,1,1,1,1]
[11,4,4,3,3,3,3,3,3,3,3,3,3,2,2,2,2,2,2,1,1,1,1,0]
[12,4,3,3,2,2,2,2,2,2,2,2,2,2,2,2,2,1,1,1,1,1,0,0]
[13,3,3,2,2,2,2,2,2,2,2,2,2,2,2,2,1,1,1,1,1,0,0,0]
[14,3,2,2,2,2,2,2,2,2,2,2,2,1,1,1,1,1,1,1,0,0,0,0]
[15,2,2,2,1,1,1,1,1,1,1,1,1,1,1,1,1,0,0,0,0,0,0,0]
[16,2,2,1,1,1,1,1,1,1,1,1,1,1,1,1,0,0,0,0,0,0,0,0]
[17,2,1,1,1,1,1,1,1,1,1,1,1,1,1,0,0,0,0,0,0,0,0,0]
[18,1,1,1,1,1,1,1,1,1,1,1,1,0,0,0,0,0,0,0,0,0,0,0]
[19,1,1,1,0,0,0,0,0,0,0,0,0,0,0,0,0,0,0,0,0,0,0,0]
[20,1,1,0,0,0,0,0,0,0,0,0,0,0,0,0,0,0,0,0,0,0,0,0]
[21,1,0,0,0,0,0,0,0,0,0,0,0,0,0,0,0,0,0,0,0,0,0,0]
["Skala D: Normer"]

{"sheet":"E","index":10,"n_rows":24,"n_cols":24,"rows_kept":24,"cut":false,"hidden":true,"merged":[]}
[null,4,4.25,4.5,4.75,5,5.25,5.5,5.75,6,6.25,6.5,6.75,7,7.5,8,9,10,11,12,13,14,15,16]
[0,16,16,15,15,15,15,15,15,15,15,15,15,15,15,14,14,13,13,13,13,12,12,11]
[1,13,13,12,12,12,12,12,12,12,12,12,12,12,12,12,11,11,11,11,11,11,11,10]
[2,12,12,11,11,11,11,11,11,11,11,11,10,10,10,10,9,9,9,9,9,8,8,7]
[3,11,11,10,10,10,10,10,10,10,10,10,9,9,9,9,8,8,8,7,7,7,6,6]
[4,10,10,9,9,9,9,9,9,9,9,9,8,8,8,8,7,7,7,6,6,6,5,5]
[5,9,8,8,8,8,8,8,8,8,8,8,7,7,7,7,6,6,6,5,5,5,4,4]
[6,8,8,7,7,7,7,7,7,7,7,7,7,7,6,6,6,5,5,4,4,4,3,3]
[7,8,7,7,7,7,7,7,7,7,7,7,6,6,6,6,5,5,5,4,4,4,3,3]
[8,7,7,6,6,6,6,6,6,6,6,6,6,6,5,5,5,4,4,3,3,3,2,2]
[9,7,7,6,6,6,6,6,6,6,6,6,5,5,5,5,4,4,4,3,3,3,2,2]
[10,7,6,6,6,6,6,6,6,6,6,5,5,5,5,4,4,4,4,3,3,3,2,2]
[11,6,6,5,5,5,5,5,5,5,5,5,5,5,4,4,4,3,3,2,2,2,1,1]
[12,6,6,5,5,5,5,5,5,5,5,5,4,4,4,4,3,3,3,2,2,2,1,1]
[13,6,6,5,5,5,5,5,5,5,5,5,4,4,4,4,3,3,3,2,2,2,1,1]
[14,6,5,5,5,5,5,5,5,5,5,4,4,4,4,3,3,3,3,2,2,2,1,1]
[15,5,5,4,4,4,4,4,4,4,4,4,4,4,3,3,3,2,2,1,1,1,1,0]
[16,5,5,4,4,4,4,4,4,4,4,4,4,4,3,3,2,2,1,1,1,1,0,0]
[17,5,4,4,4,4,4,4,4,4,4,4,3,3,3,2,2,2,1,1,1,0,0,0]
[18,5,4,4,4,4,4,4,4,4,4,3,3,3,3,2,2,1,1,1,0,0,0,0]
[19,4,4,4,3,3,3,3,3,3,3,3,3,3,2,2,1,1,1,0,0,0,0,0]
[20,4,4,3,3,3,3,3,3,3,3,3,2,2,2,1,1,1,1,0,0,0,0,0]
[21,4,3,3,3,3,3,3,3,3,3,2,2,2,2,1,1,1,0,0,0,0,0,0]
["Skala E: Normer"]

{"sheet":"F","index":11,"n_rows":24,"n_cols":24,"rows_kept":24,"cut":false,"hidden":true,"merged":[]}
[null,4,4.25,4.5,4.75,5,5.25,5.5,5.75,6,6.25,6.5,6.75,7,7.5,8,9,10,11,12,13,14,15,16]
[0,14,14,13,13,13,13,13,13,13,13,13,13,13,12,12,11,11,11,11,11,11,10,10]
[1,11,11,10,10,10,10,10,10,10,10,10,10,10,9,9,8,8,8,8,8,8,7,7]
[2,9,9,8,8,8,8,8,8,8,8,8,8,8,7,7,6,6,6,6,6,6,5,5]
[3,7,7,6,6,6,6,6,6,6,6,6,6,6,6,5,5,5,5,5,5,4,4,4]
[4,6,6,5,5,5,5,5,5,5,5,5,5,5,5,4,4,4,4,4,4,3,3,3]
[5,6,6,5,5,5,5,5,5,5,5,5,4,4,4,3,3,3,3,2,2,2,2,2]
[6,5,5,5,4,4,4,4,4,4,4,4,4,4,4,3,3,3,3,2,2,2,2,2]
[7,5,5,4,4,4,4,4,4,4,4,4,3,3,3,3,2,2,2,2,1,1,1,1]
[8,4,4,4,3,3,3,3,3,3,3,3,3,3,3,2,2,2,2,2,1,1,1,1]
[9,4,4,4,3,3,3,3,3,3,3,3,2,2,2,2,2,2,2,2,1,1,1,1]
[10,4,4,3,3,3,3,3,3,3,3,2,2,2,2,2,1,1,1,1,0,0,0,0]
[11,3,3,3,2,2,2,2,2,2,2,2,2,2,2,1,1,1,1,1,0,0,0,0]
[12,3,3,3,2,2,2,2,2,2,2,2,1,1,1,1,1,1,1,1,0,0,0,0]
[13,3,3,2,2,2,2,2,2,2,2,1,1,1,1,1,1,0,0,0,0,0,0,0]
[14,2,2,2,1,1,1,1,1,1,1,1,1,1,1,0,0,0,0,0,0,0,0,0]
[15,2,2,1,1,1,1,1,1,1,1,1,1,0,0,0,0,0,0,0,0,0,0,0]
[16,2,2,1,1,1,1,1,1,0,0,0,0,0,0,0,0,0,0,0,0,0,0,0]
[17,2,1,1,1,1,1,1,0,0,0,0,0,0,0,0,0,0,0,0,0,0,0,0]
[18,2,1,1,1,1,1,0,0,0,0,0,0,0,0,0,0,0,0,0,0,0,0,0]
[19,1,1,1,1,1,0,0,0,0,0,0,0,0,0,0,0,0,0,0,0,0,0,0]
[20,1,1,1,1,0,0,0,0,0,0,0,0,0,0,0,0,0,0,0,0,0,0,0]
[21,1,1,0,0,0,0,0,0,0,0,0,0,0,0,0,0,0,0,0,0,0,0,0]
["Skala F: Normer"]

{"sheet":"G","index":12,"n_rows":24,"n_cols":24,"rows_kept":24,"cut":false,"hidden":true,"merged":[]}
[null,4,4.25,4.5,4.75,5,5.25,5.5,5.75,6,6.25,6.5,6.75,7,7.5,8,9,10,11,12,13,14,15,16]
[0,16,16,16,15,15,15,15,15,15,15,14,14,14,14,13,13,12,12,11,11,11,11,10]
[1,12,12,11,11,11,11,11,11,11,11,11,11,11,10,10,10,9,9,8,8,8,8,8]
[2,10,10,9,9,9,9,9,9,9,9,9,9,9,8,8,8,7,7,7,7,7,6,6]
[3,9,9,8,8,8,8,8,8,8,8,8,8,8,7,7,6,6,6,5,5,5,4,4]
[4,8,8,8,7,7,7,7,7,7,7,7,7,7,6,6,5,5,5,4,4,4,3,3]
[5,7,7,7,6,6,6,6,6,6,6,6,6,6,5,5,5,4,4,3,3,3,2,2]
[6,7,7,6,6,6,6,6,6,6,6,6,5,5,5,4,4,4,4,3,3,3,2,1]
[7,6,6,6,5,5,5,5,5,5,5,5,4,4,4,4,3,3,3,2,2,2,1,1]
[8,6,6,5,5,5,4,4,4,4,4,4,4,4,4,3,3,3,3,2,2,2,1,0]
[9,5,5,5,4,4,4,4,4,4,4,4,4,4,3,3,2,2,2,1,1,1,0,0]
[10,4,4,4,3,3,3,3,3,3,3,3,3,3,3,2,2,2,1,1,1,0,0,0]
[11,4,4,4,3,3,3,3,3,3,3,3,3,3,2,2,2,1,1,0,0,0,0,0]
[12,4,4,4,3,3,3,3,3,3,3,3,2,2,2,2,1,1,0,0,0,0,0,0]
[13,4,3,3,3,3,2,2,2,2,2,2,2,2,1,2,1,0,0,0,0,0,0,0]
[14,3,3,3,3,2,2,2,2,2,2,2,2,2,1,1,1,0,0,0,0,0,0,0]
[15,3,3,3,3,2,2,2,2,2,2,2,1,1,1,1,0,0,0,0,0,0,0,0]
[16,3,2,2,2,2,2,2,2,2,2,1,1,1,1,0,0,0,0,0,0,0,0,0]
[17,3,2,2,2,1,1,1,1,1,1,1,1,1,0,0,0,0,0,0,0,0,0,0]
[18,3,2,1,1,1,1,1,1,1,1,1,1,1,0,0,0,0,0,0,0,0,0,0]
[19,2,2,2,1,1,1,1,1,1,1,1,1,0,0,0,0,0,0,0,0,0,0,0]
[20,2,1,1,1,1,1,1,1,1,1,1,0,0,0,0,0,0,0,0,0,0,0,0]
[21,2,1,1,1,1,1,1,0,0,0,0,0,0,0,0,0,0,0,0,0,0,0,0]
["Skala G: Normer"]

{"sheet":"H","index":13,"n_rows":24,"n_cols":24,"rows_kept":24,"cut":false,"hidden":true,"merged":[]}
[null,4,4.25,4.5,4.75,5,5.25,5.5,5.75,6,6.25,6.5,6.75,7,7.5,8,9,10,11,12,13,14,15,16]
[0,13,13,13,13,13,13,13,13,13,13,13,13,13,13,13,12,12,12,12,12,11,11,11]
[1,10,10,10,10,10,10,10,10,10,10,10,10,10,10,10,9,9,9,9,9,8,8,8]
[2,10,10,9,9,9,9,9,9,9,9,9,8,8,8,8,7,7,7,7,7,7,7,7]
[3,8,8,7,7,7,7,7,7,7,7,7,7,7,7,7,7,7,6,6,6,6,6,6]
[4,7,7,7,6,6,6,6,6,6,6,6,6,6,6,6,6,6,6,6,6,6,5,5]
[5,7,7,6,6,6,6,6,6,6,6,6,6,6,6,5,5,5,5,5,5,5,5,5]
[6,6,6,6,5,5,5,5,5,5,5,5,5,5,5,5,5,5,5,5,5,5,4,4]
[7,5,5,5,5,5,5,5,5,5,5,5,5,4,4,4,4,4,4,4,4,4,4,4]
[8,4,4,4,4,4,4,4,4,4,4,4,4,4,4,4,4,4,4,4,3,3,3,3]
[9,4,4,4,4,4,4,4,4,4,5,5,3,3,3,3,3,3,3,3,3,3,3,2]
[10,4,4,3,3,3,3,3,3,3,3,3,3,3,3,3,3,3,3,3,3,2,2,2]
[11,3,3,3,3,3,3,3,3,3,3,3,3,2,2,2,2,2,2,2,2,2,1,1]
[12,3,3,3,2,2,2,2,2,2,2,2,2,2,2,2,2,2,2,2,1,1,1,1]
[13,3,2,2,2,2,2,2,2,2,2,2,2,2,2,2,2,1,1,1,1,0,0,0]
[14,2,2,2,2,2,2,2,2,2,2,2,2,2,2,1,1,1,0,0,0,0,0,0]
[15,2,2,2,2,2,2,2,2,2,2,2,1,1,1,1,1,0,0,0,0,0,0,0]
[16,2,2,2,1,1,1,1,1,1,1,1,1,0,0,0,0,0,0,0,0,0,0,0]
[17,2,1,1,1,1,1,1,1,0,0,0,0,0,0,0,0,0,0,0,0,0,0,0]
[18,1,1,1,1,1,1,0,0,0,0,0,0,0,0,0,0,0,0,0,0,0,0,0]
[19,1,1,1,1,0,0,0,0,0,0,0,0,0,0,0,0,0,0,0,0,0,0,0]
[20,1,1,0,0,0,0,0,0,0,0,0,0,0,0,0,0,0,0,0,0,0,0,0]
[21,0,0,0,0,0,0,0,0,0,0,0,0,0,0,0,0,0,0,0,0,0,0,0]
["Skala H: Normer"]

{"sheet":"I","index":14,"n_rows":24,"n_cols":24,"rows_kept":24,"cut":false,"hidden":true,"merged":[]}
[null,4,4.25,4.5,4.75,5,5.25,5.5,5.75,6,6.25,6.5,6.75,7,7.5,8,9,10,11,12,13,14,15,16]
[0,13,13,13,13,13,13,13,13,13,13,13,13,13,13,13,12,12,12,12,12,11,11,11]
[1,10,10,10,10,10,10,10,10,10,10,10,10,10,10,9,9,9,9,9,9,8,8,8]
[2,8,8,8,8,8,8,8,8,8,8,8,8,8,8,8,7,7,7,7,7,6,6,6]
[3,7,7,7,7,7,7,7,7,7,7,7,7,7,7,6,6,6,6,6,6,5,5,5]
[4,6,6,6,6,6,6,6,6,6,6,6,6,6,6,5,5,5,5,5,5,4,4,4]
[5,5,5,5,5,5,5,5,5,5,5,5,5,5,5,5,4,4,4,4,4,3,3,3]
[6,4,4,4,4,4,4,4,4,4,4,4,4,4,4,4,4,4,4,4,3,3,3,3]
[7,3,3,3,3,3,3,3,3,3,3,3,3,3,3,3,3,3,3,3,3,3,3,3]
[8,3,3,3,3,3,3,3,3,3,3,3,3,3,3,3,3,3,3,3,2,2,2,2]
[9,2,2,2,2,2,2,2,2,2,2,2,2,2,2,2,2,2,2,2,1,1,1,1]
[10,2,2,2,2,2,2,2,2,2,2,2,2,2,2,2,2,2,1,1,0,0,0,0]
[11,2,2,2,2,2,2,2,2,2,2,2,2,2,2,1,1,1,0,0,0,0,0,0]
[12,2,2,2,1,1,1,1,1,1,1,1,1,1,1,0,0,0,0,0,0,0,0,0]
[13,2,2,1,1,1,1,1,0,0,0,0,0,0,0,0,0,0,0,0,0,0,0,0]
[14,1,1,1,1,0,0,0,0,0,0,0,0,0,0,0,0,0,0,0,0,0,0,0]
[15,1,1,0,0,0,0,0,0,0,0,0,0,0,0,0,0,0,0,0,0,0,0,0]
[16,0,0,0,0,0,0,0,0,0,0,0,0,0,0,0,0,0,0,0,0,0,0,0]
[17,0,0,0,0,0,0,0,0,0,0,0,0,0,0,0,0,0,0,0,0,0,0,0]
[18,0,0,0,0,0,0,0,0,0,0,0,0,0,0,0,0,0,0,0,0,0,0,0]
[19,0,0,0,0,0,0,0,0,0,0,0,0,0,0,0,0,0,0,0,0,0,0,0]
[20,0,0,0,0,0,0,0,0,0,0,0,0,0,0,0,0,0,0,0,0,0,0,0]
[21,0,0,0,0,0,0,0,0,0,0,0,0,0,0,0,0,0,0,0,0,0,0,0]
["Skala I: Normer"]

{"sheet":"J","index":15,"n_rows":24,"n_cols":24,"rows_kept":24,"cut":false,"hidden":true,"merged":[]}
[null,4,4.25,4.5,4.75,5,5.25,5.5,5.75,6,6.25,6.5,6.75,7,7.5,8,9,10,11,12,13,14,15,16]
[0,16,16,15,15,15,15,15,15,15,15,15,14,14,14,14,13,13,13,13,13,13,13,12]
[1,11,11,11,11,11,11,11,11,11,11,11,11,11,11,11,10,10,10,10,10,10,10,10]
[2,11,11,10,10,10,10,10,10,10,10,10,9,9,9,9,8,8,8,8,8,8,8,8]
[3,9,9,8,8,8,8,8,8,8,8,8,8,8,8,8,7,7,7,7,7,7,7,7]
[4,7,7,7,7,7,7,7,7,7,7,7,7,7,7,7,6,6,6,6,6,6,6,6]
[5,7,7,6,6,6,6,6,6,6,6,6,6,6,6,6,5,5,5,5,5,5,5,5]
[6,6,6,6,6,6,6,6,6,6,6,6,6,6,5,5,5,4,4,4,4,4,4,4]
[7,6,6,6,5,5,5,5,5,5,5,5,5,5,5,4,4,4,4,3,3,3,3,3]
[8,5,5,5,5,5,5,5,5,5,5,5,4,4,4,4,4,3,3,3,3,2,2,2]
[9,5,5,5,4,4,4,4,4,4,4,4,4,4,4,3,3,3,3,3,3,2,2,2]
[10,5,5,4,4,4,4,4,4,4,4,4,3,3,3,3,3,2,2,2,2,2,1,1]
[11,4,4,4,4,4,4,3,3,3,3,3,3,3,3,3,2,2,2,2,2,1,1,1]
[12,4,4,3,3,3,3,3,3,3,3,3,3,3,3,2,2,2,2,2,1,1,1,1]
[13,4,3,3,3,3,3,3,3,3,3,3,2,2,2,2,2,1,2,1,1,1,1,1]
[14,3,3,3,3,2,2,2,2,2,2,2,2,2,2,2,1,1,1,1,1,1,1,0]
[15,3,3,3,2,2,2,2,2,2,2,2,2,2,2,1,1,1,1,1,1,1,0,0]
[16,3,3,3,2,2,2,2,2,2,2,2,2,2,1,1,1,1,1,1,1,0,0,0]
[17,3,2,2,2,2,2,2,2,2,2,2,1,1,1,1,1,1,1,0,0,0,0,0]
[18,2,2,2,2,1,1,1,1,1,1,1,1,1,1,1,1,1,0,0,0,0,0,0]
[19,2,2,2,1,1,1,1,1,1,1,1,1,1,1,1,0,0,0,0,0,0,0,0]
[20,2,2,1,1,1,1,1,1,1,1,1,1,1,1,0,0,0,0,0,0,0,0,0]
[21,2,2,1,1,1,1,1,1,1,1,1,1,0,0,0,0,0,0,0,0,0,0,0]
["Skala J: Normer"]